* [dpdk-test-report] |SUCCESS| pw93455 [PATCH] net/iavf: add FDIR ESP support to match outer IP
@ 2021-05-27 11:16 dpdklab
0 siblings, 0 replies; 7+ messages in thread
From: dpdklab @ 2021-05-27 11:16 UTC (permalink / raw)
To: Ali Alnubani, Test Report; +Cc: dpdk-test-reports
[-- Attachment #1: Type: text/plain, Size: 2834 bytes --]
Test-Label: iol-mellanox-Performance
Test-Status: SUCCESS
http://dpdk.org/patch/93455
_Performance Testing PASS_
Submitter: Simei Su <simei.su@intel.com>
Date: Thursday, May 27 2021 05:19:09
DPDK git baseline: Repo:dpdk
Branch: master
CommitID:66b3a54b9feab193a5cf8ad54606d745078587cc
93455 --> performance testing pass
Test environment and result as below:
Ubuntu 18.04
Kernel: 4.15.0-generic
Compiler: gcc 7.4
NIC: Mellanox ConnectX-5 100000 Mbps
Target: x86_64-native-linuxapp-gcc
Fail/Total: 0/6
Detail performance results:
+------------+---------+-------------------------------------+
| frame_size | txd/rxd | throughput difference from expected |
+============+=========+=====================================+
| 64 | 256 | -0.03245% |
+------------+---------+-------------------------------------+
| 128 | 256 | 0.27024% |
+------------+---------+-------------------------------------+
| 256 | 256 | 0.00499% |
+------------+---------+-------------------------------------+
| 512 | 256 | 0.56192% |
+------------+---------+-------------------------------------+
| 1024 | 256 | 2.87031% |
+------------+---------+-------------------------------------+
| 1518 | 256 | -0.07062% |
+------------+---------+-------------------------------------+
Ubuntu 18.04
Kernel: 4.15.0-generic
Compiler: gcc 7.4
NIC: Mellanox ConnectX-4 Lx 25000 Mbps
Target: x86_64-native-linuxapp-gcc
Fail/Total: 0/6
Detail performance results:
+------------+---------+-------------------------------------+
| frame_size | txd/rxd | throughput difference from expected |
+============+=========+=====================================+
| 64 | 256 | 0.09357% |
+------------+---------+-------------------------------------+
| 128 | 256 | 0.15198% |
+------------+---------+-------------------------------------+
| 256 | 256 | -0.16482% |
+------------+---------+-------------------------------------+
| 512 | 256 | -0.11943% |
+------------+---------+-------------------------------------+
| 1024 | 256 | 0.20117% |
+------------+---------+-------------------------------------+
| 1518 | 256 | -0.24618% |
+------------+---------+-------------------------------------+
To view detailed results, visit:
https://lab.dpdk.org/results/dashboard/patchsets/17223/
UNH-IOL DPDK Community Lab
To manage your email subscriptions, visit:
https://lab.dpdk.org/results/dashboard/preferences/subscriptions/
^ permalink raw reply [flat|nested] 7+ messages in thread
* [dpdk-test-report] |SUCCESS| pw93455 [PATCH] net/iavf: add FDIR ESP support to match outer IP
@ 2021-05-27 12:04 dpdklab
0 siblings, 0 replies; 7+ messages in thread
From: dpdklab @ 2021-05-27 12:04 UTC (permalink / raw)
To: Ali Alnubani, Test Report; +Cc: dpdk-test-reports
[-- Attachment #1: Type: text/plain, Size: 3954 bytes --]
Test-Label: iol-mellanox-Performance
Test-Status: SUCCESS
http://dpdk.org/patch/93455
_Performance Testing PASS_
Submitter: Simei Su <simei.su@intel.com>
Date: Thursday, May 27 2021 05:19:09
DPDK git baseline: Repo:dpdk
Branch: master
CommitID:66b3a54b9feab193a5cf8ad54606d745078587cc
93455 --> performance testing pass
Test environment and result as below:
Ubuntu 18.04
Kernel: 4.15.0-generic
Compiler: gcc 7.4
NIC: Mellanox ConnectX-5 100000 Mbps
Target: x86_64-native-linuxapp-gcc
Fail/Total: 0/6
Detail performance results:
+------------+---------+-------------------------------------+
| frame_size | txd/rxd | throughput difference from expected |
+============+=========+=====================================+
| 64 | 256 | -0.03245% |
+------------+---------+-------------------------------------+
| 128 | 256 | 0.27024% |
+------------+---------+-------------------------------------+
| 256 | 256 | 0.00499% |
+------------+---------+-------------------------------------+
| 512 | 256 | 0.56192% |
+------------+---------+-------------------------------------+
| 1024 | 256 | 2.87031% |
+------------+---------+-------------------------------------+
| 1518 | 256 | -0.07062% |
+------------+---------+-------------------------------------+
Ubuntu 18.04
Kernel: 4.15.0-generic
Compiler: gcc 7.4
NIC: Mellanox ConnectX-4 Lx 25000 Mbps
Target: x86_64-native-linuxapp-gcc
Fail/Total: 0/6
Detail performance results:
+------------+---------+-------------------------------------+
| frame_size | txd/rxd | throughput difference from expected |
+============+=========+=====================================+
| 64 | 256 | 0.09357% |
+------------+---------+-------------------------------------+
| 128 | 256 | 0.15198% |
+------------+---------+-------------------------------------+
| 256 | 256 | -0.16482% |
+------------+---------+-------------------------------------+
| 512 | 256 | -0.11943% |
+------------+---------+-------------------------------------+
| 1024 | 256 | 0.20117% |
+------------+---------+-------------------------------------+
| 1518 | 256 | -0.24618% |
+------------+---------+-------------------------------------+
Ubuntu 18.04
Kernel: 4.15.0-generic
Compiler: gcc 7.4
NIC: Mellanox ConnectX-4 Lx 40000 Mbps
Target: x86_64-native-linuxapp-gcc
Fail/Total: 0/6
Detail performance results:
+------------+---------+-------------------------------------+
| frame_size | txd/rxd | throughput difference from expected |
+============+=========+=====================================+
| 64 | 256 | -0.27475% |
+------------+---------+-------------------------------------+
| 128 | 256 | -0.1642% |
+------------+---------+-------------------------------------+
| 256 | 256 | -0.01825% |
+------------+---------+-------------------------------------+
| 512 | 256 | -0.01066% |
+------------+---------+-------------------------------------+
| 1024 | 256 | 0.10456% |
+------------+---------+-------------------------------------+
| 1518 | 256 | -0.07689% |
+------------+---------+-------------------------------------+
To view detailed results, visit:
https://lab.dpdk.org/results/dashboard/patchsets/17223/
UNH-IOL DPDK Community Lab
To manage your email subscriptions, visit:
https://lab.dpdk.org/results/dashboard/preferences/subscriptions/
^ permalink raw reply [flat|nested] 7+ messages in thread
* [dpdk-test-report] |SUCCESS| pw93455 [PATCH] net/iavf: add FDIR ESP support to match outer IP
@ 2021-05-27 11:03 dpdklab
0 siblings, 0 replies; 7+ messages in thread
From: dpdklab @ 2021-05-27 11:03 UTC (permalink / raw)
To: Ali Alnubani, Test Report; +Cc: dpdk-test-reports
[-- Attachment #1: Type: text/plain, Size: 1714 bytes --]
Test-Label: iol-mellanox-Performance
Test-Status: SUCCESS
http://dpdk.org/patch/93455
_Performance Testing PASS_
Submitter: Simei Su <simei.su@intel.com>
Date: Thursday, May 27 2021 05:19:09
DPDK git baseline: Repo:dpdk
Branch: master
CommitID:66b3a54b9feab193a5cf8ad54606d745078587cc
93455 --> performance testing pass
Test environment and result as below:
Ubuntu 18.04
Kernel: 4.15.0-generic
Compiler: gcc 7.4
NIC: Mellanox ConnectX-5 100000 Mbps
Target: x86_64-native-linuxapp-gcc
Fail/Total: 0/6
Detail performance results:
+------------+---------+-------------------------------------+
| frame_size | txd/rxd | throughput difference from expected |
+============+=========+=====================================+
| 64 | 256 | -0.03245% |
+------------+---------+-------------------------------------+
| 128 | 256 | 0.27024% |
+------------+---------+-------------------------------------+
| 256 | 256 | 0.00499% |
+------------+---------+-------------------------------------+
| 512 | 256 | 0.56192% |
+------------+---------+-------------------------------------+
| 1024 | 256 | 2.87031% |
+------------+---------+-------------------------------------+
| 1518 | 256 | -0.07062% |
+------------+---------+-------------------------------------+
To view detailed results, visit:
https://lab.dpdk.org/results/dashboard/patchsets/17223/
UNH-IOL DPDK Community Lab
To manage your email subscriptions, visit:
https://lab.dpdk.org/results/dashboard/preferences/subscriptions/
^ permalink raw reply [flat|nested] 7+ messages in thread
* [dpdk-test-report] |SUCCESS| pw93455 [PATCH] net/iavf: add FDIR ESP support to match outer IP
@ 2021-05-27 6:14 dpdklab
0 siblings, 0 replies; 7+ messages in thread
From: dpdklab @ 2021-05-27 6:14 UTC (permalink / raw)
To: Test Report; +Cc: dpdklab
[-- Attachment #1: Type: text/plain, Size: 2437 bytes --]
Test-Label: iol-abi-testing
Test-Status: SUCCESS
http://dpdk.org/patch/93455
_Testing PASS_
Submitter: Simei Su <simei.su@intel.com>
Date: Thursday, May 27 2021 05:19:09
DPDK git baseline: Repo:dpdk
Branch: master
CommitID:66b3a54b9feab193a5cf8ad54606d745078587cc
93455 --> testing pass
Test environment and result as below:
+------------------+----------+
| Environment | abi_test |
+==================+==========+
| Ubuntu 18.04 ARM | PASS |
+------------------+----------+
| Arch Linux | PASS |
+------------------+----------+
| RHEL8 | PASS |
+------------------+----------+
| CentOS 8 | PASS |
+------------------+----------+
| RHEL 7 | PASS |
+------------------+----------+
| Ubuntu 18.04 | PASS |
+------------------+----------+
| Ubuntu 20.04 | PASS |
+------------------+----------+
| Fedora 32 | PASS |
+------------------+----------+
| CentOS Stream 8 | PASS |
+------------------+----------+
| Fedora 31 | PASS |
+------------------+----------+
| openSUSE Leap 15 | PASS |
+------------------+----------+
| Ubuntu20.04 | PASS |
+------------------+----------+
Ubuntu 18.04 ARM
Kernel: 5.4.0-53-generic
Compiler: gcc 9.3
Arch Linux
Kernel: 4.18.0-240.10.1.el8_3.x86_64
Compiler: gcc 10.2.0
RHEL8
Kernel: 4.18.0-240.10.1.el8_3.x86_64
Compiler: gcc 8.3.1 20191121 (Red Hat 8.3.1-5)
CentOS 8
Kernel: 4.18.0-240.10.1.el8_3.x86_64
Compiler: gcc 8.3.1 20191121 (Red Hat 8.3.1-5)
RHEL 7
Kernel: 4.18.0-240.10.1.el8_3.x86_64
Compiler: gcc 4.8.5 20150623 (Red Hat 4.8.5-44)
Ubuntu 18.04
Kernel: 4.18.0-240.10.1.el8_3.x86_64
Compiler: gcc 7.5.0-3ubuntu1~18.04
Ubuntu 20.04
Kernel: 4.18.0-240.10.1.el8_3.x86_64
Compiler: gcc 9.3.0-17ubuntu1~20.04
Fedora 32
Kernel: 4.18.0-240.10.1.el8_3.x86_64
Compiler: gcc 10.2.1
CentOS Stream 8
Kernel: 4.18.0-240.10.1.el8_3.x86_64
Compiler: gcc 8.4.1 20200928
Fedora 31
Kernel: 4.18.0-240.10.1.el8_3.x86_64
Compiler: gcc 9.3.1
openSUSE Leap 15
Kernel: 4.18.0-240.10.1.el8_3.x86_64
Compiler: gcc 7.5.0
Ubuntu20.04
Kernel: 5.4.0-72-generic
Compiler: aarch64-linux-gnu-gcc (Ubuntu 9.3.0-17ubuntu1~20.04) 9.3.0
To view detailed results, visit:
https://lab.dpdk.org/results/dashboard/patchsets/17223/
UNH-IOL DPDK Community Lab
To manage your email subscriptions, visit:
https://lab.dpdk.org/results/dashboard/preferences/subscriptions/
^ permalink raw reply [flat|nested] 7+ messages in thread
* [dpdk-test-report] |SUCCESS| pw93455 [PATCH] net/iavf: add FDIR ESP support to match outer IP
@ 2021-05-27 6:02 dpdklab
0 siblings, 0 replies; 7+ messages in thread
From: dpdklab @ 2021-05-27 6:02 UTC (permalink / raw)
To: Test Report; +Cc: dpdk-test-reports
[-- Attachment #1: Type: text/plain, Size: 1904 bytes --]
Test-Label: iol-intel-Performance
Test-Status: SUCCESS
http://dpdk.org/patch/93455
_Performance Testing PASS_
Submitter: Simei Su <simei.su@intel.com>
Date: Thursday, May 27 2021 05:19:09
DPDK git baseline: Repo:dpdk
Branch: master
CommitID:66b3a54b9feab193a5cf8ad54606d745078587cc
93455 --> performance testing pass
Test environment and result as below:
Ubuntu 18.04
Kernel: 4.15.0-generic
Compiler: gcc 7.4
NIC: Intel Corporation Ethernet Converged Network Adapter 82599ES 10000 Mbps
Target: x86_64-native-linuxapp-gcc
Fail/Total: 0/2
Detail performance results:
+------------+---------+-------------------------------------+
| frame_size | txd/rxd | throughput difference from expected |
+============+=========+=====================================+
| 64 | 512 | 0.10556% |
+------------+---------+-------------------------------------+
| 64 | 2048 | -0.22701% |
+------------+---------+-------------------------------------+
Ubuntu 18.04
Kernel: 4.15.0-generic
Compiler: gcc 7.4
NIC: Intel Corporation Ethernet Converged Network Adapter XL710-QDA2 40000 Mbps
Target: x86_64-native-linuxapp-gcc
Fail/Total: 0/2
Detail performance results:
+------------+---------+-------------------------------------+
| frame_size | txd/rxd | throughput difference from expected |
+============+=========+=====================================+
| 64 | 512 | -0.49586% |
+------------+---------+-------------------------------------+
| 64 | 2048 | 0.63679% |
+------------+---------+-------------------------------------+
To view detailed results, visit:
https://lab.dpdk.org/results/dashboard/patchsets/17223/
UNH-IOL DPDK Community Lab
To manage your email subscriptions, visit:
https://lab.dpdk.org/results/dashboard/preferences/subscriptions/
^ permalink raw reply [flat|nested] 7+ messages in thread
* [dpdk-test-report] |SUCCESS| pw93455 [PATCH] net/iavf: add FDIR ESP support to match outer IP
@ 2021-05-27 5:59 dpdklab
0 siblings, 0 replies; 7+ messages in thread
From: dpdklab @ 2021-05-27 5:59 UTC (permalink / raw)
To: Test Report; +Cc: dpdk-test-reports
[-- Attachment #1: Type: text/plain, Size: 1247 bytes --]
Test-Label: iol-intel-Performance
Test-Status: SUCCESS
http://dpdk.org/patch/93455
_Performance Testing PASS_
Submitter: Simei Su <simei.su@intel.com>
Date: Thursday, May 27 2021 05:19:09
DPDK git baseline: Repo:dpdk
Branch: master
CommitID:66b3a54b9feab193a5cf8ad54606d745078587cc
93455 --> performance testing pass
Test environment and result as below:
Ubuntu 18.04
Kernel: 4.15.0-generic
Compiler: gcc 7.4
NIC: Intel Corporation Ethernet Converged Network Adapter 82599ES 10000 Mbps
Target: x86_64-native-linuxapp-gcc
Fail/Total: 0/2
Detail performance results:
+------------+---------+-------------------------------------+
| frame_size | txd/rxd | throughput difference from expected |
+============+=========+=====================================+
| 64 | 512 | 0.10556% |
+------------+---------+-------------------------------------+
| 64 | 2048 | -0.22701% |
+------------+---------+-------------------------------------+
To view detailed results, visit:
https://lab.dpdk.org/results/dashboard/patchsets/17223/
UNH-IOL DPDK Community Lab
To manage your email subscriptions, visit:
https://lab.dpdk.org/results/dashboard/preferences/subscriptions/
^ permalink raw reply [flat|nested] 7+ messages in thread
* [dpdk-test-report] |SUCCESS| pw93455 [PATCH] net/iavf: add FDIR ESP support to match outer IP
[not found] <20210527051911.338528-1-simei.su@intel.com>
@ 2021-05-27 5:27 ` checkpatch
0 siblings, 0 replies; 7+ messages in thread
From: checkpatch @ 2021-05-27 5:27 UTC (permalink / raw)
To: test-report
Test-Label: checkpatch
Test-Status: SUCCESS
http://dpdk.org/patch/93455
_coding style OK_
^ permalink raw reply [flat|nested] 7+ messages in thread
end of thread, other threads:[~2021-05-27 12:04 UTC | newest]
Thread overview: 7+ messages (download: mbox.gz / follow: Atom feed)
-- links below jump to the message on this page --
2021-05-27 11:16 [dpdk-test-report] |SUCCESS| pw93455 [PATCH] net/iavf: add FDIR ESP support to match outer IP dpdklab
-- strict thread matches above, loose matches on Subject: below --
2021-05-27 12:04 dpdklab
2021-05-27 11:03 dpdklab
2021-05-27 6:14 dpdklab
2021-05-27 6:02 dpdklab
2021-05-27 5:59 dpdklab
[not found] <20210527051911.338528-1-simei.su@intel.com>
2021-05-27 5:27 ` checkpatch
This is a public inbox, see mirroring instructions
for how to clone and mirror all data and code used for this inbox;
as well as URLs for NNTP newsgroup(s).