[-- Attachment #1: Type: text/plain, Size: 790 bytes --] Test-Label: iol-intel-Functional Test-Status: SUCCESS http://dpdk.org/patch/94344 _Functional Testing PASS_ Submitter: Jiawen Wu <jiawenwu@trustnetic.com> Date: Thursday, June 17 2021 11:00:05 DPDK git baseline: Repo:dpdk Branch: master CommitID:08c16b212d036faedc74ae6ad3d159594a8836b9 94326-94344 --> functional testing pass Test environment and result as below: Ubuntu 18.04 Kernel: 4.15.0-generic Compiler: gcc 7.4 NIC: Intel Corporation Ethernet Converged Network Adapter XL710-QDA2 40000 Mbps Target: x86_64-native-linuxapp-gcc Fail/Total: 0/2 To view detailed results, visit: https://lab.dpdk.org/results/dashboard/patchsets/17423/ UNH-IOL DPDK Community Lab To manage your email subscriptions, visit: https://lab.dpdk.org/results/dashboard/preferences/subscriptions/
[-- Attachment #1: Type: text/plain, Size: 974 bytes --] Test-Label: iol-intel-Functional Test-Status: SUCCESS http://dpdk.org/patch/94344 _Functional Testing PASS_ Submitter: Jiawen Wu <jiawenwu@trustnetic.com> Date: Thursday, June 17 2021 11:00:05 DPDK git baseline: Repo:dpdk Branch: master CommitID:08c16b212d036faedc74ae6ad3d159594a8836b9 94326-94344 --> functional testing pass Test environment and result as below: Ubuntu 18.04 Kernel: 4.15.0-generic Compiler: gcc 7.4 NIC: Intel Corporation Ethernet Converged Network Adapter XL710-QDA2 40000 Mbps Target: x86_64-native-linuxapp-gcc Fail/Total: 0/2 Ubuntu 18.04 Kernel: 4.15.0-generic Compiler: gcc 7.4 NIC: Intel Corporation Ethernet Converged Network Adapter 82599ES 10000 Mbps Target: x86_64-native-linuxapp-gcc Fail/Total: 0/5 To view detailed results, visit: https://lab.dpdk.org/results/dashboard/patchsets/17423/ UNH-IOL DPDK Community Lab To manage your email subscriptions, visit: https://lab.dpdk.org/results/dashboard/preferences/subscriptions/
[-- Attachment #1: Type: text/plain, Size: 1263 bytes --] Test-Label: iol-intel-Performance Test-Status: SUCCESS http://dpdk.org/patch/94344 _Performance Testing PASS_ Submitter: Jiawen Wu <jiawenwu@trustnetic.com> Date: Thursday, June 17 2021 11:00:05 DPDK git baseline: Repo:dpdk Branch: master CommitID:08c16b212d036faedc74ae6ad3d159594a8836b9 94326-94344 --> performance testing pass Test environment and result as below: Ubuntu 18.04 Kernel: 4.15.0-generic Compiler: gcc 7.4 NIC: Intel Corporation Ethernet Converged Network Adapter XL710-QDA2 40000 Mbps Target: x86_64-native-linuxapp-gcc Fail/Total: 0/2 Detail performance results: +------------+---------+-------------------------------------+ | frame_size | txd/rxd | throughput difference from expected | +============+=========+=====================================+ | 64 | 512 | 1.81236% | +------------+---------+-------------------------------------+ | 64 | 2048 | 1.43485% | +------------+---------+-------------------------------------+ To view detailed results, visit: https://lab.dpdk.org/results/dashboard/patchsets/17423/ UNH-IOL DPDK Community Lab To manage your email subscriptions, visit: https://lab.dpdk.org/results/dashboard/preferences/subscriptions/
[-- Attachment #1: Type: text/plain, Size: 1917 bytes --] Test-Label: iol-intel-Performance Test-Status: SUCCESS http://dpdk.org/patch/94344 _Performance Testing PASS_ Submitter: Jiawen Wu <jiawenwu@trustnetic.com> Date: Thursday, June 17 2021 11:00:05 DPDK git baseline: Repo:dpdk Branch: master CommitID:08c16b212d036faedc74ae6ad3d159594a8836b9 94326-94344 --> performance testing pass Test environment and result as below: Ubuntu 18.04 Kernel: 4.15.0-generic Compiler: gcc 7.4 NIC: Intel Corporation Ethernet Converged Network Adapter XL710-QDA2 40000 Mbps Target: x86_64-native-linuxapp-gcc Fail/Total: 0/2 Detail performance results: +------------+---------+-------------------------------------+ | frame_size | txd/rxd | throughput difference from expected | +============+=========+=====================================+ | 64 | 512 | 1.81236% | +------------+---------+-------------------------------------+ | 64 | 2048 | 1.43485% | +------------+---------+-------------------------------------+ Ubuntu 18.04 Kernel: 4.15.0-generic Compiler: gcc 7.4 NIC: Intel Corporation Ethernet Converged Network Adapter 82599ES 10000 Mbps Target: x86_64-native-linuxapp-gcc Fail/Total: 0/2 Detail performance results: +------------+---------+-------------------------------------+ | frame_size | txd/rxd | throughput difference from expected | +============+=========+=====================================+ | 64 | 512 | -0.60079% | +------------+---------+-------------------------------------+ | 64 | 2048 | -0.10147% | +------------+---------+-------------------------------------+ To view detailed results, visit: https://lab.dpdk.org/results/dashboard/patchsets/17423/ UNH-IOL DPDK Community Lab To manage your email subscriptions, visit: https://lab.dpdk.org/results/dashboard/preferences/subscriptions/
[-- Attachment #1: Type: text/plain, Size: 3665 bytes --] Test-Label: iol-abi-testing Test-Status: SUCCESS http://dpdk.org/patch/94344 _Testing PASS_ Submitter: Jiawen Wu <jiawenwu@trustnetic.com> Date: Thursday, June 17 2021 11:00:05 DPDK git baseline: Repo:dpdk Branch: master CommitID:08c16b212d036faedc74ae6ad3d159594a8836b9 94326-94344 --> testing pass Test environment and result as below: +------------------------------------+----------+ | Environment | abi_test | +====================================+==========+ | Ubuntu 18.04 ARM | PASS | +------------------------------------+----------+ | FreeBSD 13 | PASS | +------------------------------------+----------+ | Ubuntu 18.04 | PASS | +------------------------------------+----------+ | Arch Linux | PASS | +------------------------------------+----------+ | Ubuntu 20.04 | PASS | +------------------------------------+----------+ | RHEL 7 | PASS | +------------------------------------+----------+ | RHEL8 | PASS | +------------------------------------+----------+ | CentOS 8 | PASS | +------------------------------------+----------+ | openSUSE Leap 15 | PASS | +------------------------------------+----------+ | Fedora 33 | PASS | +------------------------------------+----------+ | Fedora 32 | PASS | +------------------------------------+----------+ | Ubuntu 20.04 ARM cross-compilation | PASS | +------------------------------------+----------+ | Fedora 31 | PASS | +------------------------------------+----------+ | CentOS Stream 8 | PASS | +------------------------------------+----------+ | Fedora 34 | PASS | +------------------------------------+----------+ | Fedora 34 clang | PASS | +------------------------------------+----------+ Ubuntu 18.04 ARM Kernel: 5.4.0-53-generic Compiler: gcc 9.3 FreeBSD 13 Kernel: 13.0 Compiler: gcc 10.2.0 Ubuntu 18.04 Kernel: 4.18.0-240.10.1.el8_3.x86_64 Compiler: gcc 7.5.0-3ubuntu1~18.04 Arch Linux Kernel: 5.4.0-73-generic Compiler: gcc 11.1.0 Ubuntu 20.04 Kernel: 4.18.0-240.10.1.el8_3.x86_64 Compiler: gcc 9.3.0-17ubuntu1~20.04 RHEL 7 Kernel: 4.18.0-240.10.1.el8_3.x86_64 Compiler: gcc 4.8.5 20150623 (Red Hat 4.8.5-44) RHEL8 Kernel: 4.18.0-240.10.1.el8_3.x86_64 Compiler: gcc 8.3.1 20191121 (Red Hat 8.3.1-5) CentOS 8 Kernel: 4.18.0-240.10.1.el8_3.x86_64 Compiler: gcc 8.3.1 20191121 (Red Hat 8.3.1-5) openSUSE Leap 15 Kernel: 4.18.0-240.10.1.el8_3.x86_64 Compiler: gcc 7.5.0 Fedora 33 Kernel: 5.4.0-72-generic Compiler: gcc 10.3.1 20210422 (Red Hat 10.3.1-1) Fedora 32 Kernel: 4.18.0-240.10.1.el8_3.x86_64 Compiler: gcc 10.2.1 Ubuntu 20.04 ARM cross-compilation Kernel: 5.4.0-72-generic Compiler: aarch64-linux-gnu-gcc (Ubuntu 9.3.0-17ubuntu1~20.04) 9.3.0 Fedora 31 Kernel: 4.18.0-240.10.1.el8_3.x86_64 Compiler: gcc 9.3.1 CentOS Stream 8 Kernel: 4.18.0-240.10.1.el8_3.x86_64 Compiler: gcc 8.4.1 20200928 Fedora 34 Kernel: 5.4.0-72-generic Compiler: gcc 11.1.1 20210428 (Red Hat 11.1.1-1) Fedora 34 clang Kernel: 5.4.0-72-generic Compiler: clang 12.0.0 (Fedora 12.0.0-0.3.rc1.fc34) To view detailed results, visit: https://lab.dpdk.org/results/dashboard/patchsets/17423/ UNH-IOL DPDK Community Lab To manage your email subscriptions, visit: https://lab.dpdk.org/results/dashboard/preferences/subscriptions/
[-- Attachment #1: Type: text/plain, Size: 2586 bytes --] Test-Label: iol-intel-Performance Test-Status: SUCCESS http://dpdk.org/patch/94344 _Performance Testing PASS_ Submitter: Jiawen Wu <jiawenwu@trustnetic.com> Date: Thursday, June 17 2021 11:00:05 DPDK git baseline: Repo:dpdk Branch: master CommitID:08c16b212d036faedc74ae6ad3d159594a8836b9 94326-94344 --> performance testing pass Test environment and result as below: Ubuntu 18.04 Kernel: 4.15.0-generic Compiler: gcc 7.4 NIC: Intel Corporation Ethernet Converged Network Adapter XL710-QDA2 40000 Mbps Target: x86_64-native-linuxapp-gcc Fail/Total: 0/2 Detail performance results: +------------+---------+-------------------------------------+ | frame_size | txd/rxd | throughput difference from expected | +============+=========+=====================================+ | 64 | 512 | 1.81236% | +------------+---------+-------------------------------------+ | 64 | 2048 | 1.43485% | +------------+---------+-------------------------------------+ Ubuntu 18.04 Kernel: 4.15.0-generic Compiler: gcc 7.4 NIC: Intel Corporation Ethernet Converged Network Adapter 82599ES 10000 Mbps Target: x86_64-native-linuxapp-gcc Fail/Total: 0/2 Detail performance results: +------------+---------+-------------------------------------+ | frame_size | txd/rxd | throughput difference from expected | +============+=========+=====================================+ | 64 | 512 | -0.60079% | +------------+---------+-------------------------------------+ | 64 | 2048 | -0.10147% | +------------+---------+-------------------------------------+ Ubuntu 18.04 ARM Kernel: 4.15.0-132-generic Compiler: gcc 7.5 NIC: Arm Intel Corporation Ethernet Converged Network Adapter XL710-QDA2 40000 Mbps Target: x86_64-native-linuxapp-gcc Fail/Total: 0/2 Detail performance results: +------------+---------+-------------------------------------+ | frame_size | txd/rxd | throughput difference from expected | +============+=========+=====================================+ | 64 | 512 | 0.08551% | +------------+---------+-------------------------------------+ | 64 | 2048 | 0.09987% | +------------+---------+-------------------------------------+ To view detailed results, visit: https://lab.dpdk.org/results/dashboard/patchsets/17423/ UNH-IOL DPDK Community Lab To manage your email subscriptions, visit: https://lab.dpdk.org/results/dashboard/preferences/subscriptions/