* [dpdk-test-report] |SUCCESS| pw96093 [PATCH] [v10] dmadev: introduce DMA device library
@ 2021-07-20 16:09 dpdklab
0 siblings, 0 replies; 5+ messages in thread
From: dpdklab @ 2021-07-20 16:09 UTC (permalink / raw)
To: Test Report; +Cc: dpdklab
[-- Attachment #1: Type: text/plain, Size: 1987 bytes --]
Test-Label: iol-abi-testing
Test-Status: SUCCESS
http://dpdk.org/patch/96093
_Testing PASS_
Submitter: Chengwen Feng <fengchengwen@huawei.com>
Date: Tuesday, July 20 2021 12:46:22
DPDK git baseline: Repo:dpdk
Branch: master
CommitID:761a321acf9111132f7789ac374e08a7ea7ea0f7
96093 --> testing pass
Test environment and result as below:
+------------------+----------+
| Environment | abi_test |
+==================+==========+
| Ubuntu 20.04 ARM | PASS |
+------------------+----------+
| Ubuntu 18.04 | PASS |
+------------------+----------+
| Ubuntu 20.04 | PASS |
+------------------+----------+
| CentOS 8 | PASS |
+------------------+----------+
| RHEL8 | PASS |
+------------------+----------+
| RHEL 7 | PASS |
+------------------+----------+
| Arch Linux | PASS |
+------------------+----------+
| CentOS Stream 8 | PASS |
+------------------+----------+
| Fedora 32 | PASS |
+------------------+----------+
Ubuntu 20.04 ARM
Kernel: 5.4.0-53-generic
Compiler: gcc 9.3
Ubuntu 18.04
Kernel: 4.18.0-240.10.1.el8_3.x86_64
Compiler: gcc 7.5.0-3ubuntu1~18.04
Ubuntu 20.04
Kernel: 4.18.0-240.10.1.el8_3.x86_64
Compiler: gcc 9.3.0-17ubuntu1~20.04
CentOS 8
Kernel: 4.18.0-240.10.1.el8_3.x86_64
Compiler: gcc 8.3.1 20191121 (Red Hat 8.3.1-5)
RHEL8
Kernel: 4.18.0-240.10.1.el8_3.x86_64
Compiler: gcc 8.3.1 20191121 (Red Hat 8.3.1-5)
RHEL 7
Kernel: 4.18.0-240.10.1.el8_3.x86_64
Compiler: gcc 4.8.5 20150623 (Red Hat 4.8.5-44)
Arch Linux
Kernel: 5.4.0-73-generic
Compiler: gcc 11.1.0
CentOS Stream 8
Kernel: 4.18.0-240.10.1.el8_3.x86_64
Compiler: gcc 8.4.1 20200928
Fedora 32
Kernel: 4.18.0-240.10.1.el8_3.x86_64
Compiler: gcc 10.2.1
To view detailed results, visit:
https://lab.dpdk.org/results/dashboard/patchsets/17903/
UNH-IOL DPDK Community Lab
To manage your email subscriptions, visit:
https://lab.dpdk.org/results/dashboard/preferences/subscriptions/
^ permalink raw reply [flat|nested] 5+ messages in thread
* [dpdk-test-report] |SUCCESS| pw96093 [PATCH] [v10] dmadev: introduce DMA device library
@ 2021-07-20 23:37 dpdklab
0 siblings, 0 replies; 5+ messages in thread
From: dpdklab @ 2021-07-20 23:37 UTC (permalink / raw)
To: Test Report; +Cc: dpdk-test-reports
[-- Attachment #1: Type: text/plain, Size: 2976 bytes --]
Test-Label: iol-intel-Performance
Test-Status: SUCCESS
http://dpdk.org/patch/96093
_Performance Testing PASS_
Submitter: Chengwen Feng <fengchengwen@huawei.com>
Date: Tuesday, July 20 2021 12:46:22
DPDK git baseline: Repo:dpdk
Branch: master
CommitID:761a321acf9111132f7789ac374e08a7ea7ea0f7
96093 --> performance testing pass
Test environment and result as below:
Ubuntu 20.04
Kernel: 4.15.0-generic
Compiler: gcc 7.4
NIC: Intel Corporation Ethernet Converged Network Adapter XL710-QDA2 40000 Mbps
Target: x86_64-native-linuxapp-gcc
Fail/Total: 0/4
Detail performance results:
+------------+---------+----------+-------------+------------------------------+
| frame_size | txd/rxd | num_cpus | num_threads | throughput difference from |
| | | | | expected |
+============+=========+==========+=============+==============================+
| 64 | 512 | 1 | 1 | 0.8% |
+------------+---------+----------+-------------+------------------------------+
| 64 | 2048 | 1 | 1 | -1.6% |
+------------+---------+----------+-------------+------------------------------+
| 1 | 2 | 512 | 64 | 0.1% |
+------------+---------+----------+-------------+------------------------------+
| 1 | 2 | 2048 | 64 | 0.7% |
+------------+---------+----------+-------------+------------------------------+
Ubuntu 20.04
Kernel: 4.15.0-generic
Compiler: gcc 7.4
NIC: Intel Corporation Ethernet Converged Network Adapter 82599ES 10000 Mbps
Target: x86_64-native-linuxapp-gcc
Fail/Total: 0/4
Detail performance results:
+------------+---------+----------+-------------+------------------------------+
| frame_size | txd/rxd | num_cpus | num_threads | throughput difference from |
| | | | | expected |
+============+=========+==========+=============+==============================+
| 64 | 512 | 1 | 1 | -0.0% |
+------------+---------+----------+-------------+------------------------------+
| 64 | 2048 | 1 | 1 | 0.2% |
+------------+---------+----------+-------------+------------------------------+
| 1 | 2 | 512 | 64 | 0.1% |
+------------+---------+----------+-------------+------------------------------+
| 1 | 2 | 2048 | 64 | -0.1% |
+------------+---------+----------+-------------+------------------------------+
To view detailed results, visit:
https://lab.dpdk.org/results/dashboard/patchsets/17903/
UNH-IOL DPDK Community Lab
To manage your email subscriptions, visit:
https://lab.dpdk.org/results/dashboard/preferences/subscriptions/
^ permalink raw reply [flat|nested] 5+ messages in thread
* [dpdk-test-report] |SUCCESS| pw96093 [PATCH] [v10] dmadev: introduce DMA device library
@ 2021-07-20 15:14 dpdklab
0 siblings, 0 replies; 5+ messages in thread
From: dpdklab @ 2021-07-20 15:14 UTC (permalink / raw)
To: Test Report; +Cc: dpdk-test-reports
[-- Attachment #1: Type: text/plain, Size: 971 bytes --]
Test-Label: iol-intel-Functional
Test-Status: SUCCESS
http://dpdk.org/patch/96093
_Functional Testing PASS_
Submitter: Chengwen Feng <fengchengwen@huawei.com>
Date: Tuesday, July 20 2021 12:46:22
DPDK git baseline: Repo:dpdk
Branch: master
CommitID:761a321acf9111132f7789ac374e08a7ea7ea0f7
96093 --> functional testing pass
Test environment and result as below:
Ubuntu 20.04
Kernel: 4.15.0-generic
Compiler: gcc 7.4
NIC: Intel Corporation Ethernet Converged Network Adapter XL710-QDA2 40000 Mbps
Target: x86_64-native-linuxapp-gcc
Fail/Total: 0/2
Ubuntu 20.04
Kernel: 4.15.0-generic
Compiler: gcc 7.4
NIC: Intel Corporation Ethernet Converged Network Adapter 82599ES 10000 Mbps
Target: x86_64-native-linuxapp-gcc
Fail/Total: 0/2
To view detailed results, visit:
https://lab.dpdk.org/results/dashboard/patchsets/17903/
UNH-IOL DPDK Community Lab
To manage your email subscriptions, visit:
https://lab.dpdk.org/results/dashboard/preferences/subscriptions/
^ permalink raw reply [flat|nested] 5+ messages in thread
* [dpdk-test-report] |SUCCESS| pw96093 [PATCH] [v10] dmadev: introduce DMA device library
@ 2021-07-20 13:42 dpdklab
0 siblings, 0 replies; 5+ messages in thread
From: dpdklab @ 2021-07-20 13:42 UTC (permalink / raw)
To: Test Report; +Cc: dpdk-test-reports
[-- Attachment #1: Type: text/plain, Size: 1791 bytes --]
Test-Label: iol-intel-Performance
Test-Status: SUCCESS
http://dpdk.org/patch/96093
_Performance Testing PASS_
Submitter: Chengwen Feng <fengchengwen@huawei.com>
Date: Tuesday, July 20 2021 12:46:22
DPDK git baseline: Repo:dpdk
Branch: master
CommitID:761a321acf9111132f7789ac374e08a7ea7ea0f7
96093 --> performance testing pass
Test environment and result as below:
Ubuntu 20.04
Kernel: 4.15.0-generic
Compiler: gcc 7.4
NIC: Intel Corporation Ethernet Converged Network Adapter XL710-QDA2 40000 Mbps
Target: x86_64-native-linuxapp-gcc
Fail/Total: 0/4
Detail performance results:
+------------+---------+----------+-------------+------------------------------+
| frame_size | txd/rxd | num_cpus | num_threads | throughput difference from |
| | | | | expected |
+============+=========+==========+=============+==============================+
| 64 | 512 | 1 | 1 | 0.8% |
+------------+---------+----------+-------------+------------------------------+
| 64 | 2048 | 1 | 1 | -1.6% |
+------------+---------+----------+-------------+------------------------------+
| 1 | 2 | 512 | 64 | 0.1% |
+------------+---------+----------+-------------+------------------------------+
| 1 | 2 | 2048 | 64 | 0.7% |
+------------+---------+----------+-------------+------------------------------+
To view detailed results, visit:
https://lab.dpdk.org/results/dashboard/patchsets/17903/
UNH-IOL DPDK Community Lab
To manage your email subscriptions, visit:
https://lab.dpdk.org/results/dashboard/preferences/subscriptions/
^ permalink raw reply [flat|nested] 5+ messages in thread
* [dpdk-test-report] |SUCCESS| pw96093 [PATCH] [v10] dmadev: introduce DMA device library
@ 2021-07-20 13:24 dpdklab
0 siblings, 0 replies; 5+ messages in thread
From: dpdklab @ 2021-07-20 13:24 UTC (permalink / raw)
To: Test Report; +Cc: dpdk-test-reports
[-- Attachment #1: Type: text/plain, Size: 787 bytes --]
Test-Label: iol-intel-Functional
Test-Status: SUCCESS
http://dpdk.org/patch/96093
_Functional Testing PASS_
Submitter: Chengwen Feng <fengchengwen@huawei.com>
Date: Tuesday, July 20 2021 12:46:22
DPDK git baseline: Repo:dpdk
Branch: master
CommitID:761a321acf9111132f7789ac374e08a7ea7ea0f7
96093 --> functional testing pass
Test environment and result as below:
Ubuntu 20.04
Kernel: 4.15.0-generic
Compiler: gcc 7.4
NIC: Intel Corporation Ethernet Converged Network Adapter XL710-QDA2 40000 Mbps
Target: x86_64-native-linuxapp-gcc
Fail/Total: 0/2
To view detailed results, visit:
https://lab.dpdk.org/results/dashboard/patchsets/17903/
UNH-IOL DPDK Community Lab
To manage your email subscriptions, visit:
https://lab.dpdk.org/results/dashboard/preferences/subscriptions/
^ permalink raw reply [flat|nested] 5+ messages in thread
end of thread, other threads:[~2021-07-20 23:37 UTC | newest]
Thread overview: 5+ messages (download: mbox.gz / follow: Atom feed)
-- links below jump to the message on this page --
2021-07-20 16:09 [dpdk-test-report] |SUCCESS| pw96093 [PATCH] [v10] dmadev: introduce DMA device library dpdklab
-- strict thread matches above, loose matches on Subject: below --
2021-07-20 23:37 dpdklab
2021-07-20 15:14 dpdklab
2021-07-20 13:42 dpdklab
2021-07-20 13:24 dpdklab
This is a public inbox, see mirroring instructions
for how to clone and mirror all data and code used for this inbox;
as well as URLs for NNTP newsgroup(s).