* [dpdk-test-report] |SUCCESS| pw96859-96868 [PATCH] [v2, 10/10] ipsec: add ol_flags support
@ 2021-08-12 15:48 dpdklab
0 siblings, 0 replies; 11+ messages in thread
From: dpdklab @ 2021-08-12 15:48 UTC (permalink / raw)
To: Test Report; +Cc: dpdk-test-reports
[-- Attachment #1: Type: text/plain, Size: 1798 bytes --]
Test-Label: iol-intel-Performance
Test-Status: SUCCESS
http://dpdk.org/patch/96868
_Performance Testing PASS_
Submitter: Radu Nicolau <radu.nicolau@intel.com>
Date: Thursday, August 12 2021 13:54:25
DPDK git baseline: Repo:dpdk
Branch: master
CommitID:4ac3f3d76e9507a93bcf48d165ffd3a1faba08bb
96859-96868 --> performance testing pass
Test environment and result as below:
Ubuntu 20.04
Kernel: 4.15.0-generic
Compiler: gcc 7.4
NIC: Intel Corporation Ethernet Converged Network Adapter XL710-QDA2 40000 Mbps
Target: x86_64-native-linuxapp-gcc
Fail/Total: 0/4
Detail performance results:
+------------+---------+----------+-------------+------------------------------+
| frame_size | txd/rxd | num_cpus | num_threads | throughput difference from |
| | | | | expected |
+============+=========+==========+=============+==============================+
| 64 | 512 | 1 | 1 | -0.5% |
+------------+---------+----------+-------------+------------------------------+
| 64 | 2048 | 1 | 1 | -0.4% |
+------------+---------+----------+-------------+------------------------------+
| 64 | 512 | 1 | 2 | -3.9% |
+------------+---------+----------+-------------+------------------------------+
| 64 | 2048 | 1 | 2 | 5.2% |
+------------+---------+----------+-------------+------------------------------+
To view detailed results, visit:
https://lab.dpdk.org/results/dashboard/patchsets/18188/
UNH-IOL DPDK Community Lab
To manage your email subscriptions, visit:
https://lab.dpdk.org/results/dashboard/preferences/subscriptions/
^ permalink raw reply [flat|nested] 11+ messages in thread
* [dpdk-test-report] |SUCCESS| pw96859-96868 [PATCH] [v2, 10/10] ipsec: add ol_flags support
@ 2021-08-12 17:23 dpdklab
0 siblings, 0 replies; 11+ messages in thread
From: dpdklab @ 2021-08-12 17:23 UTC (permalink / raw)
To: Test Report; +Cc: dpdklab
[-- Attachment #1: Type: text/plain, Size: 1209 bytes --]
Test-Label: iol-aarch64-compile-testing
Test-Status: SUCCESS
http://dpdk.org/patch/96868
_Testing PASS_
Submitter: Radu Nicolau <radu.nicolau@intel.com>
Date: Thursday, August 12 2021 13:54:25
DPDK git baseline: Repo:dpdk
Branch: master
CommitID:4ac3f3d76e9507a93bcf48d165ffd3a1faba08bb
96859-96868 --> testing pass
Test environment and result as below:
+------------------------------------+--------------------+
| Environment | dpdk_meson_compile |
+====================================+====================+
| Ubuntu 20.04 ARM | PASS |
+------------------------------------+--------------------+
| Ubuntu 20.04 ARM cross-compilation | PASS |
+------------------------------------+--------------------+
Ubuntu 20.04 ARM
Kernel: 5.4.0-53-generic
Compiler: gcc 9.3
Ubuntu 20.04 ARM cross-compilation
Kernel: 5.4.0-72-generic
Compiler: aarch64-linux-gnu-gcc (Ubuntu 9.3.0-17ubuntu1~20.04) 9.3.0
To view detailed results, visit:
https://lab.dpdk.org/results/dashboard/patchsets/18188/
UNH-IOL DPDK Community Lab
To manage your email subscriptions, visit:
https://lab.dpdk.org/results/dashboard/preferences/subscriptions/
^ permalink raw reply [flat|nested] 11+ messages in thread
* [dpdk-test-report] |SUCCESS| pw96859-96868 [PATCH] [v2, 10/10] ipsec: add ol_flags support
@ 2021-08-12 17:17 dpdklab
0 siblings, 0 replies; 11+ messages in thread
From: dpdklab @ 2021-08-12 17:17 UTC (permalink / raw)
To: Ali Alnubani, Test Report; +Cc: dpdk-test-reports
[-- Attachment #1: Type: text/plain, Size: 4538 bytes --]
Test-Label: iol-mellanox-Performance
Test-Status: SUCCESS
http://dpdk.org/patch/96868
_Performance Testing PASS_
Submitter: Radu Nicolau <radu.nicolau@intel.com>
Date: Thursday, August 12 2021 13:54:25
DPDK git baseline: Repo:dpdk
Branch: master
CommitID:4ac3f3d76e9507a93bcf48d165ffd3a1faba08bb
96859-96868 --> performance testing pass
Test environment and result as below:
Ubuntu 20.04
Kernel: 4.15.0-generic
Compiler: gcc 7.4
NIC: Mellanox ConnectX-4 Lx 40000 Mbps
Target: x86_64-native-linuxapp-gcc
Fail/Total: 0/5
Detail performance results:
+------------+---------+----------+-------------+------------------------------+
| frame_size | txd/rxd | num_cpus | num_threads | throughput difference from |
| | | | | expected |
+============+=========+==========+=============+==============================+
| 64 | 256 | 1 | 1 | -0.1% |
+------------+---------+----------+-------------+------------------------------+
| 128 | 256 | 1 | 1 | -0.1% |
+------------+---------+----------+-------------+------------------------------+
| 256 | 256 | 1 | 1 | 0.0% |
+------------+---------+----------+-------------+------------------------------+
| 1518 | 256 | 1 | 1 | 0.0% |
+------------+---------+----------+-------------+------------------------------+
| 1024 | 256 | 1 | 1 | 0.0% |
+------------+---------+----------+-------------+------------------------------+
Ubuntu 20.04
Kernel: 4.15.0-generic
Compiler: gcc 7.4
NIC: Mellanox ConnectX-4 Lx 25000 Mbps
Target: x86_64-native-linuxapp-gcc
Fail/Total: 0/5
Detail performance results:
+------------+---------+----------+-------------+------------------------------+
| frame_size | txd/rxd | num_cpus | num_threads | throughput difference from |
| | | | | expected |
+============+=========+==========+=============+==============================+
| 64 | 256 | 1 | 1 | 0.2% |
+------------+---------+----------+-------------+------------------------------+
| 128 | 256 | 1 | 1 | -0.0% |
+------------+---------+----------+-------------+------------------------------+
| 256 | 256 | 1 | 1 | -0.4% |
+------------+---------+----------+-------------+------------------------------+
| 1518 | 256 | 1 | 1 | -0.1% |
+------------+---------+----------+-------------+------------------------------+
| 1024 | 256 | 1 | 1 | 0.1% |
+------------+---------+----------+-------------+------------------------------+
Ubuntu 20.04
Kernel: 4.15.0-generic
Compiler: gcc 7.4
NIC: Mellanox ConnectX-5 100000 Mbps
Target: x86_64-native-linuxapp-gcc
Fail/Total: 0/5
Detail performance results:
+------------+---------+----------+-------------+------------------------------+
| frame_size | txd/rxd | num_cpus | num_threads | throughput difference from |
| | | | | expected |
+============+=========+==========+=============+==============================+
| 64 | 256 | 1 | 1 | 0.0% |
+------------+---------+----------+-------------+------------------------------+
| 128 | 256 | 1 | 1 | -0.2% |
+------------+---------+----------+-------------+------------------------------+
| 256 | 256 | 1 | 1 | -0.0% |
+------------+---------+----------+-------------+------------------------------+
| 1518 | 256 | 1 | 1 | 0.1% |
+------------+---------+----------+-------------+------------------------------+
| 1024 | 256 | 1 | 1 | -0.1% |
+------------+---------+----------+-------------+------------------------------+
To view detailed results, visit:
https://lab.dpdk.org/results/dashboard/patchsets/18188/
UNH-IOL DPDK Community Lab
To manage your email subscriptions, visit:
https://lab.dpdk.org/results/dashboard/preferences/subscriptions/
^ permalink raw reply [flat|nested] 11+ messages in thread
* [dpdk-test-report] |SUCCESS| pw96859-96868 [PATCH] [v2, 10/10] ipsec: add ol_flags support
@ 2021-08-12 17:00 dpdklab
0 siblings, 0 replies; 11+ messages in thread
From: dpdklab @ 2021-08-12 17:00 UTC (permalink / raw)
To: Ali Alnubani, Test Report; +Cc: dpdk-test-reports
[-- Attachment #1: Type: text/plain, Size: 3231 bytes --]
Test-Label: iol-mellanox-Performance
Test-Status: SUCCESS
http://dpdk.org/patch/96868
_Performance Testing PASS_
Submitter: Radu Nicolau <radu.nicolau@intel.com>
Date: Thursday, August 12 2021 13:54:25
DPDK git baseline: Repo:dpdk
Branch: master
CommitID:4ac3f3d76e9507a93bcf48d165ffd3a1faba08bb
96859-96868 --> performance testing pass
Test environment and result as below:
Ubuntu 20.04
Kernel: 4.15.0-generic
Compiler: gcc 7.4
NIC: Mellanox ConnectX-4 Lx 40000 Mbps
Target: x86_64-native-linuxapp-gcc
Fail/Total: 0/5
Detail performance results:
+------------+---------+----------+-------------+------------------------------+
| frame_size | txd/rxd | num_cpus | num_threads | throughput difference from |
| | | | | expected |
+============+=========+==========+=============+==============================+
| 64 | 256 | 1 | 1 | -0.1% |
+------------+---------+----------+-------------+------------------------------+
| 128 | 256 | 1 | 1 | -0.1% |
+------------+---------+----------+-------------+------------------------------+
| 256 | 256 | 1 | 1 | 0.0% |
+------------+---------+----------+-------------+------------------------------+
| 1518 | 256 | 1 | 1 | 0.0% |
+------------+---------+----------+-------------+------------------------------+
| 1024 | 256 | 1 | 1 | 0.0% |
+------------+---------+----------+-------------+------------------------------+
Ubuntu 20.04
Kernel: 4.15.0-generic
Compiler: gcc 7.4
NIC: Mellanox ConnectX-4 Lx 25000 Mbps
Target: x86_64-native-linuxapp-gcc
Fail/Total: 0/5
Detail performance results:
+------------+---------+----------+-------------+------------------------------+
| frame_size | txd/rxd | num_cpus | num_threads | throughput difference from |
| | | | | expected |
+============+=========+==========+=============+==============================+
| 64 | 256 | 1 | 1 | 0.2% |
+------------+---------+----------+-------------+------------------------------+
| 128 | 256 | 1 | 1 | -0.0% |
+------------+---------+----------+-------------+------------------------------+
| 256 | 256 | 1 | 1 | -0.4% |
+------------+---------+----------+-------------+------------------------------+
| 1518 | 256 | 1 | 1 | -0.1% |
+------------+---------+----------+-------------+------------------------------+
| 1024 | 256 | 1 | 1 | 0.1% |
+------------+---------+----------+-------------+------------------------------+
To view detailed results, visit:
https://lab.dpdk.org/results/dashboard/patchsets/18188/
UNH-IOL DPDK Community Lab
To manage your email subscriptions, visit:
https://lab.dpdk.org/results/dashboard/preferences/subscriptions/
^ permalink raw reply [flat|nested] 11+ messages in thread
* [dpdk-test-report] |SUCCESS| pw96859-96868 [PATCH] [v2, 10/10] ipsec: add ol_flags support
@ 2021-08-12 16:45 dpdklab
0 siblings, 0 replies; 11+ messages in thread
From: dpdklab @ 2021-08-12 16:45 UTC (permalink / raw)
To: Ali Alnubani, Test Report; +Cc: dpdk-test-reports
[-- Attachment #1: Type: text/plain, Size: 1922 bytes --]
Test-Label: iol-mellanox-Performance
Test-Status: SUCCESS
http://dpdk.org/patch/96868
_Performance Testing PASS_
Submitter: Radu Nicolau <radu.nicolau@intel.com>
Date: Thursday, August 12 2021 13:54:25
DPDK git baseline: Repo:dpdk
Branch: master
CommitID:4ac3f3d76e9507a93bcf48d165ffd3a1faba08bb
96859-96868 --> performance testing pass
Test environment and result as below:
Ubuntu 20.04
Kernel: 4.15.0-generic
Compiler: gcc 7.4
NIC: Mellanox ConnectX-4 Lx 40000 Mbps
Target: x86_64-native-linuxapp-gcc
Fail/Total: 0/5
Detail performance results:
+------------+---------+----------+-------------+------------------------------+
| frame_size | txd/rxd | num_cpus | num_threads | throughput difference from |
| | | | | expected |
+============+=========+==========+=============+==============================+
| 64 | 256 | 1 | 1 | -0.1% |
+------------+---------+----------+-------------+------------------------------+
| 128 | 256 | 1 | 1 | -0.1% |
+------------+---------+----------+-------------+------------------------------+
| 256 | 256 | 1 | 1 | 0.0% |
+------------+---------+----------+-------------+------------------------------+
| 1518 | 256 | 1 | 1 | 0.0% |
+------------+---------+----------+-------------+------------------------------+
| 1024 | 256 | 1 | 1 | 0.0% |
+------------+---------+----------+-------------+------------------------------+
To view detailed results, visit:
https://lab.dpdk.org/results/dashboard/patchsets/18188/
UNH-IOL DPDK Community Lab
To manage your email subscriptions, visit:
https://lab.dpdk.org/results/dashboard/preferences/subscriptions/
^ permalink raw reply [flat|nested] 11+ messages in thread
* [dpdk-test-report] |SUCCESS| pw96859-96868 [PATCH] [v2, 10/10] ipsec: add ol_flags support
@ 2021-08-12 16:04 dpdklab
0 siblings, 0 replies; 11+ messages in thread
From: dpdklab @ 2021-08-12 16:04 UTC (permalink / raw)
To: Test Report; +Cc: dpdk-test-reports
[-- Attachment #1: Type: text/plain, Size: 844 bytes --]
Test-Label: iol-aarch64-unit-testing
Test-Status: SUCCESS
http://dpdk.org/patch/96868
_Testing PASS_
Submitter: Radu Nicolau <radu.nicolau@intel.com>
Date: Thursday, August 12 2021 13:54:25
DPDK git baseline: Repo:dpdk
Branch: master
CommitID:4ac3f3d76e9507a93bcf48d165ffd3a1faba08bb
96859-96868 --> testing pass
Test environment and result as below:
+------------------+----------------+
| Environment | dpdk_unit_test |
+==================+================+
| Ubuntu 20.04 ARM | PASS |
+------------------+----------------+
Ubuntu 20.04 ARM
Kernel: 5.4.0-53-generic
Compiler: gcc 9.3
To view detailed results, visit:
https://lab.dpdk.org/results/dashboard/patchsets/18188/
UNH-IOL DPDK Community Lab
To manage your email subscriptions, visit:
https://lab.dpdk.org/results/dashboard/preferences/subscriptions/
^ permalink raw reply [flat|nested] 11+ messages in thread
* [dpdk-test-report] |SUCCESS| pw96859-96868 [PATCH] [v2, 10/10] ipsec: add ol_flags support
@ 2021-08-12 16:00 dpdklab
0 siblings, 0 replies; 11+ messages in thread
From: dpdklab @ 2021-08-12 16:00 UTC (permalink / raw)
To: Test Report; +Cc: dpdk-test-reports
[-- Attachment #1: Type: text/plain, Size: 2983 bytes --]
Test-Label: iol-intel-Performance
Test-Status: SUCCESS
http://dpdk.org/patch/96868
_Performance Testing PASS_
Submitter: Radu Nicolau <radu.nicolau@intel.com>
Date: Thursday, August 12 2021 13:54:25
DPDK git baseline: Repo:dpdk
Branch: master
CommitID:4ac3f3d76e9507a93bcf48d165ffd3a1faba08bb
96859-96868 --> performance testing pass
Test environment and result as below:
Ubuntu 20.04
Kernel: 4.15.0-generic
Compiler: gcc 7.4
NIC: Intel Corporation Ethernet Converged Network Adapter XL710-QDA2 40000 Mbps
Target: x86_64-native-linuxapp-gcc
Fail/Total: 0/4
Detail performance results:
+------------+---------+----------+-------------+------------------------------+
| frame_size | txd/rxd | num_cpus | num_threads | throughput difference from |
| | | | | expected |
+============+=========+==========+=============+==============================+
| 64 | 512 | 1 | 1 | -0.5% |
+------------+---------+----------+-------------+------------------------------+
| 64 | 2048 | 1 | 1 | -0.4% |
+------------+---------+----------+-------------+------------------------------+
| 64 | 512 | 1 | 2 | -3.9% |
+------------+---------+----------+-------------+------------------------------+
| 64 | 2048 | 1 | 2 | 5.2% |
+------------+---------+----------+-------------+------------------------------+
Ubuntu 20.04
Kernel: 4.15.0-generic
Compiler: gcc 7.4
NIC: Intel Corporation Ethernet Converged Network Adapter 82599ES 10000 Mbps
Target: x86_64-native-linuxapp-gcc
Fail/Total: 0/4
Detail performance results:
+------------+---------+----------+-------------+------------------------------+
| frame_size | txd/rxd | num_cpus | num_threads | throughput difference from |
| | | | | expected |
+============+=========+==========+=============+==============================+
| 64 | 512 | 1 | 1 | -0.1% |
+------------+---------+----------+-------------+------------------------------+
| 64 | 2048 | 1 | 1 | 0.1% |
+------------+---------+----------+-------------+------------------------------+
| 64 | 512 | 1 | 2 | -0.0% |
+------------+---------+----------+-------------+------------------------------+
| 64 | 2048 | 1 | 2 | -0.1% |
+------------+---------+----------+-------------+------------------------------+
To view detailed results, visit:
https://lab.dpdk.org/results/dashboard/patchsets/18188/
UNH-IOL DPDK Community Lab
To manage your email subscriptions, visit:
https://lab.dpdk.org/results/dashboard/preferences/subscriptions/
^ permalink raw reply [flat|nested] 11+ messages in thread
* [dpdk-test-report] |SUCCESS| pw96859-96868 [PATCH] [v2, 10/10] ipsec: add ol_flags support
@ 2021-08-12 15:59 dpdklab
0 siblings, 0 replies; 11+ messages in thread
From: dpdklab @ 2021-08-12 15:59 UTC (permalink / raw)
To: Test Report; +Cc: dpdk-test-reports
[-- Attachment #1: Type: text/plain, Size: 978 bytes --]
Test-Label: iol-intel-Functional
Test-Status: SUCCESS
http://dpdk.org/patch/96868
_Functional Testing PASS_
Submitter: Radu Nicolau <radu.nicolau@intel.com>
Date: Thursday, August 12 2021 13:54:25
DPDK git baseline: Repo:dpdk
Branch: master
CommitID:4ac3f3d76e9507a93bcf48d165ffd3a1faba08bb
96859-96868 --> functional testing pass
Test environment and result as below:
Ubuntu 20.04
Kernel: 4.15.0-generic
Compiler: gcc 7.4
NIC: Intel Corporation Ethernet Converged Network Adapter 82599ES 10000 Mbps
Target: x86_64-native-linuxapp-gcc
Fail/Total: 0/2
Ubuntu 20.04
Kernel: 4.15.0-generic
Compiler: gcc 7.4
NIC: Intel Corporation Ethernet Converged Network Adapter XL710-QDA2 40000 Mbps
Target: x86_64-native-linuxapp-gcc
Fail/Total: 0/2
To view detailed results, visit:
https://lab.dpdk.org/results/dashboard/patchsets/18188/
UNH-IOL DPDK Community Lab
To manage your email subscriptions, visit:
https://lab.dpdk.org/results/dashboard/preferences/subscriptions/
^ permalink raw reply [flat|nested] 11+ messages in thread
* [dpdk-test-report] |SUCCESS| pw96859-96868 [PATCH] [v2, 10/10] ipsec: add ol_flags support
@ 2021-08-12 15:46 dpdklab
0 siblings, 0 replies; 11+ messages in thread
From: dpdklab @ 2021-08-12 15:46 UTC (permalink / raw)
To: Ajit Khaparde, Test Report; +Cc: dpdk-test-reports
[-- Attachment #1: Type: text/plain, Size: 799 bytes --]
Test-Label: iol-broadcom-Functional
Test-Status: SUCCESS
http://dpdk.org/patch/96868
_Functional Testing PASS_
Submitter: Radu Nicolau <radu.nicolau@intel.com>
Date: Thursday, August 12 2021 13:54:25
DPDK git baseline: Repo:dpdk
Branch: master
CommitID:4ac3f3d76e9507a93bcf48d165ffd3a1faba08bb
96859-96868 --> functional testing pass
Test environment and result as below:
Ubuntu 20.04
Kernel: 4.15.0-65-generic
Compiler: gcc gcc (Ubuntu 7.4.0-1ubuntu1~18.04.1) 7.4.0
NIC: Broadcom Inc. brcm_57414 25000 Mbps
Target: x86_64-native-linuxapp-gcc
Fail/Total: 0/3
To view detailed results, visit:
https://lab.dpdk.org/results/dashboard/patchsets/18188/
UNH-IOL DPDK Community Lab
To manage your email subscriptions, visit:
https://lab.dpdk.org/results/dashboard/preferences/subscriptions/
^ permalink raw reply [flat|nested] 11+ messages in thread
* [dpdk-test-report] |SUCCESS| pw96859-96868 [PATCH] [v2, 10/10] ipsec: add ol_flags support
@ 2021-08-12 15:38 dpdklab
0 siblings, 0 replies; 11+ messages in thread
From: dpdklab @ 2021-08-12 15:38 UTC (permalink / raw)
To: Test Report; +Cc: dpdk-test-reports
[-- Attachment #1: Type: text/plain, Size: 791 bytes --]
Test-Label: iol-intel-Functional
Test-Status: SUCCESS
http://dpdk.org/patch/96868
_Functional Testing PASS_
Submitter: Radu Nicolau <radu.nicolau@intel.com>
Date: Thursday, August 12 2021 13:54:25
DPDK git baseline: Repo:dpdk
Branch: master
CommitID:4ac3f3d76e9507a93bcf48d165ffd3a1faba08bb
96859-96868 --> functional testing pass
Test environment and result as below:
Ubuntu 20.04
Kernel: 4.15.0-generic
Compiler: gcc 7.4
NIC: Intel Corporation Ethernet Converged Network Adapter 82599ES 10000 Mbps
Target: x86_64-native-linuxapp-gcc
Fail/Total: 0/2
To view detailed results, visit:
https://lab.dpdk.org/results/dashboard/patchsets/18188/
UNH-IOL DPDK Community Lab
To manage your email subscriptions, visit:
https://lab.dpdk.org/results/dashboard/preferences/subscriptions/
^ permalink raw reply [flat|nested] 11+ messages in thread
* [dpdk-test-report] |SUCCESS| pw96859-96868 [PATCH] [v2, 10/10] ipsec: add ol_flags support
@ 2021-08-12 15:34 dpdklab
0 siblings, 0 replies; 11+ messages in thread
From: dpdklab @ 2021-08-12 15:34 UTC (permalink / raw)
To: Ajit Khaparde, Test Report; +Cc: dpdk-test-reports
[-- Attachment #1: Type: text/plain, Size: 1803 bytes --]
Test-Label: iol-broadcom-Performance
Test-Status: SUCCESS
http://dpdk.org/patch/96868
_Performance Testing PASS_
Submitter: Radu Nicolau <radu.nicolau@intel.com>
Date: Thursday, August 12 2021 13:54:25
DPDK git baseline: Repo:dpdk
Branch: master
CommitID:4ac3f3d76e9507a93bcf48d165ffd3a1faba08bb
96859-96868 --> performance testing pass
Test environment and result as below:
Ubuntu 20.04
Kernel: 4.15.0-65-generic
Compiler: gcc gcc (Ubuntu 7.4.0-1ubuntu1~18.04.1) 7.4.0
NIC: Broadcom Inc. brcm_57414 25000 Mbps
Target: x86_64-native-linuxapp-gcc
Fail/Total: 0/4
Detail performance results:
+------------+---------+----------+-------------+------------------------------+
| frame_size | txd/rxd | num_cpus | num_threads | throughput difference from |
| | | | | expected |
+============+=========+==========+=============+==============================+
| 64 | 512 | 1 | 1 | -0.0% |
+------------+---------+----------+-------------+------------------------------+
| 64 | 2048 | 1 | 1 | -0.0% |
+------------+---------+----------+-------------+------------------------------+
| 64 | 512 | 1 | 2 | -0.0% |
+------------+---------+----------+-------------+------------------------------+
| 64 | 2048 | 1 | 2 | 0.0% |
+------------+---------+----------+-------------+------------------------------+
To view detailed results, visit:
https://lab.dpdk.org/results/dashboard/patchsets/18188/
UNH-IOL DPDK Community Lab
To manage your email subscriptions, visit:
https://lab.dpdk.org/results/dashboard/preferences/subscriptions/
^ permalink raw reply [flat|nested] 11+ messages in thread
end of thread, other threads:[~2021-08-12 17:24 UTC | newest]
Thread overview: 11+ messages (download: mbox.gz / follow: Atom feed)
-- links below jump to the message on this page --
2021-08-12 15:48 [dpdk-test-report] |SUCCESS| pw96859-96868 [PATCH] [v2, 10/10] ipsec: add ol_flags support dpdklab
-- strict thread matches above, loose matches on Subject: below --
2021-08-12 17:23 dpdklab
2021-08-12 17:17 dpdklab
2021-08-12 17:00 dpdklab
2021-08-12 16:45 dpdklab
2021-08-12 16:04 dpdklab
2021-08-12 16:00 dpdklab
2021-08-12 15:59 dpdklab
2021-08-12 15:46 dpdklab
2021-08-12 15:38 dpdklab
2021-08-12 15:34 dpdklab
This is a public inbox, see mirroring instructions
for how to clone and mirror all data and code used for this inbox;
as well as URLs for NNTP newsgroup(s).