[-- Attachment #1: Type: text/plain, Size: 804 bytes --] Test-Label: iol-broadcom-Functional Test-Status: SUCCESS http://dpdk.org/patch/100971 _Functional Testing PASS_ Submitter: Peng, ZhihongX <zhihongx.peng@intel.com> Date: Monday, October 11 2021 06:28:10 DPDK git baseline: Repo:dpdk Branch: master CommitID:515d20195b17444262a5732831c0615146c7189c 100969-100971 --> functional testing pass Test environment and result as below: Ubuntu 20.04 Kernel: 4.15.0-65-generic Compiler: gcc gcc (Ubuntu 7.4.0-1ubuntu1~18.04.1) 7.4.0 NIC: Broadcom Inc. brcm_57414 25000 Mbps Target: x86_64-native-linuxapp-gcc Fail/Total: 0/3 To view detailed results, visit: https://lab.dpdk.org/results/dashboard/patchsets/19276/ UNH-IOL DPDK Community Lab To manage your email subscriptions, visit: https://lab.dpdk.org/results/dashboard/preferences/subscriptions/
[-- Attachment #1: Type: text/plain, Size: 1808 bytes --] Test-Label: iol-broadcom-Performance Test-Status: SUCCESS http://dpdk.org/patch/100971 _Performance Testing PASS_ Submitter: Peng, ZhihongX <zhihongx.peng@intel.com> Date: Monday, October 11 2021 06:28:10 DPDK git baseline: Repo:dpdk Branch: master CommitID:515d20195b17444262a5732831c0615146c7189c 100969-100971 --> performance testing pass Test environment and result as below: Ubuntu 20.04 Kernel: 4.15.0-65-generic Compiler: gcc gcc (Ubuntu 7.4.0-1ubuntu1~18.04.1) 7.4.0 NIC: Broadcom Inc. brcm_57414 25000 Mbps Target: x86_64-native-linuxapp-gcc Fail/Total: 0/4 Detail performance results: +----------+-------------+---------+------------+------------------------------+ | num_cpus | num_threads | txd/rxd | frame_size | throughput difference from | | | | | | expected | +==========+=============+=========+============+==============================+ | 1 | 2 | 512 | 64 | -0.0% | +----------+-------------+---------+------------+------------------------------+ | 1 | 2 | 2048 | 64 | -0.1% | +----------+-------------+---------+------------+------------------------------+ | 1 | 1 | 512 | 64 | 0.1% | +----------+-------------+---------+------------+------------------------------+ | 1 | 1 | 2048 | 64 | 0.1% | +----------+-------------+---------+------------+------------------------------+ To view detailed results, visit: https://lab.dpdk.org/results/dashboard/patchsets/19276/ UNH-IOL DPDK Community Lab To manage your email subscriptions, visit: https://lab.dpdk.org/results/dashboard/preferences/subscriptions/
[-- Attachment #1: Type: text/plain, Size: 4993 bytes --] Test-Label: iol-x86_64-compile-testing Test-Status: SUCCESS http://dpdk.org/patch/100971 _Testing PASS_ Submitter: Peng, ZhihongX <zhihongx.peng@intel.com> Date: Monday, October 11 2021 06:28:10 DPDK git baseline: Repo:dpdk Branch: master CommitID:515d20195b17444262a5732831c0615146c7189c 100969-100971 --> testing pass Test environment and result as below: +---------------------+--------------------+----------------------+-------------------+ | Environment | dpdk_meson_compile | dpdk_mingw64_compile | dpdk_compile_spdk | +=====================+====================+======================+===================+ | Windows Server 2019 | PASS | PASS | SKIPPED | +---------------------+--------------------+----------------------+-------------------+ | FreeBSD 13 | PASS | SKIPPED | SKIPPED | +---------------------+--------------------+----------------------+-------------------+ | Ubuntu 18.04 | PASS | SKIPPED | PASS | +---------------------+--------------------+----------------------+-------------------+ | Fedora 31 | PASS | SKIPPED | SKIPPED | +---------------------+--------------------+----------------------+-------------------+ | CentOS 8 | PASS | SKIPPED | SKIPPED | +---------------------+--------------------+----------------------+-------------------+ | openSUSE Leap 15 | PASS | SKIPPED | SKIPPED | +---------------------+--------------------+----------------------+-------------------+ | CentOS Stream 8 | PASS | SKIPPED | SKIPPED | +---------------------+--------------------+----------------------+-------------------+ | Ubuntu 20.04 | PASS | SKIPPED | SKIPPED | +---------------------+--------------------+----------------------+-------------------+ | Fedora 32 | PASS | SKIPPED | SKIPPED | +---------------------+--------------------+----------------------+-------------------+ | RHEL 7 | PASS | SKIPPED | SKIPPED | +---------------------+--------------------+----------------------+-------------------+ | Arch Linux | PASS | SKIPPED | SKIPPED | +---------------------+--------------------+----------------------+-------------------+ | RHEL8 | PASS | SKIPPED | SKIPPED | +---------------------+--------------------+----------------------+-------------------+ | Fedora 34 | PASS | SKIPPED | SKIPPED | +---------------------+--------------------+----------------------+-------------------+ | Alpine | PASS | SKIPPED | SKIPPED | +---------------------+--------------------+----------------------+-------------------+ | Fedora 33 | PASS | SKIPPED | SKIPPED | +---------------------+--------------------+----------------------+-------------------+ | Fedora 34 clang | PASS | SKIPPED | SKIPPED | +---------------------+--------------------+----------------------+-------------------+ Windows Server 2019 Kernel: 10.0 Compiler: clang 9.0 and gcc 8.1.0 (MinGW) FreeBSD 13 Kernel: 13.0 Compiler: clang 11.0.1 Ubuntu 18.04 Kernel: 4.18.0-240.10.1.el8_3.x86_64 Compiler: gcc 7.5.0-3ubuntu1~18.04 Fedora 31 Kernel: 4.18.0-240.10.1.el8_3.x86_64 Compiler: gcc 9.3.1 CentOS 8 Kernel: 4.18.0-240.10.1.el8_3.x86_64 Compiler: gcc 8.3.1 20191121 (Red Hat 8.3.1-5) openSUSE Leap 15 Kernel: 4.18.0-240.10.1.el8_3.x86_64 Compiler: gcc 7.5.0 CentOS Stream 8 Kernel: 4.18.0-240.10.1.el8_3.x86_64 Compiler: gcc 8.4.1 20200928 Ubuntu 20.04 Kernel: 4.18.0-240.10.1.el8_3.x86_64 Compiler: gcc 9.3.0-17ubuntu1~20.04 Fedora 32 Kernel: 4.18.0-240.10.1.el8_3.x86_64 Compiler: gcc 10.2.1 RHEL 7 Kernel: 4.18.0-240.10.1.el8_3.x86_64 Compiler: gcc 4.8.5 20150623 (Red Hat 4.8.5-44) Arch Linux Kernel: 5.4.0-73-generic Compiler: gcc 11.1.0 RHEL8 Kernel: 4.18.0-240.10.1.el8_3.x86_64 Compiler: gcc 8.3.1 20191121 (Red Hat 8.3.1-5) Fedora 34 Kernel: 5.4.0-72-generic Compiler: gcc 11.1.1 20210428 (Red Hat 11.1.1-1) Alpine Kernel: 5.4.0-73-generic Compiler: gcc (Alpine 10.3.1_git20210424) 10.3.1 20210424 Fedora 33 Kernel: 5.4.0-72-generic Compiler: gcc 10.3.1 20210422 (Red Hat 10.3.1-1) Fedora 34 clang Kernel: 5.4.0-72-generic Compiler: clang 12.0.0 (Fedora 12.0.0-0.3.rc1.fc34) To view detailed results, visit: https://lab.dpdk.org/results/dashboard/patchsets/19276/ UNH-IOL DPDK Community Lab To manage your email subscriptions, visit: https://lab.dpdk.org/results/dashboard/preferences/subscriptions/
[-- Attachment #1: Type: text/plain, Size: 2791 bytes --] Test-Label: iol-x86_64-unit-testing Test-Status: SUCCESS http://dpdk.org/patch/100971 _Testing PASS_ Submitter: Peng, ZhihongX <zhihongx.peng@intel.com> Date: Monday, October 11 2021 06:28:10 DPDK git baseline: Repo:dpdk Branch: master CommitID:515d20195b17444262a5732831c0615146c7189c 100969-100971 --> testing pass Test environment and result as below: +------------------+----------------+ | Environment | dpdk_unit_test | +==================+================+ | Ubuntu 18.04 | PASS | +------------------+----------------+ | Arch Linux | PASS | +------------------+----------------+ | CentOS 8 | PASS | +------------------+----------------+ | CentOS Stream 8 | PASS | +------------------+----------------+ | Fedora 31 | PASS | +------------------+----------------+ | Fedora 32 | PASS | +------------------+----------------+ | openSUSE Leap 15 | PASS | +------------------+----------------+ | RHEL 7 | PASS | +------------------+----------------+ | Ubuntu 20.04 | PASS | +------------------+----------------+ | RHEL8 | PASS | +------------------+----------------+ | Fedora 34 | PASS | +------------------+----------------+ | Fedora 33 | PASS | +------------------+----------------+ | Fedora 34 clang | PASS | +------------------+----------------+ Ubuntu 18.04 Kernel: 4.18.0-240.10.1.el8_3.x86_64 Compiler: gcc 7.5.0-3ubuntu1~18.04 Arch Linux Kernel: 5.4.0-73-generic Compiler: gcc 11.1.0 CentOS 8 Kernel: 4.18.0-240.10.1.el8_3.x86_64 Compiler: gcc 8.3.1 20191121 (Red Hat 8.3.1-5) CentOS Stream 8 Kernel: 4.18.0-240.10.1.el8_3.x86_64 Compiler: gcc 8.4.1 20200928 Fedora 31 Kernel: 4.18.0-240.10.1.el8_3.x86_64 Compiler: gcc 9.3.1 Fedora 32 Kernel: 4.18.0-240.10.1.el8_3.x86_64 Compiler: gcc 10.2.1 openSUSE Leap 15 Kernel: 4.18.0-240.10.1.el8_3.x86_64 Compiler: gcc 7.5.0 RHEL 7 Kernel: 4.18.0-240.10.1.el8_3.x86_64 Compiler: gcc 4.8.5 20150623 (Red Hat 4.8.5-44) Ubuntu 20.04 Kernel: 4.18.0-240.10.1.el8_3.x86_64 Compiler: gcc 9.3.0-17ubuntu1~20.04 RHEL8 Kernel: 4.18.0-240.10.1.el8_3.x86_64 Compiler: gcc 8.3.1 20191121 (Red Hat 8.3.1-5) Fedora 34 Kernel: 5.4.0-72-generic Compiler: gcc 11.1.1 20210428 (Red Hat 11.1.1-1) Fedora 33 Kernel: 5.4.0-72-generic Compiler: gcc 10.3.1 20210422 (Red Hat 10.3.1-1) Fedora 34 clang Kernel: 5.4.0-72-generic Compiler: clang 12.0.0 (Fedora 12.0.0-0.3.rc1.fc34) To view detailed results, visit: https://lab.dpdk.org/results/dashboard/patchsets/19276/ UNH-IOL DPDK Community Lab To manage your email subscriptions, visit: https://lab.dpdk.org/results/dashboard/preferences/subscriptions/
[-- Attachment #1: Type: text/plain, Size: 1927 bytes --] Test-Label: iol-mellanox-Performance Test-Status: SUCCESS http://dpdk.org/patch/100971 _Performance Testing PASS_ Submitter: Peng, ZhihongX <zhihongx.peng@intel.com> Date: Monday, October 11 2021 06:28:10 DPDK git baseline: Repo:dpdk Branch: master CommitID:515d20195b17444262a5732831c0615146c7189c 100969-100971 --> performance testing pass Test environment and result as below: Ubuntu 20.04 Kernel: 4.15.0-generic Compiler: gcc 7.4 NIC: Mellanox ConnectX-4 Lx 25000 Mbps Target: x86_64-native-linuxapp-gcc Fail/Total: 0/5 Detail performance results: +------------+---------+----------+-------------+------------------------------+ | frame_size | txd/rxd | num_cpus | num_threads | throughput difference from | | | | | | expected | +============+=========+==========+=============+==============================+ | 64 | 256 | 1 | 1 | -0.6% | +------------+---------+----------+-------------+------------------------------+ | 128 | 256 | 1 | 1 | 0.0% | +------------+---------+----------+-------------+------------------------------+ | 1024 | 256 | 1 | 1 | -0.1% | +------------+---------+----------+-------------+------------------------------+ | 256 | 256 | 1 | 1 | -0.6% | +------------+---------+----------+-------------+------------------------------+ | 1518 | 256 | 1 | 1 | 0.1% | +------------+---------+----------+-------------+------------------------------+ To view detailed results, visit: https://lab.dpdk.org/results/dashboard/patchsets/19276/ UNH-IOL DPDK Community Lab To manage your email subscriptions, visit: https://lab.dpdk.org/results/dashboard/preferences/subscriptions/
[-- Attachment #1: Type: text/plain, Size: 3234 bytes --] Test-Label: iol-mellanox-Performance Test-Status: SUCCESS http://dpdk.org/patch/100971 _Performance Testing PASS_ Submitter: Peng, ZhihongX <zhihongx.peng@intel.com> Date: Monday, October 11 2021 06:28:10 DPDK git baseline: Repo:dpdk Branch: master CommitID:515d20195b17444262a5732831c0615146c7189c 100969-100971 --> performance testing pass Test environment and result as below: Ubuntu 20.04 Kernel: 4.15.0-generic Compiler: gcc 7.4 NIC: Mellanox ConnectX-4 Lx 25000 Mbps Target: x86_64-native-linuxapp-gcc Fail/Total: 0/5 Detail performance results: +------------+---------+----------+-------------+------------------------------+ | frame_size | txd/rxd | num_cpus | num_threads | throughput difference from | | | | | | expected | +============+=========+==========+=============+==============================+ | 64 | 256 | 1 | 1 | -0.6% | +------------+---------+----------+-------------+------------------------------+ | 128 | 256 | 1 | 1 | 0.0% | +------------+---------+----------+-------------+------------------------------+ | 1024 | 256 | 1 | 1 | -0.1% | +------------+---------+----------+-------------+------------------------------+ | 256 | 256 | 1 | 1 | -0.6% | +------------+---------+----------+-------------+------------------------------+ | 1518 | 256 | 1 | 1 | 0.1% | +------------+---------+----------+-------------+------------------------------+ Ubuntu 20.04 Kernel: 4.15.0-generic Compiler: gcc 7.4 NIC: Mellanox ConnectX-5 100000 Mbps Target: x86_64-native-linuxapp-gcc Fail/Total: 0/5 Detail performance results: +------------+---------+----------+-------------+------------------------------+ | frame_size | txd/rxd | num_cpus | num_threads | throughput difference from | | | | | | expected | +============+=========+==========+=============+==============================+ | 64 | 256 | 1 | 1 | 0.1% | +------------+---------+----------+-------------+------------------------------+ | 128 | 256 | 1 | 1 | -0.4% | +------------+---------+----------+-------------+------------------------------+ | 1024 | 256 | 1 | 1 | -0.2% | +------------+---------+----------+-------------+------------------------------+ | 256 | 256 | 1 | 1 | -0.0% | +------------+---------+----------+-------------+------------------------------+ | 1518 | 256 | 1 | 1 | -0.2% | +------------+---------+----------+-------------+------------------------------+ To view detailed results, visit: https://lab.dpdk.org/results/dashboard/patchsets/19276/ UNH-IOL DPDK Community Lab To manage your email subscriptions, visit: https://lab.dpdk.org/results/dashboard/preferences/subscriptions/
[-- Attachment #1: Type: text/plain, Size: 4543 bytes --] Test-Label: iol-mellanox-Performance Test-Status: SUCCESS http://dpdk.org/patch/100971 _Performance Testing PASS_ Submitter: Peng, ZhihongX <zhihongx.peng@intel.com> Date: Monday, October 11 2021 06:28:10 DPDK git baseline: Repo:dpdk Branch: master CommitID:515d20195b17444262a5732831c0615146c7189c 100969-100971 --> performance testing pass Test environment and result as below: Ubuntu 20.04 Kernel: 4.15.0-generic Compiler: gcc 7.4 NIC: Mellanox ConnectX-4 Lx 25000 Mbps Target: x86_64-native-linuxapp-gcc Fail/Total: 0/5 Detail performance results: +------------+---------+----------+-------------+------------------------------+ | frame_size | txd/rxd | num_cpus | num_threads | throughput difference from | | | | | | expected | +============+=========+==========+=============+==============================+ | 64 | 256 | 1 | 1 | -0.6% | +------------+---------+----------+-------------+------------------------------+ | 128 | 256 | 1 | 1 | 0.0% | +------------+---------+----------+-------------+------------------------------+ | 1024 | 256 | 1 | 1 | -0.1% | +------------+---------+----------+-------------+------------------------------+ | 256 | 256 | 1 | 1 | -0.6% | +------------+---------+----------+-------------+------------------------------+ | 1518 | 256 | 1 | 1 | 0.1% | +------------+---------+----------+-------------+------------------------------+ Ubuntu 20.04 Kernel: 4.15.0-generic Compiler: gcc 7.4 NIC: Mellanox ConnectX-5 100000 Mbps Target: x86_64-native-linuxapp-gcc Fail/Total: 0/5 Detail performance results: +------------+---------+----------+-------------+------------------------------+ | frame_size | txd/rxd | num_cpus | num_threads | throughput difference from | | | | | | expected | +============+=========+==========+=============+==============================+ | 64 | 256 | 1 | 1 | 0.1% | +------------+---------+----------+-------------+------------------------------+ | 128 | 256 | 1 | 1 | -0.4% | +------------+---------+----------+-------------+------------------------------+ | 1024 | 256 | 1 | 1 | -0.2% | +------------+---------+----------+-------------+------------------------------+ | 256 | 256 | 1 | 1 | -0.0% | +------------+---------+----------+-------------+------------------------------+ | 1518 | 256 | 1 | 1 | -0.2% | +------------+---------+----------+-------------+------------------------------+ Ubuntu 20.04 Kernel: 4.15.0-generic Compiler: gcc 7.4 NIC: Mellanox ConnectX-4 Lx 40000 Mbps Target: x86_64-native-linuxapp-gcc Fail/Total: 0/5 Detail performance results: +------------+---------+----------+-------------+------------------------------+ | frame_size | txd/rxd | num_cpus | num_threads | throughput difference from | | | | | | expected | +============+=========+==========+=============+==============================+ | 64 | 256 | 1 | 1 | 1.5% | +------------+---------+----------+-------------+------------------------------+ | 128 | 256 | 1 | 1 | -0.1% | +------------+---------+----------+-------------+------------------------------+ | 1024 | 256 | 1 | 1 | 0.0% | +------------+---------+----------+-------------+------------------------------+ | 256 | 256 | 1 | 1 | -0.0% | +------------+---------+----------+-------------+------------------------------+ | 1518 | 256 | 1 | 1 | -0.1% | +------------+---------+----------+-------------+------------------------------+ To view detailed results, visit: https://lab.dpdk.org/results/dashboard/patchsets/19276/ UNH-IOL DPDK Community Lab To manage your email subscriptions, visit: https://lab.dpdk.org/results/dashboard/preferences/subscriptions/
[-- Attachment #1: Type: text/plain, Size: 849 bytes --] Test-Label: iol-aarch64-unit-testing Test-Status: SUCCESS http://dpdk.org/patch/100971 _Testing PASS_ Submitter: Peng, ZhihongX <zhihongx.peng@intel.com> Date: Monday, October 11 2021 06:28:10 DPDK git baseline: Repo:dpdk Branch: master CommitID:515d20195b17444262a5732831c0615146c7189c 100969-100971 --> testing pass Test environment and result as below: +------------------+----------------+ | Environment | dpdk_unit_test | +==================+================+ | Ubuntu 20.04 ARM | PASS | +------------------+----------------+ Ubuntu 20.04 ARM Kernel: 5.4.0-53-generic Compiler: gcc 9.3 To view detailed results, visit: https://lab.dpdk.org/results/dashboard/patchsets/19276/ UNH-IOL DPDK Community Lab To manage your email subscriptions, visit: https://lab.dpdk.org/results/dashboard/preferences/subscriptions/
[-- Attachment #1: Type: text/plain, Size: 1031 bytes --] Test-Label: iol-aarch64-compile-testing Test-Status: SUCCESS http://dpdk.org/patch/100971 _Testing PASS_ Submitter: Peng, ZhihongX <zhihongx.peng@intel.com> Date: Monday, October 11 2021 06:28:10 DPDK git baseline: Repo:dpdk Branch: master CommitID:515d20195b17444262a5732831c0615146c7189c 100969-100971 --> testing pass Test environment and result as below: +------------------------------------+--------------------+ | Environment | dpdk_meson_compile | +====================================+====================+ | Ubuntu 20.04 ARM cross-compilation | PASS | +------------------------------------+--------------------+ Ubuntu 20.04 ARM cross-compilation Kernel: 5.4.0-72-generic Compiler: aarch64-linux-gnu-gcc (Ubuntu 9.3.0-17ubuntu1~20.04) 9.3.0 To view detailed results, visit: https://lab.dpdk.org/results/dashboard/patchsets/19276/ UNH-IOL DPDK Community Lab To manage your email subscriptions, visit: https://lab.dpdk.org/results/dashboard/preferences/subscriptions/