[-- Attachment #1: Type: text/plain, Size: 799 bytes --] Test-Label: iol-intel-Functional Test-Status: SUCCESS http://dpdk.org/patch/101293 _Functional Testing PASS_ Submitter: Peng, ZhihongX <zhihongx.peng@intel.com> Date: Wednesday, October 13 2021 01:52:23 DPDK git baseline: Repo:dpdk Branch: master CommitID:2f3758751b157760ebb6fc51cd92841073bb115c 101294-101293 --> functional testing pass Test environment and result as below: Ubuntu 20.04 Kernel: 4.15.0-generic Compiler: gcc 7.4 NIC: Intel Corporation Ethernet Converged Network Adapter 82599ES 10000 Mbps Target: x86_64-native-linuxapp-gcc Fail/Total: 0/2 To view detailed results, visit: https://lab.dpdk.org/results/dashboard/patchsets/19357/ UNH-IOL DPDK Community Lab To manage your email subscriptions, visit: https://lab.dpdk.org/results/dashboard/preferences/subscriptions/
[-- Attachment #1: Type: text/plain, Size: 807 bytes --] Test-Label: iol-broadcom-Functional Test-Status: SUCCESS http://dpdk.org/patch/101293 _Functional Testing PASS_ Submitter: Peng, ZhihongX <zhihongx.peng@intel.com> Date: Wednesday, October 13 2021 01:52:23 DPDK git baseline: Repo:dpdk Branch: master CommitID:2f3758751b157760ebb6fc51cd92841073bb115c 101294-101293 --> functional testing pass Test environment and result as below: Ubuntu 20.04 Kernel: 4.15.0-65-generic Compiler: gcc gcc (Ubuntu 7.4.0-1ubuntu1~18.04.1) 7.4.0 NIC: Broadcom Inc. brcm_57414 25000 Mbps Target: x86_64-native-linuxapp-gcc Fail/Total: 0/3 To view detailed results, visit: https://lab.dpdk.org/results/dashboard/patchsets/19357/ UNH-IOL DPDK Community Lab To manage your email subscriptions, visit: https://lab.dpdk.org/results/dashboard/preferences/subscriptions/
[-- Attachment #1: Type: text/plain, Size: 1806 bytes --] Test-Label: iol-intel-Performance Test-Status: SUCCESS http://dpdk.org/patch/101293 _Performance Testing PASS_ Submitter: Peng, ZhihongX <zhihongx.peng@intel.com> Date: Wednesday, October 13 2021 01:52:23 DPDK git baseline: Repo:dpdk Branch: master CommitID:2f3758751b157760ebb6fc51cd92841073bb115c 101294-101293 --> performance testing pass Test environment and result as below: Ubuntu 20.04 Kernel: 4.15.0-generic Compiler: gcc 7.4 NIC: Intel Corporation Ethernet Converged Network Adapter XL710-QDA2 40000 Mbps Target: x86_64-native-linuxapp-gcc Fail/Total: 0/4 Detail performance results: +------------+---------+----------+-------------+------------------------------+ | frame_size | txd/rxd | num_cpus | num_threads | throughput difference from | | | | | | expected | +============+=========+==========+=============+==============================+ | 64 | 512 | 1 | 1 | 0.5% | +------------+---------+----------+-------------+------------------------------+ | 64 | 2048 | 1 | 1 | -0.2% | +------------+---------+----------+-------------+------------------------------+ | 64 | 512 | 1 | 2 | -1.7% | +------------+---------+----------+-------------+------------------------------+ | 64 | 2048 | 1 | 2 | 3.2% | +------------+---------+----------+-------------+------------------------------+ To view detailed results, visit: https://lab.dpdk.org/results/dashboard/patchsets/19357/ UNH-IOL DPDK Community Lab To manage your email subscriptions, visit: https://lab.dpdk.org/results/dashboard/preferences/subscriptions/
[-- Attachment #1: Type: text/plain, Size: 1811 bytes --] Test-Label: iol-broadcom-Performance Test-Status: SUCCESS http://dpdk.org/patch/101293 _Performance Testing PASS_ Submitter: Peng, ZhihongX <zhihongx.peng@intel.com> Date: Wednesday, October 13 2021 01:52:23 DPDK git baseline: Repo:dpdk Branch: master CommitID:2f3758751b157760ebb6fc51cd92841073bb115c 101294-101293 --> performance testing pass Test environment and result as below: Ubuntu 20.04 Kernel: 4.15.0-65-generic Compiler: gcc gcc (Ubuntu 7.4.0-1ubuntu1~18.04.1) 7.4.0 NIC: Broadcom Inc. brcm_57414 25000 Mbps Target: x86_64-native-linuxapp-gcc Fail/Total: 0/4 Detail performance results: +----------+-------------+---------+------------+------------------------------+ | num_cpus | num_threads | txd/rxd | frame_size | throughput difference from | | | | | | expected | +==========+=============+=========+============+==============================+ | 1 | 2 | 512 | 64 | -0.0% | +----------+-------------+---------+------------+------------------------------+ | 1 | 2 | 2048 | 64 | 0.2% | +----------+-------------+---------+------------+------------------------------+ | 1 | 1 | 512 | 64 | -0.0% | +----------+-------------+---------+------------+------------------------------+ | 1 | 1 | 2048 | 64 | -0.1% | +----------+-------------+---------+------------+------------------------------+ To view detailed results, visit: https://lab.dpdk.org/results/dashboard/patchsets/19357/ UNH-IOL DPDK Community Lab To manage your email subscriptions, visit: https://lab.dpdk.org/results/dashboard/preferences/subscriptions/
[-- Attachment #1: Type: text/plain, Size: 986 bytes --] Test-Label: iol-intel-Functional Test-Status: SUCCESS http://dpdk.org/patch/101293 _Functional Testing PASS_ Submitter: Peng, ZhihongX <zhihongx.peng@intel.com> Date: Wednesday, October 13 2021 01:52:23 DPDK git baseline: Repo:dpdk Branch: master CommitID:2f3758751b157760ebb6fc51cd92841073bb115c 101294-101293 --> functional testing pass Test environment and result as below: Ubuntu 20.04 Kernel: 4.15.0-generic Compiler: gcc 7.4 NIC: Intel Corporation Ethernet Converged Network Adapter 82599ES 10000 Mbps Target: x86_64-native-linuxapp-gcc Fail/Total: 0/2 Ubuntu 20.04 Kernel: 4.15.0-generic Compiler: gcc 7.4 NIC: Intel Corporation Ethernet Converged Network Adapter XL710-QDA2 40000 Mbps Target: x86_64-native-linuxapp-gcc Fail/Total: 0/2 To view detailed results, visit: https://lab.dpdk.org/results/dashboard/patchsets/19357/ UNH-IOL DPDK Community Lab To manage your email subscriptions, visit: https://lab.dpdk.org/results/dashboard/preferences/subscriptions/
[-- Attachment #1: Type: text/plain, Size: 2991 bytes --] Test-Label: iol-intel-Performance Test-Status: SUCCESS http://dpdk.org/patch/101293 _Performance Testing PASS_ Submitter: Peng, ZhihongX <zhihongx.peng@intel.com> Date: Wednesday, October 13 2021 01:52:23 DPDK git baseline: Repo:dpdk Branch: master CommitID:2f3758751b157760ebb6fc51cd92841073bb115c 101294-101293 --> performance testing pass Test environment and result as below: Ubuntu 20.04 Kernel: 4.15.0-generic Compiler: gcc 7.4 NIC: Intel Corporation Ethernet Converged Network Adapter XL710-QDA2 40000 Mbps Target: x86_64-native-linuxapp-gcc Fail/Total: 0/4 Detail performance results: +------------+---------+----------+-------------+------------------------------+ | frame_size | txd/rxd | num_cpus | num_threads | throughput difference from | | | | | | expected | +============+=========+==========+=============+==============================+ | 64 | 512 | 1 | 1 | 0.5% | +------------+---------+----------+-------------+------------------------------+ | 64 | 2048 | 1 | 1 | -0.2% | +------------+---------+----------+-------------+------------------------------+ | 64 | 512 | 1 | 2 | -1.7% | +------------+---------+----------+-------------+------------------------------+ | 64 | 2048 | 1 | 2 | 3.2% | +------------+---------+----------+-------------+------------------------------+ Ubuntu 20.04 Kernel: 4.15.0-generic Compiler: gcc 7.4 NIC: Intel Corporation Ethernet Converged Network Adapter 82599ES 10000 Mbps Target: x86_64-native-linuxapp-gcc Fail/Total: 0/4 Detail performance results: +------------+---------+----------+-------------+------------------------------+ | frame_size | txd/rxd | num_cpus | num_threads | throughput difference from | | | | | | expected | +============+=========+==========+=============+==============================+ | 64 | 512 | 1 | 1 | -0.5% | +------------+---------+----------+-------------+------------------------------+ | 64 | 2048 | 1 | 1 | 0.1% | +------------+---------+----------+-------------+------------------------------+ | 64 | 512 | 1 | 2 | -0.2% | +------------+---------+----------+-------------+------------------------------+ | 64 | 2048 | 1 | 2 | 0.3% | +------------+---------+----------+-------------+------------------------------+ To view detailed results, visit: https://lab.dpdk.org/results/dashboard/patchsets/19357/ UNH-IOL DPDK Community Lab To manage your email subscriptions, visit: https://lab.dpdk.org/results/dashboard/preferences/subscriptions/
[-- Attachment #1: Type: text/plain, Size: 2794 bytes --] Test-Label: iol-x86_64-unit-testing Test-Status: SUCCESS http://dpdk.org/patch/101293 _Testing PASS_ Submitter: Peng, ZhihongX <zhihongx.peng@intel.com> Date: Wednesday, October 13 2021 01:52:23 DPDK git baseline: Repo:dpdk Branch: master CommitID:2f3758751b157760ebb6fc51cd92841073bb115c 101294-101293 --> testing pass Test environment and result as below: +------------------+----------------+ | Environment | dpdk_unit_test | +==================+================+ | Arch Linux | PASS | +------------------+----------------+ | Ubuntu 18.04 | PASS | +------------------+----------------+ | CentOS Stream 8 | PASS | +------------------+----------------+ | CentOS 8 | PASS | +------------------+----------------+ | Fedora 32 | PASS | +------------------+----------------+ | Fedora 31 | PASS | +------------------+----------------+ | openSUSE Leap 15 | PASS | +------------------+----------------+ | Ubuntu 20.04 | PASS | +------------------+----------------+ | RHEL 7 | PASS | +------------------+----------------+ | RHEL8 | PASS | +------------------+----------------+ | Fedora 34 | PASS | +------------------+----------------+ | Fedora 33 | PASS | +------------------+----------------+ | Fedora 34 clang | PASS | +------------------+----------------+ Arch Linux Kernel: 5.4.0-73-generic Compiler: gcc 11.1.0 Ubuntu 18.04 Kernel: 4.18.0-240.10.1.el8_3.x86_64 Compiler: gcc 7.5.0-3ubuntu1~18.04 CentOS Stream 8 Kernel: 4.18.0-240.10.1.el8_3.x86_64 Compiler: gcc 8.4.1 20200928 CentOS 8 Kernel: 4.18.0-240.10.1.el8_3.x86_64 Compiler: gcc 8.3.1 20191121 (Red Hat 8.3.1-5) Fedora 32 Kernel: 4.18.0-240.10.1.el8_3.x86_64 Compiler: gcc 10.2.1 Fedora 31 Kernel: 4.18.0-240.10.1.el8_3.x86_64 Compiler: gcc 9.3.1 openSUSE Leap 15 Kernel: 4.18.0-240.10.1.el8_3.x86_64 Compiler: gcc 7.5.0 Ubuntu 20.04 Kernel: 4.18.0-240.10.1.el8_3.x86_64 Compiler: gcc 9.3.0-17ubuntu1~20.04 RHEL 7 Kernel: 4.18.0-240.10.1.el8_3.x86_64 Compiler: gcc 4.8.5 20150623 (Red Hat 4.8.5-44) RHEL8 Kernel: 4.18.0-240.10.1.el8_3.x86_64 Compiler: gcc 8.3.1 20191121 (Red Hat 8.3.1-5) Fedora 34 Kernel: 5.4.0-72-generic Compiler: gcc 11.1.1 20210428 (Red Hat 11.1.1-1) Fedora 33 Kernel: 5.4.0-72-generic Compiler: gcc 10.3.1 20210422 (Red Hat 10.3.1-1) Fedora 34 clang Kernel: 5.4.0-72-generic Compiler: clang 12.0.0 (Fedora 12.0.0-0.3.rc1.fc34) To view detailed results, visit: https://lab.dpdk.org/results/dashboard/patchsets/19357/ UNH-IOL DPDK Community Lab To manage your email subscriptions, visit: https://lab.dpdk.org/results/dashboard/preferences/subscriptions/
[-- Attachment #1: Type: text/plain, Size: 4996 bytes --] Test-Label: iol-x86_64-compile-testing Test-Status: SUCCESS http://dpdk.org/patch/101293 _Testing PASS_ Submitter: Peng, ZhihongX <zhihongx.peng@intel.com> Date: Wednesday, October 13 2021 01:52:23 DPDK git baseline: Repo:dpdk Branch: master CommitID:2f3758751b157760ebb6fc51cd92841073bb115c 101294-101293 --> testing pass Test environment and result as below: +---------------------+--------------------+----------------------+-------------------+ | Environment | dpdk_meson_compile | dpdk_mingw64_compile | dpdk_compile_spdk | +=====================+====================+======================+===================+ | Windows Server 2019 | PASS | PASS | SKIPPED | +---------------------+--------------------+----------------------+-------------------+ | Fedora 31 | PASS | SKIPPED | SKIPPED | +---------------------+--------------------+----------------------+-------------------+ | CentOS 8 | PASS | SKIPPED | SKIPPED | +---------------------+--------------------+----------------------+-------------------+ | FreeBSD 13 | PASS | SKIPPED | SKIPPED | +---------------------+--------------------+----------------------+-------------------+ | openSUSE Leap 15 | PASS | SKIPPED | SKIPPED | +---------------------+--------------------+----------------------+-------------------+ | Ubuntu 18.04 | PASS | SKIPPED | PASS | +---------------------+--------------------+----------------------+-------------------+ | Fedora 32 | PASS | SKIPPED | SKIPPED | +---------------------+--------------------+----------------------+-------------------+ | CentOS Stream 8 | PASS | SKIPPED | SKIPPED | +---------------------+--------------------+----------------------+-------------------+ | Ubuntu 20.04 | PASS | SKIPPED | SKIPPED | +---------------------+--------------------+----------------------+-------------------+ | RHEL 7 | PASS | SKIPPED | SKIPPED | +---------------------+--------------------+----------------------+-------------------+ | RHEL8 | PASS | SKIPPED | SKIPPED | +---------------------+--------------------+----------------------+-------------------+ | Fedora 33 | PASS | SKIPPED | SKIPPED | +---------------------+--------------------+----------------------+-------------------+ | Fedora 34 | PASS | SKIPPED | SKIPPED | +---------------------+--------------------+----------------------+-------------------+ | Arch Linux | PASS | SKIPPED | SKIPPED | +---------------------+--------------------+----------------------+-------------------+ | Alpine | PASS | SKIPPED | SKIPPED | +---------------------+--------------------+----------------------+-------------------+ | Fedora 34 clang | PASS | SKIPPED | SKIPPED | +---------------------+--------------------+----------------------+-------------------+ Windows Server 2019 Kernel: 10.0 Compiler: clang 9.0 and gcc 8.1.0 (MinGW) Fedora 31 Kernel: 4.18.0-240.10.1.el8_3.x86_64 Compiler: gcc 9.3.1 CentOS 8 Kernel: 4.18.0-240.10.1.el8_3.x86_64 Compiler: gcc 8.3.1 20191121 (Red Hat 8.3.1-5) FreeBSD 13 Kernel: 13.0 Compiler: clang 11.0.1 openSUSE Leap 15 Kernel: 4.18.0-240.10.1.el8_3.x86_64 Compiler: gcc 7.5.0 Ubuntu 18.04 Kernel: 4.18.0-240.10.1.el8_3.x86_64 Compiler: gcc 7.5.0-3ubuntu1~18.04 Fedora 32 Kernel: 4.18.0-240.10.1.el8_3.x86_64 Compiler: gcc 10.2.1 CentOS Stream 8 Kernel: 4.18.0-240.10.1.el8_3.x86_64 Compiler: gcc 8.4.1 20200928 Ubuntu 20.04 Kernel: 4.18.0-240.10.1.el8_3.x86_64 Compiler: gcc 9.3.0-17ubuntu1~20.04 RHEL 7 Kernel: 4.18.0-240.10.1.el8_3.x86_64 Compiler: gcc 4.8.5 20150623 (Red Hat 4.8.5-44) RHEL8 Kernel: 4.18.0-240.10.1.el8_3.x86_64 Compiler: gcc 8.3.1 20191121 (Red Hat 8.3.1-5) Fedora 33 Kernel: 5.4.0-72-generic Compiler: gcc 10.3.1 20210422 (Red Hat 10.3.1-1) Fedora 34 Kernel: 5.4.0-72-generic Compiler: gcc 11.1.1 20210428 (Red Hat 11.1.1-1) Arch Linux Kernel: 5.4.0-73-generic Compiler: gcc 11.1.0 Alpine Kernel: 5.4.0-73-generic Compiler: gcc (Alpine 10.3.1_git20210424) 10.3.1 20210424 Fedora 34 clang Kernel: 5.4.0-72-generic Compiler: clang 12.0.0 (Fedora 12.0.0-0.3.rc1.fc34) To view detailed results, visit: https://lab.dpdk.org/results/dashboard/patchsets/19357/ UNH-IOL DPDK Community Lab To manage your email subscriptions, visit: https://lab.dpdk.org/results/dashboard/preferences/subscriptions/
[-- Attachment #1: Type: text/plain, Size: 1930 bytes --] Test-Label: iol-mellanox-Performance Test-Status: SUCCESS http://dpdk.org/patch/101293 _Performance Testing PASS_ Submitter: Peng, ZhihongX <zhihongx.peng@intel.com> Date: Wednesday, October 13 2021 01:52:23 DPDK git baseline: Repo:dpdk Branch: master CommitID:2f3758751b157760ebb6fc51cd92841073bb115c 101294-101293 --> performance testing pass Test environment and result as below: Ubuntu 20.04 Kernel: 4.15.0-generic Compiler: gcc 7.4 NIC: Mellanox ConnectX-4 Lx 25000 Mbps Target: x86_64-native-linuxapp-gcc Fail/Total: 0/5 Detail performance results: +------------+---------+----------+-------------+------------------------------+ | frame_size | txd/rxd | num_cpus | num_threads | throughput difference from | | | | | | expected | +============+=========+==========+=============+==============================+ | 64 | 256 | 1 | 1 | 0.8% | +------------+---------+----------+-------------+------------------------------+ | 128 | 256 | 1 | 1 | 0.0% | +------------+---------+----------+-------------+------------------------------+ | 1024 | 256 | 1 | 1 | 0.1% | +------------+---------+----------+-------------+------------------------------+ | 256 | 256 | 1 | 1 | -0.6% | +------------+---------+----------+-------------+------------------------------+ | 1518 | 256 | 1 | 1 | 0.1% | +------------+---------+----------+-------------+------------------------------+ To view detailed results, visit: https://lab.dpdk.org/results/dashboard/patchsets/19357/ UNH-IOL DPDK Community Lab To manage your email subscriptions, visit: https://lab.dpdk.org/results/dashboard/preferences/subscriptions/
[-- Attachment #1: Type: text/plain, Size: 852 bytes --] Test-Label: iol-aarch64-unit-testing Test-Status: SUCCESS http://dpdk.org/patch/101293 _Testing PASS_ Submitter: Peng, ZhihongX <zhihongx.peng@intel.com> Date: Wednesday, October 13 2021 01:52:23 DPDK git baseline: Repo:dpdk Branch: master CommitID:2f3758751b157760ebb6fc51cd92841073bb115c 101294-101293 --> testing pass Test environment and result as below: +------------------+----------------+ | Environment | dpdk_unit_test | +==================+================+ | Ubuntu 20.04 ARM | PASS | +------------------+----------------+ Ubuntu 20.04 ARM Kernel: 5.4.0-53-generic Compiler: gcc 9.3 To view detailed results, visit: https://lab.dpdk.org/results/dashboard/patchsets/19357/ UNH-IOL DPDK Community Lab To manage your email subscriptions, visit: https://lab.dpdk.org/results/dashboard/preferences/subscriptions/
[-- Attachment #1: Type: text/plain, Size: 1217 bytes --] Test-Label: iol-aarch64-compile-testing Test-Status: SUCCESS http://dpdk.org/patch/101293 _Testing PASS_ Submitter: Peng, ZhihongX <zhihongx.peng@intel.com> Date: Wednesday, October 13 2021 01:52:23 DPDK git baseline: Repo:dpdk Branch: master CommitID:2f3758751b157760ebb6fc51cd92841073bb115c 101294-101293 --> testing pass Test environment and result as below: +------------------------------------+--------------------+ | Environment | dpdk_meson_compile | +====================================+====================+ | Ubuntu 20.04 ARM | PASS | +------------------------------------+--------------------+ | Ubuntu 20.04 ARM cross-compilation | PASS | +------------------------------------+--------------------+ Ubuntu 20.04 ARM Kernel: 5.4.0-53-generic Compiler: gcc 9.3 Ubuntu 20.04 ARM cross-compilation Kernel: 5.4.0-72-generic Compiler: aarch64-linux-gnu-gcc (Ubuntu 9.3.0-17ubuntu1~20.04) 9.3.0 To view detailed results, visit: https://lab.dpdk.org/results/dashboard/patchsets/19357/ UNH-IOL DPDK Community Lab To manage your email subscriptions, visit: https://lab.dpdk.org/results/dashboard/preferences/subscriptions/
[-- Attachment #1: Type: text/plain, Size: 3867 bytes --] Test-Label: iol-intel-Performance Test-Status: SUCCESS http://dpdk.org/patch/101293 _Performance Testing PASS_ Submitter: Peng, ZhihongX <zhihongx.peng@intel.com> Date: Wednesday, October 13 2021 01:52:23 DPDK git baseline: Repo:dpdk Branch: master CommitID:2f3758751b157760ebb6fc51cd92841073bb115c 101294-101293 --> performance testing pass Test environment and result as below: Ubuntu 20.04 Kernel: 4.15.0-generic Compiler: gcc 7.4 NIC: Intel Corporation Ethernet Converged Network Adapter XL710-QDA2 40000 Mbps Target: x86_64-native-linuxapp-gcc Fail/Total: 0/4 Detail performance results: +------------+---------+----------+-------------+------------------------------+ | frame_size | txd/rxd | num_cpus | num_threads | throughput difference from | | | | | | expected | +============+=========+==========+=============+==============================+ | 64 | 512 | 1 | 1 | 0.5% | +------------+---------+----------+-------------+------------------------------+ | 64 | 2048 | 1 | 1 | -0.2% | +------------+---------+----------+-------------+------------------------------+ | 64 | 512 | 1 | 2 | -1.7% | +------------+---------+----------+-------------+------------------------------+ | 64 | 2048 | 1 | 2 | 3.2% | +------------+---------+----------+-------------+------------------------------+ Ubuntu 20.04 Kernel: 4.15.0-generic Compiler: gcc 7.4 NIC: Intel Corporation Ethernet Converged Network Adapter 82599ES 10000 Mbps Target: x86_64-native-linuxapp-gcc Fail/Total: 0/4 Detail performance results: +------------+---------+----------+-------------+------------------------------+ | frame_size | txd/rxd | num_cpus | num_threads | throughput difference from | | | | | | expected | +============+=========+==========+=============+==============================+ | 64 | 512 | 1 | 1 | -0.5% | +------------+---------+----------+-------------+------------------------------+ | 64 | 2048 | 1 | 1 | 0.1% | +------------+---------+----------+-------------+------------------------------+ | 64 | 512 | 1 | 2 | -0.2% | +------------+---------+----------+-------------+------------------------------+ | 64 | 2048 | 1 | 2 | 0.3% | +------------+---------+----------+-------------+------------------------------+ Ubuntu 20.04 ARM Kernel: 4.15.0-132-generic Compiler: gcc 7.5 NIC: Arm Intel Corporation Ethernet Converged Network Adapter XL710-QDA2 40000 Mbps Target: x86_64-native-linuxapp-gcc Fail/Total: 0/2 Detail performance results: +------------+---------+----------+-------------+------------------------------+ | frame_size | txd/rxd | num_cpus | num_threads | throughput difference from | | | | | | expected | +============+=========+==========+=============+==============================+ | 64 | 512 | 1 | 1 | -0.0% | +------------+---------+----------+-------------+------------------------------+ | 64 | 2048 | 1 | 1 | -0.0% | +------------+---------+----------+-------------+------------------------------+ To view detailed results, visit: https://lab.dpdk.org/results/dashboard/patchsets/19357/ UNH-IOL DPDK Community Lab To manage your email subscriptions, visit: https://lab.dpdk.org/results/dashboard/preferences/subscriptions/
[-- Attachment #1: Type: text/plain, Size: 1185 bytes --] Test-Label: iol-intel-Functional Test-Status: SUCCESS http://dpdk.org/patch/101293 _Functional Testing PASS_ Submitter: Peng, ZhihongX <zhihongx.peng@intel.com> Date: Wednesday, October 13 2021 01:52:23 DPDK git baseline: Repo:dpdk Branch: master CommitID:2f3758751b157760ebb6fc51cd92841073bb115c 101294-101293 --> functional testing pass Test environment and result as below: Ubuntu 20.04 Kernel: 4.15.0-generic Compiler: gcc 7.4 NIC: Intel Corporation Ethernet Converged Network Adapter 82599ES 10000 Mbps Target: x86_64-native-linuxapp-gcc Fail/Total: 0/2 Ubuntu 20.04 Kernel: 4.15.0-generic Compiler: gcc 7.4 NIC: Intel Corporation Ethernet Converged Network Adapter XL710-QDA2 40000 Mbps Target: x86_64-native-linuxapp-gcc Fail/Total: 0/2 Ubuntu 20.04 ARM Kernel: 4.15.0-132-generic Compiler: gcc 7.5 NIC: Arm Intel Corporation Ethernet Converged Network Adapter XL710-QDA2 40000 Mbps Target: x86_64-native-linuxapp-gcc Fail/Total: 0/2 To view detailed results, visit: https://lab.dpdk.org/results/dashboard/patchsets/19357/ UNH-IOL DPDK Community Lab To manage your email subscriptions, visit: https://lab.dpdk.org/results/dashboard/preferences/subscriptions/