automatic DPDK test reports
 help / color / mirror / Atom feed
* [dpdk-test-report] |SUCCESS| pw101486-101500 [PATCH] [v4, 15/15] test/crypto: add raw API support in 5G algos
@ 2021-10-13 23:14 dpdklab
  0 siblings, 0 replies; 13+ messages in thread
From: dpdklab @ 2021-10-13 23:14 UTC (permalink / raw)
  To: Ali Alnubani, Test Report; +Cc: dpdk-test-reports

[-- Attachment #1: Type: text/plain, Size: 3236 bytes --]

Test-Label: iol-mellanox-Performance
Test-Status: SUCCESS
http://dpdk.org/patch/101500

_Performance Testing PASS_

Submitter: Hemant Agrawal <hemant.agrawal@nxp.com>
Date: Wednesday, October 13 2021 19:00:32 
DPDK git baseline: Repo:dpdk
  Branch: master
  CommitID:2f3758751b157760ebb6fc51cd92841073bb115c

101486-101500 --> performance testing pass

Test environment and result as below:

Ubuntu 20.04
Kernel: 4.15.0-generic
Compiler: gcc 7.4
NIC: Mellanox ConnectX-4 Lx 25000 Mbps
Target: x86_64-native-linuxapp-gcc
Fail/Total: 0/5

Detail performance results: 
+------------+---------+----------+-------------+------------------------------+
| frame_size | txd/rxd | num_cpus | num_threads |  throughput difference from  |
|            |         |          |             |           expected           |
+============+=========+==========+=============+==============================+
| 64         | 256     | 1        | 1           | 0.5%                         |
+------------+---------+----------+-------------+------------------------------+
| 128        | 256     | 1        | 1           | 0.0%                         |
+------------+---------+----------+-------------+------------------------------+
| 1024       | 256     | 1        | 1           | 0.2%                         |
+------------+---------+----------+-------------+------------------------------+
| 256        | 256     | 1        | 1           | -0.7%                        |
+------------+---------+----------+-------------+------------------------------+
| 1518       | 256     | 1        | 1           | 0.1%                         |
+------------+---------+----------+-------------+------------------------------+

Ubuntu 20.04
Kernel: 4.15.0-generic
Compiler: gcc 7.4
NIC: Mellanox ConnectX-5 100000 Mbps
Target: x86_64-native-linuxapp-gcc
Fail/Total: 0/5

Detail performance results: 
+------------+---------+----------+-------------+------------------------------+
| frame_size | txd/rxd | num_cpus | num_threads |  throughput difference from  |
|            |         |          |             |           expected           |
+============+=========+==========+=============+==============================+
| 64         | 256     | 1        | 1           | -0.4%                        |
+------------+---------+----------+-------------+------------------------------+
| 128        | 256     | 1        | 1           | 0.2%                         |
+------------+---------+----------+-------------+------------------------------+
| 1024       | 256     | 1        | 1           | -0.3%                        |
+------------+---------+----------+-------------+------------------------------+
| 256        | 256     | 1        | 1           | -0.1%                        |
+------------+---------+----------+-------------+------------------------------+
| 1518       | 256     | 1        | 1           | 0.1%                         |
+------------+---------+----------+-------------+------------------------------+

To view detailed results, visit:
https://lab.dpdk.org/results/dashboard/patchsets/19390/

UNH-IOL DPDK Community Lab

To manage your email subscriptions, visit: 
https://lab.dpdk.org/results/dashboard/preferences/subscriptions/

^ permalink raw reply	[flat|nested] 13+ messages in thread
* [dpdk-test-report] |SUCCESS| pw101486-101500 [PATCH] [v4, 15/15] test/crypto: add raw API support in 5G algos
@ 2021-10-15 18:02 dpdklab
  0 siblings, 0 replies; 13+ messages in thread
From: dpdklab @ 2021-10-15 18:02 UTC (permalink / raw)
  To: Test Report; +Cc: dpdk-test-reports

[-- Attachment #1: Type: text/plain, Size: 1184 bytes --]

Test-Label: iol-intel-Functional
Test-Status: SUCCESS
http://dpdk.org/patch/101500

_Functional Testing PASS_

Submitter: Hemant Agrawal <hemant.agrawal@nxp.com>
Date: Wednesday, October 13 2021 19:00:32 
DPDK git baseline: Repo:dpdk
  Branch: master
  CommitID:2f3758751b157760ebb6fc51cd92841073bb115c

101486-101500 --> functional testing pass

Test environment and result as below:

Ubuntu 20.04
Kernel: 4.15.0-generic
Compiler: gcc 7.4
NIC: Intel Corporation Ethernet Converged Network Adapter 82599ES 10000 Mbps
Target: x86_64-native-linuxapp-gcc
Fail/Total: 0/2


Ubuntu 20.04
Kernel: 4.15.0-generic
Compiler: gcc 7.4
NIC: Intel Corporation Ethernet Converged Network Adapter XL710-QDA2 40000 Mbps
Target: x86_64-native-linuxapp-gcc
Fail/Total: 0/2


Ubuntu 20.04 ARM
Kernel: 4.15.0-132-generic
Compiler: gcc 7.5
NIC: Arm Intel Corporation Ethernet Converged Network Adapter XL710-QDA2 40000 Mbps
Target: x86_64-native-linuxapp-gcc
Fail/Total: 0/2


To view detailed results, visit:
https://lab.dpdk.org/results/dashboard/patchsets/19390/

UNH-IOL DPDK Community Lab

To manage your email subscriptions, visit: 
https://lab.dpdk.org/results/dashboard/preferences/subscriptions/

^ permalink raw reply	[flat|nested] 13+ messages in thread
* [dpdk-test-report] |SUCCESS| pw101486-101500 [PATCH] [v4, 15/15] test/crypto: add raw API support in 5G algos
@ 2021-10-15 17:31 dpdklab
  0 siblings, 0 replies; 13+ messages in thread
From: dpdklab @ 2021-10-15 17:31 UTC (permalink / raw)
  To: Test Report; +Cc: dpdk-test-reports

[-- Attachment #1: Type: text/plain, Size: 3866 bytes --]

Test-Label: iol-intel-Performance
Test-Status: SUCCESS
http://dpdk.org/patch/101500

_Performance Testing PASS_

Submitter: Hemant Agrawal <hemant.agrawal@nxp.com>
Date: Wednesday, October 13 2021 19:00:32 
DPDK git baseline: Repo:dpdk
  Branch: master
  CommitID:2f3758751b157760ebb6fc51cd92841073bb115c

101486-101500 --> performance testing pass

Test environment and result as below:

Ubuntu 20.04
Kernel: 4.15.0-generic
Compiler: gcc 7.4
NIC: Intel Corporation Ethernet Converged Network Adapter XL710-QDA2 40000 Mbps
Target: x86_64-native-linuxapp-gcc
Fail/Total: 0/4

Detail performance results: 
+------------+---------+----------+-------------+------------------------------+
| frame_size | txd/rxd | num_cpus | num_threads |  throughput difference from  |
|            |         |          |             |           expected           |
+============+=========+==========+=============+==============================+
| 64         | 512     | 1        | 1           | 0.1%                         |
+------------+---------+----------+-------------+------------------------------+
| 64         | 2048    | 1        | 1           | -0.7%                        |
+------------+---------+----------+-------------+------------------------------+
| 64         | 512     | 1        | 2           | -2.5%                        |
+------------+---------+----------+-------------+------------------------------+
| 64         | 2048    | 1        | 2           | 4.8%                         |
+------------+---------+----------+-------------+------------------------------+

Ubuntu 20.04
Kernel: 4.15.0-generic
Compiler: gcc 7.4
NIC: Intel Corporation Ethernet Converged Network Adapter 82599ES 10000 Mbps
Target: x86_64-native-linuxapp-gcc
Fail/Total: 0/4

Detail performance results: 
+------------+---------+----------+-------------+------------------------------+
| frame_size | txd/rxd | num_cpus | num_threads |  throughput difference from  |
|            |         |          |             |           expected           |
+============+=========+==========+=============+==============================+
| 64         | 512     | 1        | 1           | -0.2%                        |
+------------+---------+----------+-------------+------------------------------+
| 64         | 2048    | 1        | 1           | 0.0%                         |
+------------+---------+----------+-------------+------------------------------+
| 64         | 512     | 1        | 2           | -0.0%                        |
+------------+---------+----------+-------------+------------------------------+
| 64         | 2048    | 1        | 2           | 0.3%                         |
+------------+---------+----------+-------------+------------------------------+

Ubuntu 20.04 ARM
Kernel: 4.15.0-132-generic
Compiler: gcc 7.5
NIC: Arm Intel Corporation Ethernet Converged Network Adapter XL710-QDA2 40000 Mbps
Target: x86_64-native-linuxapp-gcc
Fail/Total: 0/2

Detail performance results: 
+------------+---------+----------+-------------+------------------------------+
| frame_size | txd/rxd | num_cpus | num_threads |  throughput difference from  |
|            |         |          |             |           expected           |
+============+=========+==========+=============+==============================+
| 64         | 512     | 1        | 1           | -0.1%                        |
+------------+---------+----------+-------------+------------------------------+
| 64         | 2048    | 1        | 1           | -0.1%                        |
+------------+---------+----------+-------------+------------------------------+

To view detailed results, visit:
https://lab.dpdk.org/results/dashboard/patchsets/19390/

UNH-IOL DPDK Community Lab

To manage your email subscriptions, visit: 
https://lab.dpdk.org/results/dashboard/preferences/subscriptions/

^ permalink raw reply	[flat|nested] 13+ messages in thread
* [dpdk-test-report] |SUCCESS| pw101486-101500 [PATCH] [v4, 15/15] test/crypto: add raw API support in 5G algos
@ 2021-10-15 12:47 dpdklab
  0 siblings, 0 replies; 13+ messages in thread
From: dpdklab @ 2021-10-15 12:47 UTC (permalink / raw)
  To: Test Report; +Cc: dpdklab

[-- Attachment #1: Type: text/plain, Size: 1216 bytes --]

Test-Label: iol-aarch64-compile-testing
Test-Status: SUCCESS
http://dpdk.org/patch/101500

_Testing PASS_

Submitter: Hemant Agrawal <hemant.agrawal@nxp.com>
Date: Wednesday, October 13 2021 19:00:32 
DPDK git baseline: Repo:dpdk
  Branch: master
  CommitID:2f3758751b157760ebb6fc51cd92841073bb115c

101486-101500 --> testing pass

Test environment and result as below:

+------------------------------------+--------------------+
|            Environment             | dpdk_meson_compile |
+====================================+====================+
| Ubuntu 20.04 ARM                   | PASS               |
+------------------------------------+--------------------+
| Ubuntu 20.04 ARM cross-compilation | PASS               |
+------------------------------------+--------------------+


Ubuntu 20.04 ARM
	Kernel: 5.4.0-53-generic
	Compiler: gcc 9.3

Ubuntu 20.04 ARM cross-compilation
	Kernel: 5.4.0-72-generic
	Compiler: aarch64-linux-gnu-gcc (Ubuntu 9.3.0-17ubuntu1~20.04) 9.3.0

To view detailed results, visit:
https://lab.dpdk.org/results/dashboard/patchsets/19390/

UNH-IOL DPDK Community Lab

To manage your email subscriptions, visit: 
https://lab.dpdk.org/results/dashboard/preferences/subscriptions/

^ permalink raw reply	[flat|nested] 13+ messages in thread
* [dpdk-test-report] |SUCCESS| pw101486-101500 [PATCH] [v4, 15/15] test/crypto: add raw API support in 5G algos
@ 2021-10-14  3:11 dpdklab
  0 siblings, 0 replies; 13+ messages in thread
From: dpdklab @ 2021-10-14  3:11 UTC (permalink / raw)
  To: Test Report; +Cc: dpdk-test-reports

[-- Attachment #1: Type: text/plain, Size: 851 bytes --]

Test-Label: iol-aarch64-unit-testing
Test-Status: SUCCESS
http://dpdk.org/patch/101500

_Testing PASS_

Submitter: Hemant Agrawal <hemant.agrawal@nxp.com>
Date: Wednesday, October 13 2021 19:00:32 
DPDK git baseline: Repo:dpdk
  Branch: master
  CommitID:2f3758751b157760ebb6fc51cd92841073bb115c

101486-101500 --> testing pass

Test environment and result as below:

+------------------+----------------+
|   Environment    | dpdk_unit_test |
+==================+================+
| Ubuntu 20.04 ARM | PASS           |
+------------------+----------------+


Ubuntu 20.04 ARM
	Kernel: 5.4.0-53-generic
	Compiler: gcc 9.3

To view detailed results, visit:
https://lab.dpdk.org/results/dashboard/patchsets/19390/

UNH-IOL DPDK Community Lab

To manage your email subscriptions, visit: 
https://lab.dpdk.org/results/dashboard/preferences/subscriptions/

^ permalink raw reply	[flat|nested] 13+ messages in thread
* [dpdk-test-report] |SUCCESS| pw101486-101500 [PATCH] [v4, 15/15] test/crypto: add raw API support in 5G algos
@ 2021-10-13 23:00 dpdklab
  0 siblings, 0 replies; 13+ messages in thread
From: dpdklab @ 2021-10-13 23:00 UTC (permalink / raw)
  To: Ali Alnubani, Test Report; +Cc: dpdk-test-reports

[-- Attachment #1: Type: text/plain, Size: 1929 bytes --]

Test-Label: iol-mellanox-Performance
Test-Status: SUCCESS
http://dpdk.org/patch/101500

_Performance Testing PASS_

Submitter: Hemant Agrawal <hemant.agrawal@nxp.com>
Date: Wednesday, October 13 2021 19:00:32 
DPDK git baseline: Repo:dpdk
  Branch: master
  CommitID:2f3758751b157760ebb6fc51cd92841073bb115c

101486-101500 --> performance testing pass

Test environment and result as below:

Ubuntu 20.04
Kernel: 4.15.0-generic
Compiler: gcc 7.4
NIC: Mellanox ConnectX-4 Lx 25000 Mbps
Target: x86_64-native-linuxapp-gcc
Fail/Total: 0/5

Detail performance results: 
+------------+---------+----------+-------------+------------------------------+
| frame_size | txd/rxd | num_cpus | num_threads |  throughput difference from  |
|            |         |          |             |           expected           |
+============+=========+==========+=============+==============================+
| 64         | 256     | 1        | 1           | 0.5%                         |
+------------+---------+----------+-------------+------------------------------+
| 128        | 256     | 1        | 1           | 0.0%                         |
+------------+---------+----------+-------------+------------------------------+
| 1024       | 256     | 1        | 1           | 0.2%                         |
+------------+---------+----------+-------------+------------------------------+
| 256        | 256     | 1        | 1           | -0.7%                        |
+------------+---------+----------+-------------+------------------------------+
| 1518       | 256     | 1        | 1           | 0.1%                         |
+------------+---------+----------+-------------+------------------------------+

To view detailed results, visit:
https://lab.dpdk.org/results/dashboard/patchsets/19390/

UNH-IOL DPDK Community Lab

To manage your email subscriptions, visit: 
https://lab.dpdk.org/results/dashboard/preferences/subscriptions/

^ permalink raw reply	[flat|nested] 13+ messages in thread
* [dpdk-test-report] |SUCCESS| pw101486-101500 [PATCH] [v4, 15/15] test/crypto: add raw API support in 5G algos
@ 2021-10-13 20:27 dpdklab
  0 siblings, 0 replies; 13+ messages in thread
From: dpdklab @ 2021-10-13 20:27 UTC (permalink / raw)
  To: Test Report; +Cc: dpdklab

[-- Attachment #1: Type: text/plain, Size: 2793 bytes --]

Test-Label: iol-x86_64-unit-testing
Test-Status: SUCCESS
http://dpdk.org/patch/101500

_Testing PASS_

Submitter: Hemant Agrawal <hemant.agrawal@nxp.com>
Date: Wednesday, October 13 2021 19:00:32 
DPDK git baseline: Repo:dpdk
  Branch: master
  CommitID:2f3758751b157760ebb6fc51cd92841073bb115c

101486-101500 --> testing pass

Test environment and result as below:

+------------------+----------------+
|   Environment    | dpdk_unit_test |
+==================+================+
| Ubuntu 18.04     | PASS           |
+------------------+----------------+
| Arch Linux       | PASS           |
+------------------+----------------+
| CentOS 8         | PASS           |
+------------------+----------------+
| CentOS Stream 8  | PASS           |
+------------------+----------------+
| Fedora 31        | PASS           |
+------------------+----------------+
| Fedora 32        | PASS           |
+------------------+----------------+
| openSUSE Leap 15 | PASS           |
+------------------+----------------+
| RHEL 7           | PASS           |
+------------------+----------------+
| RHEL8            | PASS           |
+------------------+----------------+
| Fedora 34        | PASS           |
+------------------+----------------+
| Ubuntu 20.04     | PASS           |
+------------------+----------------+
| Fedora 33        | PASS           |
+------------------+----------------+
| Fedora 34 clang  | PASS           |
+------------------+----------------+


Ubuntu 18.04
	Kernel: 4.18.0-240.10.1.el8_3.x86_64
	Compiler: gcc 7.5.0-3ubuntu1~18.04

Arch Linux
	Kernel: 5.4.0-73-generic
	Compiler: gcc 11.1.0

CentOS 8
	Kernel: 4.18.0-240.10.1.el8_3.x86_64
	Compiler: gcc 8.3.1 20191121 (Red Hat 8.3.1-5)

CentOS Stream 8
	Kernel: 4.18.0-240.10.1.el8_3.x86_64
	Compiler: gcc 8.4.1 20200928

Fedora 31
	Kernel: 4.18.0-240.10.1.el8_3.x86_64
	Compiler: gcc 9.3.1

Fedora 32
	Kernel: 4.18.0-240.10.1.el8_3.x86_64
	Compiler: gcc 10.2.1

openSUSE Leap 15
	Kernel: 4.18.0-240.10.1.el8_3.x86_64
	Compiler: gcc 7.5.0

RHEL 7
	Kernel: 4.18.0-240.10.1.el8_3.x86_64
	Compiler: gcc 4.8.5 20150623 (Red Hat 4.8.5-44)

RHEL8
	Kernel: 4.18.0-240.10.1.el8_3.x86_64
	Compiler: gcc 8.3.1 20191121 (Red Hat 8.3.1-5)

Fedora 34
	Kernel: 5.4.0-72-generic
	Compiler: gcc 11.1.1 20210428 (Red Hat 11.1.1-1)

Ubuntu 20.04
	Kernel: 4.18.0-240.10.1.el8_3.x86_64
	Compiler: gcc 9.3.0-17ubuntu1~20.04

Fedora 33
	Kernel: 5.4.0-72-generic
	Compiler: gcc 10.3.1 20210422 (Red Hat 10.3.1-1)

Fedora 34 clang
	Kernel: 5.4.0-72-generic
	Compiler: clang 12.0.0 (Fedora 12.0.0-0.3.rc1.fc34)

To view detailed results, visit:
https://lab.dpdk.org/results/dashboard/patchsets/19390/

UNH-IOL DPDK Community Lab

To manage your email subscriptions, visit: 
https://lab.dpdk.org/results/dashboard/preferences/subscriptions/

^ permalink raw reply	[flat|nested] 13+ messages in thread
* [dpdk-test-report] |SUCCESS| pw101486-101500 [PATCH] [v4, 15/15] test/crypto: add raw API support in 5G algos
@ 2021-10-13 20:02 dpdklab
  0 siblings, 0 replies; 13+ messages in thread
From: dpdklab @ 2021-10-13 20:02 UTC (permalink / raw)
  To: Test Report; +Cc: dpdk-test-reports

[-- Attachment #1: Type: text/plain, Size: 2990 bytes --]

Test-Label: iol-intel-Performance
Test-Status: SUCCESS
http://dpdk.org/patch/101500

_Performance Testing PASS_

Submitter: Hemant Agrawal <hemant.agrawal@nxp.com>
Date: Wednesday, October 13 2021 19:00:32 
DPDK git baseline: Repo:dpdk
  Branch: master
  CommitID:2f3758751b157760ebb6fc51cd92841073bb115c

101486-101500 --> performance testing pass

Test environment and result as below:

Ubuntu 20.04
Kernel: 4.15.0-generic
Compiler: gcc 7.4
NIC: Intel Corporation Ethernet Converged Network Adapter XL710-QDA2 40000 Mbps
Target: x86_64-native-linuxapp-gcc
Fail/Total: 0/4

Detail performance results: 
+------------+---------+----------+-------------+------------------------------+
| frame_size | txd/rxd | num_cpus | num_threads |  throughput difference from  |
|            |         |          |             |           expected           |
+============+=========+==========+=============+==============================+
| 64         | 512     | 1        | 1           | 0.1%                         |
+------------+---------+----------+-------------+------------------------------+
| 64         | 2048    | 1        | 1           | -0.7%                        |
+------------+---------+----------+-------------+------------------------------+
| 64         | 512     | 1        | 2           | -2.5%                        |
+------------+---------+----------+-------------+------------------------------+
| 64         | 2048    | 1        | 2           | 4.8%                         |
+------------+---------+----------+-------------+------------------------------+

Ubuntu 20.04
Kernel: 4.15.0-generic
Compiler: gcc 7.4
NIC: Intel Corporation Ethernet Converged Network Adapter 82599ES 10000 Mbps
Target: x86_64-native-linuxapp-gcc
Fail/Total: 0/4

Detail performance results: 
+------------+---------+----------+-------------+------------------------------+
| frame_size | txd/rxd | num_cpus | num_threads |  throughput difference from  |
|            |         |          |             |           expected           |
+============+=========+==========+=============+==============================+
| 64         | 512     | 1        | 1           | -0.2%                        |
+------------+---------+----------+-------------+------------------------------+
| 64         | 2048    | 1        | 1           | 0.0%                         |
+------------+---------+----------+-------------+------------------------------+
| 64         | 512     | 1        | 2           | -0.0%                        |
+------------+---------+----------+-------------+------------------------------+
| 64         | 2048    | 1        | 2           | 0.3%                         |
+------------+---------+----------+-------------+------------------------------+

To view detailed results, visit:
https://lab.dpdk.org/results/dashboard/patchsets/19390/

UNH-IOL DPDK Community Lab

To manage your email subscriptions, visit: 
https://lab.dpdk.org/results/dashboard/preferences/subscriptions/

^ permalink raw reply	[flat|nested] 13+ messages in thread
* [dpdk-test-report] |SUCCESS| pw101486-101500 [PATCH] [v4, 15/15] test/crypto: add raw API support in 5G algos
@ 2021-10-13 19:58 dpdklab
  0 siblings, 0 replies; 13+ messages in thread
From: dpdklab @ 2021-10-13 19:58 UTC (permalink / raw)
  To: Test Report; +Cc: dpdk-test-reports

[-- Attachment #1: Type: text/plain, Size: 985 bytes --]

Test-Label: iol-intel-Functional
Test-Status: SUCCESS
http://dpdk.org/patch/101500

_Functional Testing PASS_

Submitter: Hemant Agrawal <hemant.agrawal@nxp.com>
Date: Wednesday, October 13 2021 19:00:32 
DPDK git baseline: Repo:dpdk
  Branch: master
  CommitID:2f3758751b157760ebb6fc51cd92841073bb115c

101486-101500 --> functional testing pass

Test environment and result as below:

Ubuntu 20.04
Kernel: 4.15.0-generic
Compiler: gcc 7.4
NIC: Intel Corporation Ethernet Converged Network Adapter 82599ES 10000 Mbps
Target: x86_64-native-linuxapp-gcc
Fail/Total: 0/2


Ubuntu 20.04
Kernel: 4.15.0-generic
Compiler: gcc 7.4
NIC: Intel Corporation Ethernet Converged Network Adapter XL710-QDA2 40000 Mbps
Target: x86_64-native-linuxapp-gcc
Fail/Total: 0/2


To view detailed results, visit:
https://lab.dpdk.org/results/dashboard/patchsets/19390/

UNH-IOL DPDK Community Lab

To manage your email subscriptions, visit: 
https://lab.dpdk.org/results/dashboard/preferences/subscriptions/

^ permalink raw reply	[flat|nested] 13+ messages in thread
* [dpdk-test-report] |SUCCESS| pw101486-101500 [PATCH] [v4, 15/15] test/crypto: add raw API support in 5G algos
@ 2021-10-13 19:57 dpdklab
  0 siblings, 0 replies; 13+ messages in thread
From: dpdklab @ 2021-10-13 19:57 UTC (permalink / raw)
  To: Ajit Khaparde, Test Report; +Cc: dpdk-test-reports

[-- Attachment #1: Type: text/plain, Size: 1810 bytes --]

Test-Label: iol-broadcom-Performance
Test-Status: SUCCESS
http://dpdk.org/patch/101500

_Performance Testing PASS_

Submitter: Hemant Agrawal <hemant.agrawal@nxp.com>
Date: Wednesday, October 13 2021 19:00:32 
DPDK git baseline: Repo:dpdk
  Branch: master
  CommitID:2f3758751b157760ebb6fc51cd92841073bb115c

101486-101500 --> performance testing pass

Test environment and result as below:

Ubuntu 20.04
Kernel: 4.15.0-65-generic
Compiler: gcc gcc (Ubuntu 7.4.0-1ubuntu1~18.04.1) 7.4.0
NIC: Broadcom Inc. brcm_57414 25000 Mbps
Target: x86_64-native-linuxapp-gcc
Fail/Total: 0/4

Detail performance results: 
+----------+-------------+---------+------------+------------------------------+
| num_cpus | num_threads | txd/rxd | frame_size |  throughput difference from  |
|          |             |         |            |           expected           |
+==========+=============+=========+============+==============================+
| 1        | 2           | 512     | 64         | 0.1%                         |
+----------+-------------+---------+------------+------------------------------+
| 1        | 2           | 2048    | 64         | 0.0%                         |
+----------+-------------+---------+------------+------------------------------+
| 1        | 1           | 512     | 64         | 0.1%                         |
+----------+-------------+---------+------------+------------------------------+
| 1        | 1           | 2048    | 64         | 0.1%                         |
+----------+-------------+---------+------------+------------------------------+

To view detailed results, visit:
https://lab.dpdk.org/results/dashboard/patchsets/19390/

UNH-IOL DPDK Community Lab

To manage your email subscriptions, visit: 
https://lab.dpdk.org/results/dashboard/preferences/subscriptions/

^ permalink raw reply	[flat|nested] 13+ messages in thread
* [dpdk-test-report] |SUCCESS| pw101486-101500 [PATCH] [v4, 15/15] test/crypto: add raw API support in 5G algos
@ 2021-10-13 19:53 dpdklab
  0 siblings, 0 replies; 13+ messages in thread
From: dpdklab @ 2021-10-13 19:53 UTC (permalink / raw)
  To: Test Report; +Cc: dpdk-test-reports

[-- Attachment #1: Type: text/plain, Size: 1805 bytes --]

Test-Label: iol-intel-Performance
Test-Status: SUCCESS
http://dpdk.org/patch/101500

_Performance Testing PASS_

Submitter: Hemant Agrawal <hemant.agrawal@nxp.com>
Date: Wednesday, October 13 2021 19:00:32 
DPDK git baseline: Repo:dpdk
  Branch: master
  CommitID:2f3758751b157760ebb6fc51cd92841073bb115c

101486-101500 --> performance testing pass

Test environment and result as below:

Ubuntu 20.04
Kernel: 4.15.0-generic
Compiler: gcc 7.4
NIC: Intel Corporation Ethernet Converged Network Adapter XL710-QDA2 40000 Mbps
Target: x86_64-native-linuxapp-gcc
Fail/Total: 0/4

Detail performance results: 
+------------+---------+----------+-------------+------------------------------+
| frame_size | txd/rxd | num_cpus | num_threads |  throughput difference from  |
|            |         |          |             |           expected           |
+============+=========+==========+=============+==============================+
| 64         | 512     | 1        | 1           | 0.1%                         |
+------------+---------+----------+-------------+------------------------------+
| 64         | 2048    | 1        | 1           | -0.7%                        |
+------------+---------+----------+-------------+------------------------------+
| 64         | 512     | 1        | 2           | -2.5%                        |
+------------+---------+----------+-------------+------------------------------+
| 64         | 2048    | 1        | 2           | 4.8%                         |
+------------+---------+----------+-------------+------------------------------+

To view detailed results, visit:
https://lab.dpdk.org/results/dashboard/patchsets/19390/

UNH-IOL DPDK Community Lab

To manage your email subscriptions, visit: 
https://lab.dpdk.org/results/dashboard/preferences/subscriptions/

^ permalink raw reply	[flat|nested] 13+ messages in thread
* [dpdk-test-report] |SUCCESS| pw101486-101500 [PATCH] [v4, 15/15] test/crypto: add raw API support in 5G algos
@ 2021-10-13 19:45 dpdklab
  0 siblings, 0 replies; 13+ messages in thread
From: dpdklab @ 2021-10-13 19:45 UTC (permalink / raw)
  To: Ajit Khaparde, Test Report; +Cc: dpdk-test-reports

[-- Attachment #1: Type: text/plain, Size: 806 bytes --]

Test-Label: iol-broadcom-Functional
Test-Status: SUCCESS
http://dpdk.org/patch/101500

_Functional Testing PASS_

Submitter: Hemant Agrawal <hemant.agrawal@nxp.com>
Date: Wednesday, October 13 2021 19:00:32 
DPDK git baseline: Repo:dpdk
  Branch: master
  CommitID:2f3758751b157760ebb6fc51cd92841073bb115c

101486-101500 --> functional testing pass

Test environment and result as below:

Ubuntu 20.04
Kernel: 4.15.0-65-generic
Compiler: gcc gcc (Ubuntu 7.4.0-1ubuntu1~18.04.1) 7.4.0
NIC: Broadcom Inc. brcm_57414 25000 Mbps
Target: x86_64-native-linuxapp-gcc
Fail/Total: 0/3


To view detailed results, visit:
https://lab.dpdk.org/results/dashboard/patchsets/19390/

UNH-IOL DPDK Community Lab

To manage your email subscriptions, visit: 
https://lab.dpdk.org/results/dashboard/preferences/subscriptions/

^ permalink raw reply	[flat|nested] 13+ messages in thread
* [dpdk-test-report] |SUCCESS| pw101486-101500 [PATCH] [v4, 15/15] test/crypto: add raw API support in 5G algos
@ 2021-10-13 19:44 dpdklab
  0 siblings, 0 replies; 13+ messages in thread
From: dpdklab @ 2021-10-13 19:44 UTC (permalink / raw)
  To: Test Report; +Cc: dpdk-test-reports

[-- Attachment #1: Type: text/plain, Size: 798 bytes --]

Test-Label: iol-intel-Functional
Test-Status: SUCCESS
http://dpdk.org/patch/101500

_Functional Testing PASS_

Submitter: Hemant Agrawal <hemant.agrawal@nxp.com>
Date: Wednesday, October 13 2021 19:00:32 
DPDK git baseline: Repo:dpdk
  Branch: master
  CommitID:2f3758751b157760ebb6fc51cd92841073bb115c

101486-101500 --> functional testing pass

Test environment and result as below:

Ubuntu 20.04
Kernel: 4.15.0-generic
Compiler: gcc 7.4
NIC: Intel Corporation Ethernet Converged Network Adapter 82599ES 10000 Mbps
Target: x86_64-native-linuxapp-gcc
Fail/Total: 0/2


To view detailed results, visit:
https://lab.dpdk.org/results/dashboard/patchsets/19390/

UNH-IOL DPDK Community Lab

To manage your email subscriptions, visit: 
https://lab.dpdk.org/results/dashboard/preferences/subscriptions/

^ permalink raw reply	[flat|nested] 13+ messages in thread

end of thread, other threads:[~2021-10-15 18:03 UTC | newest]

Thread overview: 13+ messages (download: mbox.gz / follow: Atom feed)
-- links below jump to the message on this page --
2021-10-13 23:14 [dpdk-test-report] |SUCCESS| pw101486-101500 [PATCH] [v4, 15/15] test/crypto: add raw API support in 5G algos dpdklab
  -- strict thread matches above, loose matches on Subject: below --
2021-10-15 18:02 dpdklab
2021-10-15 17:31 dpdklab
2021-10-15 12:47 dpdklab
2021-10-14  3:11 dpdklab
2021-10-13 23:00 dpdklab
2021-10-13 20:27 dpdklab
2021-10-13 20:02 dpdklab
2021-10-13 19:58 dpdklab
2021-10-13 19:57 dpdklab
2021-10-13 19:53 dpdklab
2021-10-13 19:45 dpdklab
2021-10-13 19:44 dpdklab

automatic DPDK test reports

This inbox may be cloned and mirrored by anyone:

	git clone --mirror http://inbox.dpdk.org/test-report/0 test-report/git/0.git

	# If you have public-inbox 1.1+ installed, you may
	# initialize and index your mirror using the following commands:
	public-inbox-init -V2 test-report test-report/ http://inbox.dpdk.org/test-report \
		test-report@dpdk.org
	public-inbox-index test-report

Example config snippet for mirrors.
Newsgroup available over NNTP:
	nntp://inbox.dpdk.org/inbox.dpdk.test-report


AGPL code for this site: git clone https://public-inbox.org/public-inbox.git