automatic DPDK test reports
 help / color / mirror / Atom feed
* [dpdk-test-report] |SUCCESS| pw101510 [PATCH] [v2] app/test-eventdev: add burst enqueue support
@ 2021-10-14  1:01 dpdklab
  0 siblings, 0 replies; 15+ messages in thread
From: dpdklab @ 2021-10-14  1:01 UTC (permalink / raw)
  To: Ali Alnubani, Test Report; +Cc: dpdk-test-reports

[-- Attachment #1: Type: text/plain, Size: 1922 bytes --]

Test-Label: iol-mellanox-Performance
Test-Status: SUCCESS
http://dpdk.org/patch/101510

_Performance Testing PASS_

Submitter: Rashmi Shetty <rashmi.shetty@intel.com>
Date: Wednesday, October 13 2021 20:16:02 
DPDK git baseline: Repo:dpdk
  Branch: master
  CommitID:2f3758751b157760ebb6fc51cd92841073bb115c

101510 --> performance testing pass

Test environment and result as below:

Ubuntu 20.04
Kernel: 4.15.0-generic
Compiler: gcc 7.4
NIC: Mellanox ConnectX-4 Lx 25000 Mbps
Target: x86_64-native-linuxapp-gcc
Fail/Total: 0/5

Detail performance results: 
+------------+---------+----------+-------------+------------------------------+
| frame_size | txd/rxd | num_cpus | num_threads |  throughput difference from  |
|            |         |          |             |           expected           |
+============+=========+==========+=============+==============================+
| 64         | 256     | 1        | 1           | -0.1%                        |
+------------+---------+----------+-------------+------------------------------+
| 128        | 256     | 1        | 1           | -0.1%                        |
+------------+---------+----------+-------------+------------------------------+
| 1024       | 256     | 1        | 1           | 0.2%                         |
+------------+---------+----------+-------------+------------------------------+
| 256        | 256     | 1        | 1           | -0.8%                        |
+------------+---------+----------+-------------+------------------------------+
| 1518       | 256     | 1        | 1           | 0.1%                         |
+------------+---------+----------+-------------+------------------------------+

To view detailed results, visit:
https://lab.dpdk.org/results/dashboard/patchsets/19393/

UNH-IOL DPDK Community Lab

To manage your email subscriptions, visit: 
https://lab.dpdk.org/results/dashboard/preferences/subscriptions/

^ permalink raw reply	[flat|nested] 15+ messages in thread

* [dpdk-test-report] |SUCCESS| pw101510 [PATCH] [v2] app/test-eventdev: add burst enqueue support
@ 2021-10-15 22:12 dpdklab
  0 siblings, 0 replies; 15+ messages in thread
From: dpdklab @ 2021-10-15 22:12 UTC (permalink / raw)
  To: Test Report; +Cc: dpdk-test-reports

[-- Attachment #1: Type: text/plain, Size: 1177 bytes --]

Test-Label: iol-intel-Functional
Test-Status: SUCCESS
http://dpdk.org/patch/101510

_Functional Testing PASS_

Submitter: Rashmi Shetty <rashmi.shetty@intel.com>
Date: Wednesday, October 13 2021 20:16:02 
DPDK git baseline: Repo:dpdk
  Branch: master
  CommitID:2f3758751b157760ebb6fc51cd92841073bb115c

101510 --> functional testing pass

Test environment and result as below:

Ubuntu 20.04
Kernel: 4.15.0-generic
Compiler: gcc 7.4
NIC: Intel Corporation Ethernet Converged Network Adapter 82599ES 10000 Mbps
Target: x86_64-native-linuxapp-gcc
Fail/Total: 0/2


Ubuntu 20.04
Kernel: 4.15.0-generic
Compiler: gcc 7.4
NIC: Intel Corporation Ethernet Converged Network Adapter XL710-QDA2 40000 Mbps
Target: x86_64-native-linuxapp-gcc
Fail/Total: 0/2


Ubuntu 20.04 ARM
Kernel: 4.15.0-132-generic
Compiler: gcc 7.5
NIC: Arm Intel Corporation Ethernet Converged Network Adapter XL710-QDA2 40000 Mbps
Target: x86_64-native-linuxapp-gcc
Fail/Total: 0/2


To view detailed results, visit:
https://lab.dpdk.org/results/dashboard/patchsets/19393/

UNH-IOL DPDK Community Lab

To manage your email subscriptions, visit: 
https://lab.dpdk.org/results/dashboard/preferences/subscriptions/

^ permalink raw reply	[flat|nested] 15+ messages in thread

* [dpdk-test-report] |SUCCESS| pw101510 [PATCH] [v2] app/test-eventdev: add burst enqueue support
@ 2021-10-15 21:33 dpdklab
  0 siblings, 0 replies; 15+ messages in thread
From: dpdklab @ 2021-10-15 21:33 UTC (permalink / raw)
  To: Test Report; +Cc: dpdk-test-reports

[-- Attachment #1: Type: text/plain, Size: 3859 bytes --]

Test-Label: iol-intel-Performance
Test-Status: SUCCESS
http://dpdk.org/patch/101510

_Performance Testing PASS_

Submitter: Rashmi Shetty <rashmi.shetty@intel.com>
Date: Wednesday, October 13 2021 20:16:02 
DPDK git baseline: Repo:dpdk
  Branch: master
  CommitID:2f3758751b157760ebb6fc51cd92841073bb115c

101510 --> performance testing pass

Test environment and result as below:

Ubuntu 20.04
Kernel: 4.15.0-generic
Compiler: gcc 7.4
NIC: Intel Corporation Ethernet Converged Network Adapter XL710-QDA2 40000 Mbps
Target: x86_64-native-linuxapp-gcc
Fail/Total: 0/4

Detail performance results: 
+------------+---------+----------+-------------+------------------------------+
| frame_size | txd/rxd | num_cpus | num_threads |  throughput difference from  |
|            |         |          |             |           expected           |
+============+=========+==========+=============+==============================+
| 64         | 512     | 1        | 1           | 0.4%                         |
+------------+---------+----------+-------------+------------------------------+
| 64         | 2048    | 1        | 1           | 0.0%                         |
+------------+---------+----------+-------------+------------------------------+
| 64         | 512     | 1        | 2           | -4.9%                        |
+------------+---------+----------+-------------+------------------------------+
| 64         | 2048    | 1        | 2           | 3.1%                         |
+------------+---------+----------+-------------+------------------------------+

Ubuntu 20.04
Kernel: 4.15.0-generic
Compiler: gcc 7.4
NIC: Intel Corporation Ethernet Converged Network Adapter 82599ES 10000 Mbps
Target: x86_64-native-linuxapp-gcc
Fail/Total: 0/4

Detail performance results: 
+------------+---------+----------+-------------+------------------------------+
| frame_size | txd/rxd | num_cpus | num_threads |  throughput difference from  |
|            |         |          |             |           expected           |
+============+=========+==========+=============+==============================+
| 64         | 512     | 1        | 1           | -0.1%                        |
+------------+---------+----------+-------------+------------------------------+
| 64         | 2048    | 1        | 1           | -0.4%                        |
+------------+---------+----------+-------------+------------------------------+
| 64         | 512     | 1        | 2           | -0.0%                        |
+------------+---------+----------+-------------+------------------------------+
| 64         | 2048    | 1        | 2           | 0.1%                         |
+------------+---------+----------+-------------+------------------------------+

Ubuntu 20.04 ARM
Kernel: 4.15.0-132-generic
Compiler: gcc 7.5
NIC: Arm Intel Corporation Ethernet Converged Network Adapter XL710-QDA2 40000 Mbps
Target: x86_64-native-linuxapp-gcc
Fail/Total: 0/2

Detail performance results: 
+------------+---------+----------+-------------+------------------------------+
| frame_size | txd/rxd | num_cpus | num_threads |  throughput difference from  |
|            |         |          |             |           expected           |
+============+=========+==========+=============+==============================+
| 64         | 512     | 1        | 1           | -0.0%                        |
+------------+---------+----------+-------------+------------------------------+
| 64         | 2048    | 1        | 1           | 0.1%                         |
+------------+---------+----------+-------------+------------------------------+

To view detailed results, visit:
https://lab.dpdk.org/results/dashboard/patchsets/19393/

UNH-IOL DPDK Community Lab

To manage your email subscriptions, visit: 
https://lab.dpdk.org/results/dashboard/preferences/subscriptions/

^ permalink raw reply	[flat|nested] 15+ messages in thread

* [dpdk-test-report] |SUCCESS| pw101510 [PATCH] [v2] app/test-eventdev: add burst enqueue support
@ 2021-10-15 13:03 dpdklab
  0 siblings, 0 replies; 15+ messages in thread
From: dpdklab @ 2021-10-15 13:03 UTC (permalink / raw)
  To: Test Report; +Cc: dpdklab

[-- Attachment #1: Type: text/plain, Size: 1209 bytes --]

Test-Label: iol-aarch64-compile-testing
Test-Status: SUCCESS
http://dpdk.org/patch/101510

_Testing PASS_

Submitter: Rashmi Shetty <rashmi.shetty@intel.com>
Date: Wednesday, October 13 2021 20:16:02 
DPDK git baseline: Repo:dpdk
  Branch: master
  CommitID:2f3758751b157760ebb6fc51cd92841073bb115c

101510 --> testing pass

Test environment and result as below:

+------------------------------------+--------------------+
|            Environment             | dpdk_meson_compile |
+====================================+====================+
| Ubuntu 20.04 ARM                   | PASS               |
+------------------------------------+--------------------+
| Ubuntu 20.04 ARM cross-compilation | PASS               |
+------------------------------------+--------------------+


Ubuntu 20.04 ARM
	Kernel: 5.4.0-53-generic
	Compiler: gcc 9.3

Ubuntu 20.04 ARM cross-compilation
	Kernel: 5.4.0-72-generic
	Compiler: aarch64-linux-gnu-gcc (Ubuntu 9.3.0-17ubuntu1~20.04) 9.3.0

To view detailed results, visit:
https://lab.dpdk.org/results/dashboard/patchsets/19393/

UNH-IOL DPDK Community Lab

To manage your email subscriptions, visit: 
https://lab.dpdk.org/results/dashboard/preferences/subscriptions/

^ permalink raw reply	[flat|nested] 15+ messages in thread

* [dpdk-test-report] |SUCCESS| pw101510 [PATCH] [v2] app/test-eventdev: add burst enqueue support
@ 2021-10-14  5:43 dpdklab
  0 siblings, 0 replies; 15+ messages in thread
From: dpdklab @ 2021-10-14  5:43 UTC (permalink / raw)
  To: Test Report; +Cc: dpdk-test-reports

[-- Attachment #1: Type: text/plain, Size: 844 bytes --]

Test-Label: iol-aarch64-unit-testing
Test-Status: SUCCESS
http://dpdk.org/patch/101510

_Testing PASS_

Submitter: Rashmi Shetty <rashmi.shetty@intel.com>
Date: Wednesday, October 13 2021 20:16:02 
DPDK git baseline: Repo:dpdk
  Branch: master
  CommitID:2f3758751b157760ebb6fc51cd92841073bb115c

101510 --> testing pass

Test environment and result as below:

+------------------+----------------+
|   Environment    | dpdk_unit_test |
+==================+================+
| Ubuntu 20.04 ARM | PASS           |
+------------------+----------------+


Ubuntu 20.04 ARM
	Kernel: 5.4.0-53-generic
	Compiler: gcc 9.3

To view detailed results, visit:
https://lab.dpdk.org/results/dashboard/patchsets/19393/

UNH-IOL DPDK Community Lab

To manage your email subscriptions, visit: 
https://lab.dpdk.org/results/dashboard/preferences/subscriptions/

^ permalink raw reply	[flat|nested] 15+ messages in thread

* [dpdk-test-report] |SUCCESS| pw101510 [PATCH] [v2] app/test-eventdev: add burst enqueue support
@ 2021-10-14  1:28 dpdklab
  0 siblings, 0 replies; 15+ messages in thread
From: dpdklab @ 2021-10-14  1:28 UTC (permalink / raw)
  To: Ali Alnubani, Test Report; +Cc: dpdk-test-reports

[-- Attachment #1: Type: text/plain, Size: 4538 bytes --]

Test-Label: iol-mellanox-Performance
Test-Status: SUCCESS
http://dpdk.org/patch/101510

_Performance Testing PASS_

Submitter: Rashmi Shetty <rashmi.shetty@intel.com>
Date: Wednesday, October 13 2021 20:16:02 
DPDK git baseline: Repo:dpdk
  Branch: master
  CommitID:2f3758751b157760ebb6fc51cd92841073bb115c

101510 --> performance testing pass

Test environment and result as below:

Ubuntu 20.04
Kernel: 4.15.0-generic
Compiler: gcc 7.4
NIC: Mellanox ConnectX-4 Lx 25000 Mbps
Target: x86_64-native-linuxapp-gcc
Fail/Total: 0/5

Detail performance results: 
+------------+---------+----------+-------------+------------------------------+
| frame_size | txd/rxd | num_cpus | num_threads |  throughput difference from  |
|            |         |          |             |           expected           |
+============+=========+==========+=============+==============================+
| 64         | 256     | 1        | 1           | -0.1%                        |
+------------+---------+----------+-------------+------------------------------+
| 128        | 256     | 1        | 1           | -0.1%                        |
+------------+---------+----------+-------------+------------------------------+
| 1024       | 256     | 1        | 1           | 0.2%                         |
+------------+---------+----------+-------------+------------------------------+
| 256        | 256     | 1        | 1           | -0.8%                        |
+------------+---------+----------+-------------+------------------------------+
| 1518       | 256     | 1        | 1           | 0.1%                         |
+------------+---------+----------+-------------+------------------------------+

Ubuntu 20.04
Kernel: 4.15.0-generic
Compiler: gcc 7.4
NIC: Mellanox ConnectX-5 100000 Mbps
Target: x86_64-native-linuxapp-gcc
Fail/Total: 0/5

Detail performance results: 
+------------+---------+----------+-------------+------------------------------+
| frame_size | txd/rxd | num_cpus | num_threads |  throughput difference from  |
|            |         |          |             |           expected           |
+============+=========+==========+=============+==============================+
| 64         | 256     | 1        | 1           | -0.2%                        |
+------------+---------+----------+-------------+------------------------------+
| 128        | 256     | 1        | 1           | 0.1%                         |
+------------+---------+----------+-------------+------------------------------+
| 1024       | 256     | 1        | 1           | -0.3%                        |
+------------+---------+----------+-------------+------------------------------+
| 256        | 256     | 1        | 1           | -0.2%                        |
+------------+---------+----------+-------------+------------------------------+
| 1518       | 256     | 1        | 1           | 0.1%                         |
+------------+---------+----------+-------------+------------------------------+

Ubuntu 20.04
Kernel: 4.15.0-generic
Compiler: gcc 7.4
NIC: Mellanox ConnectX-4 Lx 40000 Mbps
Target: x86_64-native-linuxapp-gcc
Fail/Total: 0/5

Detail performance results: 
+------------+---------+----------+-------------+------------------------------+
| frame_size | txd/rxd | num_cpus | num_threads |  throughput difference from  |
|            |         |          |             |           expected           |
+============+=========+==========+=============+==============================+
| 64         | 256     | 1        | 1           | -0.7%                        |
+------------+---------+----------+-------------+------------------------------+
| 128        | 256     | 1        | 1           | -0.6%                        |
+------------+---------+----------+-------------+------------------------------+
| 1024       | 256     | 1        | 1           | 0.0%                         |
+------------+---------+----------+-------------+------------------------------+
| 256        | 256     | 1        | 1           | -0.0%                        |
+------------+---------+----------+-------------+------------------------------+
| 1518       | 256     | 1        | 1           | 0.0%                         |
+------------+---------+----------+-------------+------------------------------+

To view detailed results, visit:
https://lab.dpdk.org/results/dashboard/patchsets/19393/

UNH-IOL DPDK Community Lab

To manage your email subscriptions, visit: 
https://lab.dpdk.org/results/dashboard/preferences/subscriptions/

^ permalink raw reply	[flat|nested] 15+ messages in thread

* [dpdk-test-report] |SUCCESS| pw101510 [PATCH] [v2] app/test-eventdev: add burst enqueue support
@ 2021-10-14  1:15 dpdklab
  0 siblings, 0 replies; 15+ messages in thread
From: dpdklab @ 2021-10-14  1:15 UTC (permalink / raw)
  To: Ali Alnubani, Test Report; +Cc: dpdk-test-reports

[-- Attachment #1: Type: text/plain, Size: 3229 bytes --]

Test-Label: iol-mellanox-Performance
Test-Status: SUCCESS
http://dpdk.org/patch/101510

_Performance Testing PASS_

Submitter: Rashmi Shetty <rashmi.shetty@intel.com>
Date: Wednesday, October 13 2021 20:16:02 
DPDK git baseline: Repo:dpdk
  Branch: master
  CommitID:2f3758751b157760ebb6fc51cd92841073bb115c

101510 --> performance testing pass

Test environment and result as below:

Ubuntu 20.04
Kernel: 4.15.0-generic
Compiler: gcc 7.4
NIC: Mellanox ConnectX-4 Lx 25000 Mbps
Target: x86_64-native-linuxapp-gcc
Fail/Total: 0/5

Detail performance results: 
+------------+---------+----------+-------------+------------------------------+
| frame_size | txd/rxd | num_cpus | num_threads |  throughput difference from  |
|            |         |          |             |           expected           |
+============+=========+==========+=============+==============================+
| 64         | 256     | 1        | 1           | -0.1%                        |
+------------+---------+----------+-------------+------------------------------+
| 128        | 256     | 1        | 1           | -0.1%                        |
+------------+---------+----------+-------------+------------------------------+
| 1024       | 256     | 1        | 1           | 0.2%                         |
+------------+---------+----------+-------------+------------------------------+
| 256        | 256     | 1        | 1           | -0.8%                        |
+------------+---------+----------+-------------+------------------------------+
| 1518       | 256     | 1        | 1           | 0.1%                         |
+------------+---------+----------+-------------+------------------------------+

Ubuntu 20.04
Kernel: 4.15.0-generic
Compiler: gcc 7.4
NIC: Mellanox ConnectX-5 100000 Mbps
Target: x86_64-native-linuxapp-gcc
Fail/Total: 0/5

Detail performance results: 
+------------+---------+----------+-------------+------------------------------+
| frame_size | txd/rxd | num_cpus | num_threads |  throughput difference from  |
|            |         |          |             |           expected           |
+============+=========+==========+=============+==============================+
| 64         | 256     | 1        | 1           | -0.2%                        |
+------------+---------+----------+-------------+------------------------------+
| 128        | 256     | 1        | 1           | 0.1%                         |
+------------+---------+----------+-------------+------------------------------+
| 1024       | 256     | 1        | 1           | -0.3%                        |
+------------+---------+----------+-------------+------------------------------+
| 256        | 256     | 1        | 1           | -0.2%                        |
+------------+---------+----------+-------------+------------------------------+
| 1518       | 256     | 1        | 1           | 0.1%                         |
+------------+---------+----------+-------------+------------------------------+

To view detailed results, visit:
https://lab.dpdk.org/results/dashboard/patchsets/19393/

UNH-IOL DPDK Community Lab

To manage your email subscriptions, visit: 
https://lab.dpdk.org/results/dashboard/preferences/subscriptions/

^ permalink raw reply	[flat|nested] 15+ messages in thread

* [dpdk-test-report] |SUCCESS| pw101510 [PATCH] [v2] app/test-eventdev: add burst enqueue support
@ 2021-10-13 21:37 dpdklab
  0 siblings, 0 replies; 15+ messages in thread
From: dpdklab @ 2021-10-13 21:37 UTC (permalink / raw)
  To: Test Report; +Cc: dpdk-test-reports

[-- Attachment #1: Type: text/plain, Size: 4988 bytes --]

Test-Label: iol-x86_64-compile-testing
Test-Status: SUCCESS
http://dpdk.org/patch/101510

_Testing PASS_

Submitter: Rashmi Shetty <rashmi.shetty@intel.com>
Date: Wednesday, October 13 2021 20:16:02 
DPDK git baseline: Repo:dpdk
  Branch: master
  CommitID:2f3758751b157760ebb6fc51cd92841073bb115c

101510 --> testing pass

Test environment and result as below:

+---------------------+--------------------+----------------------+-------------------+
|     Environment     | dpdk_meson_compile | dpdk_mingw64_compile | dpdk_compile_spdk |
+=====================+====================+======================+===================+
| Windows Server 2019 | PASS               | PASS                 | SKIPPED           |
+---------------------+--------------------+----------------------+-------------------+
| FreeBSD 13          | PASS               | SKIPPED              | SKIPPED           |
+---------------------+--------------------+----------------------+-------------------+
| Fedora 31           | PASS               | SKIPPED              | SKIPPED           |
+---------------------+--------------------+----------------------+-------------------+
| openSUSE Leap 15    | PASS               | SKIPPED              | SKIPPED           |
+---------------------+--------------------+----------------------+-------------------+
| CentOS 8            | PASS               | SKIPPED              | SKIPPED           |
+---------------------+--------------------+----------------------+-------------------+
| CentOS Stream 8     | PASS               | SKIPPED              | SKIPPED           |
+---------------------+--------------------+----------------------+-------------------+
| Fedora 32           | PASS               | SKIPPED              | SKIPPED           |
+---------------------+--------------------+----------------------+-------------------+
| Ubuntu 18.04        | PASS               | SKIPPED              | PASS              |
+---------------------+--------------------+----------------------+-------------------+
| RHEL 7              | PASS               | SKIPPED              | SKIPPED           |
+---------------------+--------------------+----------------------+-------------------+
| Ubuntu 20.04        | PASS               | SKIPPED              | SKIPPED           |
+---------------------+--------------------+----------------------+-------------------+
| Arch Linux          | PASS               | SKIPPED              | SKIPPED           |
+---------------------+--------------------+----------------------+-------------------+
| RHEL8               | PASS               | SKIPPED              | SKIPPED           |
+---------------------+--------------------+----------------------+-------------------+
| Alpine              | PASS               | SKIPPED              | SKIPPED           |
+---------------------+--------------------+----------------------+-------------------+
| Fedora 34           | PASS               | SKIPPED              | SKIPPED           |
+---------------------+--------------------+----------------------+-------------------+
| Fedora 33           | PASS               | SKIPPED              | SKIPPED           |
+---------------------+--------------------+----------------------+-------------------+
| Fedora 34 clang     | PASS               | SKIPPED              | SKIPPED           |
+---------------------+--------------------+----------------------+-------------------+


Windows Server 2019
	Kernel: 10.0
	Compiler: clang 9.0 and gcc 8.1.0 (MinGW)

FreeBSD 13
	Kernel: 13.0
	Compiler: clang 11.0.1

Fedora 31
	Kernel: 4.18.0-240.10.1.el8_3.x86_64
	Compiler: gcc 9.3.1

openSUSE Leap 15
	Kernel: 4.18.0-240.10.1.el8_3.x86_64
	Compiler: gcc 7.5.0

CentOS 8
	Kernel: 4.18.0-240.10.1.el8_3.x86_64
	Compiler: gcc 8.3.1 20191121 (Red Hat 8.3.1-5)

CentOS Stream 8
	Kernel: 4.18.0-240.10.1.el8_3.x86_64
	Compiler: gcc 8.4.1 20200928

Fedora 32
	Kernel: 4.18.0-240.10.1.el8_3.x86_64
	Compiler: gcc 10.2.1

Ubuntu 18.04
	Kernel: 4.18.0-240.10.1.el8_3.x86_64
	Compiler: gcc 7.5.0-3ubuntu1~18.04

RHEL 7
	Kernel: 4.18.0-240.10.1.el8_3.x86_64
	Compiler: gcc 4.8.5 20150623 (Red Hat 4.8.5-44)

Ubuntu 20.04
	Kernel: 4.18.0-240.10.1.el8_3.x86_64
	Compiler: gcc 9.3.0-17ubuntu1~20.04

Arch Linux
	Kernel: 5.4.0-73-generic
	Compiler: gcc 11.1.0

RHEL8
	Kernel: 4.18.0-240.10.1.el8_3.x86_64
	Compiler: gcc 8.3.1 20191121 (Red Hat 8.3.1-5)

Alpine
	Kernel: 5.4.0-73-generic
	Compiler: gcc (Alpine 10.3.1_git20210424) 10.3.1 20210424

Fedora 34
	Kernel: 5.4.0-72-generic
	Compiler: gcc 11.1.1 20210428 (Red Hat 11.1.1-1)

Fedora 33
	Kernel: 5.4.0-72-generic
	Compiler: gcc 10.3.1 20210422 (Red Hat 10.3.1-1)

Fedora 34 clang
	Kernel: 5.4.0-72-generic
	Compiler: clang 12.0.0 (Fedora 12.0.0-0.3.rc1.fc34)

To view detailed results, visit:
https://lab.dpdk.org/results/dashboard/patchsets/19393/

UNH-IOL DPDK Community Lab

To manage your email subscriptions, visit: 
https://lab.dpdk.org/results/dashboard/preferences/subscriptions/

^ permalink raw reply	[flat|nested] 15+ messages in thread

* [dpdk-test-report] |SUCCESS| pw101510 [PATCH] [v2] app/test-eventdev: add burst enqueue support
@ 2021-10-13 21:10 dpdklab
  0 siblings, 0 replies; 15+ messages in thread
From: dpdklab @ 2021-10-13 21:10 UTC (permalink / raw)
  To: Test Report; +Cc: dpdk-test-reports

[-- Attachment #1: Type: text/plain, Size: 2983 bytes --]

Test-Label: iol-intel-Performance
Test-Status: SUCCESS
http://dpdk.org/patch/101510

_Performance Testing PASS_

Submitter: Rashmi Shetty <rashmi.shetty@intel.com>
Date: Wednesday, October 13 2021 20:16:02 
DPDK git baseline: Repo:dpdk
  Branch: master
  CommitID:2f3758751b157760ebb6fc51cd92841073bb115c

101510 --> performance testing pass

Test environment and result as below:

Ubuntu 20.04
Kernel: 4.15.0-generic
Compiler: gcc 7.4
NIC: Intel Corporation Ethernet Converged Network Adapter XL710-QDA2 40000 Mbps
Target: x86_64-native-linuxapp-gcc
Fail/Total: 0/4

Detail performance results: 
+------------+---------+----------+-------------+------------------------------+
| frame_size | txd/rxd | num_cpus | num_threads |  throughput difference from  |
|            |         |          |             |           expected           |
+============+=========+==========+=============+==============================+
| 64         | 512     | 1        | 1           | 0.4%                         |
+------------+---------+----------+-------------+------------------------------+
| 64         | 2048    | 1        | 1           | 0.0%                         |
+------------+---------+----------+-------------+------------------------------+
| 64         | 512     | 1        | 2           | -4.9%                        |
+------------+---------+----------+-------------+------------------------------+
| 64         | 2048    | 1        | 2           | 3.1%                         |
+------------+---------+----------+-------------+------------------------------+

Ubuntu 20.04
Kernel: 4.15.0-generic
Compiler: gcc 7.4
NIC: Intel Corporation Ethernet Converged Network Adapter 82599ES 10000 Mbps
Target: x86_64-native-linuxapp-gcc
Fail/Total: 0/4

Detail performance results: 
+------------+---------+----------+-------------+------------------------------+
| frame_size | txd/rxd | num_cpus | num_threads |  throughput difference from  |
|            |         |          |             |           expected           |
+============+=========+==========+=============+==============================+
| 64         | 512     | 1        | 1           | -0.1%                        |
+------------+---------+----------+-------------+------------------------------+
| 64         | 2048    | 1        | 1           | -0.4%                        |
+------------+---------+----------+-------------+------------------------------+
| 64         | 512     | 1        | 2           | -0.0%                        |
+------------+---------+----------+-------------+------------------------------+
| 64         | 2048    | 1        | 2           | 0.1%                         |
+------------+---------+----------+-------------+------------------------------+

To view detailed results, visit:
https://lab.dpdk.org/results/dashboard/patchsets/19393/

UNH-IOL DPDK Community Lab

To manage your email subscriptions, visit: 
https://lab.dpdk.org/results/dashboard/preferences/subscriptions/

^ permalink raw reply	[flat|nested] 15+ messages in thread

* [dpdk-test-report] |SUCCESS| pw101510 [PATCH] [v2] app/test-eventdev: add burst enqueue support
@ 2021-10-13 21:04 dpdklab
  0 siblings, 0 replies; 15+ messages in thread
From: dpdklab @ 2021-10-13 21:04 UTC (permalink / raw)
  To: Test Report; +Cc: dpdk-test-reports

[-- Attachment #1: Type: text/plain, Size: 978 bytes --]

Test-Label: iol-intel-Functional
Test-Status: SUCCESS
http://dpdk.org/patch/101510

_Functional Testing PASS_

Submitter: Rashmi Shetty <rashmi.shetty@intel.com>
Date: Wednesday, October 13 2021 20:16:02 
DPDK git baseline: Repo:dpdk
  Branch: master
  CommitID:2f3758751b157760ebb6fc51cd92841073bb115c

101510 --> functional testing pass

Test environment and result as below:

Ubuntu 20.04
Kernel: 4.15.0-generic
Compiler: gcc 7.4
NIC: Intel Corporation Ethernet Converged Network Adapter 82599ES 10000 Mbps
Target: x86_64-native-linuxapp-gcc
Fail/Total: 0/2


Ubuntu 20.04
Kernel: 4.15.0-generic
Compiler: gcc 7.4
NIC: Intel Corporation Ethernet Converged Network Adapter XL710-QDA2 40000 Mbps
Target: x86_64-native-linuxapp-gcc
Fail/Total: 0/2


To view detailed results, visit:
https://lab.dpdk.org/results/dashboard/patchsets/19393/

UNH-IOL DPDK Community Lab

To manage your email subscriptions, visit: 
https://lab.dpdk.org/results/dashboard/preferences/subscriptions/

^ permalink raw reply	[flat|nested] 15+ messages in thread

* [dpdk-test-report] |SUCCESS| pw101510 [PATCH] [v2] app/test-eventdev: add burst enqueue support
@ 2021-10-13 21:02 dpdklab
  0 siblings, 0 replies; 15+ messages in thread
From: dpdklab @ 2021-10-13 21:02 UTC (permalink / raw)
  To: Ajit Khaparde, Test Report; +Cc: dpdk-test-reports

[-- Attachment #1: Type: text/plain, Size: 1803 bytes --]

Test-Label: iol-broadcom-Performance
Test-Status: SUCCESS
http://dpdk.org/patch/101510

_Performance Testing PASS_

Submitter: Rashmi Shetty <rashmi.shetty@intel.com>
Date: Wednesday, October 13 2021 20:16:02 
DPDK git baseline: Repo:dpdk
  Branch: master
  CommitID:2f3758751b157760ebb6fc51cd92841073bb115c

101510 --> performance testing pass

Test environment and result as below:

Ubuntu 20.04
Kernel: 4.15.0-65-generic
Compiler: gcc gcc (Ubuntu 7.4.0-1ubuntu1~18.04.1) 7.4.0
NIC: Broadcom Inc. brcm_57414 25000 Mbps
Target: x86_64-native-linuxapp-gcc
Fail/Total: 0/4

Detail performance results: 
+----------+-------------+---------+------------+------------------------------+
| num_cpus | num_threads | txd/rxd | frame_size |  throughput difference from  |
|          |             |         |            |           expected           |
+==========+=============+=========+============+==============================+
| 1        | 2           | 512     | 64         | -0.0%                        |
+----------+-------------+---------+------------+------------------------------+
| 1        | 2           | 2048    | 64         | 0.1%                         |
+----------+-------------+---------+------------+------------------------------+
| 1        | 1           | 512     | 64         | 0.2%                         |
+----------+-------------+---------+------------+------------------------------+
| 1        | 1           | 2048    | 64         | -0.1%                        |
+----------+-------------+---------+------------+------------------------------+

To view detailed results, visit:
https://lab.dpdk.org/results/dashboard/patchsets/19393/

UNH-IOL DPDK Community Lab

To manage your email subscriptions, visit: 
https://lab.dpdk.org/results/dashboard/preferences/subscriptions/

^ permalink raw reply	[flat|nested] 15+ messages in thread

* [dpdk-test-report] |SUCCESS| pw101510 [PATCH] [v2] app/test-eventdev: add burst enqueue support
@ 2021-10-13 20:59 dpdklab
  0 siblings, 0 replies; 15+ messages in thread
From: dpdklab @ 2021-10-13 20:59 UTC (permalink / raw)
  To: Test Report; +Cc: dpdk-test-reports

[-- Attachment #1: Type: text/plain, Size: 1798 bytes --]

Test-Label: iol-intel-Performance
Test-Status: SUCCESS
http://dpdk.org/patch/101510

_Performance Testing PASS_

Submitter: Rashmi Shetty <rashmi.shetty@intel.com>
Date: Wednesday, October 13 2021 20:16:02 
DPDK git baseline: Repo:dpdk
  Branch: master
  CommitID:2f3758751b157760ebb6fc51cd92841073bb115c

101510 --> performance testing pass

Test environment and result as below:

Ubuntu 20.04
Kernel: 4.15.0-generic
Compiler: gcc 7.4
NIC: Intel Corporation Ethernet Converged Network Adapter XL710-QDA2 40000 Mbps
Target: x86_64-native-linuxapp-gcc
Fail/Total: 0/4

Detail performance results: 
+------------+---------+----------+-------------+------------------------------+
| frame_size | txd/rxd | num_cpus | num_threads |  throughput difference from  |
|            |         |          |             |           expected           |
+============+=========+==========+=============+==============================+
| 64         | 512     | 1        | 1           | 0.4%                         |
+------------+---------+----------+-------------+------------------------------+
| 64         | 2048    | 1        | 1           | 0.0%                         |
+------------+---------+----------+-------------+------------------------------+
| 64         | 512     | 1        | 2           | -4.9%                        |
+------------+---------+----------+-------------+------------------------------+
| 64         | 2048    | 1        | 2           | 3.1%                         |
+------------+---------+----------+-------------+------------------------------+

To view detailed results, visit:
https://lab.dpdk.org/results/dashboard/patchsets/19393/

UNH-IOL DPDK Community Lab

To manage your email subscriptions, visit: 
https://lab.dpdk.org/results/dashboard/preferences/subscriptions/

^ permalink raw reply	[flat|nested] 15+ messages in thread

* [dpdk-test-report] |SUCCESS| pw101510 [PATCH] [v2] app/test-eventdev: add burst enqueue support
@ 2021-10-13 20:53 dpdklab
  0 siblings, 0 replies; 15+ messages in thread
From: dpdklab @ 2021-10-13 20:53 UTC (permalink / raw)
  To: Test Report; +Cc: dpdk-test-reports

[-- Attachment #1: Type: text/plain, Size: 791 bytes --]

Test-Label: iol-intel-Functional
Test-Status: SUCCESS
http://dpdk.org/patch/101510

_Functional Testing PASS_

Submitter: Rashmi Shetty <rashmi.shetty@intel.com>
Date: Wednesday, October 13 2021 20:16:02 
DPDK git baseline: Repo:dpdk
  Branch: master
  CommitID:2f3758751b157760ebb6fc51cd92841073bb115c

101510 --> functional testing pass

Test environment and result as below:

Ubuntu 20.04
Kernel: 4.15.0-generic
Compiler: gcc 7.4
NIC: Intel Corporation Ethernet Converged Network Adapter 82599ES 10000 Mbps
Target: x86_64-native-linuxapp-gcc
Fail/Total: 0/2


To view detailed results, visit:
https://lab.dpdk.org/results/dashboard/patchsets/19393/

UNH-IOL DPDK Community Lab

To manage your email subscriptions, visit: 
https://lab.dpdk.org/results/dashboard/preferences/subscriptions/

^ permalink raw reply	[flat|nested] 15+ messages in thread

* [dpdk-test-report] |SUCCESS| pw101510 [PATCH] [v2] app/test-eventdev: add burst enqueue support
@ 2021-10-13 20:49 dpdklab
  0 siblings, 0 replies; 15+ messages in thread
From: dpdklab @ 2021-10-13 20:49 UTC (permalink / raw)
  To: Ajit Khaparde, Test Report; +Cc: dpdk-test-reports

[-- Attachment #1: Type: text/plain, Size: 799 bytes --]

Test-Label: iol-broadcom-Functional
Test-Status: SUCCESS
http://dpdk.org/patch/101510

_Functional Testing PASS_

Submitter: Rashmi Shetty <rashmi.shetty@intel.com>
Date: Wednesday, October 13 2021 20:16:02 
DPDK git baseline: Repo:dpdk
  Branch: master
  CommitID:2f3758751b157760ebb6fc51cd92841073bb115c

101510 --> functional testing pass

Test environment and result as below:

Ubuntu 20.04
Kernel: 4.15.0-65-generic
Compiler: gcc gcc (Ubuntu 7.4.0-1ubuntu1~18.04.1) 7.4.0
NIC: Broadcom Inc. brcm_57414 25000 Mbps
Target: x86_64-native-linuxapp-gcc
Fail/Total: 0/3


To view detailed results, visit:
https://lab.dpdk.org/results/dashboard/patchsets/19393/

UNH-IOL DPDK Community Lab

To manage your email subscriptions, visit: 
https://lab.dpdk.org/results/dashboard/preferences/subscriptions/

^ permalink raw reply	[flat|nested] 15+ messages in thread

* [dpdk-test-report] |SUCCESS| pw101510 [PATCH v2] app/test-eventdev: add burst enqueue support
       [not found] <20211013201602.113694-1-rashmi.shetty@intel.com>
@ 2021-10-13 20:17 ` checkpatch
  0 siblings, 0 replies; 15+ messages in thread
From: checkpatch @ 2021-10-13 20:17 UTC (permalink / raw)
  To: test-report

Test-Label: checkpatch
Test-Status: SUCCESS
http://dpdk.org/patch/101510

_coding style OK_



^ permalink raw reply	[flat|nested] 15+ messages in thread

end of thread, other threads:[~2021-10-15 22:12 UTC | newest]

Thread overview: 15+ messages (download: mbox.gz / follow: Atom feed)
-- links below jump to the message on this page --
2021-10-14  1:01 [dpdk-test-report] |SUCCESS| pw101510 [PATCH] [v2] app/test-eventdev: add burst enqueue support dpdklab
  -- strict thread matches above, loose matches on Subject: below --
2021-10-15 22:12 dpdklab
2021-10-15 21:33 dpdklab
2021-10-15 13:03 dpdklab
2021-10-14  5:43 dpdklab
2021-10-14  1:28 dpdklab
2021-10-14  1:15 dpdklab
2021-10-13 21:37 dpdklab
2021-10-13 21:10 dpdklab
2021-10-13 21:04 dpdklab
2021-10-13 21:02 dpdklab
2021-10-13 20:59 dpdklab
2021-10-13 20:53 dpdklab
2021-10-13 20:49 dpdklab
     [not found] <20211013201602.113694-1-rashmi.shetty@intel.com>
2021-10-13 20:17 ` [dpdk-test-report] |SUCCESS| pw101510 [PATCH v2] " checkpatch

automatic DPDK test reports

This inbox may be cloned and mirrored by anyone:

	git clone --mirror http://inbox.dpdk.org/test-report/0 test-report/git/0.git

	# If you have public-inbox 1.1+ installed, you may
	# initialize and index your mirror using the following commands:
	public-inbox-init -V2 test-report test-report/ http://inbox.dpdk.org/test-report \
		test-report@dpdk.org
	public-inbox-index test-report

Example config snippet for mirrors.
Newsgroup available over NNTP:
	nntp://inbox.dpdk.org/inbox.dpdk.test-report


AGPL code for this site: git clone https://public-inbox.org/public-inbox.git