automatic DPDK test reports
 help / color / mirror / Atom feed
* [dpdk-test-report] |SUCCESS| pw101537-101547 [PATCH] [v5, 12/12] app/test: enable subset of unit tests on Windows
@ 2021-10-14  5:25 dpdklab
  0 siblings, 0 replies; 10+ messages in thread
From: dpdklab @ 2021-10-14  5:25 UTC (permalink / raw)
  To: Ajit Khaparde, Test Report; +Cc: dpdk-test-reports

[-- Attachment #1: Type: text/plain, Size: 801 bytes --]

Test-Label: iol-broadcom-Functional
Test-Status: SUCCESS
http://dpdk.org/patch/101547

_Functional Testing PASS_

Submitter: Jie Zhou <jizh@linux.microsoft.com>
Date: Thursday, October 14 2021 04:52:50 
DPDK git baseline: Repo:dpdk
  Branch: master
  CommitID:d75eed0fbe4b942bc6df2e2908a8b5c2c30c99aa

101537-101547 --> functional testing pass

Test environment and result as below:

Ubuntu 20.04
Kernel: 4.15.0-65-generic
Compiler: gcc gcc (Ubuntu 7.4.0-1ubuntu1~18.04.1) 7.4.0
NIC: Broadcom Inc. brcm_57414 25000 Mbps
Target: x86_64-native-linuxapp-gcc
Fail/Total: 0/3


To view detailed results, visit:
https://lab.dpdk.org/results/dashboard/patchsets/19402/

UNH-IOL DPDK Community Lab

To manage your email subscriptions, visit: 
https://lab.dpdk.org/results/dashboard/preferences/subscriptions/

^ permalink raw reply	[flat|nested] 10+ messages in thread

* [dpdk-test-report] |SUCCESS| pw101537-101547 [PATCH] [v5, 12/12] app/test: enable subset of unit tests on Windows
@ 2021-10-15 14:01 dpdklab
  0 siblings, 0 replies; 10+ messages in thread
From: dpdklab @ 2021-10-15 14:01 UTC (permalink / raw)
  To: Test Report; +Cc: dpdklab

[-- Attachment #1: Type: text/plain, Size: 1211 bytes --]

Test-Label: iol-aarch64-compile-testing
Test-Status: SUCCESS
http://dpdk.org/patch/101547

_Testing PASS_

Submitter: Jie Zhou <jizh@linux.microsoft.com>
Date: Thursday, October 14 2021 04:52:50 
DPDK git baseline: Repo:dpdk
  Branch: master
  CommitID:d75eed0fbe4b942bc6df2e2908a8b5c2c30c99aa

101537-101547 --> testing pass

Test environment and result as below:

+------------------------------------+--------------------+
|            Environment             | dpdk_meson_compile |
+====================================+====================+
| Ubuntu 20.04 ARM                   | PASS               |
+------------------------------------+--------------------+
| Ubuntu 20.04 ARM cross-compilation | PASS               |
+------------------------------------+--------------------+


Ubuntu 20.04 ARM
	Kernel: 5.4.0-53-generic
	Compiler: gcc 9.3

Ubuntu 20.04 ARM cross-compilation
	Kernel: 5.4.0-72-generic
	Compiler: aarch64-linux-gnu-gcc (Ubuntu 9.3.0-17ubuntu1~20.04) 9.3.0

To view detailed results, visit:
https://lab.dpdk.org/results/dashboard/patchsets/19402/

UNH-IOL DPDK Community Lab

To manage your email subscriptions, visit: 
https://lab.dpdk.org/results/dashboard/preferences/subscriptions/

^ permalink raw reply	[flat|nested] 10+ messages in thread

* [dpdk-test-report] |SUCCESS| pw101537-101547 [PATCH] [v5, 12/12] app/test: enable subset of unit tests on Windows
@ 2021-10-14 11:27 dpdklab
  0 siblings, 0 replies; 10+ messages in thread
From: dpdklab @ 2021-10-14 11:27 UTC (permalink / raw)
  To: Test Report; +Cc: dpdk-test-reports

[-- Attachment #1: Type: text/plain, Size: 846 bytes --]

Test-Label: iol-aarch64-unit-testing
Test-Status: SUCCESS
http://dpdk.org/patch/101547

_Testing PASS_

Submitter: Jie Zhou <jizh@linux.microsoft.com>
Date: Thursday, October 14 2021 04:52:50 
DPDK git baseline: Repo:dpdk
  Branch: master
  CommitID:d75eed0fbe4b942bc6df2e2908a8b5c2c30c99aa

101537-101547 --> testing pass

Test environment and result as below:

+------------------+----------------+
|   Environment    | dpdk_unit_test |
+==================+================+
| Ubuntu 20.04 ARM | PASS           |
+------------------+----------------+


Ubuntu 20.04 ARM
	Kernel: 5.4.0-53-generic
	Compiler: gcc 9.3

To view detailed results, visit:
https://lab.dpdk.org/results/dashboard/patchsets/19402/

UNH-IOL DPDK Community Lab

To manage your email subscriptions, visit: 
https://lab.dpdk.org/results/dashboard/preferences/subscriptions/

^ permalink raw reply	[flat|nested] 10+ messages in thread

* [dpdk-test-report] |SUCCESS| pw101537-101547 [PATCH] [v5, 12/12] app/test: enable subset of unit tests on Windows
@ 2021-10-14  6:56 dpdklab
  0 siblings, 0 replies; 10+ messages in thread
From: dpdklab @ 2021-10-14  6:56 UTC (permalink / raw)
  To: Ali Alnubani, Test Report; +Cc: dpdk-test-reports

[-- Attachment #1: Type: text/plain, Size: 4540 bytes --]

Test-Label: iol-mellanox-Performance
Test-Status: SUCCESS
http://dpdk.org/patch/101547

_Performance Testing PASS_

Submitter: Jie Zhou <jizh@linux.microsoft.com>
Date: Thursday, October 14 2021 04:52:50 
DPDK git baseline: Repo:dpdk
  Branch: master
  CommitID:d75eed0fbe4b942bc6df2e2908a8b5c2c30c99aa

101537-101547 --> performance testing pass

Test environment and result as below:

Ubuntu 20.04
Kernel: 4.15.0-generic
Compiler: gcc 7.4
NIC: Mellanox ConnectX-4 Lx 25000 Mbps
Target: x86_64-native-linuxapp-gcc
Fail/Total: 0/5

Detail performance results: 
+------------+---------+----------+-------------+------------------------------+
| frame_size | txd/rxd | num_cpus | num_threads |  throughput difference from  |
|            |         |          |             |           expected           |
+============+=========+==========+=============+==============================+
| 64         | 256     | 1        | 1           | -0.6%                        |
+------------+---------+----------+-------------+------------------------------+
| 128        | 256     | 1        | 1           | 0.3%                         |
+------------+---------+----------+-------------+------------------------------+
| 1024       | 256     | 1        | 1           | -0.1%                        |
+------------+---------+----------+-------------+------------------------------+
| 256        | 256     | 1        | 1           | 0.0%                         |
+------------+---------+----------+-------------+------------------------------+
| 1518       | 256     | 1        | 1           | 0.1%                         |
+------------+---------+----------+-------------+------------------------------+

Ubuntu 20.04
Kernel: 4.15.0-generic
Compiler: gcc 7.4
NIC: Mellanox ConnectX-5 100000 Mbps
Target: x86_64-native-linuxapp-gcc
Fail/Total: 0/5

Detail performance results: 
+------------+---------+----------+-------------+------------------------------+
| frame_size | txd/rxd | num_cpus | num_threads |  throughput difference from  |
|            |         |          |             |           expected           |
+============+=========+==========+=============+==============================+
| 64         | 256     | 1        | 1           | -0.0%                        |
+------------+---------+----------+-------------+------------------------------+
| 128        | 256     | 1        | 1           | -0.2%                        |
+------------+---------+----------+-------------+------------------------------+
| 1024       | 256     | 1        | 1           | 0.2%                         |
+------------+---------+----------+-------------+------------------------------+
| 256        | 256     | 1        | 1           | 0.3%                         |
+------------+---------+----------+-------------+------------------------------+
| 1518       | 256     | 1        | 1           | -0.2%                        |
+------------+---------+----------+-------------+------------------------------+

Ubuntu 20.04
Kernel: 4.15.0-generic
Compiler: gcc 7.4
NIC: Mellanox ConnectX-4 Lx 40000 Mbps
Target: x86_64-native-linuxapp-gcc
Fail/Total: 0/5

Detail performance results: 
+------------+---------+----------+-------------+------------------------------+
| frame_size | txd/rxd | num_cpus | num_threads |  throughput difference from  |
|            |         |          |             |           expected           |
+============+=========+==========+=============+==============================+
| 64         | 256     | 1        | 1           | -0.1%                        |
+------------+---------+----------+-------------+------------------------------+
| 128        | 256     | 1        | 1           | 1.0%                         |
+------------+---------+----------+-------------+------------------------------+
| 1024       | 256     | 1        | 1           | -0.0%                        |
+------------+---------+----------+-------------+------------------------------+
| 256        | 256     | 1        | 1           | 0.0%                         |
+------------+---------+----------+-------------+------------------------------+
| 1518       | 256     | 1        | 1           | -0.1%                        |
+------------+---------+----------+-------------+------------------------------+

To view detailed results, visit:
https://lab.dpdk.org/results/dashboard/patchsets/19402/

UNH-IOL DPDK Community Lab

To manage your email subscriptions, visit: 
https://lab.dpdk.org/results/dashboard/preferences/subscriptions/

^ permalink raw reply	[flat|nested] 10+ messages in thread

* [dpdk-test-report] |SUCCESS| pw101537-101547 [PATCH] [v5, 12/12] app/test: enable subset of unit tests on Windows
@ 2021-10-14  6:42 dpdklab
  0 siblings, 0 replies; 10+ messages in thread
From: dpdklab @ 2021-10-14  6:42 UTC (permalink / raw)
  To: Ali Alnubani, Test Report; +Cc: dpdk-test-reports

[-- Attachment #1: Type: text/plain, Size: 3231 bytes --]

Test-Label: iol-mellanox-Performance
Test-Status: SUCCESS
http://dpdk.org/patch/101547

_Performance Testing PASS_

Submitter: Jie Zhou <jizh@linux.microsoft.com>
Date: Thursday, October 14 2021 04:52:50 
DPDK git baseline: Repo:dpdk
  Branch: master
  CommitID:d75eed0fbe4b942bc6df2e2908a8b5c2c30c99aa

101537-101547 --> performance testing pass

Test environment and result as below:

Ubuntu 20.04
Kernel: 4.15.0-generic
Compiler: gcc 7.4
NIC: Mellanox ConnectX-4 Lx 25000 Mbps
Target: x86_64-native-linuxapp-gcc
Fail/Total: 0/5

Detail performance results: 
+------------+---------+----------+-------------+------------------------------+
| frame_size | txd/rxd | num_cpus | num_threads |  throughput difference from  |
|            |         |          |             |           expected           |
+============+=========+==========+=============+==============================+
| 64         | 256     | 1        | 1           | -0.6%                        |
+------------+---------+----------+-------------+------------------------------+
| 128        | 256     | 1        | 1           | 0.3%                         |
+------------+---------+----------+-------------+------------------------------+
| 1024       | 256     | 1        | 1           | -0.1%                        |
+------------+---------+----------+-------------+------------------------------+
| 256        | 256     | 1        | 1           | 0.0%                         |
+------------+---------+----------+-------------+------------------------------+
| 1518       | 256     | 1        | 1           | 0.1%                         |
+------------+---------+----------+-------------+------------------------------+

Ubuntu 20.04
Kernel: 4.15.0-generic
Compiler: gcc 7.4
NIC: Mellanox ConnectX-5 100000 Mbps
Target: x86_64-native-linuxapp-gcc
Fail/Total: 0/5

Detail performance results: 
+------------+---------+----------+-------------+------------------------------+
| frame_size | txd/rxd | num_cpus | num_threads |  throughput difference from  |
|            |         |          |             |           expected           |
+============+=========+==========+=============+==============================+
| 64         | 256     | 1        | 1           | -0.0%                        |
+------------+---------+----------+-------------+------------------------------+
| 128        | 256     | 1        | 1           | -0.2%                        |
+------------+---------+----------+-------------+------------------------------+
| 1024       | 256     | 1        | 1           | 0.2%                         |
+------------+---------+----------+-------------+------------------------------+
| 256        | 256     | 1        | 1           | 0.3%                         |
+------------+---------+----------+-------------+------------------------------+
| 1518       | 256     | 1        | 1           | -0.2%                        |
+------------+---------+----------+-------------+------------------------------+

To view detailed results, visit:
https://lab.dpdk.org/results/dashboard/patchsets/19402/

UNH-IOL DPDK Community Lab

To manage your email subscriptions, visit: 
https://lab.dpdk.org/results/dashboard/preferences/subscriptions/

^ permalink raw reply	[flat|nested] 10+ messages in thread

* [dpdk-test-report] |SUCCESS| pw101537-101547 [PATCH] [v5, 12/12] app/test: enable subset of unit tests on Windows
@ 2021-10-14  6:28 dpdklab
  0 siblings, 0 replies; 10+ messages in thread
From: dpdklab @ 2021-10-14  6:28 UTC (permalink / raw)
  To: Ali Alnubani, Test Report; +Cc: dpdk-test-reports

[-- Attachment #1: Type: text/plain, Size: 1924 bytes --]

Test-Label: iol-mellanox-Performance
Test-Status: SUCCESS
http://dpdk.org/patch/101547

_Performance Testing PASS_

Submitter: Jie Zhou <jizh@linux.microsoft.com>
Date: Thursday, October 14 2021 04:52:50 
DPDK git baseline: Repo:dpdk
  Branch: master
  CommitID:d75eed0fbe4b942bc6df2e2908a8b5c2c30c99aa

101537-101547 --> performance testing pass

Test environment and result as below:

Ubuntu 20.04
Kernel: 4.15.0-generic
Compiler: gcc 7.4
NIC: Mellanox ConnectX-4 Lx 25000 Mbps
Target: x86_64-native-linuxapp-gcc
Fail/Total: 0/5

Detail performance results: 
+------------+---------+----------+-------------+------------------------------+
| frame_size | txd/rxd | num_cpus | num_threads |  throughput difference from  |
|            |         |          |             |           expected           |
+============+=========+==========+=============+==============================+
| 64         | 256     | 1        | 1           | -0.6%                        |
+------------+---------+----------+-------------+------------------------------+
| 128        | 256     | 1        | 1           | 0.3%                         |
+------------+---------+----------+-------------+------------------------------+
| 1024       | 256     | 1        | 1           | -0.1%                        |
+------------+---------+----------+-------------+------------------------------+
| 256        | 256     | 1        | 1           | 0.0%                         |
+------------+---------+----------+-------------+------------------------------+
| 1518       | 256     | 1        | 1           | 0.1%                         |
+------------+---------+----------+-------------+------------------------------+

To view detailed results, visit:
https://lab.dpdk.org/results/dashboard/patchsets/19402/

UNH-IOL DPDK Community Lab

To manage your email subscriptions, visit: 
https://lab.dpdk.org/results/dashboard/preferences/subscriptions/

^ permalink raw reply	[flat|nested] 10+ messages in thread

* [dpdk-test-report] |SUCCESS| pw101537-101547 [PATCH] [v5, 12/12] app/test: enable subset of unit tests on Windows
@ 2021-10-14  5:45 dpdklab
  0 siblings, 0 replies; 10+ messages in thread
From: dpdklab @ 2021-10-14  5:45 UTC (permalink / raw)
  To: Test Report; +Cc: dpdklab

[-- Attachment #1: Type: text/plain, Size: 2788 bytes --]

Test-Label: iol-x86_64-unit-testing
Test-Status: SUCCESS
http://dpdk.org/patch/101547

_Testing PASS_

Submitter: Jie Zhou <jizh@linux.microsoft.com>
Date: Thursday, October 14 2021 04:52:50 
DPDK git baseline: Repo:dpdk
  Branch: master
  CommitID:d75eed0fbe4b942bc6df2e2908a8b5c2c30c99aa

101537-101547 --> testing pass

Test environment and result as below:

+------------------+----------------+
|   Environment    | dpdk_unit_test |
+==================+================+
| CentOS 8         | PASS           |
+------------------+----------------+
| Ubuntu 18.04     | PASS           |
+------------------+----------------+
| Arch Linux       | PASS           |
+------------------+----------------+
| Fedora 31        | PASS           |
+------------------+----------------+
| CentOS Stream 8  | PASS           |
+------------------+----------------+
| Fedora 32        | PASS           |
+------------------+----------------+
| RHEL 7           | PASS           |
+------------------+----------------+
| openSUSE Leap 15 | PASS           |
+------------------+----------------+
| RHEL8            | PASS           |
+------------------+----------------+
| Ubuntu 20.04     | PASS           |
+------------------+----------------+
| Fedora 34        | PASS           |
+------------------+----------------+
| Fedora 33        | PASS           |
+------------------+----------------+
| Fedora 34 clang  | PASS           |
+------------------+----------------+


CentOS 8
	Kernel: 4.18.0-240.10.1.el8_3.x86_64
	Compiler: gcc 8.3.1 20191121 (Red Hat 8.3.1-5)

Ubuntu 18.04
	Kernel: 4.18.0-240.10.1.el8_3.x86_64
	Compiler: gcc 7.5.0-3ubuntu1~18.04

Arch Linux
	Kernel: 5.4.0-73-generic
	Compiler: gcc 11.1.0

Fedora 31
	Kernel: 4.18.0-240.10.1.el8_3.x86_64
	Compiler: gcc 9.3.1

CentOS Stream 8
	Kernel: 4.18.0-240.10.1.el8_3.x86_64
	Compiler: gcc 8.4.1 20200928

Fedora 32
	Kernel: 4.18.0-240.10.1.el8_3.x86_64
	Compiler: gcc 10.2.1

RHEL 7
	Kernel: 4.18.0-240.10.1.el8_3.x86_64
	Compiler: gcc 4.8.5 20150623 (Red Hat 4.8.5-44)

openSUSE Leap 15
	Kernel: 4.18.0-240.10.1.el8_3.x86_64
	Compiler: gcc 7.5.0

RHEL8
	Kernel: 4.18.0-240.10.1.el8_3.x86_64
	Compiler: gcc 8.3.1 20191121 (Red Hat 8.3.1-5)

Ubuntu 20.04
	Kernel: 4.18.0-240.10.1.el8_3.x86_64
	Compiler: gcc 9.3.0-17ubuntu1~20.04

Fedora 34
	Kernel: 5.4.0-72-generic
	Compiler: gcc 11.1.1 20210428 (Red Hat 11.1.1-1)

Fedora 33
	Kernel: 5.4.0-72-generic
	Compiler: gcc 10.3.1 20210422 (Red Hat 10.3.1-1)

Fedora 34 clang
	Kernel: 5.4.0-72-generic
	Compiler: clang 12.0.0 (Fedora 12.0.0-0.3.rc1.fc34)

To view detailed results, visit:
https://lab.dpdk.org/results/dashboard/patchsets/19402/

UNH-IOL DPDK Community Lab

To manage your email subscriptions, visit: 
https://lab.dpdk.org/results/dashboard/preferences/subscriptions/

^ permalink raw reply	[flat|nested] 10+ messages in thread

* [dpdk-test-report] |SUCCESS| pw101537-101547 [PATCH] [v5, 12/12] app/test: enable subset of unit tests on Windows
@ 2021-10-14  5:37 dpdklab
  0 siblings, 0 replies; 10+ messages in thread
From: dpdklab @ 2021-10-14  5:37 UTC (permalink / raw)
  To: Test Report; +Cc: dpdk-test-reports

[-- Attachment #1: Type: text/plain, Size: 980 bytes --]

Test-Label: iol-intel-Functional
Test-Status: SUCCESS
http://dpdk.org/patch/101547

_Functional Testing PASS_

Submitter: Jie Zhou <jizh@linux.microsoft.com>
Date: Thursday, October 14 2021 04:52:50 
DPDK git baseline: Repo:dpdk
  Branch: master
  CommitID:d75eed0fbe4b942bc6df2e2908a8b5c2c30c99aa

101537-101547 --> functional testing pass

Test environment and result as below:

Ubuntu 20.04
Kernel: 4.15.0-generic
Compiler: gcc 7.4
NIC: Intel Corporation Ethernet Converged Network Adapter 82599ES 10000 Mbps
Target: x86_64-native-linuxapp-gcc
Fail/Total: 0/2


Ubuntu 20.04
Kernel: 4.15.0-generic
Compiler: gcc 7.4
NIC: Intel Corporation Ethernet Converged Network Adapter XL710-QDA2 40000 Mbps
Target: x86_64-native-linuxapp-gcc
Fail/Total: 0/2


To view detailed results, visit:
https://lab.dpdk.org/results/dashboard/patchsets/19402/

UNH-IOL DPDK Community Lab

To manage your email subscriptions, visit: 
https://lab.dpdk.org/results/dashboard/preferences/subscriptions/

^ permalink raw reply	[flat|nested] 10+ messages in thread

* [dpdk-test-report] |SUCCESS| pw101537-101547 [PATCH] [v5, 12/12] app/test: enable subset of unit tests on Windows
@ 2021-10-14  5:36 dpdklab
  0 siblings, 0 replies; 10+ messages in thread
From: dpdklab @ 2021-10-14  5:36 UTC (permalink / raw)
  To: Ajit Khaparde, Test Report; +Cc: dpdk-test-reports

[-- Attachment #1: Type: text/plain, Size: 1805 bytes --]

Test-Label: iol-broadcom-Performance
Test-Status: SUCCESS
http://dpdk.org/patch/101547

_Performance Testing PASS_

Submitter: Jie Zhou <jizh@linux.microsoft.com>
Date: Thursday, October 14 2021 04:52:50 
DPDK git baseline: Repo:dpdk
  Branch: master
  CommitID:d75eed0fbe4b942bc6df2e2908a8b5c2c30c99aa

101537-101547 --> performance testing pass

Test environment and result as below:

Ubuntu 20.04
Kernel: 4.15.0-65-generic
Compiler: gcc gcc (Ubuntu 7.4.0-1ubuntu1~18.04.1) 7.4.0
NIC: Broadcom Inc. brcm_57414 25000 Mbps
Target: x86_64-native-linuxapp-gcc
Fail/Total: 0/4

Detail performance results: 
+----------+-------------+---------+------------+------------------------------+
| num_cpus | num_threads | txd/rxd | frame_size |  throughput difference from  |
|          |             |         |            |           expected           |
+==========+=============+=========+============+==============================+
| 1        | 2           | 512     | 64         | 0.1%                         |
+----------+-------------+---------+------------+------------------------------+
| 1        | 2           | 2048    | 64         | 0.1%                         |
+----------+-------------+---------+------------+------------------------------+
| 1        | 1           | 512     | 64         | -0.1%                        |
+----------+-------------+---------+------------+------------------------------+
| 1        | 1           | 2048    | 64         | 0.1%                         |
+----------+-------------+---------+------------+------------------------------+

To view detailed results, visit:
https://lab.dpdk.org/results/dashboard/patchsets/19402/

UNH-IOL DPDK Community Lab

To manage your email subscriptions, visit: 
https://lab.dpdk.org/results/dashboard/preferences/subscriptions/

^ permalink raw reply	[flat|nested] 10+ messages in thread

* [dpdk-test-report] |SUCCESS| pw101537-101547 [PATCH] [v5, 12/12] app/test: enable subset of unit tests on Windows
@ 2021-10-14  5:22 dpdklab
  0 siblings, 0 replies; 10+ messages in thread
From: dpdklab @ 2021-10-14  5:22 UTC (permalink / raw)
  To: Test Report; +Cc: dpdk-test-reports

[-- Attachment #1: Type: text/plain, Size: 793 bytes --]

Test-Label: iol-intel-Functional
Test-Status: SUCCESS
http://dpdk.org/patch/101547

_Functional Testing PASS_

Submitter: Jie Zhou <jizh@linux.microsoft.com>
Date: Thursday, October 14 2021 04:52:50 
DPDK git baseline: Repo:dpdk
  Branch: master
  CommitID:d75eed0fbe4b942bc6df2e2908a8b5c2c30c99aa

101537-101547 --> functional testing pass

Test environment and result as below:

Ubuntu 20.04
Kernel: 4.15.0-generic
Compiler: gcc 7.4
NIC: Intel Corporation Ethernet Converged Network Adapter 82599ES 10000 Mbps
Target: x86_64-native-linuxapp-gcc
Fail/Total: 0/2


To view detailed results, visit:
https://lab.dpdk.org/results/dashboard/patchsets/19402/

UNH-IOL DPDK Community Lab

To manage your email subscriptions, visit: 
https://lab.dpdk.org/results/dashboard/preferences/subscriptions/

^ permalink raw reply	[flat|nested] 10+ messages in thread

end of thread, other threads:[~2021-10-15 14:01 UTC | newest]

Thread overview: 10+ messages (download: mbox.gz / follow: Atom feed)
-- links below jump to the message on this page --
2021-10-14  5:25 [dpdk-test-report] |SUCCESS| pw101537-101547 [PATCH] [v5, 12/12] app/test: enable subset of unit tests on Windows dpdklab
  -- strict thread matches above, loose matches on Subject: below --
2021-10-15 14:01 dpdklab
2021-10-14 11:27 dpdklab
2021-10-14  6:56 dpdklab
2021-10-14  6:42 dpdklab
2021-10-14  6:28 dpdklab
2021-10-14  5:45 dpdklab
2021-10-14  5:37 dpdklab
2021-10-14  5:36 dpdklab
2021-10-14  5:22 dpdklab

automatic DPDK test reports

This inbox may be cloned and mirrored by anyone:

	git clone --mirror http://inbox.dpdk.org/test-report/0 test-report/git/0.git

	# If you have public-inbox 1.1+ installed, you may
	# initialize and index your mirror using the following commands:
	public-inbox-init -V2 test-report test-report/ http://inbox.dpdk.org/test-report \
		test-report@dpdk.org
	public-inbox-index test-report

Example config snippet for mirrors.
Newsgroup available over NNTP:
	nntp://inbox.dpdk.org/inbox.dpdk.test-report


AGPL code for this site: git clone https://public-inbox.org/public-inbox.git