automatic DPDK test reports
 help / color / mirror / Atom feed
From: dpdklab@iol.unh.edu
To: Test Report <test-report@dpdk.org>
Cc: dpdklab@iol.unh.edu
Subject: [dpdk-test-report] |SUCCESS| pw101537-101547 [PATCH] [v5, 12/12] app/test: enable subset of unit tests on Windows
Date: Thu, 14 Oct 2021 01:45:54 -0400 (EDT)
Message-ID: <20211014054554.DA6F760524@noxus.dpdklab.iol.unh.edu> (raw)

[-- Attachment #1: Type: text/plain, Size: 2788 bytes --]

Test-Label: iol-x86_64-unit-testing
Test-Status: SUCCESS
http://dpdk.org/patch/101547

_Testing PASS_

Submitter: Jie Zhou <jizh@linux.microsoft.com>
Date: Thursday, October 14 2021 04:52:50 
DPDK git baseline: Repo:dpdk
  Branch: master
  CommitID:d75eed0fbe4b942bc6df2e2908a8b5c2c30c99aa

101537-101547 --> testing pass

Test environment and result as below:

+------------------+----------------+
|   Environment    | dpdk_unit_test |
+==================+================+
| CentOS 8         | PASS           |
+------------------+----------------+
| Ubuntu 18.04     | PASS           |
+------------------+----------------+
| Arch Linux       | PASS           |
+------------------+----------------+
| Fedora 31        | PASS           |
+------------------+----------------+
| CentOS Stream 8  | PASS           |
+------------------+----------------+
| Fedora 32        | PASS           |
+------------------+----------------+
| RHEL 7           | PASS           |
+------------------+----------------+
| openSUSE Leap 15 | PASS           |
+------------------+----------------+
| RHEL8            | PASS           |
+------------------+----------------+
| Ubuntu 20.04     | PASS           |
+------------------+----------------+
| Fedora 34        | PASS           |
+------------------+----------------+
| Fedora 33        | PASS           |
+------------------+----------------+
| Fedora 34 clang  | PASS           |
+------------------+----------------+


CentOS 8
	Kernel: 4.18.0-240.10.1.el8_3.x86_64
	Compiler: gcc 8.3.1 20191121 (Red Hat 8.3.1-5)

Ubuntu 18.04
	Kernel: 4.18.0-240.10.1.el8_3.x86_64
	Compiler: gcc 7.5.0-3ubuntu1~18.04

Arch Linux
	Kernel: 5.4.0-73-generic
	Compiler: gcc 11.1.0

Fedora 31
	Kernel: 4.18.0-240.10.1.el8_3.x86_64
	Compiler: gcc 9.3.1

CentOS Stream 8
	Kernel: 4.18.0-240.10.1.el8_3.x86_64
	Compiler: gcc 8.4.1 20200928

Fedora 32
	Kernel: 4.18.0-240.10.1.el8_3.x86_64
	Compiler: gcc 10.2.1

RHEL 7
	Kernel: 4.18.0-240.10.1.el8_3.x86_64
	Compiler: gcc 4.8.5 20150623 (Red Hat 4.8.5-44)

openSUSE Leap 15
	Kernel: 4.18.0-240.10.1.el8_3.x86_64
	Compiler: gcc 7.5.0

RHEL8
	Kernel: 4.18.0-240.10.1.el8_3.x86_64
	Compiler: gcc 8.3.1 20191121 (Red Hat 8.3.1-5)

Ubuntu 20.04
	Kernel: 4.18.0-240.10.1.el8_3.x86_64
	Compiler: gcc 9.3.0-17ubuntu1~20.04

Fedora 34
	Kernel: 5.4.0-72-generic
	Compiler: gcc 11.1.1 20210428 (Red Hat 11.1.1-1)

Fedora 33
	Kernel: 5.4.0-72-generic
	Compiler: gcc 10.3.1 20210422 (Red Hat 10.3.1-1)

Fedora 34 clang
	Kernel: 5.4.0-72-generic
	Compiler: clang 12.0.0 (Fedora 12.0.0-0.3.rc1.fc34)

To view detailed results, visit:
https://lab.dpdk.org/results/dashboard/patchsets/19402/

UNH-IOL DPDK Community Lab

To manage your email subscriptions, visit: 
https://lab.dpdk.org/results/dashboard/preferences/subscriptions/

             reply	other threads:[~2021-10-14  5:45 UTC|newest]

Thread overview: 10+ messages / expand[flat|nested]  mbox.gz  Atom feed  top
2021-10-14  5:45 dpdklab [this message]
  -- strict thread matches above, loose matches on Subject: below --
2021-10-15 14:01 dpdklab
2021-10-14 11:27 dpdklab
2021-10-14  6:56 dpdklab
2021-10-14  6:42 dpdklab
2021-10-14  6:28 dpdklab
2021-10-14  5:37 dpdklab
2021-10-14  5:36 dpdklab
2021-10-14  5:25 dpdklab
2021-10-14  5:22 dpdklab

Reply instructions:

You may reply publicly to this message via plain-text email
using any one of the following methods:

* Save the following mbox file, import it into your mail client,
  and reply-to-all from there: mbox

  Avoid top-posting and favor interleaved quoting:
  https://en.wikipedia.org/wiki/Posting_style#Interleaved_style

* Reply using the --to, --cc, and --in-reply-to
  switches of git-send-email(1):

  git send-email \
    --in-reply-to=20211014054554.DA6F760524@noxus.dpdklab.iol.unh.edu \
    --to=dpdklab@iol.unh.edu \
    --cc=test-report@dpdk.org \
    /path/to/YOUR_REPLY

  https://kernel.org/pub/software/scm/git/docs/git-send-email.html

* If your mail client supports setting the In-Reply-To header
  via mailto: links, try the mailto: link

automatic DPDK test reports

This inbox may be cloned and mirrored by anyone:

	git clone --mirror http://inbox.dpdk.org/test-report/0 test-report/git/0.git

	# If you have public-inbox 1.1+ installed, you may
	# initialize and index your mirror using the following commands:
	public-inbox-init -V2 test-report test-report/ http://inbox.dpdk.org/test-report \
		test-report@dpdk.org
	public-inbox-index test-report

Example config snippet for mirrors.
Newsgroup available over NNTP:
	nntp://inbox.dpdk.org/inbox.dpdk.test-report


AGPL code for this site: git clone https://public-inbox.org/public-inbox.git