Test-Label: checkpatch Test-Status: SUCCESS http://dpdk.org/patch/101551 _coding style OK_
[-- Attachment #1: Type: text/plain, Size: 787 bytes --] Test-Label: iol-intel-Functional Test-Status: SUCCESS http://dpdk.org/patch/101551 _Functional Testing PASS_ Submitter: Lior Margalit <lmargalit@nvidia.com> Date: Thursday, October 14 2021 06:21:36 DPDK git baseline: Repo:dpdk Branch: master CommitID:d75eed0fbe4b942bc6df2e2908a8b5c2c30c99aa 101551 --> functional testing pass Test environment and result as below: Ubuntu 20.04 Kernel: 4.15.0-generic Compiler: gcc 7.4 NIC: Intel Corporation Ethernet Converged Network Adapter 82599ES 10000 Mbps Target: x86_64-native-linuxapp-gcc Fail/Total: 0/2 To view detailed results, visit: https://lab.dpdk.org/results/dashboard/patchsets/19403/ UNH-IOL DPDK Community Lab To manage your email subscriptions, visit: https://lab.dpdk.org/results/dashboard/preferences/subscriptions/
[-- Attachment #1: Type: text/plain, Size: 795 bytes --] Test-Label: iol-broadcom-Functional Test-Status: SUCCESS http://dpdk.org/patch/101551 _Functional Testing PASS_ Submitter: Lior Margalit <lmargalit@nvidia.com> Date: Thursday, October 14 2021 06:21:36 DPDK git baseline: Repo:dpdk Branch: master CommitID:d75eed0fbe4b942bc6df2e2908a8b5c2c30c99aa 101551 --> functional testing pass Test environment and result as below: Ubuntu 20.04 Kernel: 4.15.0-65-generic Compiler: gcc gcc (Ubuntu 7.4.0-1ubuntu1~18.04.1) 7.4.0 NIC: Broadcom Inc. brcm_57414 25000 Mbps Target: x86_64-native-linuxapp-gcc Fail/Total: 0/3 To view detailed results, visit: https://lab.dpdk.org/results/dashboard/patchsets/19403/ UNH-IOL DPDK Community Lab To manage your email subscriptions, visit: https://lab.dpdk.org/results/dashboard/preferences/subscriptions/
[-- Attachment #1: Type: text/plain, Size: 1794 bytes --] Test-Label: iol-intel-Performance Test-Status: SUCCESS http://dpdk.org/patch/101551 _Performance Testing PASS_ Submitter: Lior Margalit <lmargalit@nvidia.com> Date: Thursday, October 14 2021 06:21:36 DPDK git baseline: Repo:dpdk Branch: master CommitID:d75eed0fbe4b942bc6df2e2908a8b5c2c30c99aa 101551 --> performance testing pass Test environment and result as below: Ubuntu 20.04 Kernel: 4.15.0-generic Compiler: gcc 7.4 NIC: Intel Corporation Ethernet Converged Network Adapter XL710-QDA2 40000 Mbps Target: x86_64-native-linuxapp-gcc Fail/Total: 0/4 Detail performance results: +------------+---------+----------+-------------+------------------------------+ | frame_size | txd/rxd | num_cpus | num_threads | throughput difference from | | | | | | expected | +============+=========+==========+=============+==============================+ | 64 | 512 | 1 | 1 | -0.4% | +------------+---------+----------+-------------+------------------------------+ | 64 | 2048 | 1 | 1 | 0.2% | +------------+---------+----------+-------------+------------------------------+ | 64 | 512 | 1 | 2 | -3.8% | +------------+---------+----------+-------------+------------------------------+ | 64 | 2048 | 1 | 2 | 0.1% | +------------+---------+----------+-------------+------------------------------+ To view detailed results, visit: https://lab.dpdk.org/results/dashboard/patchsets/19403/ UNH-IOL DPDK Community Lab To manage your email subscriptions, visit: https://lab.dpdk.org/results/dashboard/preferences/subscriptions/
[-- Attachment #1: Type: text/plain, Size: 1799 bytes --] Test-Label: iol-broadcom-Performance Test-Status: SUCCESS http://dpdk.org/patch/101551 _Performance Testing PASS_ Submitter: Lior Margalit <lmargalit@nvidia.com> Date: Thursday, October 14 2021 06:21:36 DPDK git baseline: Repo:dpdk Branch: master CommitID:d75eed0fbe4b942bc6df2e2908a8b5c2c30c99aa 101551 --> performance testing pass Test environment and result as below: Ubuntu 20.04 Kernel: 4.15.0-65-generic Compiler: gcc gcc (Ubuntu 7.4.0-1ubuntu1~18.04.1) 7.4.0 NIC: Broadcom Inc. brcm_57414 25000 Mbps Target: x86_64-native-linuxapp-gcc Fail/Total: 0/4 Detail performance results: +----------+-------------+---------+------------+------------------------------+ | num_cpus | num_threads | txd/rxd | frame_size | throughput difference from | | | | | | expected | +==========+=============+=========+============+==============================+ | 1 | 2 | 512 | 64 | -0.0% | +----------+-------------+---------+------------+------------------------------+ | 1 | 2 | 2048 | 64 | 0.0% | +----------+-------------+---------+------------+------------------------------+ | 1 | 1 | 512 | 64 | 0.0% | +----------+-------------+---------+------------+------------------------------+ | 1 | 1 | 2048 | 64 | 0.0% | +----------+-------------+---------+------------+------------------------------+ To view detailed results, visit: https://lab.dpdk.org/results/dashboard/patchsets/19403/ UNH-IOL DPDK Community Lab To manage your email subscriptions, visit: https://lab.dpdk.org/results/dashboard/preferences/subscriptions/
[-- Attachment #1: Type: text/plain, Size: 974 bytes --] Test-Label: iol-intel-Functional Test-Status: SUCCESS http://dpdk.org/patch/101551 _Functional Testing PASS_ Submitter: Lior Margalit <lmargalit@nvidia.com> Date: Thursday, October 14 2021 06:21:36 DPDK git baseline: Repo:dpdk Branch: master CommitID:d75eed0fbe4b942bc6df2e2908a8b5c2c30c99aa 101551 --> functional testing pass Test environment and result as below: Ubuntu 20.04 Kernel: 4.15.0-generic Compiler: gcc 7.4 NIC: Intel Corporation Ethernet Converged Network Adapter 82599ES 10000 Mbps Target: x86_64-native-linuxapp-gcc Fail/Total: 0/2 Ubuntu 20.04 Kernel: 4.15.0-generic Compiler: gcc 7.4 NIC: Intel Corporation Ethernet Converged Network Adapter XL710-QDA2 40000 Mbps Target: x86_64-native-linuxapp-gcc Fail/Total: 0/2 To view detailed results, visit: https://lab.dpdk.org/results/dashboard/patchsets/19403/ UNH-IOL DPDK Community Lab To manage your email subscriptions, visit: https://lab.dpdk.org/results/dashboard/preferences/subscriptions/
[-- Attachment #1: Type: text/plain, Size: 2979 bytes --] Test-Label: iol-intel-Performance Test-Status: SUCCESS http://dpdk.org/patch/101551 _Performance Testing PASS_ Submitter: Lior Margalit <lmargalit@nvidia.com> Date: Thursday, October 14 2021 06:21:36 DPDK git baseline: Repo:dpdk Branch: master CommitID:d75eed0fbe4b942bc6df2e2908a8b5c2c30c99aa 101551 --> performance testing pass Test environment and result as below: Ubuntu 20.04 Kernel: 4.15.0-generic Compiler: gcc 7.4 NIC: Intel Corporation Ethernet Converged Network Adapter XL710-QDA2 40000 Mbps Target: x86_64-native-linuxapp-gcc Fail/Total: 0/4 Detail performance results: +------------+---------+----------+-------------+------------------------------+ | frame_size | txd/rxd | num_cpus | num_threads | throughput difference from | | | | | | expected | +============+=========+==========+=============+==============================+ | 64 | 512 | 1 | 1 | -0.4% | +------------+---------+----------+-------------+------------------------------+ | 64 | 2048 | 1 | 1 | 0.2% | +------------+---------+----------+-------------+------------------------------+ | 64 | 512 | 1 | 2 | -3.8% | +------------+---------+----------+-------------+------------------------------+ | 64 | 2048 | 1 | 2 | 0.1% | +------------+---------+----------+-------------+------------------------------+ Ubuntu 20.04 Kernel: 4.15.0-generic Compiler: gcc 7.4 NIC: Intel Corporation Ethernet Converged Network Adapter 82599ES 10000 Mbps Target: x86_64-native-linuxapp-gcc Fail/Total: 0/4 Detail performance results: +------------+---------+----------+-------------+------------------------------+ | frame_size | txd/rxd | num_cpus | num_threads | throughput difference from | | | | | | expected | +============+=========+==========+=============+==============================+ | 64 | 512 | 1 | 1 | -0.4% | +------------+---------+----------+-------------+------------------------------+ | 64 | 2048 | 1 | 1 | 0.2% | +------------+---------+----------+-------------+------------------------------+ | 64 | 512 | 1 | 2 | -0.1% | +------------+---------+----------+-------------+------------------------------+ | 64 | 2048 | 1 | 2 | -0.2% | +------------+---------+----------+-------------+------------------------------+ To view detailed results, visit: https://lab.dpdk.org/results/dashboard/patchsets/19403/ UNH-IOL DPDK Community Lab To manage your email subscriptions, visit: https://lab.dpdk.org/results/dashboard/preferences/subscriptions/
[-- Attachment #1: Type: text/plain, Size: 1916 bytes --] Test-Label: iol-mellanox-Performance Test-Status: SUCCESS http://dpdk.org/patch/101551 _Performance Testing PASS_ Submitter: Lior Margalit <lmargalit@nvidia.com> Date: Thursday, October 14 2021 06:21:36 DPDK git baseline: Repo:dpdk Branch: master CommitID:d75eed0fbe4b942bc6df2e2908a8b5c2c30c99aa 101551 --> performance testing pass Test environment and result as below: Ubuntu 20.04 Kernel: 4.15.0-generic Compiler: gcc 7.4 NIC: Mellanox ConnectX-5 100000 Mbps Target: x86_64-native-linuxapp-gcc Fail/Total: 0/5 Detail performance results: +------------+---------+----------+-------------+------------------------------+ | frame_size | txd/rxd | num_cpus | num_threads | throughput difference from | | | | | | expected | +============+=========+==========+=============+==============================+ | 64 | 256 | 1 | 1 | 0.2% | +------------+---------+----------+-------------+------------------------------+ | 128 | 256 | 1 | 1 | -0.2% | +------------+---------+----------+-------------+------------------------------+ | 1024 | 256 | 1 | 1 | 0.1% | +------------+---------+----------+-------------+------------------------------+ | 256 | 256 | 1 | 1 | 0.0% | +------------+---------+----------+-------------+------------------------------+ | 1518 | 256 | 1 | 1 | -0.2% | +------------+---------+----------+-------------+------------------------------+ To view detailed results, visit: https://lab.dpdk.org/results/dashboard/patchsets/19403/ UNH-IOL DPDK Community Lab To manage your email subscriptions, visit: https://lab.dpdk.org/results/dashboard/preferences/subscriptions/
[-- Attachment #1: Type: text/plain, Size: 2782 bytes --] Test-Label: iol-x86_64-unit-testing Test-Status: SUCCESS http://dpdk.org/patch/101551 _Testing PASS_ Submitter: Lior Margalit <lmargalit@nvidia.com> Date: Thursday, October 14 2021 06:21:36 DPDK git baseline: Repo:dpdk Branch: master CommitID:d75eed0fbe4b942bc6df2e2908a8b5c2c30c99aa 101551 --> testing pass Test environment and result as below: +------------------+----------------+ | Environment | dpdk_unit_test | +==================+================+ | Arch Linux | PASS | +------------------+----------------+ | Ubuntu 18.04 | PASS | +------------------+----------------+ | CentOS 8 | PASS | +------------------+----------------+ | CentOS Stream 8 | PASS | +------------------+----------------+ | Fedora 31 | PASS | +------------------+----------------+ | Fedora 32 | PASS | +------------------+----------------+ | openSUSE Leap 15 | PASS | +------------------+----------------+ | RHEL 7 | PASS | +------------------+----------------+ | RHEL8 | PASS | +------------------+----------------+ | Ubuntu 20.04 | PASS | +------------------+----------------+ | Fedora 34 | PASS | +------------------+----------------+ | Fedora 33 | PASS | +------------------+----------------+ | Fedora 34 clang | PASS | +------------------+----------------+ Arch Linux Kernel: 5.4.0-73-generic Compiler: gcc 11.1.0 Ubuntu 18.04 Kernel: 4.18.0-240.10.1.el8_3.x86_64 Compiler: gcc 7.5.0-3ubuntu1~18.04 CentOS 8 Kernel: 4.18.0-240.10.1.el8_3.x86_64 Compiler: gcc 8.3.1 20191121 (Red Hat 8.3.1-5) CentOS Stream 8 Kernel: 4.18.0-240.10.1.el8_3.x86_64 Compiler: gcc 8.4.1 20200928 Fedora 31 Kernel: 4.18.0-240.10.1.el8_3.x86_64 Compiler: gcc 9.3.1 Fedora 32 Kernel: 4.18.0-240.10.1.el8_3.x86_64 Compiler: gcc 10.2.1 openSUSE Leap 15 Kernel: 4.18.0-240.10.1.el8_3.x86_64 Compiler: gcc 7.5.0 RHEL 7 Kernel: 4.18.0-240.10.1.el8_3.x86_64 Compiler: gcc 4.8.5 20150623 (Red Hat 4.8.5-44) RHEL8 Kernel: 4.18.0-240.10.1.el8_3.x86_64 Compiler: gcc 8.3.1 20191121 (Red Hat 8.3.1-5) Ubuntu 20.04 Kernel: 4.18.0-240.10.1.el8_3.x86_64 Compiler: gcc 9.3.0-17ubuntu1~20.04 Fedora 34 Kernel: 5.4.0-72-generic Compiler: gcc 11.1.1 20210428 (Red Hat 11.1.1-1) Fedora 33 Kernel: 5.4.0-72-generic Compiler: gcc 10.3.1 20210422 (Red Hat 10.3.1-1) Fedora 34 clang Kernel: 5.4.0-72-generic Compiler: clang 12.0.0 (Fedora 12.0.0-0.3.rc1.fc34) To view detailed results, visit: https://lab.dpdk.org/results/dashboard/patchsets/19403/ UNH-IOL DPDK Community Lab To manage your email subscriptions, visit: https://lab.dpdk.org/results/dashboard/preferences/subscriptions/
[-- Attachment #1: Type: text/plain, Size: 4984 bytes --] Test-Label: iol-x86_64-compile-testing Test-Status: SUCCESS http://dpdk.org/patch/101551 _Testing PASS_ Submitter: Lior Margalit <lmargalit@nvidia.com> Date: Thursday, October 14 2021 06:21:36 DPDK git baseline: Repo:dpdk Branch: master CommitID:d75eed0fbe4b942bc6df2e2908a8b5c2c30c99aa 101551 --> testing pass Test environment and result as below: +---------------------+--------------------+-------------------+----------------------+ | Environment | dpdk_meson_compile | dpdk_compile_spdk | dpdk_mingw64_compile | +=====================+====================+===================+======================+ | Windows Server 2019 | PASS | SKIPPED | PASS | +---------------------+--------------------+-------------------+----------------------+ | Fedora 31 | PASS | SKIPPED | SKIPPED | +---------------------+--------------------+-------------------+----------------------+ | openSUSE Leap 15 | PASS | SKIPPED | SKIPPED | +---------------------+--------------------+-------------------+----------------------+ | FreeBSD 13 | PASS | SKIPPED | SKIPPED | +---------------------+--------------------+-------------------+----------------------+ | CentOS 8 | PASS | SKIPPED | SKIPPED | +---------------------+--------------------+-------------------+----------------------+ | Fedora 32 | PASS | SKIPPED | SKIPPED | +---------------------+--------------------+-------------------+----------------------+ | Ubuntu 18.04 | PASS | PASS | SKIPPED | +---------------------+--------------------+-------------------+----------------------+ | Ubuntu 20.04 | PASS | SKIPPED | SKIPPED | +---------------------+--------------------+-------------------+----------------------+ | CentOS Stream 8 | PASS | SKIPPED | SKIPPED | +---------------------+--------------------+-------------------+----------------------+ | RHEL 7 | PASS | SKIPPED | SKIPPED | +---------------------+--------------------+-------------------+----------------------+ | RHEL8 | PASS | SKIPPED | SKIPPED | +---------------------+--------------------+-------------------+----------------------+ | Arch Linux | PASS | SKIPPED | SKIPPED | +---------------------+--------------------+-------------------+----------------------+ | Fedora 34 | PASS | SKIPPED | SKIPPED | +---------------------+--------------------+-------------------+----------------------+ | Fedora 33 | PASS | SKIPPED | SKIPPED | +---------------------+--------------------+-------------------+----------------------+ | Alpine | PASS | SKIPPED | SKIPPED | +---------------------+--------------------+-------------------+----------------------+ | Fedora 34 clang | PASS | SKIPPED | SKIPPED | +---------------------+--------------------+-------------------+----------------------+ Windows Server 2019 Kernel: 10.0 Compiler: clang 9.0 and gcc 8.1.0 (MinGW) Fedora 31 Kernel: 4.18.0-240.10.1.el8_3.x86_64 Compiler: gcc 9.3.1 openSUSE Leap 15 Kernel: 4.18.0-240.10.1.el8_3.x86_64 Compiler: gcc 7.5.0 FreeBSD 13 Kernel: 13.0 Compiler: clang 11.0.1 CentOS 8 Kernel: 4.18.0-240.10.1.el8_3.x86_64 Compiler: gcc 8.3.1 20191121 (Red Hat 8.3.1-5) Fedora 32 Kernel: 4.18.0-240.10.1.el8_3.x86_64 Compiler: gcc 10.2.1 Ubuntu 18.04 Kernel: 4.18.0-240.10.1.el8_3.x86_64 Compiler: gcc 7.5.0-3ubuntu1~18.04 Ubuntu 20.04 Kernel: 4.18.0-240.10.1.el8_3.x86_64 Compiler: gcc 9.3.0-17ubuntu1~20.04 CentOS Stream 8 Kernel: 4.18.0-240.10.1.el8_3.x86_64 Compiler: gcc 8.4.1 20200928 RHEL 7 Kernel: 4.18.0-240.10.1.el8_3.x86_64 Compiler: gcc 4.8.5 20150623 (Red Hat 4.8.5-44) RHEL8 Kernel: 4.18.0-240.10.1.el8_3.x86_64 Compiler: gcc 8.3.1 20191121 (Red Hat 8.3.1-5) Arch Linux Kernel: 5.4.0-73-generic Compiler: gcc 11.1.0 Fedora 34 Kernel: 5.4.0-72-generic Compiler: gcc 11.1.1 20210428 (Red Hat 11.1.1-1) Fedora 33 Kernel: 5.4.0-72-generic Compiler: gcc 10.3.1 20210422 (Red Hat 10.3.1-1) Alpine Kernel: 5.4.0-73-generic Compiler: gcc (Alpine 10.3.1_git20210424) 10.3.1 20210424 Fedora 34 clang Kernel: 5.4.0-72-generic Compiler: clang 12.0.0 (Fedora 12.0.0-0.3.rc1.fc34) To view detailed results, visit: https://lab.dpdk.org/results/dashboard/patchsets/19403/ UNH-IOL DPDK Community Lab To manage your email subscriptions, visit: https://lab.dpdk.org/results/dashboard/preferences/subscriptions/
[-- Attachment #1: Type: text/plain, Size: 3225 bytes --] Test-Label: iol-mellanox-Performance Test-Status: SUCCESS http://dpdk.org/patch/101551 _Performance Testing PASS_ Submitter: Lior Margalit <lmargalit@nvidia.com> Date: Thursday, October 14 2021 06:21:36 DPDK git baseline: Repo:dpdk Branch: master CommitID:d75eed0fbe4b942bc6df2e2908a8b5c2c30c99aa 101551 --> performance testing pass Test environment and result as below: Ubuntu 20.04 Kernel: 4.15.0-generic Compiler: gcc 7.4 NIC: Mellanox ConnectX-5 100000 Mbps Target: x86_64-native-linuxapp-gcc Fail/Total: 0/5 Detail performance results: +------------+---------+----------+-------------+------------------------------+ | frame_size | txd/rxd | num_cpus | num_threads | throughput difference from | | | | | | expected | +============+=========+==========+=============+==============================+ | 64 | 256 | 1 | 1 | 0.2% | +------------+---------+----------+-------------+------------------------------+ | 128 | 256 | 1 | 1 | -0.2% | +------------+---------+----------+-------------+------------------------------+ | 1024 | 256 | 1 | 1 | 0.1% | +------------+---------+----------+-------------+------------------------------+ | 256 | 256 | 1 | 1 | 0.0% | +------------+---------+----------+-------------+------------------------------+ | 1518 | 256 | 1 | 1 | -0.2% | +------------+---------+----------+-------------+------------------------------+ Ubuntu 20.04 Kernel: 4.15.0-generic Compiler: gcc 7.4 NIC: Mellanox ConnectX-4 Lx 25000 Mbps Target: x86_64-native-linuxapp-gcc Fail/Total: 0/5 Detail performance results: +------------+---------+----------+-------------+------------------------------+ | frame_size | txd/rxd | num_cpus | num_threads | throughput difference from | | | | | | expected | +============+=========+==========+=============+==============================+ | 64 | 256 | 1 | 1 | -0.6% | +------------+---------+----------+-------------+------------------------------+ | 128 | 256 | 1 | 1 | 0.2% | +------------+---------+----------+-------------+------------------------------+ | 1024 | 256 | 1 | 1 | -0.2% | +------------+---------+----------+-------------+------------------------------+ | 256 | 256 | 1 | 1 | 0.1% | +------------+---------+----------+-------------+------------------------------+ | 1518 | 256 | 1 | 1 | 0.0% | +------------+---------+----------+-------------+------------------------------+ To view detailed results, visit: https://lab.dpdk.org/results/dashboard/patchsets/19403/ UNH-IOL DPDK Community Lab To manage your email subscriptions, visit: https://lab.dpdk.org/results/dashboard/preferences/subscriptions/
[-- Attachment #1: Type: text/plain, Size: 4534 bytes --] Test-Label: iol-mellanox-Performance Test-Status: SUCCESS http://dpdk.org/patch/101551 _Performance Testing PASS_ Submitter: Lior Margalit <lmargalit@nvidia.com> Date: Thursday, October 14 2021 06:21:36 DPDK git baseline: Repo:dpdk Branch: master CommitID:d75eed0fbe4b942bc6df2e2908a8b5c2c30c99aa 101551 --> performance testing pass Test environment and result as below: Ubuntu 20.04 Kernel: 4.15.0-generic Compiler: gcc 7.4 NIC: Mellanox ConnectX-5 100000 Mbps Target: x86_64-native-linuxapp-gcc Fail/Total: 0/5 Detail performance results: +------------+---------+----------+-------------+------------------------------+ | frame_size | txd/rxd | num_cpus | num_threads | throughput difference from | | | | | | expected | +============+=========+==========+=============+==============================+ | 64 | 256 | 1 | 1 | 0.2% | +------------+---------+----------+-------------+------------------------------+ | 128 | 256 | 1 | 1 | -0.2% | +------------+---------+----------+-------------+------------------------------+ | 1024 | 256 | 1 | 1 | 0.1% | +------------+---------+----------+-------------+------------------------------+ | 256 | 256 | 1 | 1 | 0.0% | +------------+---------+----------+-------------+------------------------------+ | 1518 | 256 | 1 | 1 | -0.2% | +------------+---------+----------+-------------+------------------------------+ Ubuntu 20.04 Kernel: 4.15.0-generic Compiler: gcc 7.4 NIC: Mellanox ConnectX-4 Lx 25000 Mbps Target: x86_64-native-linuxapp-gcc Fail/Total: 0/5 Detail performance results: +------------+---------+----------+-------------+------------------------------+ | frame_size | txd/rxd | num_cpus | num_threads | throughput difference from | | | | | | expected | +============+=========+==========+=============+==============================+ | 64 | 256 | 1 | 1 | -0.6% | +------------+---------+----------+-------------+------------------------------+ | 128 | 256 | 1 | 1 | 0.2% | +------------+---------+----------+-------------+------------------------------+ | 1024 | 256 | 1 | 1 | -0.2% | +------------+---------+----------+-------------+------------------------------+ | 256 | 256 | 1 | 1 | 0.1% | +------------+---------+----------+-------------+------------------------------+ | 1518 | 256 | 1 | 1 | 0.0% | +------------+---------+----------+-------------+------------------------------+ Ubuntu 20.04 Kernel: 4.15.0-generic Compiler: gcc 7.4 NIC: Mellanox ConnectX-4 Lx 40000 Mbps Target: x86_64-native-linuxapp-gcc Fail/Total: 0/5 Detail performance results: +------------+---------+----------+-------------+------------------------------+ | frame_size | txd/rxd | num_cpus | num_threads | throughput difference from | | | | | | expected | +============+=========+==========+=============+==============================+ | 64 | 256 | 1 | 1 | 0.8% | +------------+---------+----------+-------------+------------------------------+ | 128 | 256 | 1 | 1 | 0.7% | +------------+---------+----------+-------------+------------------------------+ | 1024 | 256 | 1 | 1 | -0.0% | +------------+---------+----------+-------------+------------------------------+ | 256 | 256 | 1 | 1 | 0.0% | +------------+---------+----------+-------------+------------------------------+ | 1518 | 256 | 1 | 1 | -0.0% | +------------+---------+----------+-------------+------------------------------+ To view detailed results, visit: https://lab.dpdk.org/results/dashboard/patchsets/19403/ UNH-IOL DPDK Community Lab To manage your email subscriptions, visit: https://lab.dpdk.org/results/dashboard/preferences/subscriptions/
[-- Attachment #1: Type: text/plain, Size: 840 bytes --] Test-Label: iol-aarch64-unit-testing Test-Status: SUCCESS http://dpdk.org/patch/101551 _Testing PASS_ Submitter: Lior Margalit <lmargalit@nvidia.com> Date: Thursday, October 14 2021 06:21:36 DPDK git baseline: Repo:dpdk Branch: master CommitID:d75eed0fbe4b942bc6df2e2908a8b5c2c30c99aa 101551 --> testing pass Test environment and result as below: +------------------+----------------+ | Environment | dpdk_unit_test | +==================+================+ | Ubuntu 20.04 ARM | PASS | +------------------+----------------+ Ubuntu 20.04 ARM Kernel: 5.4.0-53-generic Compiler: gcc 9.3 To view detailed results, visit: https://lab.dpdk.org/results/dashboard/patchsets/19403/ UNH-IOL DPDK Community Lab To manage your email subscriptions, visit: https://lab.dpdk.org/results/dashboard/preferences/subscriptions/
[-- Attachment #1: Type: text/plain, Size: 1205 bytes --] Test-Label: iol-aarch64-compile-testing Test-Status: SUCCESS http://dpdk.org/patch/101551 _Testing PASS_ Submitter: Lior Margalit <lmargalit@nvidia.com> Date: Thursday, October 14 2021 06:21:36 DPDK git baseline: Repo:dpdk Branch: master CommitID:d75eed0fbe4b942bc6df2e2908a8b5c2c30c99aa 101551 --> testing pass Test environment and result as below: +------------------------------------+--------------------+ | Environment | dpdk_meson_compile | +====================================+====================+ | Ubuntu 20.04 ARM | PASS | +------------------------------------+--------------------+ | Ubuntu 20.04 ARM cross-compilation | PASS | +------------------------------------+--------------------+ Ubuntu 20.04 ARM Kernel: 5.4.0-53-generic Compiler: gcc 9.3 Ubuntu 20.04 ARM cross-compilation Kernel: 5.4.0-72-generic Compiler: aarch64-linux-gnu-gcc (Ubuntu 9.3.0-17ubuntu1~20.04) 9.3.0 To view detailed results, visit: https://lab.dpdk.org/results/dashboard/patchsets/19403/ UNH-IOL DPDK Community Lab To manage your email subscriptions, visit: https://lab.dpdk.org/results/dashboard/preferences/subscriptions/