* |SUCCESS| pw104227 [PATCH] [v3] examples/flow_filtering: fix wrong comment
@ 2021-11-12 7:30 dpdklab
0 siblings, 0 replies; 13+ messages in thread
From: dpdklab @ 2021-11-12 7:30 UTC (permalink / raw)
To: Ajit Khaparde, Test Report; +Cc: dpdk-test-reports
[-- Attachment #1: Type: text/plain, Size: 1793 bytes --]
Test-Label: iol-broadcom-Performance
Test-Status: SUCCESS
http://dpdk.org/patch/104227
_Performance Testing PASS_
Submitter: Joyce Kong <joyce.kong@arm.com>
Date: Friday, November 12 2021 06:37:03
DPDK git baseline: Repo:dpdk
Branch: master
CommitID:19d024003dfce0018c9e52635b78efdc6e1c172a
104227 --> performance testing pass
Test environment and result as below:
Ubuntu 20.04
Kernel: 4.15.0-65-generic
Compiler: gcc gcc (Ubuntu 7.4.0-1ubuntu1~18.04.1) 7.4.0
NIC: Broadcom Inc. brcm_57414 25000 Mbps
Target: x86_64-native-linuxapp-gcc
Fail/Total: 0/4
Detail performance results:
+----------+-------------+---------+------------+------------------------------+
| num_cpus | num_threads | txd/rxd | frame_size | throughput difference from |
| | | | | expected |
+==========+=============+=========+============+==============================+
| 1 | 2 | 512 | 64 | 0.3% |
+----------+-------------+---------+------------+------------------------------+
| 1 | 2 | 2048 | 64 | -0.1% |
+----------+-------------+---------+------------+------------------------------+
| 1 | 1 | 512 | 64 | 0.0% |
+----------+-------------+---------+------------+------------------------------+
| 1 | 1 | 2048 | 64 | -0.0% |
+----------+-------------+---------+------------+------------------------------+
To view detailed results, visit:
https://lab.dpdk.org/results/dashboard/patchsets/20175/
UNH-IOL DPDK Community Lab
To manage your email subscriptions, visit:
https://lab.dpdk.org/results/dashboard/preferences/subscriptions/
^ permalink raw reply [flat|nested] 13+ messages in thread
* |SUCCESS| pw104227 [PATCH] [v3] examples/flow_filtering: fix wrong comment
@ 2021-11-12 8:04 dpdklab
0 siblings, 0 replies; 13+ messages in thread
From: dpdklab @ 2021-11-12 8:04 UTC (permalink / raw)
To: Test Report; +Cc: dpdk-test-reports
[-- Attachment #1: Type: text/plain, Size: 1167 bytes --]
Test-Label: iol-intel-Functional
Test-Status: SUCCESS
http://dpdk.org/patch/104227
_Functional Testing PASS_
Submitter: Joyce Kong <joyce.kong@arm.com>
Date: Friday, November 12 2021 06:37:03
DPDK git baseline: Repo:dpdk
Branch: master
CommitID:19d024003dfce0018c9e52635b78efdc6e1c172a
104227 --> functional testing pass
Test environment and result as below:
Ubuntu 20.04
Kernel: 4.15.0-generic
Compiler: gcc 7.4
NIC: Intel Corporation Ethernet Converged Network Adapter XL710-QDA2 40000 Mbps
Target: x86_64-native-linuxapp-gcc
Fail/Total: 0/2
Ubuntu 20.04
Kernel: 4.15.0-generic
Compiler: gcc 7.4
NIC: Intel Corporation Ethernet Converged Network Adapter 82599ES 10000 Mbps
Target: x86_64-native-linuxapp-gcc
Fail/Total: 0/2
Ubuntu 20.04 ARM
Kernel: 4.15.0-132-generic
Compiler: gcc 7.5
NIC: Arm Intel Corporation Ethernet Converged Network Adapter XL710-QDA2 40000 Mbps
Target: x86_64-native-linuxapp-gcc
Fail/Total: 0/2
To view detailed results, visit:
https://lab.dpdk.org/results/dashboard/patchsets/20175/
UNH-IOL DPDK Community Lab
To manage your email subscriptions, visit:
https://lab.dpdk.org/results/dashboard/preferences/subscriptions/
^ permalink raw reply [flat|nested] 13+ messages in thread
* |SUCCESS| pw104227 [PATCH] [v3] examples/flow_filtering: fix wrong comment
@ 2021-11-12 7:52 dpdklab
0 siblings, 0 replies; 13+ messages in thread
From: dpdklab @ 2021-11-12 7:52 UTC (permalink / raw)
To: Test Report; +Cc: dpdk-test-reports
[-- Attachment #1: Type: text/plain, Size: 3849 bytes --]
Test-Label: iol-intel-Performance
Test-Status: SUCCESS
http://dpdk.org/patch/104227
_Performance Testing PASS_
Submitter: Joyce Kong <joyce.kong@arm.com>
Date: Friday, November 12 2021 06:37:03
DPDK git baseline: Repo:dpdk
Branch: master
CommitID:19d024003dfce0018c9e52635b78efdc6e1c172a
104227 --> performance testing pass
Test environment and result as below:
Ubuntu 20.04
Kernel: 4.15.0-generic
Compiler: gcc 7.4
NIC: Intel Corporation Ethernet Converged Network Adapter XL710-QDA2 40000 Mbps
Target: x86_64-native-linuxapp-gcc
Fail/Total: 0/4
Detail performance results:
+------------+---------+----------+-------------+------------------------------+
| frame_size | txd/rxd | num_cpus | num_threads | throughput difference from |
| | | | | expected |
+============+=========+==========+=============+==============================+
| 64 | 512 | 1 | 1 | -0.4% |
+------------+---------+----------+-------------+------------------------------+
| 64 | 2048 | 1 | 1 | 0.5% |
+------------+---------+----------+-------------+------------------------------+
| 64 | 512 | 1 | 2 | -0.1% |
+------------+---------+----------+-------------+------------------------------+
| 64 | 2048 | 1 | 2 | -3.7% |
+------------+---------+----------+-------------+------------------------------+
Ubuntu 20.04
Kernel: 4.15.0-generic
Compiler: gcc 7.4
NIC: Intel Corporation Ethernet Converged Network Adapter 82599ES 10000 Mbps
Target: x86_64-native-linuxapp-gcc
Fail/Total: 0/4
Detail performance results:
+------------+---------+----------+-------------+------------------------------+
| frame_size | txd/rxd | num_cpus | num_threads | throughput difference from |
| | | | | expected |
+============+=========+==========+=============+==============================+
| 64 | 512 | 1 | 1 | 0.0% |
+------------+---------+----------+-------------+------------------------------+
| 64 | 2048 | 1 | 1 | -0.6% |
+------------+---------+----------+-------------+------------------------------+
| 64 | 512 | 1 | 2 | 0.2% |
+------------+---------+----------+-------------+------------------------------+
| 64 | 2048 | 1 | 2 | 0.6% |
+------------+---------+----------+-------------+------------------------------+
Ubuntu 20.04 ARM
Kernel: 4.15.0-132-generic
Compiler: gcc 7.5
NIC: Arm Intel Corporation Ethernet Converged Network Adapter XL710-QDA2 40000 Mbps
Target: x86_64-native-linuxapp-gcc
Fail/Total: 0/2
Detail performance results:
+------------+---------+----------+-------------+------------------------------+
| frame_size | txd/rxd | num_cpus | num_threads | throughput difference from |
| | | | | expected |
+============+=========+==========+=============+==============================+
| 64 | 512 | 1 | 1 | -0.1% |
+------------+---------+----------+-------------+------------------------------+
| 64 | 2048 | 1 | 1 | -0.1% |
+------------+---------+----------+-------------+------------------------------+
To view detailed results, visit:
https://lab.dpdk.org/results/dashboard/patchsets/20175/
UNH-IOL DPDK Community Lab
To manage your email subscriptions, visit:
https://lab.dpdk.org/results/dashboard/preferences/subscriptions/
^ permalink raw reply [flat|nested] 13+ messages in thread
* |SUCCESS| pw104227 [PATCH] [v3] examples/flow_filtering: fix wrong comment
@ 2021-11-12 7:50 dpdklab
0 siblings, 0 replies; 13+ messages in thread
From: dpdklab @ 2021-11-12 7:50 UTC (permalink / raw)
To: Test Report; +Cc: dpdklab
[-- Attachment #1: Type: text/plain, Size: 1199 bytes --]
Test-Label: iol-aarch64-compile-testing
Test-Status: SUCCESS
http://dpdk.org/patch/104227
_Testing PASS_
Submitter: Joyce Kong <joyce.kong@arm.com>
Date: Friday, November 12 2021 06:37:03
DPDK git baseline: Repo:dpdk
Branch: master
CommitID:19d024003dfce0018c9e52635b78efdc6e1c172a
104227 --> testing pass
Test environment and result as below:
+------------------------------------+--------------------+
| Environment | dpdk_meson_compile |
+====================================+====================+
| Ubuntu 20.04 ARM | PASS |
+------------------------------------+--------------------+
| Ubuntu 20.04 ARM cross-compilation | PASS |
+------------------------------------+--------------------+
Ubuntu 20.04 ARM
Kernel: 5.4.0-53-generic
Compiler: gcc 9.3
Ubuntu 20.04 ARM cross-compilation
Kernel: 5.4.0-72-generic
Compiler: aarch64-linux-gnu-gcc (Ubuntu 9.3.0-17ubuntu1~20.04) 9.3.0
To view detailed results, visit:
https://lab.dpdk.org/results/dashboard/patchsets/20175/
UNH-IOL DPDK Community Lab
To manage your email subscriptions, visit:
https://lab.dpdk.org/results/dashboard/preferences/subscriptions/
^ permalink raw reply [flat|nested] 13+ messages in thread
* |SUCCESS| pw104227 [PATCH] [v3] examples/flow_filtering: fix wrong comment
@ 2021-11-12 7:32 dpdklab
0 siblings, 0 replies; 13+ messages in thread
From: dpdklab @ 2021-11-12 7:32 UTC (permalink / raw)
To: Test Report; +Cc: dpdk-test-reports
[-- Attachment #1: Type: text/plain, Size: 2973 bytes --]
Test-Label: iol-intel-Performance
Test-Status: SUCCESS
http://dpdk.org/patch/104227
_Performance Testing PASS_
Submitter: Joyce Kong <joyce.kong@arm.com>
Date: Friday, November 12 2021 06:37:03
DPDK git baseline: Repo:dpdk
Branch: master
CommitID:19d024003dfce0018c9e52635b78efdc6e1c172a
104227 --> performance testing pass
Test environment and result as below:
Ubuntu 20.04
Kernel: 4.15.0-generic
Compiler: gcc 7.4
NIC: Intel Corporation Ethernet Converged Network Adapter XL710-QDA2 40000 Mbps
Target: x86_64-native-linuxapp-gcc
Fail/Total: 0/4
Detail performance results:
+------------+---------+----------+-------------+------------------------------+
| frame_size | txd/rxd | num_cpus | num_threads | throughput difference from |
| | | | | expected |
+============+=========+==========+=============+==============================+
| 64 | 512 | 1 | 1 | -0.4% |
+------------+---------+----------+-------------+------------------------------+
| 64 | 2048 | 1 | 1 | 0.5% |
+------------+---------+----------+-------------+------------------------------+
| 64 | 512 | 1 | 2 | -0.1% |
+------------+---------+----------+-------------+------------------------------+
| 64 | 2048 | 1 | 2 | -3.7% |
+------------+---------+----------+-------------+------------------------------+
Ubuntu 20.04
Kernel: 4.15.0-generic
Compiler: gcc 7.4
NIC: Intel Corporation Ethernet Converged Network Adapter 82599ES 10000 Mbps
Target: x86_64-native-linuxapp-gcc
Fail/Total: 0/4
Detail performance results:
+------------+---------+----------+-------------+------------------------------+
| frame_size | txd/rxd | num_cpus | num_threads | throughput difference from |
| | | | | expected |
+============+=========+==========+=============+==============================+
| 64 | 512 | 1 | 1 | 0.0% |
+------------+---------+----------+-------------+------------------------------+
| 64 | 2048 | 1 | 1 | -0.6% |
+------------+---------+----------+-------------+------------------------------+
| 64 | 512 | 1 | 2 | 0.2% |
+------------+---------+----------+-------------+------------------------------+
| 64 | 2048 | 1 | 2 | 0.6% |
+------------+---------+----------+-------------+------------------------------+
To view detailed results, visit:
https://lab.dpdk.org/results/dashboard/patchsets/20175/
UNH-IOL DPDK Community Lab
To manage your email subscriptions, visit:
https://lab.dpdk.org/results/dashboard/preferences/subscriptions/
^ permalink raw reply [flat|nested] 13+ messages in thread
* |SUCCESS| pw104227 [PATCH] [v3] examples/flow_filtering: fix wrong comment
@ 2021-11-12 7:31 dpdklab
0 siblings, 0 replies; 13+ messages in thread
From: dpdklab @ 2021-11-12 7:31 UTC (permalink / raw)
To: Test Report; +Cc: dpdk-test-reports
[-- Attachment #1: Type: text/plain, Size: 1788 bytes --]
Test-Label: iol-intel-Performance
Test-Status: SUCCESS
http://dpdk.org/patch/104227
_Performance Testing PASS_
Submitter: Joyce Kong <joyce.kong@arm.com>
Date: Friday, November 12 2021 06:37:03
DPDK git baseline: Repo:dpdk
Branch: master
CommitID:19d024003dfce0018c9e52635b78efdc6e1c172a
104227 --> performance testing pass
Test environment and result as below:
Ubuntu 20.04
Kernel: 4.15.0-generic
Compiler: gcc 7.4
NIC: Intel Corporation Ethernet Converged Network Adapter XL710-QDA2 40000 Mbps
Target: x86_64-native-linuxapp-gcc
Fail/Total: 0/4
Detail performance results:
+------------+---------+----------+-------------+------------------------------+
| frame_size | txd/rxd | num_cpus | num_threads | throughput difference from |
| | | | | expected |
+============+=========+==========+=============+==============================+
| 64 | 512 | 1 | 1 | -0.4% |
+------------+---------+----------+-------------+------------------------------+
| 64 | 2048 | 1 | 1 | 0.5% |
+------------+---------+----------+-------------+------------------------------+
| 64 | 512 | 1 | 2 | -0.1% |
+------------+---------+----------+-------------+------------------------------+
| 64 | 2048 | 1 | 2 | -3.7% |
+------------+---------+----------+-------------+------------------------------+
To view detailed results, visit:
https://lab.dpdk.org/results/dashboard/patchsets/20175/
UNH-IOL DPDK Community Lab
To manage your email subscriptions, visit:
https://lab.dpdk.org/results/dashboard/preferences/subscriptions/
^ permalink raw reply [flat|nested] 13+ messages in thread
* |SUCCESS| pw104227 [PATCH] [v3] examples/flow_filtering: fix wrong comment
@ 2021-11-12 7:27 dpdklab
0 siblings, 0 replies; 13+ messages in thread
From: dpdklab @ 2021-11-12 7:27 UTC (permalink / raw)
To: Test Report; +Cc: dpdk-test-reports
[-- Attachment #1: Type: text/plain, Size: 1144 bytes --]
Test-Label: iol-aarch64-unit-testing
Test-Status: SUCCESS
http://dpdk.org/patch/104227
_Testing PASS_
Submitter: Joyce Kong <joyce.kong@arm.com>
Date: Friday, November 12 2021 06:37:03
DPDK git baseline: Repo:dpdk
Branch: master
CommitID:19d024003dfce0018c9e52635b78efdc6e1c172a
104227 --> testing pass
Test environment and result as below:
+----------------------+--------------+----------------+
| Environment | lpm_autotest | dpdk_unit_test |
+======================+==============+================+
| Ubuntu 20.04 ARM SVE | PASS | SKIPPED |
+----------------------+--------------+----------------+
| Ubuntu 20.04 ARM | SKIPPED | PASS |
+----------------------+--------------+----------------+
Ubuntu 20.04 ARM SVE
Kernel: 5.4.0-80-generic
Compiler: gcc 10.3.0 (Ubuntu 10.3.0-1ubuntu1~20.04)
Ubuntu 20.04 ARM
Kernel: 5.4.0-53-generic
Compiler: gcc 9.3
To view detailed results, visit:
https://lab.dpdk.org/results/dashboard/patchsets/20175/
UNH-IOL DPDK Community Lab
To manage your email subscriptions, visit:
https://lab.dpdk.org/results/dashboard/preferences/subscriptions/
^ permalink raw reply [flat|nested] 13+ messages in thread
* |SUCCESS| pw104227 [PATCH] [v3] examples/flow_filtering: fix wrong comment
@ 2021-11-12 7:24 dpdklab
0 siblings, 0 replies; 13+ messages in thread
From: dpdklab @ 2021-11-12 7:24 UTC (permalink / raw)
To: Ali Alnubani, Test Report; +Cc: dpdk-test-reports
[-- Attachment #1: Type: text/plain, Size: 2072 bytes --]
Test-Label: iol-mellanox-Performance
Test-Status: SUCCESS
http://dpdk.org/patch/104227
_Performance Testing PASS_
Submitter: Joyce Kong <joyce.kong@arm.com>
Date: Friday, November 12 2021 06:37:03
DPDK git baseline: Repo:dpdk
Branch: master
CommitID:19d024003dfce0018c9e52635b78efdc6e1c172a
104227 --> performance testing pass
Test environment and result as below:
Ubuntu 20.04
Kernel: 4.15.0-generic
Compiler: gcc 7.4
NIC: Mellanox ConnectX-5 100000 Mbps
Target: x86_64-native-linuxapp-gcc
Fail/Total: 0/6
Detail performance results:
+------------+---------+----------+-------------+------------------------------+
| frame_size | txd/rxd | num_cpus | num_threads | throughput difference from |
| | | | | expected |
+============+=========+==========+=============+==============================+
| 64 | 256 | 1 | 1 | 0.2% |
+------------+---------+----------+-------------+------------------------------+
| 128 | 256 | 1 | 1 | -0.0% |
+------------+---------+----------+-------------+------------------------------+
| 1024 | 256 | 1 | 1 | -0.0% |
+------------+---------+----------+-------------+------------------------------+
| 256 | 256 | 1 | 1 | -0.3% |
+------------+---------+----------+-------------+------------------------------+
| 1518 | 256 | 1 | 1 | 0.3% |
+------------+---------+----------+-------------+------------------------------+
| 512 | 256 | 1 | 1 | -0.5% |
+------------+---------+----------+-------------+------------------------------+
To view detailed results, visit:
https://lab.dpdk.org/results/dashboard/patchsets/20175/
UNH-IOL DPDK Community Lab
To manage your email subscriptions, visit:
https://lab.dpdk.org/results/dashboard/preferences/subscriptions/
^ permalink raw reply [flat|nested] 13+ messages in thread
* |SUCCESS| pw104227 [PATCH] [v3] examples/flow_filtering: fix wrong comment
@ 2021-11-12 7:19 dpdklab
0 siblings, 0 replies; 13+ messages in thread
From: dpdklab @ 2021-11-12 7:19 UTC (permalink / raw)
To: Ajit Khaparde, Test Report; +Cc: dpdk-test-reports
[-- Attachment #1: Type: text/plain, Size: 789 bytes --]
Test-Label: iol-broadcom-Functional
Test-Status: SUCCESS
http://dpdk.org/patch/104227
_Functional Testing PASS_
Submitter: Joyce Kong <joyce.kong@arm.com>
Date: Friday, November 12 2021 06:37:03
DPDK git baseline: Repo:dpdk
Branch: master
CommitID:19d024003dfce0018c9e52635b78efdc6e1c172a
104227 --> functional testing pass
Test environment and result as below:
Ubuntu 20.04
Kernel: 4.15.0-65-generic
Compiler: gcc gcc (Ubuntu 7.4.0-1ubuntu1~18.04.1) 7.4.0
NIC: Broadcom Inc. brcm_57414 25000 Mbps
Target: x86_64-native-linuxapp-gcc
Fail/Total: 0/3
To view detailed results, visit:
https://lab.dpdk.org/results/dashboard/patchsets/20175/
UNH-IOL DPDK Community Lab
To manage your email subscriptions, visit:
https://lab.dpdk.org/results/dashboard/preferences/subscriptions/
^ permalink raw reply [flat|nested] 13+ messages in thread
* |SUCCESS| pw104227 [PATCH v3] examples/flow_filtering: fix wrong comment
[not found] <20211112063703.16459-1-joyce.kong@arm.com>
2021-11-12 6:38 ` |SUCCESS| pw104227 [PATCH v3] " checkpatch
@ 2021-11-12 7:18 ` 0-day Robot
1 sibling, 0 replies; 13+ messages in thread
From: 0-day Robot @ 2021-11-12 7:18 UTC (permalink / raw)
To: test-report; +Cc: robot
From: robot@bytheb.org
Test-Label: github-robot: build
Test-Status: SUCCESS
http://patchwork.dpdk.org/patch/104227/
_github build: passed_
Build URL: https://github.com/ovsrobot/dpdk/actions/runs/1452023629
^ permalink raw reply [flat|nested] 13+ messages in thread
* |SUCCESS| pw104227 [PATCH] [v3] examples/flow_filtering: fix wrong comment
@ 2021-11-12 7:16 dpdklab
0 siblings, 0 replies; 13+ messages in thread
From: dpdklab @ 2021-11-12 7:16 UTC (permalink / raw)
To: Test Report; +Cc: dpdk-test-reports
[-- Attachment #1: Type: text/plain, Size: 968 bytes --]
Test-Label: iol-intel-Functional
Test-Status: SUCCESS
http://dpdk.org/patch/104227
_Functional Testing PASS_
Submitter: Joyce Kong <joyce.kong@arm.com>
Date: Friday, November 12 2021 06:37:03
DPDK git baseline: Repo:dpdk
Branch: master
CommitID:19d024003dfce0018c9e52635b78efdc6e1c172a
104227 --> functional testing pass
Test environment and result as below:
Ubuntu 20.04
Kernel: 4.15.0-generic
Compiler: gcc 7.4
NIC: Intel Corporation Ethernet Converged Network Adapter XL710-QDA2 40000 Mbps
Target: x86_64-native-linuxapp-gcc
Fail/Total: 0/2
Ubuntu 20.04
Kernel: 4.15.0-generic
Compiler: gcc 7.4
NIC: Intel Corporation Ethernet Converged Network Adapter 82599ES 10000 Mbps
Target: x86_64-native-linuxapp-gcc
Fail/Total: 0/2
To view detailed results, visit:
https://lab.dpdk.org/results/dashboard/patchsets/20175/
UNH-IOL DPDK Community Lab
To manage your email subscriptions, visit:
https://lab.dpdk.org/results/dashboard/preferences/subscriptions/
^ permalink raw reply [flat|nested] 13+ messages in thread
* |SUCCESS| pw104227 [PATCH] [v3] examples/flow_filtering: fix wrong comment
@ 2021-11-12 7:16 dpdklab
0 siblings, 0 replies; 13+ messages in thread
From: dpdklab @ 2021-11-12 7:16 UTC (permalink / raw)
To: Test Report; +Cc: dpdk-test-reports
[-- Attachment #1: Type: text/plain, Size: 784 bytes --]
Test-Label: iol-intel-Functional
Test-Status: SUCCESS
http://dpdk.org/patch/104227
_Functional Testing PASS_
Submitter: Joyce Kong <joyce.kong@arm.com>
Date: Friday, November 12 2021 06:37:03
DPDK git baseline: Repo:dpdk
Branch: master
CommitID:19d024003dfce0018c9e52635b78efdc6e1c172a
104227 --> functional testing pass
Test environment and result as below:
Ubuntu 20.04
Kernel: 4.15.0-generic
Compiler: gcc 7.4
NIC: Intel Corporation Ethernet Converged Network Adapter XL710-QDA2 40000 Mbps
Target: x86_64-native-linuxapp-gcc
Fail/Total: 0/2
To view detailed results, visit:
https://lab.dpdk.org/results/dashboard/patchsets/20175/
UNH-IOL DPDK Community Lab
To manage your email subscriptions, visit:
https://lab.dpdk.org/results/dashboard/preferences/subscriptions/
^ permalink raw reply [flat|nested] 13+ messages in thread
* |SUCCESS| pw104227 [PATCH v3] examples/flow_filtering: fix wrong comment
[not found] <20211112063703.16459-1-joyce.kong@arm.com>
@ 2021-11-12 6:38 ` checkpatch
2021-11-12 7:18 ` 0-day Robot
1 sibling, 0 replies; 13+ messages in thread
From: checkpatch @ 2021-11-12 6:38 UTC (permalink / raw)
To: test-report
Test-Label: checkpatch
Test-Status: SUCCESS
http://dpdk.org/patch/104227
_coding style OK_
^ permalink raw reply [flat|nested] 13+ messages in thread
end of thread, other threads:[~2021-11-12 8:04 UTC | newest]
Thread overview: 13+ messages (download: mbox.gz / follow: Atom feed)
-- links below jump to the message on this page --
2021-11-12 7:30 |SUCCESS| pw104227 [PATCH] [v3] examples/flow_filtering: fix wrong comment dpdklab
-- strict thread matches above, loose matches on Subject: below --
2021-11-12 8:04 dpdklab
2021-11-12 7:52 dpdklab
2021-11-12 7:50 dpdklab
2021-11-12 7:32 dpdklab
2021-11-12 7:31 dpdklab
2021-11-12 7:27 dpdklab
2021-11-12 7:24 dpdklab
2021-11-12 7:19 dpdklab
[not found] <20211112063703.16459-1-joyce.kong@arm.com>
2021-11-12 6:38 ` |SUCCESS| pw104227 [PATCH v3] " checkpatch
2021-11-12 7:18 ` 0-day Robot
2021-11-12 7:16 |SUCCESS| pw104227 [PATCH] [v3] " dpdklab
2021-11-12 7:16 dpdklab
This is a public inbox, see mirroring instructions
for how to clone and mirror all data and code used for this inbox;
as well as URLs for NNTP newsgroup(s).