From: dpdklab@iol.unh.edu To: Test Report <test-report@dpdk.org> Cc: dpdklab@iol.unh.edu Subject: |SUCCESS| pw104670 [PATCH] [v9, 1/1] doc: add eventdevs feature matrices Date: Wed, 24 Nov 2021 21:52:18 -0500 (EST) Message-ID: <20211125025218.3846160524@noxus.dpdklab.iol.unh.edu> (raw) [-- Attachment #1: Type: text/plain, Size: 1677 bytes --] Test-Label: iol-aarch64-compile-testing Test-Status: SUCCESS http://dpdk.org/patch/104670 _Testing PASS_ Submitter: Sunil Kumar Kori <skori@marvell.com> Date: Wednesday, November 24 2021 13:03:58 DPDK git baseline: Repo:dpdk Branch: master CommitID:0c6e27549c03695f85d949f5195a166b449b419c 104670 --> testing pass Test environment and result as below: +--------------------------------------+--------------------+ | Environment | dpdk_meson_compile | +======================================+====================+ | Ubuntu 20.04 ARM gcc cross-compile | PASS | +--------------------------------------+--------------------+ | Ubuntu 20.04 ARM | PASS | +--------------------------------------+--------------------+ | Ubuntu 20.04 ARM SVE | PASS | +--------------------------------------+--------------------+ | Ubuntu 20.04 ARM clang cross-compile | PASS | +--------------------------------------+--------------------+ Ubuntu 20.04 ARM gcc cross-compile Kernel: 5.4.0-72-generic Compiler: aarch64-linux-gnu-gcc (Ubuntu 9.3.0-17ubuntu1~20.04) 9.3.0 Ubuntu 20.04 ARM Kernel: 5.4.0-72-generic Compiler: gcc 9.3.0 Ubuntu 20.04 ARM SVE Kernel: 5.4.0-80-generic Compiler: gcc 10.3.0 (Ubuntu 10.3.0-1ubuntu1~20.04) Ubuntu 20.04 ARM clang cross-compile Kernel: 5.4.0-72-generic Compiler: clang version 10.0.0-4ubuntu1 To view detailed results, visit: https://lab.dpdk.org/results/dashboard/patchsets/20362/ UNH-IOL DPDK Community Lab To manage your email subscriptions, visit: https://lab.dpdk.org/results/dashboard/preferences/subscriptions/
next reply other threads:[~2021-11-25 2:52 UTC|newest] Thread overview: 15+ messages / expand[flat|nested] mbox.gz Atom feed top 2021-11-25 2:52 dpdklab [this message] -- strict thread matches above, loose matches on Subject: below -- 2021-11-25 0:34 dpdklab 2021-11-25 0:29 dpdklab 2021-11-25 0:14 dpdklab 2021-11-24 23:47 dpdklab 2021-11-24 23:41 dpdklab 2021-11-24 23:39 dpdklab 2021-11-24 23:34 dpdklab 2021-11-24 23:32 dpdklab 2021-11-24 23:29 dpdklab 2021-11-24 23:19 dpdklab 2021-11-24 23:07 dpdklab 2021-11-24 22:13 dpdklab [not found] <20211124130358.2164136-1-skori@marvell.com> 2021-11-24 13:05 ` |SUCCESS| pw104670 [PATCH v9 " checkpatch 2021-11-24 13:38 ` 0-day Robot
Reply instructions: You may reply publicly to this message via plain-text email using any one of the following methods: * Save the following mbox file, import it into your mail client, and reply-to-all from there: mbox Avoid top-posting and favor interleaved quoting: https://en.wikipedia.org/wiki/Posting_style#Interleaved_style * Reply using the --to, --cc, and --in-reply-to switches of git-send-email(1): git send-email \ --in-reply-to=20211125025218.3846160524@noxus.dpdklab.iol.unh.edu \ --to=dpdklab@iol.unh.edu \ --cc=test-report@dpdk.org \ /path/to/YOUR_REPLY https://kernel.org/pub/software/scm/git/docs/git-send-email.html * If your mail client supports setting the In-Reply-To header via mailto: links, try the mailto: link
automatic DPDK test reports This inbox may be cloned and mirrored by anyone: git clone --mirror http://inbox.dpdk.org/test-report/0 test-report/git/0.git # If you have public-inbox 1.1+ installed, you may # initialize and index your mirror using the following commands: public-inbox-init -V2 test-report test-report/ http://inbox.dpdk.org/test-report \ test-report@dpdk.org public-inbox-index test-report Example config snippet for mirrors. Newsgroup available over NNTP: nntp://inbox.dpdk.org/inbox.dpdk.test-report AGPL code for this site: git clone https://public-inbox.org/public-inbox.git