automatic DPDK test reports
 help / color / mirror / Atom feed
* |SUCCESS| pw104700 [PATCH] net/tap: Bug fix to populate fds in secondary process
@ 2021-11-25 13:19 dpdklab
  0 siblings, 0 replies; 12+ messages in thread
From: dpdklab @ 2021-11-25 13:19 UTC (permalink / raw)
  To: Test Report; +Cc: dpdklab

[-- Attachment #1: Type: text/plain, Size: 1689 bytes --]

Test-Label: iol-aarch64-compile-testing
Test-Status: SUCCESS
http://dpdk.org/patch/104700

_Testing PASS_

Submitter: Kumara Parameshwaran <kumaraparamesh92@gmail.com>
Date: Thursday, November 25 2021 12:25:46 
DPDK git baseline: Repo:dpdk
  Branch: master
  CommitID:872c6a28075ccae66a31affef7ae3c5e9811affc

104700 --> testing pass

Test environment and result as below:

+--------------------------------------+--------------------+
|             Environment              | dpdk_meson_compile |
+======================================+====================+
| Ubuntu 20.04 ARM gcc cross-compile   | PASS               |
+--------------------------------------+--------------------+
| Ubuntu 20.04 ARM                     | PASS               |
+--------------------------------------+--------------------+
| Ubuntu 20.04 ARM SVE                 | PASS               |
+--------------------------------------+--------------------+
| Ubuntu 20.04 ARM clang cross-compile | PASS               |
+--------------------------------------+--------------------+


Ubuntu 20.04 ARM gcc cross-compile
	Kernel: 5.4.0-72-generic
	Compiler: aarch64-linux-gnu-gcc (Ubuntu 9.3.0-17ubuntu1~20.04) 9.3.0

Ubuntu 20.04 ARM
	Kernel: 5.4.0-72-generic
	Compiler: gcc 9.3.0

Ubuntu 20.04 ARM SVE
	Kernel: 5.4.0-80-generic
	Compiler: gcc 10.3.0 (Ubuntu 10.3.0-1ubuntu1~20.04)

Ubuntu 20.04 ARM clang cross-compile
	Kernel: 5.4.0-72-generic
	Compiler: clang version 10.0.0-4ubuntu1

To view detailed results, visit:
https://lab.dpdk.org/results/dashboard/patchsets/20377/

UNH-IOL DPDK Community Lab

To manage your email subscriptions, visit: 
https://lab.dpdk.org/results/dashboard/preferences/subscriptions/

^ permalink raw reply	[flat|nested] 12+ messages in thread

* |SUCCESS| pw104700 [PATCH] net/tap: Bug fix to populate fds in secondary process
@ 2021-11-25 13:35 dpdklab
  0 siblings, 0 replies; 12+ messages in thread
From: dpdklab @ 2021-11-25 13:35 UTC (permalink / raw)
  To: Test Report; +Cc: dpdk-test-reports

[-- Attachment #1: Type: text/plain, Size: 1164 bytes --]

Test-Label: iol-aarch64-unit-testing
Test-Status: SUCCESS
http://dpdk.org/patch/104700

_Testing PASS_

Submitter: Kumara Parameshwaran <kumaraparamesh92@gmail.com>
Date: Thursday, November 25 2021 12:25:46 
DPDK git baseline: Repo:dpdk
  Branch: master
  CommitID:872c6a28075ccae66a31affef7ae3c5e9811affc

104700 --> testing pass

Test environment and result as below:

+----------------------+--------------+----------------+
|     Environment      | lpm_autotest | dpdk_unit_test |
+======================+==============+================+
| Ubuntu 20.04 ARM SVE | PASS         | SKIPPED        |
+----------------------+--------------+----------------+
| Ubuntu 20.04 ARM     | SKIPPED      | PASS           |
+----------------------+--------------+----------------+


Ubuntu 20.04 ARM SVE
	Kernel: 5.4.0-80-generic
	Compiler: gcc 10.3.0 (Ubuntu 10.3.0-1ubuntu1~20.04)

Ubuntu 20.04 ARM
	Kernel: 5.4.0-53-generic
	Compiler: gcc 9.3

To view detailed results, visit:
https://lab.dpdk.org/results/dashboard/patchsets/20377/

UNH-IOL DPDK Community Lab

To manage your email subscriptions, visit: 
https://lab.dpdk.org/results/dashboard/preferences/subscriptions/

^ permalink raw reply	[flat|nested] 12+ messages in thread

* |SUCCESS| pw104700 [PATCH] net/tap: Bug fix to populate fds in secondary process
@ 2021-11-25 13:18 dpdklab
  0 siblings, 0 replies; 12+ messages in thread
From: dpdklab @ 2021-11-25 13:18 UTC (permalink / raw)
  To: Test Report; +Cc: dpdk-test-reports

[-- Attachment #1: Type: text/plain, Size: 3869 bytes --]

Test-Label: iol-intel-Performance
Test-Status: SUCCESS
http://dpdk.org/patch/104700

_Performance Testing PASS_

Submitter: Kumara Parameshwaran <kumaraparamesh92@gmail.com>
Date: Thursday, November 25 2021 12:25:46 
DPDK git baseline: Repo:dpdk
  Branch: master
  CommitID:872c6a28075ccae66a31affef7ae3c5e9811affc

104700 --> performance testing pass

Test environment and result as below:

Ubuntu 20.04 ARM
Kernel: 4.15.0-132-generic
Compiler: gcc 7.5
NIC: Arm Intel Corporation Ethernet Converged Network Adapter XL710-QDA2 40000 Mbps
Target: x86_64-native-linuxapp-gcc
Fail/Total: 0/2

Detail performance results: 
+------------+---------+----------+-------------+------------------------------+
| frame_size | txd/rxd | num_cpus | num_threads |  throughput difference from  |
|            |         |          |             |           expected           |
+============+=========+==========+=============+==============================+
| 64         | 512     | 1        | 1           | -1.3%                        |
+------------+---------+----------+-------------+------------------------------+
| 64         | 2048    | 1        | 1           | -0.2%                        |
+------------+---------+----------+-------------+------------------------------+

Ubuntu 20.04
Kernel: 4.15.0-generic
Compiler: gcc 7.4
NIC: Intel Corporation Ethernet Converged Network Adapter XL710-QDA2 40000 Mbps
Target: x86_64-native-linuxapp-gcc
Fail/Total: 0/4

Detail performance results: 
+------------+---------+----------+-------------+------------------------------+
| frame_size | txd/rxd | num_cpus | num_threads |  throughput difference from  |
|            |         |          |             |           expected           |
+============+=========+==========+=============+==============================+
| 64         | 512     | 1        | 1           | 0.2%                         |
+------------+---------+----------+-------------+------------------------------+
| 64         | 2048    | 1        | 1           | 1.0%                         |
+------------+---------+----------+-------------+------------------------------+
| 64         | 512     | 1        | 2           | 1.1%                         |
+------------+---------+----------+-------------+------------------------------+
| 64         | 2048    | 1        | 2           | 0.6%                         |
+------------+---------+----------+-------------+------------------------------+

Ubuntu 20.04
Kernel: 4.15.0-generic
Compiler: gcc 7.4
NIC: Intel Corporation Ethernet Converged Network Adapter 82599ES 10000 Mbps
Target: x86_64-native-linuxapp-gcc
Fail/Total: 0/4

Detail performance results: 
+------------+---------+----------+-------------+------------------------------+
| frame_size | txd/rxd | num_cpus | num_threads |  throughput difference from  |
|            |         |          |             |           expected           |
+============+=========+==========+=============+==============================+
| 64         | 512     | 1        | 1           | 0.1%                         |
+------------+---------+----------+-------------+------------------------------+
| 64         | 2048    | 1        | 1           | 0.3%                         |
+------------+---------+----------+-------------+------------------------------+
| 64         | 512     | 1        | 2           | 0.1%                         |
+------------+---------+----------+-------------+------------------------------+
| 64         | 2048    | 1        | 2           | 0.2%                         |
+------------+---------+----------+-------------+------------------------------+

To view detailed results, visit:
https://lab.dpdk.org/results/dashboard/patchsets/20377/

UNH-IOL DPDK Community Lab

To manage your email subscriptions, visit: 
https://lab.dpdk.org/results/dashboard/preferences/subscriptions/

^ permalink raw reply	[flat|nested] 12+ messages in thread

* |SUCCESS| pw104700 [PATCH] net/tap: Bug fix to populate fds in secondary process
@ 2021-11-25 13:15 dpdklab
  0 siblings, 0 replies; 12+ messages in thread
From: dpdklab @ 2021-11-25 13:15 UTC (permalink / raw)
  To: Test Report; +Cc: dpdk-test-reports

[-- Attachment #1: Type: text/plain, Size: 1187 bytes --]

Test-Label: iol-intel-Functional
Test-Status: SUCCESS
http://dpdk.org/patch/104700

_Functional Testing PASS_

Submitter: Kumara Parameshwaran <kumaraparamesh92@gmail.com>
Date: Thursday, November 25 2021 12:25:46 
DPDK git baseline: Repo:dpdk
  Branch: master
  CommitID:872c6a28075ccae66a31affef7ae3c5e9811affc

104700 --> functional testing pass

Test environment and result as below:

Ubuntu 20.04
Kernel: 4.15.0-generic
Compiler: gcc 7.4
NIC: Intel Corporation Ethernet Converged Network Adapter 82599ES 10000 Mbps
Target: x86_64-native-linuxapp-gcc
Fail/Total: 0/2


Ubuntu 20.04
Kernel: 4.15.0-generic
Compiler: gcc 7.4
NIC: Intel Corporation Ethernet Converged Network Adapter XL710-QDA2 40000 Mbps
Target: x86_64-native-linuxapp-gcc
Fail/Total: 0/2


Ubuntu 20.04 ARM
Kernel: 4.15.0-132-generic
Compiler: gcc 7.5
NIC: Arm Intel Corporation Ethernet Converged Network Adapter XL710-QDA2 40000 Mbps
Target: x86_64-native-linuxapp-gcc
Fail/Total: 0/2


To view detailed results, visit:
https://lab.dpdk.org/results/dashboard/patchsets/20377/

UNH-IOL DPDK Community Lab

To manage your email subscriptions, visit: 
https://lab.dpdk.org/results/dashboard/preferences/subscriptions/

^ permalink raw reply	[flat|nested] 12+ messages in thread

* |SUCCESS| pw104700 [PATCH] net/tap: Bug fix to populate fds in secondary process
@ 2021-11-25 13:14 dpdklab
  0 siblings, 0 replies; 12+ messages in thread
From: dpdklab @ 2021-11-25 13:14 UTC (permalink / raw)
  To: Test Report; +Cc: dpdk-test-reports

[-- Attachment #1: Type: text/plain, Size: 988 bytes --]

Test-Label: iol-intel-Functional
Test-Status: SUCCESS
http://dpdk.org/patch/104700

_Functional Testing PASS_

Submitter: Kumara Parameshwaran <kumaraparamesh92@gmail.com>
Date: Thursday, November 25 2021 12:25:46 
DPDK git baseline: Repo:dpdk
  Branch: master
  CommitID:872c6a28075ccae66a31affef7ae3c5e9811affc

104700 --> functional testing pass

Test environment and result as below:

Ubuntu 20.04
Kernel: 4.15.0-generic
Compiler: gcc 7.4
NIC: Intel Corporation Ethernet Converged Network Adapter 82599ES 10000 Mbps
Target: x86_64-native-linuxapp-gcc
Fail/Total: 0/2


Ubuntu 20.04
Kernel: 4.15.0-generic
Compiler: gcc 7.4
NIC: Intel Corporation Ethernet Converged Network Adapter XL710-QDA2 40000 Mbps
Target: x86_64-native-linuxapp-gcc
Fail/Total: 0/2


To view detailed results, visit:
https://lab.dpdk.org/results/dashboard/patchsets/20377/

UNH-IOL DPDK Community Lab

To manage your email subscriptions, visit: 
https://lab.dpdk.org/results/dashboard/preferences/subscriptions/

^ permalink raw reply	[flat|nested] 12+ messages in thread

* |SUCCESS| pw104700 [PATCH] net/tap: Bug fix to populate fds in secondary process
@ 2021-11-25 13:12 dpdklab
  0 siblings, 0 replies; 12+ messages in thread
From: dpdklab @ 2021-11-25 13:12 UTC (permalink / raw)
  To: Ajit Khaparde, Test Report; +Cc: dpdk-test-reports

[-- Attachment #1: Type: text/plain, Size: 809 bytes --]

Test-Label: iol-broadcom-Functional
Test-Status: SUCCESS
http://dpdk.org/patch/104700

_Functional Testing PASS_

Submitter: Kumara Parameshwaran <kumaraparamesh92@gmail.com>
Date: Thursday, November 25 2021 12:25:46 
DPDK git baseline: Repo:dpdk
  Branch: master
  CommitID:872c6a28075ccae66a31affef7ae3c5e9811affc

104700 --> functional testing pass

Test environment and result as below:

Ubuntu 20.04
Kernel: 4.15.0-65-generic
Compiler: gcc gcc (Ubuntu 7.4.0-1ubuntu1~18.04.1) 7.4.0
NIC: Broadcom Inc. brcm_57414 25000 Mbps
Target: x86_64-native-linuxapp-gcc
Fail/Total: 0/3


To view detailed results, visit:
https://lab.dpdk.org/results/dashboard/patchsets/20377/

UNH-IOL DPDK Community Lab

To manage your email subscriptions, visit: 
https://lab.dpdk.org/results/dashboard/preferences/subscriptions/

^ permalink raw reply	[flat|nested] 12+ messages in thread

* |SUCCESS| pw104700 [PATCH] net/tap: Bug fix to populate fds in secondary process
@ 2021-11-25 13:09 dpdklab
  0 siblings, 0 replies; 12+ messages in thread
From: dpdklab @ 2021-11-25 13:09 UTC (permalink / raw)
  To: Test Report; +Cc: dpdk-test-reports

[-- Attachment #1: Type: text/plain, Size: 2684 bytes --]

Test-Label: iol-intel-Performance
Test-Status: SUCCESS
http://dpdk.org/patch/104700

_Performance Testing PASS_

Submitter: Kumara Parameshwaran <kumaraparamesh92@gmail.com>
Date: Thursday, November 25 2021 12:25:46 
DPDK git baseline: Repo:dpdk
  Branch: master
  CommitID:872c6a28075ccae66a31affef7ae3c5e9811affc

104700 --> performance testing pass

Test environment and result as below:

Ubuntu 20.04 ARM
Kernel: 4.15.0-132-generic
Compiler: gcc 7.5
NIC: Arm Intel Corporation Ethernet Converged Network Adapter XL710-QDA2 40000 Mbps
Target: x86_64-native-linuxapp-gcc
Fail/Total: 0/2

Detail performance results: 
+------------+---------+----------+-------------+------------------------------+
| frame_size | txd/rxd | num_cpus | num_threads |  throughput difference from  |
|            |         |          |             |           expected           |
+============+=========+==========+=============+==============================+
| 64         | 512     | 1        | 1           | -1.3%                        |
+------------+---------+----------+-------------+------------------------------+
| 64         | 2048    | 1        | 1           | -0.2%                        |
+------------+---------+----------+-------------+------------------------------+

Ubuntu 20.04
Kernel: 4.15.0-generic
Compiler: gcc 7.4
NIC: Intel Corporation Ethernet Converged Network Adapter XL710-QDA2 40000 Mbps
Target: x86_64-native-linuxapp-gcc
Fail/Total: 0/4

Detail performance results: 
+------------+---------+----------+-------------+------------------------------+
| frame_size | txd/rxd | num_cpus | num_threads |  throughput difference from  |
|            |         |          |             |           expected           |
+============+=========+==========+=============+==============================+
| 64         | 512     | 1        | 1           | 0.2%                         |
+------------+---------+----------+-------------+------------------------------+
| 64         | 2048    | 1        | 1           | 1.0%                         |
+------------+---------+----------+-------------+------------------------------+
| 64         | 512     | 1        | 2           | 1.1%                         |
+------------+---------+----------+-------------+------------------------------+
| 64         | 2048    | 1        | 2           | 0.6%                         |
+------------+---------+----------+-------------+------------------------------+

To view detailed results, visit:
https://lab.dpdk.org/results/dashboard/patchsets/20377/

UNH-IOL DPDK Community Lab

To manage your email subscriptions, visit: 
https://lab.dpdk.org/results/dashboard/preferences/subscriptions/

^ permalink raw reply	[flat|nested] 12+ messages in thread

* |SUCCESS| pw104700 [PATCH] net/tap: Bug fix to populate fds in secondary process
@ 2021-11-25 13:09 dpdklab
  0 siblings, 0 replies; 12+ messages in thread
From: dpdklab @ 2021-11-25 13:09 UTC (permalink / raw)
  To: Test Report; +Cc: dpdk-test-reports

[-- Attachment #1: Type: text/plain, Size: 2684 bytes --]

Test-Label: iol-intel-Performance
Test-Status: SUCCESS
http://dpdk.org/patch/104700

_Performance Testing PASS_

Submitter: Kumara Parameshwaran <kumaraparamesh92@gmail.com>
Date: Thursday, November 25 2021 12:25:46 
DPDK git baseline: Repo:dpdk
  Branch: master
  CommitID:872c6a28075ccae66a31affef7ae3c5e9811affc

104700 --> performance testing pass

Test environment and result as below:

Ubuntu 20.04 ARM
Kernel: 4.15.0-132-generic
Compiler: gcc 7.5
NIC: Arm Intel Corporation Ethernet Converged Network Adapter XL710-QDA2 40000 Mbps
Target: x86_64-native-linuxapp-gcc
Fail/Total: 0/2

Detail performance results: 
+------------+---------+----------+-------------+------------------------------+
| frame_size | txd/rxd | num_cpus | num_threads |  throughput difference from  |
|            |         |          |             |           expected           |
+============+=========+==========+=============+==============================+
| 64         | 512     | 1        | 1           | -1.3%                        |
+------------+---------+----------+-------------+------------------------------+
| 64         | 2048    | 1        | 1           | -0.2%                        |
+------------+---------+----------+-------------+------------------------------+

Ubuntu 20.04
Kernel: 4.15.0-generic
Compiler: gcc 7.4
NIC: Intel Corporation Ethernet Converged Network Adapter XL710-QDA2 40000 Mbps
Target: x86_64-native-linuxapp-gcc
Fail/Total: 0/4

Detail performance results: 
+------------+---------+----------+-------------+------------------------------+
| frame_size | txd/rxd | num_cpus | num_threads |  throughput difference from  |
|            |         |          |             |           expected           |
+============+=========+==========+=============+==============================+
| 64         | 512     | 1        | 1           | 0.2%                         |
+------------+---------+----------+-------------+------------------------------+
| 64         | 2048    | 1        | 1           | 1.0%                         |
+------------+---------+----------+-------------+------------------------------+
| 64         | 512     | 1        | 2           | 1.1%                         |
+------------+---------+----------+-------------+------------------------------+
| 64         | 2048    | 1        | 2           | 0.6%                         |
+------------+---------+----------+-------------+------------------------------+

To view detailed results, visit:
https://lab.dpdk.org/results/dashboard/patchsets/20377/

UNH-IOL DPDK Community Lab

To manage your email subscriptions, visit: 
https://lab.dpdk.org/results/dashboard/preferences/subscriptions/

^ permalink raw reply	[flat|nested] 12+ messages in thread

* |SUCCESS| pw104700 [PATCH] net/tap: Bug fix to populate fds in secondary process
@ 2021-11-25 13:06 dpdklab
  0 siblings, 0 replies; 12+ messages in thread
From: dpdklab @ 2021-11-25 13:06 UTC (permalink / raw)
  To: Ali Alnubani, Test Report; +Cc: dpdk-test-reports

[-- Attachment #1: Type: text/plain, Size: 2092 bytes --]

Test-Label: iol-mellanox-Performance
Test-Status: SUCCESS
http://dpdk.org/patch/104700

_Performance Testing PASS_

Submitter: Kumara Parameshwaran <kumaraparamesh92@gmail.com>
Date: Thursday, November 25 2021 12:25:46 
DPDK git baseline: Repo:dpdk
  Branch: master
  CommitID:872c6a28075ccae66a31affef7ae3c5e9811affc

104700 --> performance testing pass

Test environment and result as below:

Ubuntu 20.04
Kernel: 4.15.0-generic
Compiler: gcc 7.4
NIC: Mellanox ConnectX-5 100000 Mbps
Target: x86_64-native-linuxapp-gcc
Fail/Total: 0/6

Detail performance results: 
+------------+---------+----------+-------------+------------------------------+
| frame_size | txd/rxd | num_cpus | num_threads |  throughput difference from  |
|            |         |          |             |           expected           |
+============+=========+==========+=============+==============================+
| 64         | 256     | 1        | 1           | -0.1%                        |
+------------+---------+----------+-------------+------------------------------+
| 128        | 256     | 1        | 1           | -0.1%                        |
+------------+---------+----------+-------------+------------------------------+
| 1024       | 256     | 1        | 1           | 0.2%                         |
+------------+---------+----------+-------------+------------------------------+
| 256        | 256     | 1        | 1           | -0.0%                        |
+------------+---------+----------+-------------+------------------------------+
| 1518       | 256     | 1        | 1           | -0.1%                        |
+------------+---------+----------+-------------+------------------------------+
| 512        | 256     | 1        | 1           | -0.2%                        |
+------------+---------+----------+-------------+------------------------------+

To view detailed results, visit:
https://lab.dpdk.org/results/dashboard/patchsets/20377/

UNH-IOL DPDK Community Lab

To manage your email subscriptions, visit: 
https://lab.dpdk.org/results/dashboard/preferences/subscriptions/

^ permalink raw reply	[flat|nested] 12+ messages in thread

* |SUCCESS| pw104700 [PATCH] net/tap: Bug fix to populate fds in secondary process
@ 2021-11-25 13:03 dpdklab
  0 siblings, 0 replies; 12+ messages in thread
From: dpdklab @ 2021-11-25 13:03 UTC (permalink / raw)
  To: Ajit Khaparde, Test Report; +Cc: dpdk-test-reports

[-- Attachment #1: Type: text/plain, Size: 1813 bytes --]

Test-Label: iol-broadcom-Performance
Test-Status: SUCCESS
http://dpdk.org/patch/104700

_Performance Testing PASS_

Submitter: Kumara Parameshwaran <kumaraparamesh92@gmail.com>
Date: Thursday, November 25 2021 12:25:46 
DPDK git baseline: Repo:dpdk
  Branch: master
  CommitID:872c6a28075ccae66a31affef7ae3c5e9811affc

104700 --> performance testing pass

Test environment and result as below:

Ubuntu 20.04
Kernel: 4.15.0-65-generic
Compiler: gcc gcc (Ubuntu 7.4.0-1ubuntu1~18.04.1) 7.4.0
NIC: Broadcom Inc. brcm_57414 25000 Mbps
Target: x86_64-native-linuxapp-gcc
Fail/Total: 0/4

Detail performance results: 
+----------+-------------+---------+------------+------------------------------+
| num_cpus | num_threads | txd/rxd | frame_size |  throughput difference from  |
|          |             |         |            |           expected           |
+==========+=============+=========+============+==============================+
| 1        | 2           | 512     | 64         | 0.1%                         |
+----------+-------------+---------+------------+------------------------------+
| 1        | 2           | 2048    | 64         | -0.1%                        |
+----------+-------------+---------+------------+------------------------------+
| 1        | 1           | 512     | 64         | -0.1%                        |
+----------+-------------+---------+------------+------------------------------+
| 1        | 1           | 2048    | 64         | 0.3%                         |
+----------+-------------+---------+------------+------------------------------+

To view detailed results, visit:
https://lab.dpdk.org/results/dashboard/patchsets/20377/

UNH-IOL DPDK Community Lab

To manage your email subscriptions, visit: 
https://lab.dpdk.org/results/dashboard/preferences/subscriptions/

^ permalink raw reply	[flat|nested] 12+ messages in thread

* |SUCCESS| pw104700 [PATCH] net/tap: Bug fix to populate fds in secondary process
@ 2021-11-25 13:00 dpdklab
  0 siblings, 0 replies; 12+ messages in thread
From: dpdklab @ 2021-11-25 13:00 UTC (permalink / raw)
  To: Test Report; +Cc: dpdk-test-reports

[-- Attachment #1: Type: text/plain, Size: 801 bytes --]

Test-Label: iol-intel-Functional
Test-Status: SUCCESS
http://dpdk.org/patch/104700

_Functional Testing PASS_

Submitter: Kumara Parameshwaran <kumaraparamesh92@gmail.com>
Date: Thursday, November 25 2021 12:25:46 
DPDK git baseline: Repo:dpdk
  Branch: master
  CommitID:872c6a28075ccae66a31affef7ae3c5e9811affc

104700 --> functional testing pass

Test environment and result as below:

Ubuntu 20.04
Kernel: 4.15.0-generic
Compiler: gcc 7.4
NIC: Intel Corporation Ethernet Converged Network Adapter 82599ES 10000 Mbps
Target: x86_64-native-linuxapp-gcc
Fail/Total: 0/2


To view detailed results, visit:
https://lab.dpdk.org/results/dashboard/patchsets/20377/

UNH-IOL DPDK Community Lab

To manage your email subscriptions, visit: 
https://lab.dpdk.org/results/dashboard/preferences/subscriptions/

^ permalink raw reply	[flat|nested] 12+ messages in thread

* |SUCCESS| pw104700 [PATCH] net/tap: Bug fix to populate fds in secondary process
       [not found] <20211125122546.23542-1-kumaraparamesh92@gmail.com>
@ 2021-11-25 12:58 ` 0-day Robot
  0 siblings, 0 replies; 12+ messages in thread
From: 0-day Robot @ 2021-11-25 12:58 UTC (permalink / raw)
  To: test-report; +Cc: robot

From: robot@bytheb.org

Test-Label: github-robot: build
Test-Status: SUCCESS
http://patchwork.dpdk.org/patch/104700/

_github build: passed_
Build URL: https://github.com/ovsrobot/dpdk/actions/runs/1503735715

^ permalink raw reply	[flat|nested] 12+ messages in thread

end of thread, other threads:[~2021-11-25 13:35 UTC | newest]

Thread overview: 12+ messages (download: mbox.gz / follow: Atom feed)
-- links below jump to the message on this page --
2021-11-25 13:19 |SUCCESS| pw104700 [PATCH] net/tap: Bug fix to populate fds in secondary process dpdklab
  -- strict thread matches above, loose matches on Subject: below --
2021-11-25 13:35 dpdklab
2021-11-25 13:18 dpdklab
2021-11-25 13:15 dpdklab
2021-11-25 13:14 dpdklab
2021-11-25 13:12 dpdklab
2021-11-25 13:09 dpdklab
2021-11-25 13:09 dpdklab
2021-11-25 13:06 dpdklab
2021-11-25 13:03 dpdklab
2021-11-25 13:00 dpdklab
     [not found] <20211125122546.23542-1-kumaraparamesh92@gmail.com>
2021-11-25 12:58 ` 0-day Robot

automatic DPDK test reports

This inbox may be cloned and mirrored by anyone:

	git clone --mirror http://inbox.dpdk.org/test-report/0 test-report/git/0.git

	# If you have public-inbox 1.1+ installed, you may
	# initialize and index your mirror using the following commands:
	public-inbox-init -V2 test-report test-report/ http://inbox.dpdk.org/test-report \
		test-report@dpdk.org
	public-inbox-index test-report

Example config snippet for mirrors.
Newsgroup available over NNTP:
	nntp://inbox.dpdk.org/inbox.dpdk.test-report


AGPL code for this site: git clone https://public-inbox.org/public-inbox.git