From: robot@bytheb.org Test-Label: github-robot: build Test-Status: SUCCESS http://patchwork.dpdk.org/patch/104699/ _github build: passed_ Build URL: https://github.com/ovsrobot/dpdk/actions/runs/1503731323
[-- Attachment #1: Type: text/plain, Size: 2092 bytes --] Test-Label: iol-mellanox-Performance Test-Status: SUCCESS http://dpdk.org/patch/104699 _Performance Testing PASS_ Submitter: Kumara Parameshwaran <kumaraparamesh92@gmail.com> Date: Thursday, November 25 2021 12:23:05 DPDK git baseline: Repo:dpdk Branch: master CommitID:872c6a28075ccae66a31affef7ae3c5e9811affc 104699 --> performance testing pass Test environment and result as below: Ubuntu 20.04 Kernel: 4.15.0-generic Compiler: gcc 7.4 NIC: Mellanox ConnectX-5 100000 Mbps Target: x86_64-native-linuxapp-gcc Fail/Total: 0/6 Detail performance results: +------------+---------+----------+-------------+------------------------------+ | frame_size | txd/rxd | num_cpus | num_threads | throughput difference from | | | | | | expected | +============+=========+==========+=============+==============================+ | 64 | 256 | 1 | 1 | -0.2% | +------------+---------+----------+-------------+------------------------------+ | 128 | 256 | 1 | 1 | 0.2% | +------------+---------+----------+-------------+------------------------------+ | 1024 | 256 | 1 | 1 | 0.2% | +------------+---------+----------+-------------+------------------------------+ | 256 | 256 | 1 | 1 | -0.0% | +------------+---------+----------+-------------+------------------------------+ | 1518 | 256 | 1 | 1 | -0.2% | +------------+---------+----------+-------------+------------------------------+ | 512 | 256 | 1 | 1 | 0.1% | +------------+---------+----------+-------------+------------------------------+ To view detailed results, visit: https://lab.dpdk.org/results/dashboard/patchsets/20376/ UNH-IOL DPDK Community Lab To manage your email subscriptions, visit: https://lab.dpdk.org/results/dashboard/preferences/subscriptions/
[-- Attachment #1: Type: text/plain, Size: 801 bytes --] Test-Label: iol-intel-Functional Test-Status: SUCCESS http://dpdk.org/patch/104699 _Functional Testing PASS_ Submitter: Kumara Parameshwaran <kumaraparamesh92@gmail.com> Date: Thursday, November 25 2021 12:23:05 DPDK git baseline: Repo:dpdk Branch: master CommitID:872c6a28075ccae66a31affef7ae3c5e9811affc 104699 --> functional testing pass Test environment and result as below: Ubuntu 20.04 Kernel: 4.15.0-generic Compiler: gcc 7.4 NIC: Intel Corporation Ethernet Converged Network Adapter 82599ES 10000 Mbps Target: x86_64-native-linuxapp-gcc Fail/Total: 0/2 To view detailed results, visit: https://lab.dpdk.org/results/dashboard/patchsets/20376/ UNH-IOL DPDK Community Lab To manage your email subscriptions, visit: https://lab.dpdk.org/results/dashboard/preferences/subscriptions/
[-- Attachment #1: Type: text/plain, Size: 1813 bytes --] Test-Label: iol-broadcom-Performance Test-Status: SUCCESS http://dpdk.org/patch/104699 _Performance Testing PASS_ Submitter: Kumara Parameshwaran <kumaraparamesh92@gmail.com> Date: Thursday, November 25 2021 12:23:05 DPDK git baseline: Repo:dpdk Branch: master CommitID:872c6a28075ccae66a31affef7ae3c5e9811affc 104699 --> performance testing pass Test environment and result as below: Ubuntu 20.04 Kernel: 4.15.0-65-generic Compiler: gcc gcc (Ubuntu 7.4.0-1ubuntu1~18.04.1) 7.4.0 NIC: Broadcom Inc. brcm_57414 25000 Mbps Target: x86_64-native-linuxapp-gcc Fail/Total: 0/4 Detail performance results: +----------+-------------+---------+------------+------------------------------+ | num_cpus | num_threads | txd/rxd | frame_size | throughput difference from | | | | | | expected | +==========+=============+=========+============+==============================+ | 1 | 2 | 512 | 64 | -0.1% | +----------+-------------+---------+------------+------------------------------+ | 1 | 2 | 2048 | 64 | -0.0% | +----------+-------------+---------+------------+------------------------------+ | 1 | 1 | 512 | 64 | -0.0% | +----------+-------------+---------+------------+------------------------------+ | 1 | 1 | 2048 | 64 | 0.1% | +----------+-------------+---------+------------+------------------------------+ To view detailed results, visit: https://lab.dpdk.org/results/dashboard/patchsets/20376/ UNH-IOL DPDK Community Lab To manage your email subscriptions, visit: https://lab.dpdk.org/results/dashboard/preferences/subscriptions/
[-- Attachment #1: Type: text/plain, Size: 1000 bytes --] Test-Label: iol-intel-Functional Test-Status: SUCCESS http://dpdk.org/patch/104699 _Functional Testing PASS_ Submitter: Kumara Parameshwaran <kumaraparamesh92@gmail.com> Date: Thursday, November 25 2021 12:23:05 DPDK git baseline: Repo:dpdk Branch: master CommitID:872c6a28075ccae66a31affef7ae3c5e9811affc 104699 --> functional testing pass Test environment and result as below: Ubuntu 20.04 Kernel: 4.15.0-generic Compiler: gcc 7.4 NIC: Intel Corporation Ethernet Converged Network Adapter 82599ES 10000 Mbps Target: x86_64-native-linuxapp-gcc Fail/Total: 0/2 Ubuntu 20.04 ARM Kernel: 4.15.0-132-generic Compiler: gcc 7.5 NIC: Arm Intel Corporation Ethernet Converged Network Adapter XL710-QDA2 40000 Mbps Target: x86_64-native-linuxapp-gcc Fail/Total: 0/2 To view detailed results, visit: https://lab.dpdk.org/results/dashboard/patchsets/20376/ UNH-IOL DPDK Community Lab To manage your email subscriptions, visit: https://lab.dpdk.org/results/dashboard/preferences/subscriptions/
[-- Attachment #1: Type: text/plain, Size: 1808 bytes --] Test-Label: iol-intel-Performance Test-Status: SUCCESS http://dpdk.org/patch/104699 _Performance Testing PASS_ Submitter: Kumara Parameshwaran <kumaraparamesh92@gmail.com> Date: Thursday, November 25 2021 12:23:05 DPDK git baseline: Repo:dpdk Branch: master CommitID:872c6a28075ccae66a31affef7ae3c5e9811affc 104699 --> performance testing pass Test environment and result as below: Ubuntu 20.04 Kernel: 4.15.0-generic Compiler: gcc 7.4 NIC: Intel Corporation Ethernet Converged Network Adapter XL710-QDA2 40000 Mbps Target: x86_64-native-linuxapp-gcc Fail/Total: 0/4 Detail performance results: +------------+---------+----------+-------------+------------------------------+ | frame_size | txd/rxd | num_cpus | num_threads | throughput difference from | | | | | | expected | +============+=========+==========+=============+==============================+ | 64 | 512 | 1 | 1 | 0.3% | +------------+---------+----------+-------------+------------------------------+ | 64 | 2048 | 1 | 1 | 1.1% | +------------+---------+----------+-------------+------------------------------+ | 64 | 512 | 1 | 2 | 1.4% | +------------+---------+----------+-------------+------------------------------+ | 64 | 2048 | 1 | 2 | -1.9% | +------------+---------+----------+-------------+------------------------------+ To view detailed results, visit: https://lab.dpdk.org/results/dashboard/patchsets/20376/ UNH-IOL DPDK Community Lab To manage your email subscriptions, visit: https://lab.dpdk.org/results/dashboard/preferences/subscriptions/
[-- Attachment #1: Type: text/plain, Size: 809 bytes --] Test-Label: iol-broadcom-Functional Test-Status: SUCCESS http://dpdk.org/patch/104699 _Functional Testing PASS_ Submitter: Kumara Parameshwaran <kumaraparamesh92@gmail.com> Date: Thursday, November 25 2021 12:23:05 DPDK git baseline: Repo:dpdk Branch: master CommitID:872c6a28075ccae66a31affef7ae3c5e9811affc 104699 --> functional testing pass Test environment and result as below: Ubuntu 20.04 Kernel: 4.15.0-65-generic Compiler: gcc gcc (Ubuntu 7.4.0-1ubuntu1~18.04.1) 7.4.0 NIC: Broadcom Inc. brcm_57414 25000 Mbps Target: x86_64-native-linuxapp-gcc Fail/Total: 0/3 To view detailed results, visit: https://lab.dpdk.org/results/dashboard/patchsets/20376/ UNH-IOL DPDK Community Lab To manage your email subscriptions, visit: https://lab.dpdk.org/results/dashboard/preferences/subscriptions/
[-- Attachment #1: Type: text/plain, Size: 1187 bytes --] Test-Label: iol-intel-Functional Test-Status: SUCCESS http://dpdk.org/patch/104699 _Functional Testing PASS_ Submitter: Kumara Parameshwaran <kumaraparamesh92@gmail.com> Date: Thursday, November 25 2021 12:23:05 DPDK git baseline: Repo:dpdk Branch: master CommitID:872c6a28075ccae66a31affef7ae3c5e9811affc 104699 --> functional testing pass Test environment and result as below: Ubuntu 20.04 Kernel: 4.15.0-generic Compiler: gcc 7.4 NIC: Intel Corporation Ethernet Converged Network Adapter 82599ES 10000 Mbps Target: x86_64-native-linuxapp-gcc Fail/Total: 0/2 Ubuntu 20.04 Kernel: 4.15.0-generic Compiler: gcc 7.4 NIC: Intel Corporation Ethernet Converged Network Adapter XL710-QDA2 40000 Mbps Target: x86_64-native-linuxapp-gcc Fail/Total: 0/2 Ubuntu 20.04 ARM Kernel: 4.15.0-132-generic Compiler: gcc 7.5 NIC: Arm Intel Corporation Ethernet Converged Network Adapter XL710-QDA2 40000 Mbps Target: x86_64-native-linuxapp-gcc Fail/Total: 0/2 To view detailed results, visit: https://lab.dpdk.org/results/dashboard/patchsets/20376/ UNH-IOL DPDK Community Lab To manage your email subscriptions, visit: https://lab.dpdk.org/results/dashboard/preferences/subscriptions/
[-- Attachment #1: Type: text/plain, Size: 2993 bytes --] Test-Label: iol-intel-Performance Test-Status: SUCCESS http://dpdk.org/patch/104699 _Performance Testing PASS_ Submitter: Kumara Parameshwaran <kumaraparamesh92@gmail.com> Date: Thursday, November 25 2021 12:23:05 DPDK git baseline: Repo:dpdk Branch: master CommitID:872c6a28075ccae66a31affef7ae3c5e9811affc 104699 --> performance testing pass Test environment and result as below: Ubuntu 20.04 Kernel: 4.15.0-generic Compiler: gcc 7.4 NIC: Intel Corporation Ethernet Converged Network Adapter XL710-QDA2 40000 Mbps Target: x86_64-native-linuxapp-gcc Fail/Total: 0/4 Detail performance results: +------------+---------+----------+-------------+------------------------------+ | frame_size | txd/rxd | num_cpus | num_threads | throughput difference from | | | | | | expected | +============+=========+==========+=============+==============================+ | 64 | 512 | 1 | 1 | 0.3% | +------------+---------+----------+-------------+------------------------------+ | 64 | 2048 | 1 | 1 | 1.1% | +------------+---------+----------+-------------+------------------------------+ | 64 | 512 | 1 | 2 | 1.4% | +------------+---------+----------+-------------+------------------------------+ | 64 | 2048 | 1 | 2 | -1.9% | +------------+---------+----------+-------------+------------------------------+ Ubuntu 20.04 Kernel: 4.15.0-generic Compiler: gcc 7.4 NIC: Intel Corporation Ethernet Converged Network Adapter 82599ES 10000 Mbps Target: x86_64-native-linuxapp-gcc Fail/Total: 0/4 Detail performance results: +------------+---------+----------+-------------+------------------------------+ | frame_size | txd/rxd | num_cpus | num_threads | throughput difference from | | | | | | expected | +============+=========+==========+=============+==============================+ | 64 | 512 | 1 | 1 | 0.2% | +------------+---------+----------+-------------+------------------------------+ | 64 | 2048 | 1 | 1 | 0.2% | +------------+---------+----------+-------------+------------------------------+ | 64 | 512 | 1 | 2 | 0.2% | +------------+---------+----------+-------------+------------------------------+ | 64 | 2048 | 1 | 2 | -0.7% | +------------+---------+----------+-------------+------------------------------+ To view detailed results, visit: https://lab.dpdk.org/results/dashboard/patchsets/20376/ UNH-IOL DPDK Community Lab To manage your email subscriptions, visit: https://lab.dpdk.org/results/dashboard/preferences/subscriptions/
[-- Attachment #1: Type: text/plain, Size: 3869 bytes --] Test-Label: iol-intel-Performance Test-Status: SUCCESS http://dpdk.org/patch/104699 _Performance Testing PASS_ Submitter: Kumara Parameshwaran <kumaraparamesh92@gmail.com> Date: Thursday, November 25 2021 12:23:05 DPDK git baseline: Repo:dpdk Branch: master CommitID:872c6a28075ccae66a31affef7ae3c5e9811affc 104699 --> performance testing pass Test environment and result as below: Ubuntu 20.04 Kernel: 4.15.0-generic Compiler: gcc 7.4 NIC: Intel Corporation Ethernet Converged Network Adapter XL710-QDA2 40000 Mbps Target: x86_64-native-linuxapp-gcc Fail/Total: 0/4 Detail performance results: +------------+---------+----------+-------------+------------------------------+ | frame_size | txd/rxd | num_cpus | num_threads | throughput difference from | | | | | | expected | +============+=========+==========+=============+==============================+ | 64 | 512 | 1 | 1 | 0.3% | +------------+---------+----------+-------------+------------------------------+ | 64 | 2048 | 1 | 1 | 1.1% | +------------+---------+----------+-------------+------------------------------+ | 64 | 512 | 1 | 2 | 1.4% | +------------+---------+----------+-------------+------------------------------+ | 64 | 2048 | 1 | 2 | -1.9% | +------------+---------+----------+-------------+------------------------------+ Ubuntu 20.04 Kernel: 4.15.0-generic Compiler: gcc 7.4 NIC: Intel Corporation Ethernet Converged Network Adapter 82599ES 10000 Mbps Target: x86_64-native-linuxapp-gcc Fail/Total: 0/4 Detail performance results: +------------+---------+----------+-------------+------------------------------+ | frame_size | txd/rxd | num_cpus | num_threads | throughput difference from | | | | | | expected | +============+=========+==========+=============+==============================+ | 64 | 512 | 1 | 1 | 0.2% | +------------+---------+----------+-------------+------------------------------+ | 64 | 2048 | 1 | 1 | 0.2% | +------------+---------+----------+-------------+------------------------------+ | 64 | 512 | 1 | 2 | 0.2% | +------------+---------+----------+-------------+------------------------------+ | 64 | 2048 | 1 | 2 | -0.7% | +------------+---------+----------+-------------+------------------------------+ Ubuntu 20.04 ARM Kernel: 4.15.0-132-generic Compiler: gcc 7.5 NIC: Arm Intel Corporation Ethernet Converged Network Adapter XL710-QDA2 40000 Mbps Target: x86_64-native-linuxapp-gcc Fail/Total: 0/2 Detail performance results: +------------+---------+----------+-------------+------------------------------+ | frame_size | txd/rxd | num_cpus | num_threads | throughput difference from | | | | | | expected | +============+=========+==========+=============+==============================+ | 64 | 512 | 1 | 1 | -0.1% | +------------+---------+----------+-------------+------------------------------+ | 64 | 2048 | 1 | 1 | 0.2% | +------------+---------+----------+-------------+------------------------------+ To view detailed results, visit: https://lab.dpdk.org/results/dashboard/patchsets/20376/ UNH-IOL DPDK Community Lab To manage your email subscriptions, visit: https://lab.dpdk.org/results/dashboard/preferences/subscriptions/
[-- Attachment #1: Type: text/plain, Size: 1164 bytes --] Test-Label: iol-aarch64-unit-testing Test-Status: SUCCESS http://dpdk.org/patch/104699 _Testing PASS_ Submitter: Kumara Parameshwaran <kumaraparamesh92@gmail.com> Date: Thursday, November 25 2021 12:23:05 DPDK git baseline: Repo:dpdk Branch: master CommitID:872c6a28075ccae66a31affef7ae3c5e9811affc 104699 --> testing pass Test environment and result as below: +----------------------+--------------+----------------+ | Environment | lpm_autotest | dpdk_unit_test | +======================+==============+================+ | Ubuntu 20.04 ARM SVE | PASS | SKIPPED | +----------------------+--------------+----------------+ | Ubuntu 20.04 ARM | SKIPPED | PASS | +----------------------+--------------+----------------+ Ubuntu 20.04 ARM SVE Kernel: 5.4.0-80-generic Compiler: gcc 10.3.0 (Ubuntu 10.3.0-1ubuntu1~20.04) Ubuntu 20.04 ARM Kernel: 5.4.0-53-generic Compiler: gcc 9.3 To view detailed results, visit: https://lab.dpdk.org/results/dashboard/patchsets/20376/ UNH-IOL DPDK Community Lab To manage your email subscriptions, visit: https://lab.dpdk.org/results/dashboard/preferences/subscriptions/
[-- Attachment #1: Type: text/plain, Size: 1689 bytes --] Test-Label: iol-aarch64-compile-testing Test-Status: SUCCESS http://dpdk.org/patch/104699 _Testing PASS_ Submitter: Kumara Parameshwaran <kumaraparamesh92@gmail.com> Date: Thursday, November 25 2021 12:23:05 DPDK git baseline: Repo:dpdk Branch: master CommitID:872c6a28075ccae66a31affef7ae3c5e9811affc 104699 --> testing pass Test environment and result as below: +--------------------------------------+--------------------+ | Environment | dpdk_meson_compile | +======================================+====================+ | Ubuntu 20.04 ARM gcc cross-compile | PASS | +--------------------------------------+--------------------+ | Ubuntu 20.04 ARM | PASS | +--------------------------------------+--------------------+ | Ubuntu 20.04 ARM SVE | PASS | +--------------------------------------+--------------------+ | Ubuntu 20.04 ARM clang cross-compile | PASS | +--------------------------------------+--------------------+ Ubuntu 20.04 ARM gcc cross-compile Kernel: 5.4.0-72-generic Compiler: aarch64-linux-gnu-gcc (Ubuntu 9.3.0-17ubuntu1~20.04) 9.3.0 Ubuntu 20.04 ARM Kernel: 5.4.0-72-generic Compiler: gcc 9.3.0 Ubuntu 20.04 ARM SVE Kernel: 5.4.0-80-generic Compiler: gcc 10.3.0 (Ubuntu 10.3.0-1ubuntu1~20.04) Ubuntu 20.04 ARM clang cross-compile Kernel: 5.4.0-72-generic Compiler: clang version 10.0.0-4ubuntu1 To view detailed results, visit: https://lab.dpdk.org/results/dashboard/patchsets/20376/ UNH-IOL DPDK Community Lab To manage your email subscriptions, visit: https://lab.dpdk.org/results/dashboard/preferences/subscriptions/