automatic DPDK test reports
 help / color / mirror / Atom feed
* |SUCCESS| pw104705 [PATCH v3] app/test-gpudev: remove all memory leaks
       [not found] <20211125230332.15709-1-eagostini@nvidia.com>
@ 2021-11-25 14:54 ` checkpatch
  2021-11-25 15:18 ` 0-day Robot
  1 sibling, 0 replies; 15+ messages in thread
From: checkpatch @ 2021-11-25 14:54 UTC (permalink / raw)
  To: test-report

Test-Label: checkpatch
Test-Status: SUCCESS
http://dpdk.org/patch/104705

_coding style OK_



^ permalink raw reply	[flat|nested] 15+ messages in thread

* |SUCCESS| pw104705 [PATCH v3] app/test-gpudev: remove all memory leaks
       [not found] <20211125230332.15709-1-eagostini@nvidia.com>
  2021-11-25 14:54 ` |SUCCESS| pw104705 [PATCH v3] app/test-gpudev: remove all memory leaks checkpatch
@ 2021-11-25 15:18 ` 0-day Robot
  1 sibling, 0 replies; 15+ messages in thread
From: 0-day Robot @ 2021-11-25 15:18 UTC (permalink / raw)
  To: test-report; +Cc: robot

From: robot@bytheb.org

Test-Label: github-robot: build
Test-Status: SUCCESS
http://patchwork.dpdk.org/patch/104705/

_github build: passed_
Build URL: https://github.com/ovsrobot/dpdk/actions/runs/1504238694

^ permalink raw reply	[flat|nested] 15+ messages in thread

* |SUCCESS| pw104705 [PATCH] [v3] app/test-gpudev: remove all memory leaks
@ 2021-11-26  5:32 dpdklab
  0 siblings, 0 replies; 15+ messages in thread
From: dpdklab @ 2021-11-26  5:32 UTC (permalink / raw)
  To: Test Report; +Cc: dpdklab

[-- Attachment #1: Type: text/plain, Size: 1677 bytes --]

Test-Label: iol-aarch64-compile-testing
Test-Status: SUCCESS
http://dpdk.org/patch/104705

_Testing PASS_

Submitter: Elena Agostini <eagostini@nvidia.com>
Date: Thursday, November 25 2021 23:03:32 
DPDK git baseline: Repo:dpdk
  Branch: master
  CommitID:779279afa579570f4e62b708895fa52de1bee471

104705 --> testing pass

Test environment and result as below:

+--------------------------------------+--------------------+
|             Environment              | dpdk_meson_compile |
+======================================+====================+
| Ubuntu 20.04 ARM                     | PASS               |
+--------------------------------------+--------------------+
| Ubuntu 20.04 ARM gcc cross-compile   | PASS               |
+--------------------------------------+--------------------+
| Ubuntu 20.04 ARM SVE                 | PASS               |
+--------------------------------------+--------------------+
| Ubuntu 20.04 ARM clang cross-compile | PASS               |
+--------------------------------------+--------------------+


Ubuntu 20.04 ARM
	Kernel: 5.4.0-72-generic
	Compiler: gcc 9.3.0

Ubuntu 20.04 ARM gcc cross-compile
	Kernel: 5.4.0-72-generic
	Compiler: aarch64-linux-gnu-gcc (Ubuntu 9.3.0-17ubuntu1~20.04) 9.3.0

Ubuntu 20.04 ARM SVE
	Kernel: 5.4.0-80-generic
	Compiler: gcc 10.3.0 (Ubuntu 10.3.0-1ubuntu1~20.04)

Ubuntu 20.04 ARM clang cross-compile
	Kernel: 5.4.0-72-generic
	Compiler: clang version 10.0.0-4ubuntu1

To view detailed results, visit:
https://lab.dpdk.org/results/dashboard/patchsets/20381/

UNH-IOL DPDK Community Lab

To manage your email subscriptions, visit: 
https://lab.dpdk.org/results/dashboard/preferences/subscriptions/

^ permalink raw reply	[flat|nested] 15+ messages in thread

* |SUCCESS| pw104705 [PATCH] [v3] app/test-gpudev: remove all memory leaks
@ 2021-11-26  5:30 dpdklab
  0 siblings, 0 replies; 15+ messages in thread
From: dpdklab @ 2021-11-26  5:30 UTC (permalink / raw)
  To: Test Report; +Cc: dpdk-test-reports

[-- Attachment #1: Type: text/plain, Size: 4286 bytes --]

Test-Label: iol-x86_64-compile-testing
Test-Status: SUCCESS
http://dpdk.org/patch/104705

_Testing PASS_

Submitter: Elena Agostini <eagostini@nvidia.com>
Date: Thursday, November 25 2021 23:03:32 
DPDK git baseline: Repo:dpdk
  Branch: master
  CommitID:779279afa579570f4e62b708895fa52de1bee471

104705 --> testing pass

Test environment and result as below:

+---------------------+--------------------+----------------------+
|     Environment     | dpdk_meson_compile | dpdk_mingw64_compile |
+=====================+====================+======================+
| Windows Server 2019 | PASS               | PASS                 |
+---------------------+--------------------+----------------------+
| Ubuntu 18.04        | PASS               | SKIPPED              |
+---------------------+--------------------+----------------------+
| FreeBSD 13          | PASS               | SKIPPED              |
+---------------------+--------------------+----------------------+
| openSUSE Leap 15    | PASS               | SKIPPED              |
+---------------------+--------------------+----------------------+
| CentOS 8            | PASS               | SKIPPED              |
+---------------------+--------------------+----------------------+
| Ubuntu 20.04        | PASS               | SKIPPED              |
+---------------------+--------------------+----------------------+
| CentOS Stream 8     | PASS               | SKIPPED              |
+---------------------+--------------------+----------------------+
| Fedora 32           | PASS               | SKIPPED              |
+---------------------+--------------------+----------------------+
| Fedora 31           | PASS               | SKIPPED              |
+---------------------+--------------------+----------------------+
| RHEL 7              | PASS               | SKIPPED              |
+---------------------+--------------------+----------------------+
| RHEL8               | PASS               | SKIPPED              |
+---------------------+--------------------+----------------------+
| Arch Linux          | PASS               | SKIPPED              |
+---------------------+--------------------+----------------------+
| Fedora 34           | PASS               | SKIPPED              |
+---------------------+--------------------+----------------------+
| Fedora 33           | PASS               | SKIPPED              |
+---------------------+--------------------+----------------------+
| Alpine              | PASS               | SKIPPED              |
+---------------------+--------------------+----------------------+
| Fedora 34 clang     | PASS               | SKIPPED              |
+---------------------+--------------------+----------------------+


Windows Server 2019
	Kernel: 10.0
	Compiler: clang 9.0 and gcc 8.1.0 (MinGW)

Ubuntu 18.04
	Kernel: 4.18.0-240.10.1.el8_3.x86_64
	Compiler: gcc 7.5.0-3ubuntu1~18.04

FreeBSD 13
	Kernel: 13.0
	Compiler: clang 11.0.1

openSUSE Leap 15
	Kernel: 4.18.0-240.10.1.el8_3.x86_64
	Compiler: gcc 7.5.0

CentOS 8
	Kernel: 4.18.0-240.10.1.el8_3.x86_64
	Compiler: gcc 8.3.1 20191121 (Red Hat 8.3.1-5)

Ubuntu 20.04
	Kernel: 4.18.0-240.10.1.el8_3.x86_64
	Compiler: gcc 9.3.0-17ubuntu1~20.04

CentOS Stream 8
	Kernel: 4.18.0-240.10.1.el8_3.x86_64
	Compiler: gcc 8.4.1 20200928

Fedora 32
	Kernel: 4.18.0-240.10.1.el8_3.x86_64
	Compiler: gcc 10.2.1

Fedora 31
	Kernel: 4.18.0-240.10.1.el8_3.x86_64
	Compiler: gcc 9.3.1

RHEL 7
	Kernel: 4.18.0-240.10.1.el8_3.x86_64
	Compiler: gcc 4.8.5 20150623 (Red Hat 4.8.5-44)

RHEL8
	Kernel: 4.18.0-240.10.1.el8_3.x86_64
	Compiler: gcc 8.3.1 20191121 (Red Hat 8.3.1-5)

Arch Linux
	Kernel: 5.4.0-73-generic
	Compiler: gcc 11.1.0

Fedora 34
	Kernel: 5.4.0-72-generic
	Compiler: gcc 11.1.1 20210428 (Red Hat 11.1.1-1)

Fedora 33
	Kernel: 5.4.0-72-generic
	Compiler: gcc 10.3.1 20210422 (Red Hat 10.3.1-1)

Alpine
	Kernel: 5.4.0-73-generic
	Compiler: gcc (Alpine 10.3.1_git20210424) 10.3.1 20210424

Fedora 34 clang
	Kernel: 5.4.0-72-generic
	Compiler: clang 12.0.0 (Fedora 12.0.0-0.3.rc1.fc34)

To view detailed results, visit:
https://lab.dpdk.org/results/dashboard/patchsets/20381/

UNH-IOL DPDK Community Lab

To manage your email subscriptions, visit: 
https://lab.dpdk.org/results/dashboard/preferences/subscriptions/

^ permalink raw reply	[flat|nested] 15+ messages in thread

* |SUCCESS| pw104705 [PATCH] [v3] app/test-gpudev: remove all memory leaks
@ 2021-11-26  5:28 dpdklab
  0 siblings, 0 replies; 15+ messages in thread
From: dpdklab @ 2021-11-26  5:28 UTC (permalink / raw)
  To: Test Report; +Cc: dpdk-test-reports

[-- Attachment #1: Type: text/plain, Size: 1152 bytes --]

Test-Label: iol-aarch64-unit-testing
Test-Status: SUCCESS
http://dpdk.org/patch/104705

_Testing PASS_

Submitter: Elena Agostini <eagostini@nvidia.com>
Date: Thursday, November 25 2021 23:03:32 
DPDK git baseline: Repo:dpdk
  Branch: master
  CommitID:779279afa579570f4e62b708895fa52de1bee471

104705 --> testing pass

Test environment and result as below:

+----------------------+--------------+----------------+
|     Environment      | lpm_autotest | dpdk_unit_test |
+======================+==============+================+
| Ubuntu 20.04 ARM SVE | PASS         | SKIPPED        |
+----------------------+--------------+----------------+
| Ubuntu 20.04 ARM     | SKIPPED      | PASS           |
+----------------------+--------------+----------------+


Ubuntu 20.04 ARM SVE
	Kernel: 5.4.0-80-generic
	Compiler: gcc 10.3.0 (Ubuntu 10.3.0-1ubuntu1~20.04)

Ubuntu 20.04 ARM
	Kernel: 5.4.0-53-generic
	Compiler: gcc 9.3

To view detailed results, visit:
https://lab.dpdk.org/results/dashboard/patchsets/20381/

UNH-IOL DPDK Community Lab

To manage your email subscriptions, visit: 
https://lab.dpdk.org/results/dashboard/preferences/subscriptions/

^ permalink raw reply	[flat|nested] 15+ messages in thread

* |SUCCESS| pw104705 [PATCH] [v3] app/test-gpudev: remove all memory leaks
@ 2021-11-26  5:25 dpdklab
  0 siblings, 0 replies; 15+ messages in thread
From: dpdklab @ 2021-11-26  5:25 UTC (permalink / raw)
  To: Test Report; +Cc: dpdklab

[-- Attachment #1: Type: text/plain, Size: 2784 bytes --]

Test-Label: iol-x86_64-unit-testing
Test-Status: SUCCESS
http://dpdk.org/patch/104705

_Testing PASS_

Submitter: Elena Agostini <eagostini@nvidia.com>
Date: Thursday, November 25 2021 23:03:32 
DPDK git baseline: Repo:dpdk
  Branch: master
  CommitID:779279afa579570f4e62b708895fa52de1bee471

104705 --> testing pass

Test environment and result as below:

+------------------+----------------+
|   Environment    | dpdk_unit_test |
+==================+================+
| Ubuntu 18.04     | PASS           |
+------------------+----------------+
| CentOS 8         | PASS           |
+------------------+----------------+
| Arch Linux       | PASS           |
+------------------+----------------+
| CentOS Stream 8  | PASS           |
+------------------+----------------+
| Fedora 31        | PASS           |
+------------------+----------------+
| openSUSE Leap 15 | PASS           |
+------------------+----------------+
| Fedora 32        | PASS           |
+------------------+----------------+
| RHEL 7           | PASS           |
+------------------+----------------+
| RHEL8            | PASS           |
+------------------+----------------+
| Fedora 34        | PASS           |
+------------------+----------------+
| Fedora 33        | PASS           |
+------------------+----------------+
| Ubuntu 20.04     | PASS           |
+------------------+----------------+
| Fedora 34 clang  | PASS           |
+------------------+----------------+


Ubuntu 18.04
	Kernel: 4.18.0-240.10.1.el8_3.x86_64
	Compiler: gcc 7.5.0-3ubuntu1~18.04

CentOS 8
	Kernel: 4.18.0-240.10.1.el8_3.x86_64
	Compiler: gcc 8.3.1 20191121 (Red Hat 8.3.1-5)

Arch Linux
	Kernel: 5.4.0-73-generic
	Compiler: gcc 11.1.0

CentOS Stream 8
	Kernel: 4.18.0-240.10.1.el8_3.x86_64
	Compiler: gcc 8.4.1 20200928

Fedora 31
	Kernel: 4.18.0-240.10.1.el8_3.x86_64
	Compiler: gcc 9.3.1

openSUSE Leap 15
	Kernel: 4.18.0-240.10.1.el8_3.x86_64
	Compiler: gcc 7.5.0

Fedora 32
	Kernel: 4.18.0-240.10.1.el8_3.x86_64
	Compiler: gcc 10.2.1

RHEL 7
	Kernel: 4.18.0-240.10.1.el8_3.x86_64
	Compiler: gcc 4.8.5 20150623 (Red Hat 4.8.5-44)

RHEL8
	Kernel: 4.18.0-240.10.1.el8_3.x86_64
	Compiler: gcc 8.3.1 20191121 (Red Hat 8.3.1-5)

Fedora 34
	Kernel: 5.4.0-72-generic
	Compiler: gcc 11.1.1 20210428 (Red Hat 11.1.1-1)

Fedora 33
	Kernel: 5.4.0-72-generic
	Compiler: gcc 10.3.1 20210422 (Red Hat 10.3.1-1)

Ubuntu 20.04
	Kernel: 4.18.0-240.10.1.el8_3.x86_64
	Compiler: gcc 9.3.0-17ubuntu1~20.04

Fedora 34 clang
	Kernel: 5.4.0-72-generic
	Compiler: clang 12.0.0 (Fedora 12.0.0-0.3.rc1.fc34)

To view detailed results, visit:
https://lab.dpdk.org/results/dashboard/patchsets/20381/

UNH-IOL DPDK Community Lab

To manage your email subscriptions, visit: 
https://lab.dpdk.org/results/dashboard/preferences/subscriptions/

^ permalink raw reply	[flat|nested] 15+ messages in thread

* |SUCCESS| pw104705 [PATCH] [v3] app/test-gpudev: remove all memory leaks
@ 2021-11-26  5:22 dpdklab
  0 siblings, 0 replies; 15+ messages in thread
From: dpdklab @ 2021-11-26  5:22 UTC (permalink / raw)
  To: Test Report; +Cc: dpdk-test-reports

[-- Attachment #1: Type: text/plain, Size: 3857 bytes --]

Test-Label: iol-intel-Performance
Test-Status: SUCCESS
http://dpdk.org/patch/104705

_Performance Testing PASS_

Submitter: Elena Agostini <eagostini@nvidia.com>
Date: Thursday, November 25 2021 23:03:32 
DPDK git baseline: Repo:dpdk
  Branch: master
  CommitID:779279afa579570f4e62b708895fa52de1bee471

104705 --> performance testing pass

Test environment and result as below:

Ubuntu 20.04
Kernel: 4.15.0-generic
Compiler: gcc 7.4
NIC: Intel Corporation Ethernet Converged Network Adapter XL710-QDA2 40000 Mbps
Target: x86_64-native-linuxapp-gcc
Fail/Total: 0/4

Detail performance results: 
+------------+---------+----------+-------------+------------------------------+
| frame_size | txd/rxd | num_cpus | num_threads |  throughput difference from  |
|            |         |          |             |           expected           |
+============+=========+==========+=============+==============================+
| 64         | 512     | 1        | 1           | 0.1%                         |
+------------+---------+----------+-------------+------------------------------+
| 64         | 2048    | 1        | 1           | 0.6%                         |
+------------+---------+----------+-------------+------------------------------+
| 64         | 512     | 1        | 2           | -4.6%                        |
+------------+---------+----------+-------------+------------------------------+
| 64         | 2048    | 1        | 2           | 3.4%                         |
+------------+---------+----------+-------------+------------------------------+

Ubuntu 20.04
Kernel: 4.15.0-generic
Compiler: gcc 7.4
NIC: Intel Corporation Ethernet Converged Network Adapter 82599ES 10000 Mbps
Target: x86_64-native-linuxapp-gcc
Fail/Total: 0/4

Detail performance results: 
+------------+---------+----------+-------------+------------------------------+
| frame_size | txd/rxd | num_cpus | num_threads |  throughput difference from  |
|            |         |          |             |           expected           |
+============+=========+==========+=============+==============================+
| 64         | 512     | 1        | 1           | 0.2%                         |
+------------+---------+----------+-------------+------------------------------+
| 64         | 2048    | 1        | 1           | -0.7%                        |
+------------+---------+----------+-------------+------------------------------+
| 64         | 512     | 1        | 2           | -0.1%                        |
+------------+---------+----------+-------------+------------------------------+
| 64         | 2048    | 1        | 2           | 0.0%                         |
+------------+---------+----------+-------------+------------------------------+

Ubuntu 20.04 ARM
Kernel: 4.15.0-132-generic
Compiler: gcc 7.5
NIC: Arm Intel Corporation Ethernet Converged Network Adapter XL710-QDA2 40000 Mbps
Target: x86_64-native-linuxapp-gcc
Fail/Total: 0/2

Detail performance results: 
+------------+---------+----------+-------------+------------------------------+
| frame_size | txd/rxd | num_cpus | num_threads |  throughput difference from  |
|            |         |          |             |           expected           |
+============+=========+==========+=============+==============================+
| 64         | 512     | 1        | 1           | 0.1%                         |
+------------+---------+----------+-------------+------------------------------+
| 64         | 2048    | 1        | 1           | 0.5%                         |
+------------+---------+----------+-------------+------------------------------+

To view detailed results, visit:
https://lab.dpdk.org/results/dashboard/patchsets/20381/

UNH-IOL DPDK Community Lab

To manage your email subscriptions, visit: 
https://lab.dpdk.org/results/dashboard/preferences/subscriptions/

^ permalink raw reply	[flat|nested] 15+ messages in thread

* |SUCCESS| pw104705 [PATCH] [v3] app/test-gpudev: remove all memory leaks
@ 2021-11-26  5:17 dpdklab
  0 siblings, 0 replies; 15+ messages in thread
From: dpdklab @ 2021-11-26  5:17 UTC (permalink / raw)
  To: Test Report; +Cc: dpdk-test-reports

[-- Attachment #1: Type: text/plain, Size: 1175 bytes --]

Test-Label: iol-intel-Functional
Test-Status: SUCCESS
http://dpdk.org/patch/104705

_Functional Testing PASS_

Submitter: Elena Agostini <eagostini@nvidia.com>
Date: Thursday, November 25 2021 23:03:32 
DPDK git baseline: Repo:dpdk
  Branch: master
  CommitID:779279afa579570f4e62b708895fa52de1bee471

104705 --> functional testing pass

Test environment and result as below:

Ubuntu 20.04 ARM
Kernel: 4.15.0-132-generic
Compiler: gcc 7.5
NIC: Arm Intel Corporation Ethernet Converged Network Adapter XL710-QDA2 40000 Mbps
Target: x86_64-native-linuxapp-gcc
Fail/Total: 0/2


Ubuntu 20.04
Kernel: 4.15.0-generic
Compiler: gcc 7.4
NIC: Intel Corporation Ethernet Converged Network Adapter XL710-QDA2 40000 Mbps
Target: x86_64-native-linuxapp-gcc
Fail/Total: 0/2


Ubuntu 20.04
Kernel: 4.15.0-generic
Compiler: gcc 7.4
NIC: Intel Corporation Ethernet Converged Network Adapter 82599ES 10000 Mbps
Target: x86_64-native-linuxapp-gcc
Fail/Total: 0/2


To view detailed results, visit:
https://lab.dpdk.org/results/dashboard/patchsets/20381/

UNH-IOL DPDK Community Lab

To manage your email subscriptions, visit: 
https://lab.dpdk.org/results/dashboard/preferences/subscriptions/

^ permalink raw reply	[flat|nested] 15+ messages in thread

* |SUCCESS| pw104705 [PATCH] [v3] app/test-gpudev: remove all memory leaks
@ 2021-11-26  5:14 dpdklab
  0 siblings, 0 replies; 15+ messages in thread
From: dpdklab @ 2021-11-26  5:14 UTC (permalink / raw)
  To: Test Report; +Cc: dpdk-test-reports

[-- Attachment #1: Type: text/plain, Size: 991 bytes --]

Test-Label: iol-intel-Functional
Test-Status: SUCCESS
http://dpdk.org/patch/104705

_Functional Testing PASS_

Submitter: Elena Agostini <eagostini@nvidia.com>
Date: Thursday, November 25 2021 23:03:32 
DPDK git baseline: Repo:dpdk
  Branch: master
  CommitID:779279afa579570f4e62b708895fa52de1bee471

104705 --> functional testing pass

Test environment and result as below:

Ubuntu 20.04 ARM
Kernel: 4.15.0-132-generic
Compiler: gcc 7.5
NIC: Arm Intel Corporation Ethernet Converged Network Adapter XL710-QDA2 40000 Mbps
Target: x86_64-native-linuxapp-gcc
Fail/Total: 0/2


Ubuntu 20.04
Kernel: 4.15.0-generic
Compiler: gcc 7.4
NIC: Intel Corporation Ethernet Converged Network Adapter XL710-QDA2 40000 Mbps
Target: x86_64-native-linuxapp-gcc
Fail/Total: 0/2


To view detailed results, visit:
https://lab.dpdk.org/results/dashboard/patchsets/20381/

UNH-IOL DPDK Community Lab

To manage your email subscriptions, visit: 
https://lab.dpdk.org/results/dashboard/preferences/subscriptions/

^ permalink raw reply	[flat|nested] 15+ messages in thread

* |SUCCESS| pw104705 [PATCH] [v3] app/test-gpudev: remove all memory leaks
@ 2021-11-26  5:12 dpdklab
  0 siblings, 0 replies; 15+ messages in thread
From: dpdklab @ 2021-11-26  5:12 UTC (permalink / raw)
  To: Ajit Khaparde, Test Report; +Cc: dpdk-test-reports

[-- Attachment #1: Type: text/plain, Size: 1801 bytes --]

Test-Label: iol-broadcom-Performance
Test-Status: SUCCESS
http://dpdk.org/patch/104705

_Performance Testing PASS_

Submitter: Elena Agostini <eagostini@nvidia.com>
Date: Thursday, November 25 2021 23:03:32 
DPDK git baseline: Repo:dpdk
  Branch: master
  CommitID:779279afa579570f4e62b708895fa52de1bee471

104705 --> performance testing pass

Test environment and result as below:

Ubuntu 20.04
Kernel: 4.15.0-65-generic
Compiler: gcc gcc (Ubuntu 7.4.0-1ubuntu1~18.04.1) 7.4.0
NIC: Broadcom Inc. brcm_57414 25000 Mbps
Target: x86_64-native-linuxapp-gcc
Fail/Total: 0/4

Detail performance results: 
+----------+-------------+---------+------------+------------------------------+
| num_cpus | num_threads | txd/rxd | frame_size |  throughput difference from  |
|          |             |         |            |           expected           |
+==========+=============+=========+============+==============================+
| 1        | 2           | 512     | 64         | 0.0%                         |
+----------+-------------+---------+------------+------------------------------+
| 1        | 2           | 2048    | 64         | 0.0%                         |
+----------+-------------+---------+------------+------------------------------+
| 1        | 1           | 512     | 64         | 0.0%                         |
+----------+-------------+---------+------------+------------------------------+
| 1        | 1           | 2048    | 64         | -0.0%                        |
+----------+-------------+---------+------------+------------------------------+

To view detailed results, visit:
https://lab.dpdk.org/results/dashboard/patchsets/20381/

UNH-IOL DPDK Community Lab

To manage your email subscriptions, visit: 
https://lab.dpdk.org/results/dashboard/preferences/subscriptions/

^ permalink raw reply	[flat|nested] 15+ messages in thread

* |SUCCESS| pw104705 [PATCH] [v3] app/test-gpudev: remove all memory leaks
@ 2021-11-26  5:12 dpdklab
  0 siblings, 0 replies; 15+ messages in thread
From: dpdklab @ 2021-11-26  5:12 UTC (permalink / raw)
  To: Test Report; +Cc: dpdk-test-reports

[-- Attachment #1: Type: text/plain, Size: 2981 bytes --]

Test-Label: iol-intel-Performance
Test-Status: SUCCESS
http://dpdk.org/patch/104705

_Performance Testing PASS_

Submitter: Elena Agostini <eagostini@nvidia.com>
Date: Thursday, November 25 2021 23:03:32 
DPDK git baseline: Repo:dpdk
  Branch: master
  CommitID:779279afa579570f4e62b708895fa52de1bee471

104705 --> performance testing pass

Test environment and result as below:

Ubuntu 20.04
Kernel: 4.15.0-generic
Compiler: gcc 7.4
NIC: Intel Corporation Ethernet Converged Network Adapter XL710-QDA2 40000 Mbps
Target: x86_64-native-linuxapp-gcc
Fail/Total: 0/4

Detail performance results: 
+------------+---------+----------+-------------+------------------------------+
| frame_size | txd/rxd | num_cpus | num_threads |  throughput difference from  |
|            |         |          |             |           expected           |
+============+=========+==========+=============+==============================+
| 64         | 512     | 1        | 1           | 0.1%                         |
+------------+---------+----------+-------------+------------------------------+
| 64         | 2048    | 1        | 1           | 0.6%                         |
+------------+---------+----------+-------------+------------------------------+
| 64         | 512     | 1        | 2           | -4.6%                        |
+------------+---------+----------+-------------+------------------------------+
| 64         | 2048    | 1        | 2           | 3.4%                         |
+------------+---------+----------+-------------+------------------------------+

Ubuntu 20.04
Kernel: 4.15.0-generic
Compiler: gcc 7.4
NIC: Intel Corporation Ethernet Converged Network Adapter 82599ES 10000 Mbps
Target: x86_64-native-linuxapp-gcc
Fail/Total: 0/4

Detail performance results: 
+------------+---------+----------+-------------+------------------------------+
| frame_size | txd/rxd | num_cpus | num_threads |  throughput difference from  |
|            |         |          |             |           expected           |
+============+=========+==========+=============+==============================+
| 64         | 512     | 1        | 1           | 0.2%                         |
+------------+---------+----------+-------------+------------------------------+
| 64         | 2048    | 1        | 1           | -0.7%                        |
+------------+---------+----------+-------------+------------------------------+
| 64         | 512     | 1        | 2           | -0.1%                        |
+------------+---------+----------+-------------+------------------------------+
| 64         | 2048    | 1        | 2           | 0.0%                         |
+------------+---------+----------+-------------+------------------------------+

To view detailed results, visit:
https://lab.dpdk.org/results/dashboard/patchsets/20381/

UNH-IOL DPDK Community Lab

To manage your email subscriptions, visit: 
https://lab.dpdk.org/results/dashboard/preferences/subscriptions/

^ permalink raw reply	[flat|nested] 15+ messages in thread

* |SUCCESS| pw104705 [PATCH] [v3] app/test-gpudev: remove all memory leaks
@ 2021-11-26  5:09 dpdklab
  0 siblings, 0 replies; 15+ messages in thread
From: dpdklab @ 2021-11-26  5:09 UTC (permalink / raw)
  To: Test Report; +Cc: dpdk-test-reports

[-- Attachment #1: Type: text/plain, Size: 1796 bytes --]

Test-Label: iol-intel-Performance
Test-Status: SUCCESS
http://dpdk.org/patch/104705

_Performance Testing PASS_

Submitter: Elena Agostini <eagostini@nvidia.com>
Date: Thursday, November 25 2021 23:03:32 
DPDK git baseline: Repo:dpdk
  Branch: master
  CommitID:779279afa579570f4e62b708895fa52de1bee471

104705 --> performance testing pass

Test environment and result as below:

Ubuntu 20.04
Kernel: 4.15.0-generic
Compiler: gcc 7.4
NIC: Intel Corporation Ethernet Converged Network Adapter XL710-QDA2 40000 Mbps
Target: x86_64-native-linuxapp-gcc
Fail/Total: 0/4

Detail performance results: 
+------------+---------+----------+-------------+------------------------------+
| frame_size | txd/rxd | num_cpus | num_threads |  throughput difference from  |
|            |         |          |             |           expected           |
+============+=========+==========+=============+==============================+
| 64         | 512     | 1        | 1           | 0.1%                         |
+------------+---------+----------+-------------+------------------------------+
| 64         | 2048    | 1        | 1           | 0.6%                         |
+------------+---------+----------+-------------+------------------------------+
| 64         | 512     | 1        | 2           | -4.6%                        |
+------------+---------+----------+-------------+------------------------------+
| 64         | 2048    | 1        | 2           | 3.4%                         |
+------------+---------+----------+-------------+------------------------------+

To view detailed results, visit:
https://lab.dpdk.org/results/dashboard/patchsets/20381/

UNH-IOL DPDK Community Lab

To manage your email subscriptions, visit: 
https://lab.dpdk.org/results/dashboard/preferences/subscriptions/

^ permalink raw reply	[flat|nested] 15+ messages in thread

* |SUCCESS| pw104705 [PATCH] [v3] app/test-gpudev: remove all memory leaks
@ 2021-11-26  5:07 dpdklab
  0 siblings, 0 replies; 15+ messages in thread
From: dpdklab @ 2021-11-26  5:07 UTC (permalink / raw)
  To: Test Report; +Cc: dpdk-test-reports

[-- Attachment #1: Type: text/plain, Size: 804 bytes --]

Test-Label: iol-intel-Functional
Test-Status: SUCCESS
http://dpdk.org/patch/104705

_Functional Testing PASS_

Submitter: Elena Agostini <eagostini@nvidia.com>
Date: Thursday, November 25 2021 23:03:32 
DPDK git baseline: Repo:dpdk
  Branch: master
  CommitID:779279afa579570f4e62b708895fa52de1bee471

104705 --> functional testing pass

Test environment and result as below:

Ubuntu 20.04 ARM
Kernel: 4.15.0-132-generic
Compiler: gcc 7.5
NIC: Arm Intel Corporation Ethernet Converged Network Adapter XL710-QDA2 40000 Mbps
Target: x86_64-native-linuxapp-gcc
Fail/Total: 0/2


To view detailed results, visit:
https://lab.dpdk.org/results/dashboard/patchsets/20381/

UNH-IOL DPDK Community Lab

To manage your email subscriptions, visit: 
https://lab.dpdk.org/results/dashboard/preferences/subscriptions/

^ permalink raw reply	[flat|nested] 15+ messages in thread

* |SUCCESS| pw104705 [PATCH] [v3] app/test-gpudev: remove all memory leaks
@ 2021-11-26  5:00 dpdklab
  0 siblings, 0 replies; 15+ messages in thread
From: dpdklab @ 2021-11-26  5:00 UTC (permalink / raw)
  To: Ajit Khaparde, Test Report; +Cc: dpdk-test-reports

[-- Attachment #1: Type: text/plain, Size: 797 bytes --]

Test-Label: iol-broadcom-Functional
Test-Status: SUCCESS
http://dpdk.org/patch/104705

_Functional Testing PASS_

Submitter: Elena Agostini <eagostini@nvidia.com>
Date: Thursday, November 25 2021 23:03:32 
DPDK git baseline: Repo:dpdk
  Branch: master
  CommitID:779279afa579570f4e62b708895fa52de1bee471

104705 --> functional testing pass

Test environment and result as below:

Ubuntu 20.04
Kernel: 4.15.0-65-generic
Compiler: gcc gcc (Ubuntu 7.4.0-1ubuntu1~18.04.1) 7.4.0
NIC: Broadcom Inc. brcm_57414 25000 Mbps
Target: x86_64-native-linuxapp-gcc
Fail/Total: 0/3


To view detailed results, visit:
https://lab.dpdk.org/results/dashboard/patchsets/20381/

UNH-IOL DPDK Community Lab

To manage your email subscriptions, visit: 
https://lab.dpdk.org/results/dashboard/preferences/subscriptions/

^ permalink raw reply	[flat|nested] 15+ messages in thread

* |SUCCESS| pw104705 [PATCH] [v3] app/test-gpudev: remove all memory leaks
@ 2021-11-26  4:59 dpdklab
  0 siblings, 0 replies; 15+ messages in thread
From: dpdklab @ 2021-11-26  4:59 UTC (permalink / raw)
  To: Ali Alnubani, Test Report; +Cc: dpdk-test-reports

[-- Attachment #1: Type: text/plain, Size: 2080 bytes --]

Test-Label: iol-mellanox-Performance
Test-Status: SUCCESS
http://dpdk.org/patch/104705

_Performance Testing PASS_

Submitter: Elena Agostini <eagostini@nvidia.com>
Date: Thursday, November 25 2021 23:03:32 
DPDK git baseline: Repo:dpdk
  Branch: master
  CommitID:779279afa579570f4e62b708895fa52de1bee471

104705 --> performance testing pass

Test environment and result as below:

Ubuntu 20.04
Kernel: 4.15.0-generic
Compiler: gcc 7.4
NIC: Mellanox ConnectX-5 100000 Mbps
Target: x86_64-native-linuxapp-gcc
Fail/Total: 0/6

Detail performance results: 
+------------+---------+----------+-------------+------------------------------+
| frame_size | txd/rxd | num_cpus | num_threads |  throughput difference from  |
|            |         |          |             |           expected           |
+============+=========+==========+=============+==============================+
| 64         | 256     | 1        | 1           | 0.1%                         |
+------------+---------+----------+-------------+------------------------------+
| 128        | 256     | 1        | 1           | 0.1%                         |
+------------+---------+----------+-------------+------------------------------+
| 1024       | 256     | 1        | 1           | -0.1%                        |
+------------+---------+----------+-------------+------------------------------+
| 256        | 256     | 1        | 1           | 0.1%                         |
+------------+---------+----------+-------------+------------------------------+
| 1518       | 256     | 1        | 1           | 0.3%                         |
+------------+---------+----------+-------------+------------------------------+
| 512        | 256     | 1        | 1           | -0.8%                        |
+------------+---------+----------+-------------+------------------------------+

To view detailed results, visit:
https://lab.dpdk.org/results/dashboard/patchsets/20381/

UNH-IOL DPDK Community Lab

To manage your email subscriptions, visit: 
https://lab.dpdk.org/results/dashboard/preferences/subscriptions/

^ permalink raw reply	[flat|nested] 15+ messages in thread

end of thread, other threads:[~2021-11-26  5:32 UTC | newest]

Thread overview: 15+ messages (download: mbox.gz / follow: Atom feed)
-- links below jump to the message on this page --
     [not found] <20211125230332.15709-1-eagostini@nvidia.com>
2021-11-25 14:54 ` |SUCCESS| pw104705 [PATCH v3] app/test-gpudev: remove all memory leaks checkpatch
2021-11-25 15:18 ` 0-day Robot
2021-11-26  4:59 |SUCCESS| pw104705 [PATCH] [v3] " dpdklab
2021-11-26  5:00 dpdklab
2021-11-26  5:07 dpdklab
2021-11-26  5:09 dpdklab
2021-11-26  5:12 dpdklab
2021-11-26  5:12 dpdklab
2021-11-26  5:14 dpdklab
2021-11-26  5:17 dpdklab
2021-11-26  5:22 dpdklab
2021-11-26  5:25 dpdklab
2021-11-26  5:28 dpdklab
2021-11-26  5:30 dpdklab
2021-11-26  5:32 dpdklab

automatic DPDK test reports

This inbox may be cloned and mirrored by anyone:

	git clone --mirror http://inbox.dpdk.org/test-report/0 test-report/git/0.git

	# If you have public-inbox 1.1+ installed, you may
	# initialize and index your mirror using the following commands:
	public-inbox-init -V2 test-report test-report/ http://inbox.dpdk.org/test-report \
		test-report@dpdk.org
	public-inbox-index test-report

Example config snippet for mirrors.
Newsgroup available over NNTP:
	nntp://inbox.dpdk.org/inbox.dpdk.test-report


AGPL code for this site: git clone https://public-inbox.org/public-inbox.git