automatic DPDK test reports
 help / color / mirror / Atom feed
From: dpdklab@iol.unh.edu
To: Test Report <test-report@dpdk.org>
Cc: dpdklab@iol.unh.edu
Subject: |SUCCESS| [GIT MASTER] 872c6a28075ccae66a31affef7ae3c5e9811affc
Date: Thu, 25 Nov 2021 14:45:21 -0500 (EST)
Message-ID: <20211125194521.4955360524@noxus.dpdklab.iol.unh.edu> (raw)

[-- Attachment #1: Type: text/plain, Size: 1451 bytes --]

_Testing PASS_

Branch: dpdk-next-net

872c6a28075ccae66a31affef7ae3c5e9811affc --> testing pass

Test environment and result as below:

+--------------------------------------+--------------------+
|             Environment              | dpdk_meson_compile |
+======================================+====================+
| Ubuntu 20.04 ARM gcc cross-compile   | PASS               |
+--------------------------------------+--------------------+
| Ubuntu 20.04 ARM                     | PASS               |
+--------------------------------------+--------------------+
| Ubuntu 20.04 ARM SVE                 | PASS               |
+--------------------------------------+--------------------+
| Ubuntu 20.04 ARM clang cross-compile | PASS               |
+--------------------------------------+--------------------+


Ubuntu 20.04 ARM gcc cross-compile
	Kernel: 5.4.0-72-generic
	Compiler: aarch64-linux-gnu-gcc (Ubuntu 9.3.0-17ubuntu1~20.04) 9.3.0

Ubuntu 20.04 ARM
	Kernel: 5.4.0-72-generic
	Compiler: gcc 9.3.0

Ubuntu 20.04 ARM SVE
	Kernel: 5.4.0-80-generic
	Compiler: gcc 10.3.0 (Ubuntu 10.3.0-1ubuntu1~20.04)

Ubuntu 20.04 ARM clang cross-compile
	Kernel: 5.4.0-72-generic
	Compiler: clang version 10.0.0-4ubuntu1

To view detailed results, visit:
https://lab.dpdk.org/results/dashboard/tarballs/18011/

UNH-IOL DPDK Community Lab

To manage your email subscriptions, visit: 
https://lab.dpdk.org/results/dashboard/preferences/subscriptions/

             reply	other threads:[~2021-11-25 19:45 UTC|newest]

Thread overview: 26+ messages / expand[flat|nested]  mbox.gz  Atom feed  top
2021-11-25 19:45 dpdklab [this message]
  -- strict thread matches above, loose matches on Subject: below --
2021-11-25 19:44 dpdklab
2021-11-25 19:44 dpdklab
2021-11-25 19:43 dpdklab
2021-11-25 19:39 dpdklab
2021-11-25 19:39 dpdklab
2021-11-25 19:38 dpdklab
2021-11-25 19:36 dpdklab
2021-11-25 19:33 dpdklab
2021-11-25 19:31 dpdklab
2021-11-25 19:28 dpdklab
2021-11-25 19:25 dpdklab
2021-11-25 19:22 dpdklab
2021-11-25  3:41 dpdklab
2021-11-25  3:13 dpdklab
2021-11-25  3:08 dpdklab
2021-11-25  2:54 dpdklab
2021-11-25  2:05 dpdklab
2021-11-25  1:49 dpdklab
2021-11-25  1:44 dpdklab
2021-11-25  1:39 dpdklab
2021-11-25  1:30 dpdklab
2021-11-25  1:28 dpdklab
2021-11-25  1:21 dpdklab
2021-11-25  1:13 dpdklab
2021-11-24 23:36 dpdklab

Reply instructions:

You may reply publicly to this message via plain-text email
using any one of the following methods:

* Save the following mbox file, import it into your mail client,
  and reply-to-all from there: mbox

  Avoid top-posting and favor interleaved quoting:
  https://en.wikipedia.org/wiki/Posting_style#Interleaved_style

* Reply using the --to, --cc, and --in-reply-to
  switches of git-send-email(1):

  git send-email \
    --in-reply-to=20211125194521.4955360524@noxus.dpdklab.iol.unh.edu \
    --to=dpdklab@iol.unh.edu \
    --cc=test-report@dpdk.org \
    /path/to/YOUR_REPLY

  https://kernel.org/pub/software/scm/git/docs/git-send-email.html

* If your mail client supports setting the In-Reply-To header
  via mailto: links, try the mailto: link

automatic DPDK test reports

This inbox may be cloned and mirrored by anyone:

	git clone --mirror http://inbox.dpdk.org/test-report/0 test-report/git/0.git

	# If you have public-inbox 1.1+ installed, you may
	# initialize and index your mirror using the following commands:
	public-inbox-init -V2 test-report test-report/ http://inbox.dpdk.org/test-report \
		test-report@dpdk.org
	public-inbox-index test-report

Example config snippet for mirrors.
Newsgroup available over NNTP:
	nntp://inbox.dpdk.org/inbox.dpdk.test-report


AGPL code for this site: git clone https://public-inbox.org/public-inbox.git