[-- Attachment #1: Type: text/plain, Size: 810 bytes --] Test-Label: iol-intel-Functional Test-Status: SUCCESS http://dpdk.org/patch/104725 _Functional Testing PASS_ Submitter: Cristian Dumitrescu <cristian.dumitrescu@intel.com> Date: Saturday, November 27 2021 00:02:54 DPDK git baseline: Repo:dpdk Branch: master CommitID:45f04d88ae8fa6217812abdaa623d66b05fc7b6a 104722-104725 --> functional testing pass Test environment and result as below: Ubuntu 20.04 Kernel: 4.15.0-generic Compiler: gcc 7.4 NIC: Intel Corporation Ethernet Converged Network Adapter 82599ES 10000 Mbps Target: x86_64-native-linuxapp-gcc Fail/Total: 0/2 To view detailed results, visit: https://lab.dpdk.org/results/dashboard/patchsets/20393/ UNH-IOL DPDK Community Lab To manage your email subscriptions, visit: https://lab.dpdk.org/results/dashboard/preferences/subscriptions/
[-- Attachment #1: Type: text/plain, Size: 1822 bytes --] Test-Label: iol-broadcom-Performance Test-Status: SUCCESS http://dpdk.org/patch/104725 _Performance Testing PASS_ Submitter: Cristian Dumitrescu <cristian.dumitrescu@intel.com> Date: Saturday, November 27 2021 00:02:54 DPDK git baseline: Repo:dpdk Branch: master CommitID:45f04d88ae8fa6217812abdaa623d66b05fc7b6a 104722-104725 --> performance testing pass Test environment and result as below: Ubuntu 20.04 Kernel: 4.15.0-65-generic Compiler: gcc gcc (Ubuntu 7.4.0-1ubuntu1~18.04.1) 7.4.0 NIC: Broadcom Inc. brcm_57414 25000 Mbps Target: x86_64-native-linuxapp-gcc Fail/Total: 0/4 Detail performance results: +----------+-------------+---------+------------+------------------------------+ | num_cpus | num_threads | txd/rxd | frame_size | throughput difference from | | | | | | expected | +==========+=============+=========+============+==============================+ | 1 | 2 | 512 | 64 | 0.1% | +----------+-------------+---------+------------+------------------------------+ | 1 | 2 | 2048 | 64 | 0.2% | +----------+-------------+---------+------------+------------------------------+ | 1 | 1 | 512 | 64 | -0.1% | +----------+-------------+---------+------------+------------------------------+ | 1 | 1 | 2048 | 64 | 0.1% | +----------+-------------+---------+------------+------------------------------+ To view detailed results, visit: https://lab.dpdk.org/results/dashboard/patchsets/20393/ UNH-IOL DPDK Community Lab To manage your email subscriptions, visit: https://lab.dpdk.org/results/dashboard/preferences/subscriptions/
[-- Attachment #1: Type: text/plain, Size: 2101 bytes --] Test-Label: iol-mellanox-Performance Test-Status: SUCCESS http://dpdk.org/patch/104725 _Performance Testing PASS_ Submitter: Cristian Dumitrescu <cristian.dumitrescu@intel.com> Date: Saturday, November 27 2021 00:02:54 DPDK git baseline: Repo:dpdk Branch: master CommitID:45f04d88ae8fa6217812abdaa623d66b05fc7b6a 104722-104725 --> performance testing pass Test environment and result as below: Ubuntu 20.04 Kernel: 4.15.0-generic Compiler: gcc 7.4 NIC: Mellanox ConnectX-5 100000 Mbps Target: x86_64-native-linuxapp-gcc Fail/Total: 0/6 Detail performance results: +------------+---------+----------+-------------+------------------------------+ | frame_size | txd/rxd | num_cpus | num_threads | throughput difference from | | | | | | expected | +============+=========+==========+=============+==============================+ | 64 | 256 | 1 | 1 | -0.1% | +------------+---------+----------+-------------+------------------------------+ | 128 | 256 | 1 | 1 | -0.2% | +------------+---------+----------+-------------+------------------------------+ | 1024 | 256 | 1 | 1 | 0.1% | +------------+---------+----------+-------------+------------------------------+ | 256 | 256 | 1 | 1 | 0.0% | +------------+---------+----------+-------------+------------------------------+ | 1518 | 256 | 1 | 1 | -0.1% | +------------+---------+----------+-------------+------------------------------+ | 512 | 256 | 1 | 1 | -0.5% | +------------+---------+----------+-------------+------------------------------+ To view detailed results, visit: https://lab.dpdk.org/results/dashboard/patchsets/20393/ UNH-IOL DPDK Community Lab To manage your email subscriptions, visit: https://lab.dpdk.org/results/dashboard/preferences/subscriptions/
[-- Attachment #1: Type: text/plain, Size: 1009 bytes --] Test-Label: iol-intel-Functional Test-Status: SUCCESS http://dpdk.org/patch/104725 _Functional Testing PASS_ Submitter: Cristian Dumitrescu <cristian.dumitrescu@intel.com> Date: Saturday, November 27 2021 00:02:54 DPDK git baseline: Repo:dpdk Branch: master CommitID:45f04d88ae8fa6217812abdaa623d66b05fc7b6a 104722-104725 --> functional testing pass Test environment and result as below: Ubuntu 20.04 Kernel: 4.15.0-generic Compiler: gcc 7.4 NIC: Intel Corporation Ethernet Converged Network Adapter 82599ES 10000 Mbps Target: x86_64-native-linuxapp-gcc Fail/Total: 0/2 Ubuntu 20.04 ARM Kernel: 4.15.0-132-generic Compiler: gcc 7.5 NIC: Arm Intel Corporation Ethernet Converged Network Adapter XL710-QDA2 40000 Mbps Target: x86_64-native-linuxapp-gcc Fail/Total: 0/2 To view detailed results, visit: https://lab.dpdk.org/results/dashboard/patchsets/20393/ UNH-IOL DPDK Community Lab To manage your email subscriptions, visit: https://lab.dpdk.org/results/dashboard/preferences/subscriptions/
[-- Attachment #1: Type: text/plain, Size: 1817 bytes --] Test-Label: iol-intel-Performance Test-Status: SUCCESS http://dpdk.org/patch/104725 _Performance Testing PASS_ Submitter: Cristian Dumitrescu <cristian.dumitrescu@intel.com> Date: Saturday, November 27 2021 00:02:54 DPDK git baseline: Repo:dpdk Branch: master CommitID:45f04d88ae8fa6217812abdaa623d66b05fc7b6a 104722-104725 --> performance testing pass Test environment and result as below: Ubuntu 20.04 Kernel: 4.15.0-generic Compiler: gcc 7.4 NIC: Intel Corporation Ethernet Converged Network Adapter XL710-QDA2 40000 Mbps Target: x86_64-native-linuxapp-gcc Fail/Total: 0/4 Detail performance results: +------------+---------+----------+-------------+------------------------------+ | frame_size | txd/rxd | num_cpus | num_threads | throughput difference from | | | | | | expected | +============+=========+==========+=============+==============================+ | 64 | 512 | 1 | 1 | -0.4% | +------------+---------+----------+-------------+------------------------------+ | 64 | 2048 | 1 | 1 | -0.1% | +------------+---------+----------+-------------+------------------------------+ | 64 | 512 | 1 | 2 | -2.7% | +------------+---------+----------+-------------+------------------------------+ | 64 | 2048 | 1 | 2 | -0.4% | +------------+---------+----------+-------------+------------------------------+ To view detailed results, visit: https://lab.dpdk.org/results/dashboard/patchsets/20393/ UNH-IOL DPDK Community Lab To manage your email subscriptions, visit: https://lab.dpdk.org/results/dashboard/preferences/subscriptions/
[-- Attachment #1: Type: text/plain, Size: 818 bytes --] Test-Label: iol-broadcom-Functional Test-Status: SUCCESS http://dpdk.org/patch/104725 _Functional Testing PASS_ Submitter: Cristian Dumitrescu <cristian.dumitrescu@intel.com> Date: Saturday, November 27 2021 00:02:54 DPDK git baseline: Repo:dpdk Branch: master CommitID:45f04d88ae8fa6217812abdaa623d66b05fc7b6a 104722-104725 --> functional testing pass Test environment and result as below: Ubuntu 20.04 Kernel: 4.15.0-65-generic Compiler: gcc gcc (Ubuntu 7.4.0-1ubuntu1~18.04.1) 7.4.0 NIC: Broadcom Inc. brcm_57414 25000 Mbps Target: x86_64-native-linuxapp-gcc Fail/Total: 0/3 To view detailed results, visit: https://lab.dpdk.org/results/dashboard/patchsets/20393/ UNH-IOL DPDK Community Lab To manage your email subscriptions, visit: https://lab.dpdk.org/results/dashboard/preferences/subscriptions/
[-- Attachment #1: Type: text/plain, Size: 1196 bytes --] Test-Label: iol-intel-Functional Test-Status: SUCCESS http://dpdk.org/patch/104725 _Functional Testing PASS_ Submitter: Cristian Dumitrescu <cristian.dumitrescu@intel.com> Date: Saturday, November 27 2021 00:02:54 DPDK git baseline: Repo:dpdk Branch: master CommitID:45f04d88ae8fa6217812abdaa623d66b05fc7b6a 104722-104725 --> functional testing pass Test environment and result as below: Ubuntu 20.04 Kernel: 4.15.0-generic Compiler: gcc 7.4 NIC: Intel Corporation Ethernet Converged Network Adapter 82599ES 10000 Mbps Target: x86_64-native-linuxapp-gcc Fail/Total: 0/2 Ubuntu 20.04 Kernel: 4.15.0-generic Compiler: gcc 7.4 NIC: Intel Corporation Ethernet Converged Network Adapter XL710-QDA2 40000 Mbps Target: x86_64-native-linuxapp-gcc Fail/Total: 0/2 Ubuntu 20.04 ARM Kernel: 4.15.0-132-generic Compiler: gcc 7.5 NIC: Arm Intel Corporation Ethernet Converged Network Adapter XL710-QDA2 40000 Mbps Target: x86_64-native-linuxapp-gcc Fail/Total: 0/2 To view detailed results, visit: https://lab.dpdk.org/results/dashboard/patchsets/20393/ UNH-IOL DPDK Community Lab To manage your email subscriptions, visit: https://lab.dpdk.org/results/dashboard/preferences/subscriptions/
[-- Attachment #1: Type: text/plain, Size: 2693 bytes --] Test-Label: iol-intel-Performance Test-Status: SUCCESS http://dpdk.org/patch/104725 _Performance Testing PASS_ Submitter: Cristian Dumitrescu <cristian.dumitrescu@intel.com> Date: Saturday, November 27 2021 00:02:54 DPDK git baseline: Repo:dpdk Branch: master CommitID:45f04d88ae8fa6217812abdaa623d66b05fc7b6a 104722-104725 --> performance testing pass Test environment and result as below: Ubuntu 20.04 Kernel: 4.15.0-generic Compiler: gcc 7.4 NIC: Intel Corporation Ethernet Converged Network Adapter XL710-QDA2 40000 Mbps Target: x86_64-native-linuxapp-gcc Fail/Total: 0/4 Detail performance results: +------------+---------+----------+-------------+------------------------------+ | frame_size | txd/rxd | num_cpus | num_threads | throughput difference from | | | | | | expected | +============+=========+==========+=============+==============================+ | 64 | 512 | 1 | 1 | -0.4% | +------------+---------+----------+-------------+------------------------------+ | 64 | 2048 | 1 | 1 | -0.1% | +------------+---------+----------+-------------+------------------------------+ | 64 | 512 | 1 | 2 | -2.7% | +------------+---------+----------+-------------+------------------------------+ | 64 | 2048 | 1 | 2 | -0.4% | +------------+---------+----------+-------------+------------------------------+ Ubuntu 20.04 ARM Kernel: 4.15.0-132-generic Compiler: gcc 7.5 NIC: Arm Intel Corporation Ethernet Converged Network Adapter XL710-QDA2 40000 Mbps Target: x86_64-native-linuxapp-gcc Fail/Total: 0/2 Detail performance results: +------------+---------+----------+-------------+------------------------------+ | frame_size | txd/rxd | num_cpus | num_threads | throughput difference from | | | | | | expected | +============+=========+==========+=============+==============================+ | 64 | 512 | 1 | 1 | -0.5% | +------------+---------+----------+-------------+------------------------------+ | 64 | 2048 | 1 | 1 | -0.2% | +------------+---------+----------+-------------+------------------------------+ To view detailed results, visit: https://lab.dpdk.org/results/dashboard/patchsets/20393/ UNH-IOL DPDK Community Lab To manage your email subscriptions, visit: https://lab.dpdk.org/results/dashboard/preferences/subscriptions/
[-- Attachment #1: Type: text/plain, Size: 1698 bytes --] Test-Label: iol-aarch64-compile-testing Test-Status: SUCCESS http://dpdk.org/patch/104725 _Testing PASS_ Submitter: Cristian Dumitrescu <cristian.dumitrescu@intel.com> Date: Saturday, November 27 2021 00:02:54 DPDK git baseline: Repo:dpdk Branch: master CommitID:45f04d88ae8fa6217812abdaa623d66b05fc7b6a 104722-104725 --> testing pass Test environment and result as below: +--------------------------------------+--------------------+ | Environment | dpdk_meson_compile | +======================================+====================+ | Ubuntu 20.04 ARM | PASS | +--------------------------------------+--------------------+ | Ubuntu 20.04 ARM SVE | PASS | +--------------------------------------+--------------------+ | Ubuntu 20.04 ARM gcc cross-compile | PASS | +--------------------------------------+--------------------+ | Ubuntu 20.04 ARM clang cross-compile | PASS | +--------------------------------------+--------------------+ Ubuntu 20.04 ARM Kernel: 5.4.0-72-generic Compiler: gcc 9.3.0 Ubuntu 20.04 ARM SVE Kernel: 5.4.0-80-generic Compiler: gcc 10.3.0 (Ubuntu 10.3.0-1ubuntu1~20.04) Ubuntu 20.04 ARM gcc cross-compile Kernel: 5.4.0-72-generic Compiler: aarch64-linux-gnu-gcc (Ubuntu 9.3.0-17ubuntu1~20.04) 9.3.0 Ubuntu 20.04 ARM clang cross-compile Kernel: 5.4.0-72-generic Compiler: clang version 10.0.0-4ubuntu1 To view detailed results, visit: https://lab.dpdk.org/results/dashboard/patchsets/20393/ UNH-IOL DPDK Community Lab To manage your email subscriptions, visit: https://lab.dpdk.org/results/dashboard/preferences/subscriptions/
[-- Attachment #1: Type: text/plain, Size: 3878 bytes --] Test-Label: iol-intel-Performance Test-Status: SUCCESS http://dpdk.org/patch/104725 _Performance Testing PASS_ Submitter: Cristian Dumitrescu <cristian.dumitrescu@intel.com> Date: Saturday, November 27 2021 00:02:54 DPDK git baseline: Repo:dpdk Branch: master CommitID:45f04d88ae8fa6217812abdaa623d66b05fc7b6a 104722-104725 --> performance testing pass Test environment and result as below: Ubuntu 20.04 Kernel: 4.15.0-generic Compiler: gcc 7.4 NIC: Intel Corporation Ethernet Converged Network Adapter XL710-QDA2 40000 Mbps Target: x86_64-native-linuxapp-gcc Fail/Total: 0/4 Detail performance results: +------------+---------+----------+-------------+------------------------------+ | frame_size | txd/rxd | num_cpus | num_threads | throughput difference from | | | | | | expected | +============+=========+==========+=============+==============================+ | 64 | 512 | 1 | 1 | -0.4% | +------------+---------+----------+-------------+------------------------------+ | 64 | 2048 | 1 | 1 | -0.1% | +------------+---------+----------+-------------+------------------------------+ | 64 | 512 | 1 | 2 | -2.7% | +------------+---------+----------+-------------+------------------------------+ | 64 | 2048 | 1 | 2 | -0.4% | +------------+---------+----------+-------------+------------------------------+ Ubuntu 20.04 ARM Kernel: 4.15.0-132-generic Compiler: gcc 7.5 NIC: Arm Intel Corporation Ethernet Converged Network Adapter XL710-QDA2 40000 Mbps Target: x86_64-native-linuxapp-gcc Fail/Total: 0/2 Detail performance results: +------------+---------+----------+-------------+------------------------------+ | frame_size | txd/rxd | num_cpus | num_threads | throughput difference from | | | | | | expected | +============+=========+==========+=============+==============================+ | 64 | 512 | 1 | 1 | -0.5% | +------------+---------+----------+-------------+------------------------------+ | 64 | 2048 | 1 | 1 | -0.2% | +------------+---------+----------+-------------+------------------------------+ Ubuntu 20.04 Kernel: 4.15.0-generic Compiler: gcc 7.4 NIC: Intel Corporation Ethernet Converged Network Adapter 82599ES 10000 Mbps Target: x86_64-native-linuxapp-gcc Fail/Total: 0/4 Detail performance results: +------------+---------+----------+-------------+------------------------------+ | frame_size | txd/rxd | num_cpus | num_threads | throughput difference from | | | | | | expected | +============+=========+==========+=============+==============================+ | 64 | 512 | 1 | 1 | -0.2% | +------------+---------+----------+-------------+------------------------------+ | 64 | 2048 | 1 | 1 | 0.0% | +------------+---------+----------+-------------+------------------------------+ | 64 | 512 | 1 | 2 | 0.0% | +------------+---------+----------+-------------+------------------------------+ | 64 | 2048 | 1 | 2 | 0.4% | +------------+---------+----------+-------------+------------------------------+ To view detailed results, visit: https://lab.dpdk.org/results/dashboard/patchsets/20393/ UNH-IOL DPDK Community Lab To manage your email subscriptions, visit: https://lab.dpdk.org/results/dashboard/preferences/subscriptions/
[-- Attachment #1: Type: text/plain, Size: 4307 bytes --] Test-Label: iol-x86_64-compile-testing Test-Status: SUCCESS http://dpdk.org/patch/104725 _Testing PASS_ Submitter: Cristian Dumitrescu <cristian.dumitrescu@intel.com> Date: Saturday, November 27 2021 00:02:54 DPDK git baseline: Repo:dpdk Branch: master CommitID:45f04d88ae8fa6217812abdaa623d66b05fc7b6a 104722-104725 --> testing pass Test environment and result as below: +---------------------+--------------------+----------------------+ | Environment | dpdk_meson_compile | dpdk_mingw64_compile | +=====================+====================+======================+ | Windows Server 2019 | PASS | PASS | +---------------------+--------------------+----------------------+ | CentOS 8 | PASS | SKIPPED | +---------------------+--------------------+----------------------+ | openSUSE Leap 15 | PASS | SKIPPED | +---------------------+--------------------+----------------------+ | FreeBSD 13 | PASS | SKIPPED | +---------------------+--------------------+----------------------+ | Fedora 32 | PASS | SKIPPED | +---------------------+--------------------+----------------------+ | Fedora 31 | PASS | SKIPPED | +---------------------+--------------------+----------------------+ | Ubuntu 20.04 | PASS | SKIPPED | +---------------------+--------------------+----------------------+ | RHEL8 | PASS | SKIPPED | +---------------------+--------------------+----------------------+ | RHEL 7 | PASS | SKIPPED | +---------------------+--------------------+----------------------+ | Fedora 34 | PASS | SKIPPED | +---------------------+--------------------+----------------------+ | Arch Linux | PASS | SKIPPED | +---------------------+--------------------+----------------------+ | Ubuntu 18.04 | PASS | SKIPPED | +---------------------+--------------------+----------------------+ | Fedora 33 | PASS | SKIPPED | +---------------------+--------------------+----------------------+ | CentOS Stream 8 | PASS | SKIPPED | +---------------------+--------------------+----------------------+ | Alpine | PASS | SKIPPED | +---------------------+--------------------+----------------------+ | Fedora 34 clang | PASS | SKIPPED | +---------------------+--------------------+----------------------+ Windows Server 2019 Kernel: 10.0 Compiler: clang 9.0 and gcc 8.1.0 (MinGW) CentOS 8 Kernel: 4.18.0-240.10.1.el8_3.x86_64 Compiler: gcc 8.3.1 20191121 (Red Hat 8.3.1-5) openSUSE Leap 15 Kernel: 4.18.0-240.10.1.el8_3.x86_64 Compiler: gcc 7.5.0 FreeBSD 13 Kernel: 13.0 Compiler: clang 11.0.1 Fedora 32 Kernel: 4.18.0-240.10.1.el8_3.x86_64 Compiler: gcc 10.2.1 Fedora 31 Kernel: 4.18.0-240.10.1.el8_3.x86_64 Compiler: gcc 9.3.1 Ubuntu 20.04 Kernel: 4.18.0-240.10.1.el8_3.x86_64 Compiler: gcc 9.3.0-17ubuntu1~20.04 RHEL8 Kernel: 4.18.0-240.10.1.el8_3.x86_64 Compiler: gcc 8.3.1 20191121 (Red Hat 8.3.1-5) RHEL 7 Kernel: 4.18.0-240.10.1.el8_3.x86_64 Compiler: gcc 4.8.5 20150623 (Red Hat 4.8.5-44) Fedora 34 Kernel: 5.4.0-72-generic Compiler: gcc 11.1.1 20210428 (Red Hat 11.1.1-1) Arch Linux Kernel: 5.4.0-73-generic Compiler: gcc 11.1.0 Ubuntu 18.04 Kernel: 4.18.0-240.10.1.el8_3.x86_64 Compiler: gcc 7.5.0-3ubuntu1~18.04 Fedora 33 Kernel: 5.4.0-72-generic Compiler: gcc 10.3.1 20210422 (Red Hat 10.3.1-1) CentOS Stream 8 Kernel: 4.18.0-240.10.1.el8_3.x86_64 Compiler: gcc 8.4.1 20200928 Alpine Kernel: 5.4.0-73-generic Compiler: gcc (Alpine 10.3.1_git20210424) 10.3.1 20210424 Fedora 34 clang Kernel: 5.4.0-72-generic Compiler: clang 12.0.0 (Fedora 12.0.0-0.3.rc1.fc34) To view detailed results, visit: https://lab.dpdk.org/results/dashboard/patchsets/20393/ UNH-IOL DPDK Community Lab To manage your email subscriptions, visit: https://lab.dpdk.org/results/dashboard/preferences/subscriptions/
[-- Attachment #1: Type: text/plain, Size: 1173 bytes --] Test-Label: iol-aarch64-unit-testing Test-Status: SUCCESS http://dpdk.org/patch/104725 _Testing PASS_ Submitter: Cristian Dumitrescu <cristian.dumitrescu@intel.com> Date: Saturday, November 27 2021 00:02:54 DPDK git baseline: Repo:dpdk Branch: master CommitID:45f04d88ae8fa6217812abdaa623d66b05fc7b6a 104722-104725 --> testing pass Test environment and result as below: +----------------------+--------------+----------------+ | Environment | lpm_autotest | dpdk_unit_test | +======================+==============+================+ | Ubuntu 20.04 ARM SVE | PASS | SKIPPED | +----------------------+--------------+----------------+ | Ubuntu 20.04 ARM | SKIPPED | PASS | +----------------------+--------------+----------------+ Ubuntu 20.04 ARM SVE Kernel: 5.4.0-80-generic Compiler: gcc 10.3.0 (Ubuntu 10.3.0-1ubuntu1~20.04) Ubuntu 20.04 ARM Kernel: 5.4.0-53-generic Compiler: gcc 9.3 To view detailed results, visit: https://lab.dpdk.org/results/dashboard/patchsets/20393/ UNH-IOL DPDK Community Lab To manage your email subscriptions, visit: https://lab.dpdk.org/results/dashboard/preferences/subscriptions/
[-- Attachment #1: Type: text/plain, Size: 2805 bytes --] Test-Label: iol-x86_64-unit-testing Test-Status: SUCCESS http://dpdk.org/patch/104725 _Testing PASS_ Submitter: Cristian Dumitrescu <cristian.dumitrescu@intel.com> Date: Saturday, November 27 2021 00:02:54 DPDK git baseline: Repo:dpdk Branch: master CommitID:45f04d88ae8fa6217812abdaa623d66b05fc7b6a 104722-104725 --> testing pass Test environment and result as below: +------------------+----------------+ | Environment | dpdk_unit_test | +==================+================+ | Ubuntu 18.04 | PASS | +------------------+----------------+ | Arch Linux | PASS | +------------------+----------------+ | CentOS 8 | PASS | +------------------+----------------+ | CentOS Stream 8 | PASS | +------------------+----------------+ | Fedora 31 | PASS | +------------------+----------------+ | openSUSE Leap 15 | PASS | +------------------+----------------+ | Fedora 32 | PASS | +------------------+----------------+ | RHEL 7 | PASS | +------------------+----------------+ | Ubuntu 20.04 | PASS | +------------------+----------------+ | RHEL8 | PASS | +------------------+----------------+ | Fedora 34 | PASS | +------------------+----------------+ | Fedora 33 | PASS | +------------------+----------------+ | Fedora 34 clang | PASS | +------------------+----------------+ Ubuntu 18.04 Kernel: 4.18.0-240.10.1.el8_3.x86_64 Compiler: gcc 7.5.0-3ubuntu1~18.04 Arch Linux Kernel: 5.4.0-73-generic Compiler: gcc 11.1.0 CentOS 8 Kernel: 4.18.0-240.10.1.el8_3.x86_64 Compiler: gcc 8.3.1 20191121 (Red Hat 8.3.1-5) CentOS Stream 8 Kernel: 4.18.0-240.10.1.el8_3.x86_64 Compiler: gcc 8.4.1 20200928 Fedora 31 Kernel: 4.18.0-240.10.1.el8_3.x86_64 Compiler: gcc 9.3.1 openSUSE Leap 15 Kernel: 4.18.0-240.10.1.el8_3.x86_64 Compiler: gcc 7.5.0 Fedora 32 Kernel: 4.18.0-240.10.1.el8_3.x86_64 Compiler: gcc 10.2.1 RHEL 7 Kernel: 4.18.0-240.10.1.el8_3.x86_64 Compiler: gcc 4.8.5 20150623 (Red Hat 4.8.5-44) Ubuntu 20.04 Kernel: 4.18.0-240.10.1.el8_3.x86_64 Compiler: gcc 9.3.0-17ubuntu1~20.04 RHEL8 Kernel: 4.18.0-240.10.1.el8_3.x86_64 Compiler: gcc 8.3.1 20191121 (Red Hat 8.3.1-5) Fedora 34 Kernel: 5.4.0-72-generic Compiler: gcc 11.1.1 20210428 (Red Hat 11.1.1-1) Fedora 33 Kernel: 5.4.0-72-generic Compiler: gcc 10.3.1 20210422 (Red Hat 10.3.1-1) Fedora 34 clang Kernel: 5.4.0-72-generic Compiler: clang 12.0.0 (Fedora 12.0.0-0.3.rc1.fc34) To view detailed results, visit: https://lab.dpdk.org/results/dashboard/patchsets/20393/ UNH-IOL DPDK Community Lab To manage your email subscriptions, visit: https://lab.dpdk.org/results/dashboard/preferences/subscriptions/