* |WARNING| pw105751 [PATCH v3] ethdev: mark old macros as deprecated
[not found] <20220112143623.2535685-1-ferruh.yigit@intel.com>
@ 2022-01-12 14:37 ` checkpatch
2022-01-12 16:19 ` |SUCCESS| " 0-day Robot
1 sibling, 0 replies; 15+ messages in thread
From: checkpatch @ 2022-01-12 14:37 UTC (permalink / raw)
To: test-report; +Cc: Ferruh Yigit
Test-Label: checkpatch
Test-Status: WARNING
http://dpdk.org/patch/105751
_coding style issues_
ERROR:COMPLEX_MACRO: Macros with complex values should be enclosed in parentheses
#148: FILE: lib/ethdev/rte_ethdev.h:309:
+#define ETH_LINK_SPEED_AUTONEG RTE_DEPRECATED(ETH_LINK_SPEED_AUTONEG) RTE_ETH_LINK_SPEED_AUTONEG
ERROR:COMPLEX_MACRO: Macros with complex values should be enclosed in parentheses
#149: FILE: lib/ethdev/rte_ethdev.h:310:
+#define ETH_LINK_SPEED_FIXED RTE_DEPRECATED(ETH_LINK_SPEED_FIXED) RTE_ETH_LINK_SPEED_FIXED
ERROR:COMPLEX_MACRO: Macros with complex values should be enclosed in parentheses
#150: FILE: lib/ethdev/rte_ethdev.h:311:
+#define ETH_LINK_SPEED_10M_HD RTE_DEPRECATED(ETH_LINK_SPEED_10M_HD) RTE_ETH_LINK_SPEED_10M_HD
ERROR:COMPLEX_MACRO: Macros with complex values should be enclosed in parentheses
#151: FILE: lib/ethdev/rte_ethdev.h:312:
+#define ETH_LINK_SPEED_10M RTE_DEPRECATED(ETH_LINK_SPEED_10M) RTE_ETH_LINK_SPEED_10M
ERROR:COMPLEX_MACRO: Macros with complex values should be enclosed in parentheses
#152: FILE: lib/ethdev/rte_ethdev.h:313:
+#define ETH_LINK_SPEED_100M_HD RTE_DEPRECATED(ETH_LINK_SPEED_100M_HD) RTE_ETH_LINK_SPEED_100M_HD
ERROR:COMPLEX_MACRO: Macros with complex values should be enclosed in parentheses
#153: FILE: lib/ethdev/rte_ethdev.h:314:
+#define ETH_LINK_SPEED_100M RTE_DEPRECATED(ETH_LINK_SPEED_100M) RTE_ETH_LINK_SPEED_100M
ERROR:COMPLEX_MACRO: Macros with complex values should be enclosed in parentheses
#154: FILE: lib/ethdev/rte_ethdev.h:315:
+#define ETH_LINK_SPEED_1G RTE_DEPRECATED(ETH_LINK_SPEED_1G) RTE_ETH_LINK_SPEED_1G
ERROR:COMPLEX_MACRO: Macros with complex values should be enclosed in parentheses
#155: FILE: lib/ethdev/rte_ethdev.h:316:
+#define ETH_LINK_SPEED_2_5G RTE_DEPRECATED(ETH_LINK_SPEED_2_5G) RTE_ETH_LINK_SPEED_2_5G
ERROR:COMPLEX_MACRO: Macros with complex values should be enclosed in parentheses
#156: FILE: lib/ethdev/rte_ethdev.h:317:
+#define ETH_LINK_SPEED_5G RTE_DEPRECATED(ETH_LINK_SPEED_5G) RTE_ETH_LINK_SPEED_5G
ERROR:COMPLEX_MACRO: Macros with complex values should be enclosed in parentheses
#157: FILE: lib/ethdev/rte_ethdev.h:318:
+#define ETH_LINK_SPEED_10G RTE_DEPRECATED(ETH_LINK_SPEED_10G) RTE_ETH_LINK_SPEED_10G
ERROR:COMPLEX_MACRO: Macros with complex values should be enclosed in parentheses
#158: FILE: lib/ethdev/rte_ethdev.h:319:
+#define ETH_LINK_SPEED_20G RTE_DEPRECATED(ETH_LINK_SPEED_20G) RTE_ETH_LINK_SPEED_20G
ERROR:COMPLEX_MACRO: Macros with complex values should be enclosed in parentheses
#159: FILE: lib/ethdev/rte_ethdev.h:320:
+#define ETH_LINK_SPEED_25G RTE_DEPRECATED(ETH_LINK_SPEED_25G) RTE_ETH_LINK_SPEED_25G
ERROR:COMPLEX_MACRO: Macros with complex values should be enclosed in parentheses
#160: FILE: lib/ethdev/rte_ethdev.h:321:
+#define ETH_LINK_SPEED_40G RTE_DEPRECATED(ETH_LINK_SPEED_40G) RTE_ETH_LINK_SPEED_40G
ERROR:COMPLEX_MACRO: Macros with complex values should be enclosed in parentheses
#161: FILE: lib/ethdev/rte_ethdev.h:322:
+#define ETH_LINK_SPEED_50G RTE_DEPRECATED(ETH_LINK_SPEED_50G) RTE_ETH_LINK_SPEED_50G
ERROR:COMPLEX_MACRO: Macros with complex values should be enclosed in parentheses
#162: FILE: lib/ethdev/rte_ethdev.h:323:
+#define ETH_LINK_SPEED_56G RTE_DEPRECATED(ETH_LINK_SPEED_56G) RTE_ETH_LINK_SPEED_56G
ERROR:COMPLEX_MACRO: Macros with complex values should be enclosed in parentheses
#163: FILE: lib/ethdev/rte_ethdev.h:324:
+#define ETH_LINK_SPEED_100G RTE_DEPRECATED(ETH_LINK_SPEED_100G) RTE_ETH_LINK_SPEED_100G
ERROR:COMPLEX_MACRO: Macros with complex values should be enclosed in parentheses
#164: FILE: lib/ethdev/rte_ethdev.h:325:
+#define ETH_LINK_SPEED_200G RTE_DEPRECATED(ETH_LINK_SPEED_200G) RTE_ETH_LINK_SPEED_200G
ERROR:COMPLEX_MACRO: Macros with complex values should be enclosed in parentheses
#201: FILE: lib/ethdev/rte_ethdev.h:347:
+#define ETH_SPEED_NUM_NONE RTE_DEPRECATED(ETH_SPEED_NUM_NONE) RTE_ETH_SPEED_NUM_NONE
ERROR:COMPLEX_MACRO: Macros with complex values should be enclosed in parentheses
#202: FILE: lib/ethdev/rte_ethdev.h:348:
+#define ETH_SPEED_NUM_10M RTE_DEPRECATED(ETH_SPEED_NUM_10M) RTE_ETH_SPEED_NUM_10M
ERROR:COMPLEX_MACRO: Macros with complex values should be enclosed in parentheses
#203: FILE: lib/ethdev/rte_ethdev.h:349:
+#define ETH_SPEED_NUM_100M RTE_DEPRECATED(ETH_SPEED_NUM_100M) RTE_ETH_SPEED_NUM_100M
ERROR:COMPLEX_MACRO: Macros with complex values should be enclosed in parentheses
#204: FILE: lib/ethdev/rte_ethdev.h:350:
+#define ETH_SPEED_NUM_1G RTE_DEPRECATED(ETH_SPEED_NUM_1G) RTE_ETH_SPEED_NUM_1G
ERROR:COMPLEX_MACRO: Macros with complex values should be enclosed in parentheses
#205: FILE: lib/ethdev/rte_ethdev.h:351:
+#define ETH_SPEED_NUM_2_5G RTE_DEPRECATED(ETH_SPEED_NUM_2_5G) RTE_ETH_SPEED_NUM_2_5G
ERROR:COMPLEX_MACRO: Macros with complex values should be enclosed in parentheses
#206: FILE: lib/ethdev/rte_ethdev.h:352:
+#define ETH_SPEED_NUM_5G RTE_DEPRECATED(ETH_SPEED_NUM_5G) RTE_ETH_SPEED_NUM_5G
ERROR:COMPLEX_MACRO: Macros with complex values should be enclosed in parentheses
#207: FILE: lib/ethdev/rte_ethdev.h:353:
+#define ETH_SPEED_NUM_10G RTE_DEPRECATED(ETH_SPEED_NUM_10G) RTE_ETH_SPEED_NUM_10G
ERROR:COMPLEX_MACRO: Macros with complex values should be enclosed in parentheses
#208: FILE: lib/ethdev/rte_ethdev.h:354:
+#define ETH_SPEED_NUM_20G RTE_DEPRECATED(ETH_SPEED_NUM_20G) RTE_ETH_SPEED_NUM_20G
ERROR:COMPLEX_MACRO: Macros with complex values should be enclosed in parentheses
#209: FILE: lib/ethdev/rte_ethdev.h:355:
+#define ETH_SPEED_NUM_25G RTE_DEPRECATED(ETH_SPEED_NUM_25G) RTE_ETH_SPEED_NUM_25G
ERROR:COMPLEX_MACRO: Macros with complex values should be enclosed in parentheses
#210: FILE: lib/ethdev/rte_ethdev.h:356:
+#define ETH_SPEED_NUM_40G RTE_DEPRECATED(ETH_SPEED_NUM_40G) RTE_ETH_SPEED_NUM_40G
ERROR:COMPLEX_MACRO: Macros with complex values should be enclosed in parentheses
#211: FILE: lib/ethdev/rte_ethdev.h:357:
+#define ETH_SPEED_NUM_50G RTE_DEPRECATED(ETH_SPEED_NUM_50G) RTE_ETH_SPEED_NUM_50G
ERROR:COMPLEX_MACRO: Macros with complex values should be enclosed in parentheses
#212: FILE: lib/ethdev/rte_ethdev.h:358:
+#define ETH_SPEED_NUM_56G RTE_DEPRECATED(ETH_SPEED_NUM_56G) RTE_ETH_SPEED_NUM_56G
ERROR:COMPLEX_MACRO: Macros with complex values should be enclosed in parentheses
#213: FILE: lib/ethdev/rte_ethdev.h:359:
+#define ETH_SPEED_NUM_100G RTE_DEPRECATED(ETH_SPEED_NUM_100G) RTE_ETH_SPEED_NUM_100G
ERROR:COMPLEX_MACRO: Macros with complex values should be enclosed in parentheses
#214: FILE: lib/ethdev/rte_ethdev.h:360:
+#define ETH_SPEED_NUM_200G RTE_DEPRECATED(ETH_SPEED_NUM_200G) RTE_ETH_SPEED_NUM_200G
ERROR:COMPLEX_MACRO: Macros with complex values should be enclosed in parentheses
#215: FILE: lib/ethdev/rte_ethdev.h:361:
+#define ETH_SPEED_NUM_UNKNOWN RTE_DEPRECATED(ETH_SPEED_NUM_UNKNOWN) RTE_ETH_SPEED_NUM_UNKNOWN
ERROR:COMPLEX_MACRO: Macros with complex values should be enclosed in parentheses
#238: FILE: lib/ethdev/rte_ethdev.h:386:
+#define ETH_LINK_HALF_DUPLEX RTE_DEPRECATED(ETH_LINK_HALF_DUPLEX) RTE_ETH_LINK_HALF_DUPLEX
ERROR:COMPLEX_MACRO: Macros with complex values should be enclosed in parentheses
#239: FILE: lib/ethdev/rte_ethdev.h:387:
+#define ETH_LINK_FULL_DUPLEX RTE_DEPRECATED(ETH_LINK_FULL_DUPLEX) RTE_ETH_LINK_FULL_DUPLEX
ERROR:COMPLEX_MACRO: Macros with complex values should be enclosed in parentheses
#240: FILE: lib/ethdev/rte_ethdev.h:388:
+#define ETH_LINK_DOWN RTE_DEPRECATED(ETH_LINK_DOWN) RTE_ETH_LINK_DOWN
ERROR:COMPLEX_MACRO: Macros with complex values should be enclosed in parentheses
#241: FILE: lib/ethdev/rte_ethdev.h:389:
+#define ETH_LINK_UP RTE_DEPRECATED(ETH_LINK_UP) RTE_ETH_LINK_UP
ERROR:COMPLEX_MACRO: Macros with complex values should be enclosed in parentheses
#242: FILE: lib/ethdev/rte_ethdev.h:390:
+#define ETH_LINK_FIXED RTE_DEPRECATED(ETH_LINK_FIXED) RTE_ETH_LINK_FIXED
ERROR:COMPLEX_MACRO: Macros with complex values should be enclosed in parentheses
#243: FILE: lib/ethdev/rte_ethdev.h:391:
+#define ETH_LINK_AUTONEG RTE_DEPRECATED(ETH_LINK_AUTONEG) RTE_ETH_LINK_AUTONEG
ERROR:COMPLEX_MACRO: Macros with complex values should be enclosed in parentheses
#259: FILE: lib/ethdev/rte_ethdev.h:411:
+#define ETH_MQ_RX_RSS_FLAG RTE_DEPRECATED(ETH_MQ_RX_RSS_FLAG) RTE_ETH_MQ_RX_RSS_FLAG
ERROR:COMPLEX_MACRO: Macros with complex values should be enclosed in parentheses
#260: FILE: lib/ethdev/rte_ethdev.h:412:
+#define ETH_MQ_RX_DCB_FLAG RTE_DEPRECATED(ETH_MQ_RX_DCB_FLAG) RTE_ETH_MQ_RX_DCB_FLAG
ERROR:COMPLEX_MACRO: Macros with complex values should be enclosed in parentheses
#261: FILE: lib/ethdev/rte_ethdev.h:413:
+#define ETH_MQ_RX_VMDQ_FLAG RTE_DEPRECATED(ETH_MQ_RX_VMDQ_FLAG) RTE_ETH_MQ_RX_VMDQ_FLAG
ERROR:COMPLEX_MACRO: Macros with complex values should be enclosed in parentheses
#278: FILE: lib/ethdev/rte_ethdev.h:441:
+#define ETH_MQ_RX_NONE RTE_DEPRECATED(ETH_MQ_RX_NONE) RTE_ETH_MQ_RX_NONE
ERROR:COMPLEX_MACRO: Macros with complex values should be enclosed in parentheses
#279: FILE: lib/ethdev/rte_ethdev.h:442:
+#define ETH_MQ_RX_RSS RTE_DEPRECATED(ETH_MQ_RX_RSS) RTE_ETH_MQ_RX_RSS
ERROR:COMPLEX_MACRO: Macros with complex values should be enclosed in parentheses
#280: FILE: lib/ethdev/rte_ethdev.h:443:
+#define ETH_MQ_RX_DCB RTE_DEPRECATED(ETH_MQ_RX_DCB) RTE_ETH_MQ_RX_DCB
ERROR:COMPLEX_MACRO: Macros with complex values should be enclosed in parentheses
#281: FILE: lib/ethdev/rte_ethdev.h:444:
+#define ETH_MQ_RX_DCB_RSS RTE_DEPRECATED(ETH_MQ_RX_DCB_RSS) RTE_ETH_MQ_RX_DCB_RSS
ERROR:COMPLEX_MACRO: Macros with complex values should be enclosed in parentheses
#282: FILE: lib/ethdev/rte_ethdev.h:445:
+#define ETH_MQ_RX_VMDQ_ONLY RTE_DEPRECATED(ETH_MQ_RX_VMDQ_ONLY) RTE_ETH_MQ_RX_VMDQ_ONLY
ERROR:COMPLEX_MACRO: Macros with complex values should be enclosed in parentheses
#283: FILE: lib/ethdev/rte_ethdev.h:446:
+#define ETH_MQ_RX_VMDQ_RSS RTE_DEPRECATED(ETH_MQ_RX_VMDQ_RSS) RTE_ETH_MQ_RX_VMDQ_RSS
ERROR:COMPLEX_MACRO: Macros with complex values should be enclosed in parentheses
#284: FILE: lib/ethdev/rte_ethdev.h:447:
+#define ETH_MQ_RX_VMDQ_DCB RTE_DEPRECATED(ETH_MQ_RX_VMDQ_DCB) RTE_ETH_MQ_RX_VMDQ_DCB
ERROR:COMPLEX_MACRO: Macros with complex values should be enclosed in parentheses
#285: FILE: lib/ethdev/rte_ethdev.h:448:
+#define ETH_MQ_RX_VMDQ_DCB_RSS RTE_DEPRECATED(ETH_MQ_RX_VMDQ_DCB_RSS) RTE_ETH_MQ_RX_VMDQ_DCB_RSS
ERROR:COMPLEX_MACRO: Macros with complex values should be enclosed in parentheses
#298: FILE: lib/ethdev/rte_ethdev.h:461:
+#define ETH_MQ_TX_NONE RTE_DEPRECATED(ETH_MQ_TX_NONE) RTE_ETH_MQ_TX_NONE
ERROR:COMPLEX_MACRO: Macros with complex values should be enclosed in parentheses
#299: FILE: lib/ethdev/rte_ethdev.h:462:
+#define ETH_MQ_TX_DCB RTE_DEPRECATED(ETH_MQ_TX_DCB) RTE_ETH_MQ_TX_DCB
ERROR:COMPLEX_MACRO: Macros with complex values should be enclosed in parentheses
#300: FILE: lib/ethdev/rte_ethdev.h:463:
+#define ETH_MQ_TX_VMDQ_DCB RTE_DEPRECATED(ETH_MQ_TX_VMDQ_DCB) RTE_ETH_MQ_TX_VMDQ_DCB
ERROR:COMPLEX_MACRO: Macros with complex values should be enclosed in parentheses
#301: FILE: lib/ethdev/rte_ethdev.h:464:
+#define ETH_MQ_TX_VMDQ_ONLY RTE_DEPRECATED(ETH_MQ_TX_VMDQ_ONLY) RTE_ETH_MQ_TX_VMDQ_ONLY
ERROR:COMPLEX_MACRO: Macros with complex values should be enclosed in parentheses
#313: FILE: lib/ethdev/rte_ethdev.h:498:
+#define ETH_VLAN_TYPE_UNKNOWN RTE_DEPRECATED(ETH_VLAN_TYPE_UNKNOWN) RTE_ETH_VLAN_TYPE_UNKNOWN
ERROR:COMPLEX_MACRO: Macros with complex values should be enclosed in parentheses
#314: FILE: lib/ethdev/rte_ethdev.h:499:
+#define ETH_VLAN_TYPE_INNER RTE_DEPRECATED(ETH_VLAN_TYPE_INNER) RTE_ETH_VLAN_TYPE_INNER
ERROR:COMPLEX_MACRO: Macros with complex values should be enclosed in parentheses
#315: FILE: lib/ethdev/rte_ethdev.h:500:
+#define ETH_VLAN_TYPE_OUTER RTE_DEPRECATED(ETH_VLAN_TYPE_OUTER) RTE_ETH_VLAN_TYPE_OUTER
ERROR:COMPLEX_MACRO: Macros with complex values should be enclosed in parentheses
#316: FILE: lib/ethdev/rte_ethdev.h:501:
+#define ETH_VLAN_TYPE_MAX RTE_DEPRECATED(ETH_VLAN_TYPE_MAX) RTE_ETH_VLAN_TYPE_MAX
ERROR:COMPLEX_MACRO: Macros with complex values should be enclosed in parentheses
#388: FILE: lib/ethdev/rte_ethdev.h:606:
+#define ETH_RSS_IPV4 RTE_DEPRECATED(ETH_RSS_IPV4) RTE_ETH_RSS_IPV4
ERROR:COMPLEX_MACRO: Macros with complex values should be enclosed in parentheses
#389: FILE: lib/ethdev/rte_ethdev.h:607:
+#define ETH_RSS_FRAG_IPV4 RTE_DEPRECATED(ETH_RSS_FRAG_IPV4) RTE_ETH_RSS_FRAG_IPV4
WARNING:LONG_LINE: line length of 106 exceeds 100 columns
#390: FILE: lib/ethdev/rte_ethdev.h:608:
+#define ETH_RSS_NONFRAG_IPV4_TCP RTE_DEPRECATED(ETH_RSS_NONFRAG_IPV4_TCP) RTE_ETH_RSS_NONFRAG_IPV4_TCP
ERROR:COMPLEX_MACRO: Macros with complex values should be enclosed in parentheses
#390: FILE: lib/ethdev/rte_ethdev.h:608:
+#define ETH_RSS_NONFRAG_IPV4_TCP RTE_DEPRECATED(ETH_RSS_NONFRAG_IPV4_TCP) RTE_ETH_RSS_NONFRAG_IPV4_TCP
WARNING:LONG_LINE: line length of 106 exceeds 100 columns
#391: FILE: lib/ethdev/rte_ethdev.h:609:
+#define ETH_RSS_NONFRAG_IPV4_UDP RTE_DEPRECATED(ETH_RSS_NONFRAG_IPV4_UDP) RTE_ETH_RSS_NONFRAG_IPV4_UDP
ERROR:COMPLEX_MACRO: Macros with complex values should be enclosed in parentheses
#391: FILE: lib/ethdev/rte_ethdev.h:609:
+#define ETH_RSS_NONFRAG_IPV4_UDP RTE_DEPRECATED(ETH_RSS_NONFRAG_IPV4_UDP) RTE_ETH_RSS_NONFRAG_IPV4_UDP
WARNING:LONG_LINE: line length of 107 exceeds 100 columns
#392: FILE: lib/ethdev/rte_ethdev.h:610:
+#define ETH_RSS_NONFRAG_IPV4_SCTP RTE_DEPRECATED(ETH_RSS_NONFRAG_IPV4_SCTP) RTE_ETH_RSS_NONFRAG_IPV4_SCTP
ERROR:COMPLEX_MACRO: Macros with complex values should be enclosed in parentheses
#392: FILE: lib/ethdev/rte_ethdev.h:610:
+#define ETH_RSS_NONFRAG_IPV4_SCTP RTE_DEPRECATED(ETH_RSS_NONFRAG_IPV4_SCTP) RTE_ETH_RSS_NONFRAG_IPV4_SCTP
WARNING:LONG_LINE: line length of 108 exceeds 100 columns
#393: FILE: lib/ethdev/rte_ethdev.h:611:
+#define ETH_RSS_NONFRAG_IPV4_OTHER RTE_DEPRECATED(ETH_RSS_NONFRAG_IPV4_OTHER) RTE_ETH_RSS_NONFRAG_IPV4_OTHER
ERROR:COMPLEX_MACRO: Macros with complex values should be enclosed in parentheses
#393: FILE: lib/ethdev/rte_ethdev.h:611:
+#define ETH_RSS_NONFRAG_IPV4_OTHER RTE_DEPRECATED(ETH_RSS_NONFRAG_IPV4_OTHER) RTE_ETH_RSS_NONFRAG_IPV4_OTHER
ERROR:COMPLEX_MACRO: Macros with complex values should be enclosed in parentheses
#394: FILE: lib/ethdev/rte_ethdev.h:612:
+#define ETH_RSS_IPV6 RTE_DEPRECATED(ETH_RSS_IPV6) RTE_ETH_RSS_IPV6
ERROR:COMPLEX_MACRO: Macros with complex values should be enclosed in parentheses
#395: FILE: lib/ethdev/rte_ethdev.h:613:
+#define ETH_RSS_FRAG_IPV6 RTE_DEPRECATED(ETH_RSS_FRAG_IPV6) RTE_ETH_RSS_FRAG_IPV6
WARNING:LONG_LINE: line length of 106 exceeds 100 columns
#396: FILE: lib/ethdev/rte_ethdev.h:614:
+#define ETH_RSS_NONFRAG_IPV6_TCP RTE_DEPRECATED(ETH_RSS_NONFRAG_IPV6_TCP) RTE_ETH_RSS_NONFRAG_IPV6_TCP
ERROR:COMPLEX_MACRO: Macros with complex values should be enclosed in parentheses
#396: FILE: lib/ethdev/rte_ethdev.h:614:
+#define ETH_RSS_NONFRAG_IPV6_TCP RTE_DEPRECATED(ETH_RSS_NONFRAG_IPV6_TCP) RTE_ETH_RSS_NONFRAG_IPV6_TCP
WARNING:LONG_LINE: line length of 106 exceeds 100 columns
#397: FILE: lib/ethdev/rte_ethdev.h:615:
+#define ETH_RSS_NONFRAG_IPV6_UDP RTE_DEPRECATED(ETH_RSS_NONFRAG_IPV6_UDP) RTE_ETH_RSS_NONFRAG_IPV6_UDP
ERROR:COMPLEX_MACRO: Macros with complex values should be enclosed in parentheses
#397: FILE: lib/ethdev/rte_ethdev.h:615:
+#define ETH_RSS_NONFRAG_IPV6_UDP RTE_DEPRECATED(ETH_RSS_NONFRAG_IPV6_UDP) RTE_ETH_RSS_NONFRAG_IPV6_UDP
WARNING:LONG_LINE: line length of 107 exceeds 100 columns
#398: FILE: lib/ethdev/rte_ethdev.h:616:
+#define ETH_RSS_NONFRAG_IPV6_SCTP RTE_DEPRECATED(ETH_RSS_NONFRAG_IPV6_SCTP) RTE_ETH_RSS_NONFRAG_IPV6_SCTP
ERROR:COMPLEX_MACRO: Macros with complex values should be enclosed in parentheses
#398: FILE: lib/ethdev/rte_ethdev.h:616:
+#define ETH_RSS_NONFRAG_IPV6_SCTP RTE_DEPRECATED(ETH_RSS_NONFRAG_IPV6_SCTP) RTE_ETH_RSS_NONFRAG_IPV6_SCTP
WARNING:LONG_LINE: line length of 108 exceeds 100 columns
#399: FILE: lib/ethdev/rte_ethdev.h:617:
+#define ETH_RSS_NONFRAG_IPV6_OTHER RTE_DEPRECATED(ETH_RSS_NONFRAG_IPV6_OTHER) RTE_ETH_RSS_NONFRAG_IPV6_OTHER
ERROR:COMPLEX_MACRO: Macros with complex values should be enclosed in parentheses
#399: FILE: lib/ethdev/rte_ethdev.h:617:
+#define ETH_RSS_NONFRAG_IPV6_OTHER RTE_DEPRECATED(ETH_RSS_NONFRAG_IPV6_OTHER) RTE_ETH_RSS_NONFRAG_IPV6_OTHER
ERROR:COMPLEX_MACRO: Macros with complex values should be enclosed in parentheses
#400: FILE: lib/ethdev/rte_ethdev.h:618:
+#define ETH_RSS_L2_PAYLOAD RTE_DEPRECATED(ETH_RSS_L2_PAYLOAD) RTE_ETH_RSS_L2_PAYLOAD
ERROR:COMPLEX_MACRO: Macros with complex values should be enclosed in parentheses
#401: FILE: lib/ethdev/rte_ethdev.h:619:
+#define ETH_RSS_IPV6_EX RTE_DEPRECATED(ETH_RSS_IPV6_EX) RTE_ETH_RSS_IPV6_EX
WARNING:LONG_LINE: line length of 101 exceeds 100 columns
#402: FILE: lib/ethdev/rte_ethdev.h:620:
+#define ETH_RSS_IPV6_TCP_EX RTE_DEPRECATED(ETH_RSS_IPV6_TCP_EX) RTE_ETH_RSS_IPV6_TCP_EX
ERROR:COMPLEX_MACRO: Macros with complex values should be enclosed in parentheses
#402: FILE: lib/ethdev/rte_ethdev.h:620:
+#define ETH_RSS_IPV6_TCP_EX RTE_DEPRECATED(ETH_RSS_IPV6_TCP_EX) RTE_ETH_RSS_IPV6_TCP_EX
WARNING:LONG_LINE: line length of 101 exceeds 100 columns
#403: FILE: lib/ethdev/rte_ethdev.h:621:
+#define ETH_RSS_IPV6_UDP_EX RTE_DEPRECATED(ETH_RSS_IPV6_UDP_EX) RTE_ETH_RSS_IPV6_UDP_EX
ERROR:COMPLEX_MACRO: Macros with complex values should be enclosed in parentheses
#403: FILE: lib/ethdev/rte_ethdev.h:621:
+#define ETH_RSS_IPV6_UDP_EX RTE_DEPRECATED(ETH_RSS_IPV6_UDP_EX) RTE_ETH_RSS_IPV6_UDP_EX
ERROR:COMPLEX_MACRO: Macros with complex values should be enclosed in parentheses
#404: FILE: lib/ethdev/rte_ethdev.h:622:
+#define ETH_RSS_PORT RTE_DEPRECATED(ETH_RSS_PORT) RTE_ETH_RSS_PORT
ERROR:COMPLEX_MACRO: Macros with complex values should be enclosed in parentheses
#405: FILE: lib/ethdev/rte_ethdev.h:623:
+#define ETH_RSS_VXLAN RTE_DEPRECATED(ETH_RSS_VXLAN) RTE_ETH_RSS_VXLAN
ERROR:COMPLEX_MACRO: Macros with complex values should be enclosed in parentheses
#406: FILE: lib/ethdev/rte_ethdev.h:624:
+#define ETH_RSS_GENEVE RTE_DEPRECATED(ETH_RSS_GENEVE) RTE_ETH_RSS_GENEVE
ERROR:COMPLEX_MACRO: Macros with complex values should be enclosed in parentheses
#407: FILE: lib/ethdev/rte_ethdev.h:625:
+#define ETH_RSS_NVGRE RTE_DEPRECATED(ETH_RSS_NVGRE) RTE_ETH_RSS_NVGRE
ERROR:COMPLEX_MACRO: Macros with complex values should be enclosed in parentheses
#408: FILE: lib/ethdev/rte_ethdev.h:626:
+#define ETH_RSS_GTPU RTE_DEPRECATED(ETH_RSS_GTPU) RTE_ETH_RSS_GTPU
ERROR:COMPLEX_MACRO: Macros with complex values should be enclosed in parentheses
#409: FILE: lib/ethdev/rte_ethdev.h:627:
+#define ETH_RSS_ETH RTE_DEPRECATED(ETH_RSS_ETH) RTE_ETH_RSS_ETH
ERROR:COMPLEX_MACRO: Macros with complex values should be enclosed in parentheses
#410: FILE: lib/ethdev/rte_ethdev.h:628:
+#define ETH_RSS_S_VLAN RTE_DEPRECATED(ETH_RSS_S_VLAN) RTE_ETH_RSS_S_VLAN
ERROR:COMPLEX_MACRO: Macros with complex values should be enclosed in parentheses
#411: FILE: lib/ethdev/rte_ethdev.h:629:
+#define ETH_RSS_C_VLAN RTE_DEPRECATED(ETH_RSS_C_VLAN) RTE_ETH_RSS_C_VLAN
ERROR:COMPLEX_MACRO: Macros with complex values should be enclosed in parentheses
#412: FILE: lib/ethdev/rte_ethdev.h:630:
+#define ETH_RSS_ESP RTE_DEPRECATED(ETH_RSS_ESP) RTE_ETH_RSS_ESP
ERROR:COMPLEX_MACRO: Macros with complex values should be enclosed in parentheses
#413: FILE: lib/ethdev/rte_ethdev.h:631:
+#define ETH_RSS_AH RTE_DEPRECATED(ETH_RSS_AH) RTE_ETH_RSS_AH
ERROR:COMPLEX_MACRO: Macros with complex values should be enclosed in parentheses
#414: FILE: lib/ethdev/rte_ethdev.h:632:
+#define ETH_RSS_L2TPV3 RTE_DEPRECATED(ETH_RSS_L2TPV3) RTE_ETH_RSS_L2TPV3
ERROR:COMPLEX_MACRO: Macros with complex values should be enclosed in parentheses
#415: FILE: lib/ethdev/rte_ethdev.h:633:
+#define ETH_RSS_PFCP RTE_DEPRECATED(ETH_RSS_PFCP) RTE_ETH_RSS_PFCP
ERROR:COMPLEX_MACRO: Macros with complex values should be enclosed in parentheses
#416: FILE: lib/ethdev/rte_ethdev.h:634:
+#define ETH_RSS_PPPOE RTE_DEPRECATED(ETH_RSS_PPPOE) RTE_ETH_RSS_PPPOE
ERROR:COMPLEX_MACRO: Macros with complex values should be enclosed in parentheses
#417: FILE: lib/ethdev/rte_ethdev.h:635:
+#define ETH_RSS_ECPRI RTE_DEPRECATED(ETH_RSS_ECPRI) RTE_ETH_RSS_ECPRI
ERROR:COMPLEX_MACRO: Macros with complex values should be enclosed in parentheses
#418: FILE: lib/ethdev/rte_ethdev.h:636:
+#define ETH_RSS_MPLS RTE_DEPRECATED(ETH_RSS_MPLS) RTE_ETH_RSS_MPLS
WARNING:LONG_LINE: line length of 101 exceeds 100 columns
#419: FILE: lib/ethdev/rte_ethdev.h:637:
+#define ETH_RSS_IPV4_CHKSUM RTE_DEPRECATED(ETH_RSS_IPV4_CHKSUM) RTE_ETH_RSS_IPV4_CHKSUM
ERROR:COMPLEX_MACRO: Macros with complex values should be enclosed in parentheses
#419: FILE: lib/ethdev/rte_ethdev.h:637:
+#define ETH_RSS_IPV4_CHKSUM RTE_DEPRECATED(ETH_RSS_IPV4_CHKSUM) RTE_ETH_RSS_IPV4_CHKSUM
ERROR:COMPLEX_MACRO: Macros with complex values should be enclosed in parentheses
#428: FILE: lib/ethdev/rte_ethdev.h:652:
+#define ETH_RSS_L4_CHKSUM RTE_DEPRECATED(ETH_RSS_L4_CHKSUM) RTE_ETH_RSS_L4_CHKSUM
ERROR:COMPLEX_MACRO: Macros with complex values should be enclosed in parentheses
#448: FILE: lib/ethdev/rte_ethdev.h:670:
+#define ETH_RSS_L3_SRC_ONLY RTE_DEPRECATED(ETH_RSS_L3_SRC_ONLY) RTE_ETH_RSS_L3_SRC_ONLY
ERROR:COMPLEX_MACRO: Macros with complex values should be enclosed in parentheses
#449: FILE: lib/ethdev/rte_ethdev.h:671:
+#define ETH_RSS_L3_DST_ONLY RTE_DEPRECATED(ETH_RSS_L3_DST_ONLY) RTE_ETH_RSS_L3_DST_ONLY
ERROR:COMPLEX_MACRO: Macros with complex values should be enclosed in parentheses
#450: FILE: lib/ethdev/rte_ethdev.h:672:
+#define ETH_RSS_L4_SRC_ONLY RTE_DEPRECATED(ETH_RSS_L4_SRC_ONLY) RTE_ETH_RSS_L4_SRC_ONLY
ERROR:COMPLEX_MACRO: Macros with complex values should be enclosed in parentheses
#451: FILE: lib/ethdev/rte_ethdev.h:673:
+#define ETH_RSS_L4_DST_ONLY RTE_DEPRECATED(ETH_RSS_L4_DST_ONLY) RTE_ETH_RSS_L4_DST_ONLY
ERROR:COMPLEX_MACRO: Macros with complex values should be enclosed in parentheses
#452: FILE: lib/ethdev/rte_ethdev.h:674:
+#define ETH_RSS_L2_SRC_ONLY RTE_DEPRECATED(ETH_RSS_L2_SRC_ONLY) RTE_ETH_RSS_L2_SRC_ONLY
ERROR:COMPLEX_MACRO: Macros with complex values should be enclosed in parentheses
#453: FILE: lib/ethdev/rte_ethdev.h:675:
+#define ETH_RSS_L2_DST_ONLY RTE_DEPRECATED(ETH_RSS_L2_DST_ONLY) RTE_ETH_RSS_L2_DST_ONLY
WARNING:LONG_LINE: line length of 105 exceeds 100 columns
#467: FILE: lib/ethdev/rte_ethdev.h:704:
+#define ETH_RSS_LEVEL_PMD_DEFAULT RTE_DEPRECATED(ETH_RSS_LEVEL_PMD_DEFAULT) RTE_ETH_RSS_LEVEL_PMD_DEFAULT
ERROR:COMPLEX_MACRO: Macros with complex values should be enclosed in parentheses
#467: FILE: lib/ethdev/rte_ethdev.h:704:
+#define ETH_RSS_LEVEL_PMD_DEFAULT RTE_DEPRECATED(ETH_RSS_LEVEL_PMD_DEFAULT) RTE_ETH_RSS_LEVEL_PMD_DEFAULT
ERROR:COMPLEX_MACRO: Macros with complex values should be enclosed in parentheses
#475: FILE: lib/ethdev/rte_ethdev.h:711:
+#define ETH_RSS_LEVEL_OUTERMOST RTE_DEPRECATED(ETH_RSS_LEVEL_OUTERMOST) RTE_ETH_RSS_LEVEL_OUTERMOST
ERROR:COMPLEX_MACRO: Macros with complex values should be enclosed in parentheses
#486: FILE: lib/ethdev/rte_ethdev.h:720:
+#define ETH_RSS_LEVEL_INNERMOST RTE_DEPRECATED(ETH_RSS_LEVEL_INNERMOST) RTE_ETH_RSS_LEVEL_INNERMOST
ERROR:COMPLEX_MACRO: Macros with complex values should be enclosed in parentheses
#487: FILE: lib/ethdev/rte_ethdev.h:721:
+#define ETH_RSS_LEVEL_MASK RTE_DEPRECATED(ETH_RSS_LEVEL_MASK) RTE_ETH_RSS_LEVEL_MASK
ERROR:COMPLEX_MACRO: Macros with complex values should be enclosed in parentheses
#491: FILE: lib/ethdev/rte_ethdev.h:724:
+#define ETH_RSS_LEVEL(rss_hf) RTE_DEPRECATED(ETH_RSS_LEVEL(rss_hf)) RTE_ETH_RSS_LEVEL(rss_hf)
ERROR:COMPLEX_MACRO: Macros with complex values should be enclosed in parentheses
#500: FILE: lib/ethdev/rte_ethdev.h:751:
+#define ETH_RSS_IPV6_PRE32 RTE_DEPRECATED(ETH_RSS_IPV6_PRE32) RTE_ETH_RSS_IPV6_PRE32
ERROR:COMPLEX_MACRO: Macros with complex values should be enclosed in parentheses
#506: FILE: lib/ethdev/rte_ethdev.h:756:
+#define ETH_RSS_IPV6_PRE40 RTE_DEPRECATED(ETH_RSS_IPV6_PRE40) RTE_ETH_RSS_IPV6_PRE40
ERROR:COMPLEX_MACRO: Macros with complex values should be enclosed in parentheses
#512: FILE: lib/ethdev/rte_ethdev.h:761:
+#define ETH_RSS_IPV6_PRE48 RTE_DEPRECATED(ETH_RSS_IPV6_PRE48) RTE_ETH_RSS_IPV6_PRE48
ERROR:COMPLEX_MACRO: Macros with complex values should be enclosed in parentheses
#518: FILE: lib/ethdev/rte_ethdev.h:766:
+#define ETH_RSS_IPV6_PRE56 RTE_DEPRECATED(ETH_RSS_IPV6_PRE56) RTE_ETH_RSS_IPV6_PRE56
ERROR:COMPLEX_MACRO: Macros with complex values should be enclosed in parentheses
#524: FILE: lib/ethdev/rte_ethdev.h:771:
+#define ETH_RSS_IPV6_PRE64 RTE_DEPRECATED(ETH_RSS_IPV6_PRE64) RTE_ETH_RSS_IPV6_PRE64
ERROR:COMPLEX_MACRO: Macros with complex values should be enclosed in parentheses
#530: FILE: lib/ethdev/rte_ethdev.h:776:
+#define ETH_RSS_IPV6_PRE96 RTE_DEPRECATED(ETH_RSS_IPV6_PRE96) RTE_ETH_RSS_IPV6_PRE96
ERROR:COMPLEX_MACRO: Macros with complex values should be enclosed in parentheses
#536: FILE: lib/ethdev/rte_ethdev.h:781:
+#define ETH_RSS_IPV6_PRE32_UDP RTE_DEPRECATED(ETH_RSS_IPV6_PRE32_UDP) RTE_ETH_RSS_IPV6_PRE32_UDP
ERROR:COMPLEX_MACRO: Macros with complex values should be enclosed in parentheses
#542: FILE: lib/ethdev/rte_ethdev.h:786:
+#define ETH_RSS_IPV6_PRE40_UDP RTE_DEPRECATED(ETH_RSS_IPV6_PRE40_UDP) RTE_ETH_RSS_IPV6_PRE40_UDP
ERROR:COMPLEX_MACRO: Macros with complex values should be enclosed in parentheses
#548: FILE: lib/ethdev/rte_ethdev.h:791:
+#define ETH_RSS_IPV6_PRE48_UDP RTE_DEPRECATED(ETH_RSS_IPV6_PRE48_UDP) RTE_ETH_RSS_IPV6_PRE48_UDP
ERROR:COMPLEX_MACRO: Macros with complex values should be enclosed in parentheses
#554: FILE: lib/ethdev/rte_ethdev.h:796:
+#define ETH_RSS_IPV6_PRE56_UDP RTE_DEPRECATED(ETH_RSS_IPV6_PRE56_UDP) RTE_ETH_RSS_IPV6_PRE56_UDP
ERROR:COMPLEX_MACRO: Macros with complex values should be enclosed in parentheses
#560: FILE: lib/ethdev/rte_ethdev.h:801:
+#define ETH_RSS_IPV6_PRE64_UDP RTE_DEPRECATED(ETH_RSS_IPV6_PRE64_UDP) RTE_ETH_RSS_IPV6_PRE64_UDP
ERROR:COMPLEX_MACRO: Macros with complex values should be enclosed in parentheses
#566: FILE: lib/ethdev/rte_ethdev.h:806:
+#define ETH_RSS_IPV6_PRE96_UDP RTE_DEPRECATED(ETH_RSS_IPV6_PRE96_UDP) RTE_ETH_RSS_IPV6_PRE96_UDP
ERROR:COMPLEX_MACRO: Macros with complex values should be enclosed in parentheses
#572: FILE: lib/ethdev/rte_ethdev.h:811:
+#define ETH_RSS_IPV6_PRE32_TCP RTE_DEPRECATED(ETH_RSS_IPV6_PRE32_TCP) RTE_ETH_RSS_IPV6_PRE32_TCP
ERROR:COMPLEX_MACRO: Macros with complex values should be enclosed in parentheses
#578: FILE: lib/ethdev/rte_ethdev.h:816:
+#define ETH_RSS_IPV6_PRE40_TCP RTE_DEPRECATED(ETH_RSS_IPV6_PRE40_TCP) RTE_ETH_RSS_IPV6_PRE40_TCP
ERROR:COMPLEX_MACRO: Macros with complex values should be enclosed in parentheses
#584: FILE: lib/ethdev/rte_ethdev.h:821:
+#define ETH_RSS_IPV6_PRE48_TCP RTE_DEPRECATED(ETH_RSS_IPV6_PRE48_TCP) RTE_ETH_RSS_IPV6_PRE48_TCP
ERROR:COMPLEX_MACRO: Macros with complex values should be enclosed in parentheses
#590: FILE: lib/ethdev/rte_ethdev.h:826:
+#define ETH_RSS_IPV6_PRE56_TCP RTE_DEPRECATED(ETH_RSS_IPV6_PRE56_TCP) RTE_ETH_RSS_IPV6_PRE56_TCP
ERROR:COMPLEX_MACRO: Macros with complex values should be enclosed in parentheses
#596: FILE: lib/ethdev/rte_ethdev.h:831:
+#define ETH_RSS_IPV6_PRE64_TCP RTE_DEPRECATED(ETH_RSS_IPV6_PRE64_TCP) RTE_ETH_RSS_IPV6_PRE64_TCP
ERROR:COMPLEX_MACRO: Macros with complex values should be enclosed in parentheses
#602: FILE: lib/ethdev/rte_ethdev.h:836:
+#define ETH_RSS_IPV6_PRE96_TCP RTE_DEPRECATED(ETH_RSS_IPV6_PRE96_TCP) RTE_ETH_RSS_IPV6_PRE96_TCP
ERROR:COMPLEX_MACRO: Macros with complex values should be enclosed in parentheses
#608: FILE: lib/ethdev/rte_ethdev.h:841:
+#define ETH_RSS_IPV6_PRE32_SCTP RTE_DEPRECATED(ETH_RSS_IPV6_PRE32_SCTP) RTE_ETH_RSS_IPV6_PRE32_SCTP
ERROR:COMPLEX_MACRO: Macros with complex values should be enclosed in parentheses
#614: FILE: lib/ethdev/rte_ethdev.h:846:
+#define ETH_RSS_IPV6_PRE40_SCTP RTE_DEPRECATED(ETH_RSS_IPV6_PRE40_SCTP) RTE_ETH_RSS_IPV6_PRE40_SCTP
ERROR:COMPLEX_MACRO: Macros with complex values should be enclosed in parentheses
#620: FILE: lib/ethdev/rte_ethdev.h:851:
+#define ETH_RSS_IPV6_PRE48_SCTP RTE_DEPRECATED(ETH_RSS_IPV6_PRE48_SCTP) RTE_ETH_RSS_IPV6_PRE48_SCTP
ERROR:COMPLEX_MACRO: Macros with complex values should be enclosed in parentheses
#626: FILE: lib/ethdev/rte_ethdev.h:856:
+#define ETH_RSS_IPV6_PRE56_SCTP RTE_DEPRECATED(ETH_RSS_IPV6_PRE56_SCTP) RTE_ETH_RSS_IPV6_PRE56_SCTP
ERROR:COMPLEX_MACRO: Macros with complex values should be enclosed in parentheses
#632: FILE: lib/ethdev/rte_ethdev.h:861:
+#define ETH_RSS_IPV6_PRE64_SCTP RTE_DEPRECATED(ETH_RSS_IPV6_PRE64_SCTP) RTE_ETH_RSS_IPV6_PRE64_SCTP
ERROR:COMPLEX_MACRO: Macros with complex values should be enclosed in parentheses
#638: FILE: lib/ethdev/rte_ethdev.h:866:
+#define ETH_RSS_IPV6_PRE96_SCTP RTE_DEPRECATED(ETH_RSS_IPV6_PRE96_SCTP) RTE_ETH_RSS_IPV6_PRE96_SCTP
ERROR:COMPLEX_MACRO: Macros with complex values should be enclosed in parentheses
#647: FILE: lib/ethdev/rte_ethdev.h:876:
+#define ETH_RSS_IP RTE_DEPRECATED(ETH_RSS_IP) RTE_ETH_RSS_IP
ERROR:COMPLEX_MACRO: Macros with complex values should be enclosed in parentheses
#654: FILE: lib/ethdev/rte_ethdev.h:882:
+#define ETH_RSS_UDP RTE_DEPRECATED(ETH_RSS_UDP) RTE_ETH_RSS_UDP
ERROR:COMPLEX_MACRO: Macros with complex values should be enclosed in parentheses
#661: FILE: lib/ethdev/rte_ethdev.h:888:
+#define ETH_RSS_TCP RTE_DEPRECATED(ETH_RSS_TCP) RTE_ETH_RSS_TCP
ERROR:COMPLEX_MACRO: Macros with complex values should be enclosed in parentheses
#667: FILE: lib/ethdev/rte_ethdev.h:893:
+#define ETH_RSS_SCTP RTE_DEPRECATED(ETH_RSS_SCTP) RTE_ETH_RSS_SCTP
ERROR:COMPLEX_MACRO: Macros with complex values should be enclosed in parentheses
#674: FILE: lib/ethdev/rte_ethdev.h:899:
+#define ETH_RSS_TUNNEL RTE_DEPRECATED(ETH_RSS_TUNNEL) RTE_ETH_RSS_TUNNEL
ERROR:COMPLEX_MACRO: Macros with complex values should be enclosed in parentheses
#680: FILE: lib/ethdev/rte_ethdev.h:904:
+#define ETH_RSS_VLAN RTE_DEPRECATED(ETH_RSS_VLAN) RTE_ETH_RSS_VLAN
ERROR:COMPLEX_MACRO: Macros with complex values should be enclosed in parentheses
#689: FILE: lib/ethdev/rte_ethdev.h:929:
+#define ETH_RSS_PROTO_MASK RTE_DEPRECATED(ETH_RSS_PROTO_MASK) RTE_ETH_RSS_PROTO_MASK
ERROR:COMPLEX_MACRO: Macros with complex values should be enclosed in parentheses
#707: FILE: lib/ethdev/rte_ethdev.h:942:
+#define ETH_RSS_RETA_SIZE_64 RTE_DEPRECATED(ETH_RSS_RETA_SIZE_64) RTE_ETH_RSS_RETA_SIZE_64
ERROR:COMPLEX_MACRO: Macros with complex values should be enclosed in parentheses
#708: FILE: lib/ethdev/rte_ethdev.h:943:
+#define ETH_RSS_RETA_SIZE_128 RTE_DEPRECATED(ETH_RSS_RETA_SIZE_128) RTE_ETH_RSS_RETA_SIZE_128
ERROR:COMPLEX_MACRO: Macros with complex values should be enclosed in parentheses
#709: FILE: lib/ethdev/rte_ethdev.h:944:
+#define ETH_RSS_RETA_SIZE_256 RTE_DEPRECATED(ETH_RSS_RETA_SIZE_256) RTE_ETH_RSS_RETA_SIZE_256
ERROR:COMPLEX_MACRO: Macros with complex values should be enclosed in parentheses
#710: FILE: lib/ethdev/rte_ethdev.h:945:
+#define ETH_RSS_RETA_SIZE_512 RTE_DEPRECATED(ETH_RSS_RETA_SIZE_512) RTE_ETH_RSS_RETA_SIZE_512
ERROR:COMPLEX_MACRO: Macros with complex values should be enclosed in parentheses
#711: FILE: lib/ethdev/rte_ethdev.h:946:
+#define RTE_RETA_GROUP_SIZE RTE_DEPRECATED(RTE_RETA_GROUP_SIZE) RTE_ETH_RETA_GROUP_SIZE
WARNING:LONG_LINE: line length of 109 exceeds 100 columns
#724: FILE: lib/ethdev/rte_ethdev.h:955:
+#define ETH_VMDQ_MAX_VLAN_FILTERS RTE_DEPRECATED(ETH_VMDQ_MAX_VLAN_FILTERS) RTE_ETH_VMDQ_MAX_VLAN_FILTERS
ERROR:COMPLEX_MACRO: Macros with complex values should be enclosed in parentheses
#724: FILE: lib/ethdev/rte_ethdev.h:955:
+#define ETH_VMDQ_MAX_VLAN_FILTERS RTE_DEPRECATED(ETH_VMDQ_MAX_VLAN_FILTERS) RTE_ETH_VMDQ_MAX_VLAN_FILTERS
WARNING:LONG_LINE: line length of 111 exceeds 100 columns
#725: FILE: lib/ethdev/rte_ethdev.h:956:
+#define ETH_DCB_NUM_USER_PRIORITIES RTE_DEPRECATED(ETH_DCB_NUM_USER_PRIORITIES) RTE_ETH_DCB_NUM_USER_PRIORITIES
ERROR:COMPLEX_MACRO: Macros with complex values should be enclosed in parentheses
#725: FILE: lib/ethdev/rte_ethdev.h:956:
+#define ETH_DCB_NUM_USER_PRIORITIES RTE_DEPRECATED(ETH_DCB_NUM_USER_PRIORITIES) RTE_ETH_DCB_NUM_USER_PRIORITIES
WARNING:LONG_LINE: line length of 107 exceeds 100 columns
#726: FILE: lib/ethdev/rte_ethdev.h:957:
+#define ETH_VMDQ_DCB_NUM_QUEUES RTE_DEPRECATED(ETH_VMDQ_DCB_NUM_QUEUES) RTE_ETH_VMDQ_DCB_NUM_QUEUES
ERROR:COMPLEX_MACRO: Macros with complex values should be enclosed in parentheses
#726: FILE: lib/ethdev/rte_ethdev.h:957:
+#define ETH_VMDQ_DCB_NUM_QUEUES RTE_DEPRECATED(ETH_VMDQ_DCB_NUM_QUEUES) RTE_ETH_VMDQ_DCB_NUM_QUEUES
WARNING:LONG_LINE: line length of 102 exceeds 100 columns
#727: FILE: lib/ethdev/rte_ethdev.h:958:
+#define ETH_DCB_NUM_QUEUES RTE_DEPRECATED(ETH_DCB_NUM_QUEUES) RTE_ETH_DCB_NUM_QUEUES
ERROR:COMPLEX_MACRO: Macros with complex values should be enclosed in parentheses
#727: FILE: lib/ethdev/rte_ethdev.h:958:
+#define ETH_DCB_NUM_QUEUES RTE_DEPRECATED(ETH_DCB_NUM_QUEUES) RTE_ETH_DCB_NUM_QUEUES
ERROR:COMPLEX_MACRO: Macros with complex values should be enclosed in parentheses
#736: FILE: lib/ethdev/rte_ethdev.h:965:
+#define ETH_DCB_PG_SUPPORT RTE_DEPRECATED(ETH_DCB_PG_SUPPORT) RTE_ETH_DCB_PG_SUPPORT
ERROR:COMPLEX_MACRO: Macros with complex values should be enclosed in parentheses
#737: FILE: lib/ethdev/rte_ethdev.h:966:
+#define ETH_DCB_PFC_SUPPORT RTE_DEPRECATED(ETH_DCB_PFC_SUPPORT) RTE_ETH_DCB_PFC_SUPPORT
ERROR:COMPLEX_MACRO: Macros with complex values should be enclosed in parentheses
#749: FILE: lib/ethdev/rte_ethdev.h:974:
+#define ETH_VLAN_STRIP_OFFLOAD RTE_DEPRECATED(ETH_VLAN_STRIP_OFFLOAD) RTE_ETH_VLAN_STRIP_OFFLOAD
ERROR:COMPLEX_MACRO: Macros with complex values should be enclosed in parentheses
#750: FILE: lib/ethdev/rte_ethdev.h:975:
+#define ETH_VLAN_FILTER_OFFLOAD RTE_DEPRECATED(ETH_VLAN_FILTER_OFFLOAD) RTE_ETH_VLAN_FILTER_OFFLOAD
ERROR:COMPLEX_MACRO: Macros with complex values should be enclosed in parentheses
#751: FILE: lib/ethdev/rte_ethdev.h:976:
+#define ETH_VLAN_EXTEND_OFFLOAD RTE_DEPRECATED(ETH_VLAN_EXTEND_OFFLOAD) RTE_ETH_VLAN_EXTEND_OFFLOAD
ERROR:COMPLEX_MACRO: Macros with complex values should be enclosed in parentheses
#752: FILE: lib/ethdev/rte_ethdev.h:977:
+#define ETH_QINQ_STRIP_OFFLOAD RTE_DEPRECATED(ETH_QINQ_STRIP_OFFLOAD) RTE_ETH_QINQ_STRIP_OFFLOAD
ERROR:COMPLEX_MACRO: Macros with complex values should be enclosed in parentheses
#766: FILE: lib/ethdev/rte_ethdev.h:986:
+#define ETH_VLAN_STRIP_MASK RTE_DEPRECATED(ETH_VLAN_STRIP_MASK) RTE_ETH_VLAN_STRIP_MASK
ERROR:COMPLEX_MACRO: Macros with complex values should be enclosed in parentheses
#767: FILE: lib/ethdev/rte_ethdev.h:987:
+#define ETH_VLAN_FILTER_MASK RTE_DEPRECATED(ETH_VLAN_FILTER_MASK) RTE_ETH_VLAN_FILTER_MASK
ERROR:COMPLEX_MACRO: Macros with complex values should be enclosed in parentheses
#768: FILE: lib/ethdev/rte_ethdev.h:988:
+#define ETH_VLAN_EXTEND_MASK RTE_DEPRECATED(ETH_VLAN_EXTEND_MASK) RTE_ETH_VLAN_EXTEND_MASK
ERROR:COMPLEX_MACRO: Macros with complex values should be enclosed in parentheses
#769: FILE: lib/ethdev/rte_ethdev.h:989:
+#define ETH_QINQ_STRIP_MASK RTE_DEPRECATED(ETH_QINQ_STRIP_MASK) RTE_ETH_QINQ_STRIP_MASK
ERROR:COMPLEX_MACRO: Macros with complex values should be enclosed in parentheses
#770: FILE: lib/ethdev/rte_ethdev.h:990:
+#define ETH_VLAN_ID_MAX RTE_DEPRECATED(ETH_VLAN_ID_MAX) RTE_ETH_VLAN_ID_MAX
WARNING:LONG_LINE: line length of 102 exceeds 100 columns
#775: FILE: lib/ethdev/rte_ethdev.h:994:
+#define ETH_NUM_RECEIVE_MAC_ADDR RTE_DEPRECATED(ETH_NUM_RECEIVE_MAC_ADDR) RTE_ETH_NUM_RECEIVE_MAC_ADDR
ERROR:COMPLEX_MACRO: Macros with complex values should be enclosed in parentheses
#775: FILE: lib/ethdev/rte_ethdev.h:994:
+#define ETH_NUM_RECEIVE_MAC_ADDR RTE_DEPRECATED(ETH_NUM_RECEIVE_MAC_ADDR) RTE_ETH_NUM_RECEIVE_MAC_ADDR
WARNING:LONG_LINE: line length of 108 exceeds 100 columns
#780: FILE: lib/ethdev/rte_ethdev.h:998:
+#define ETH_VMDQ_NUM_UC_HASH_ARRAY RTE_DEPRECATED(ETH_VMDQ_NUM_UC_HASH_ARRAY) RTE_ETH_VMDQ_NUM_UC_HASH_ARRAY
ERROR:COMPLEX_MACRO: Macros with complex values should be enclosed in parentheses
#780: FILE: lib/ethdev/rte_ethdev.h:998:
+#define ETH_VMDQ_NUM_UC_HASH_ARRAY RTE_DEPRECATED(ETH_VMDQ_NUM_UC_HASH_ARRAY) RTE_ETH_VMDQ_NUM_UC_HASH_ARRAY
WARNING:LONG_LINE: line length of 101 exceeds 100 columns
#802: FILE: lib/ethdev/rte_ethdev.h:1015:
+#define ETH_VMDQ_ACCEPT_UNTAG RTE_DEPRECATED(ETH_VMDQ_ACCEPT_UNTAG) RTE_ETH_VMDQ_ACCEPT_UNTAG
ERROR:COMPLEX_MACRO: Macros with complex values should be enclosed in parentheses
#802: FILE: lib/ethdev/rte_ethdev.h:1015:
+#define ETH_VMDQ_ACCEPT_UNTAG RTE_DEPRECATED(ETH_VMDQ_ACCEPT_UNTAG) RTE_ETH_VMDQ_ACCEPT_UNTAG
WARNING:LONG_LINE: line length of 103 exceeds 100 columns
#803: FILE: lib/ethdev/rte_ethdev.h:1016:
+#define ETH_VMDQ_ACCEPT_HASH_MC RTE_DEPRECATED(ETH_VMDQ_ACCEPT_HASH_MC) RTE_ETH_VMDQ_ACCEPT_HASH_MC
ERROR:COMPLEX_MACRO: Macros with complex values should be enclosed in parentheses
#803: FILE: lib/ethdev/rte_ethdev.h:1016:
+#define ETH_VMDQ_ACCEPT_HASH_MC RTE_DEPRECATED(ETH_VMDQ_ACCEPT_HASH_MC) RTE_ETH_VMDQ_ACCEPT_HASH_MC
WARNING:LONG_LINE: line length of 103 exceeds 100 columns
#804: FILE: lib/ethdev/rte_ethdev.h:1017:
+#define ETH_VMDQ_ACCEPT_HASH_UC RTE_DEPRECATED(ETH_VMDQ_ACCEPT_HASH_UC) RTE_ETH_VMDQ_ACCEPT_HASH_UC
ERROR:COMPLEX_MACRO: Macros with complex values should be enclosed in parentheses
#804: FILE: lib/ethdev/rte_ethdev.h:1017:
+#define ETH_VMDQ_ACCEPT_HASH_UC RTE_DEPRECATED(ETH_VMDQ_ACCEPT_HASH_UC) RTE_ETH_VMDQ_ACCEPT_HASH_UC
WARNING:LONG_LINE: line length of 105 exceeds 100 columns
#805: FILE: lib/ethdev/rte_ethdev.h:1018:
+#define ETH_VMDQ_ACCEPT_BROADCAST RTE_DEPRECATED(ETH_VMDQ_ACCEPT_BROADCAST) RTE_ETH_VMDQ_ACCEPT_BROADCAST
ERROR:COMPLEX_MACRO: Macros with complex values should be enclosed in parentheses
#805: FILE: lib/ethdev/rte_ethdev.h:1018:
+#define ETH_VMDQ_ACCEPT_BROADCAST RTE_DEPRECATED(ETH_VMDQ_ACCEPT_BROADCAST) RTE_ETH_VMDQ_ACCEPT_BROADCAST
WARNING:LONG_LINE: line length of 105 exceeds 100 columns
#806: FILE: lib/ethdev/rte_ethdev.h:1019:
+#define ETH_VMDQ_ACCEPT_MULTICAST RTE_DEPRECATED(ETH_VMDQ_ACCEPT_MULTICAST) RTE_ETH_VMDQ_ACCEPT_MULTICAST
ERROR:COMPLEX_MACRO: Macros with complex values should be enclosed in parentheses
#806: FILE: lib/ethdev/rte_ethdev.h:1019:
+#define ETH_VMDQ_ACCEPT_MULTICAST RTE_DEPRECATED(ETH_VMDQ_ACCEPT_MULTICAST) RTE_ETH_VMDQ_ACCEPT_MULTICAST
ERROR:COMPLEX_MACRO: Macros with complex values should be enclosed in parentheses
#817: FILE: lib/ethdev/rte_ethdev.h:1042:
+#define ETH_4_TCS RTE_DEPRECATED(ETH_4_TCS) RTE_ETH_4_TCS
ERROR:COMPLEX_MACRO: Macros with complex values should be enclosed in parentheses
#818: FILE: lib/ethdev/rte_ethdev.h:1043:
+#define ETH_8_TCS RTE_DEPRECATED(ETH_8_TCS) RTE_ETH_8_TCS
ERROR:COMPLEX_MACRO: Macros with complex values should be enclosed in parentheses
#830: FILE: lib/ethdev/rte_ethdev.h:1055:
+#define ETH_8_POOLS RTE_DEPRECATED(ETH_8_POOLS) RTE_ETH_8_POOLS
ERROR:COMPLEX_MACRO: Macros with complex values should be enclosed in parentheses
#831: FILE: lib/ethdev/rte_ethdev.h:1056:
+#define ETH_16_POOLS RTE_DEPRECATED(ETH_16_POOLS) RTE_ETH_16_POOLS
ERROR:COMPLEX_MACRO: Macros with complex values should be enclosed in parentheses
#832: FILE: lib/ethdev/rte_ethdev.h:1057:
+#define ETH_32_POOLS RTE_DEPRECATED(ETH_32_POOLS) RTE_ETH_32_POOLS
ERROR:COMPLEX_MACRO: Macros with complex values should be enclosed in parentheses
#833: FILE: lib/ethdev/rte_ethdev.h:1058:
+#define ETH_64_POOLS RTE_DEPRECATED(ETH_64_POOLS) RTE_ETH_64_POOLS
ERROR:COMPLEX_MACRO: Macros with complex values should be enclosed in parentheses
#846: FILE: lib/ethdev/rte_ethdev.h:1381:
+#define RTE_FC_NONE RTE_DEPRECATED(RTE_FC_NONE) RTE_ETH_FC_NONE
ERROR:COMPLEX_MACRO: Macros with complex values should be enclosed in parentheses
#847: FILE: lib/ethdev/rte_ethdev.h:1382:
+#define RTE_FC_RX_PAUSE RTE_DEPRECATED(RTE_FC_RX_PAUSE) RTE_ETH_FC_RX_PAUSE
ERROR:COMPLEX_MACRO: Macros with complex values should be enclosed in parentheses
#848: FILE: lib/ethdev/rte_ethdev.h:1383:
+#define RTE_FC_TX_PAUSE RTE_DEPRECATED(RTE_FC_TX_PAUSE) RTE_ETH_FC_TX_PAUSE
ERROR:COMPLEX_MACRO: Macros with complex values should be enclosed in parentheses
#849: FILE: lib/ethdev/rte_ethdev.h:1384:
+#define RTE_FC_FULL RTE_DEPRECATED(RTE_FC_FULL) RTE_ETH_FC_FULL
ERROR:COMPLEX_MACRO: Macros with complex values should be enclosed in parentheses
#868: FILE: lib/ethdev/rte_ethdev.h:1427:
+#define RTE_TUNNEL_TYPE_NONE RTE_DEPRECATED(RTE_TUNNEL_TYPE_NONE) RTE_ETH_TUNNEL_TYPE_NONE
WARNING:LONG_LINE: line length of 101 exceeds 100 columns
#869: FILE: lib/ethdev/rte_ethdev.h:1428:
+#define RTE_TUNNEL_TYPE_VXLAN RTE_DEPRECATED(RTE_TUNNEL_TYPE_VXLAN) RTE_ETH_TUNNEL_TYPE_VXLAN
ERROR:COMPLEX_MACRO: Macros with complex values should be enclosed in parentheses
#869: FILE: lib/ethdev/rte_ethdev.h:1428:
+#define RTE_TUNNEL_TYPE_VXLAN RTE_DEPRECATED(RTE_TUNNEL_TYPE_VXLAN) RTE_ETH_TUNNEL_TYPE_VXLAN
WARNING:LONG_LINE: line length of 102 exceeds 100 columns
#870: FILE: lib/ethdev/rte_ethdev.h:1429:
+#define RTE_TUNNEL_TYPE_GENEVE RTE_DEPRECATED(RTE_TUNNEL_TYPE_GENEVE) RTE_ETH_TUNNEL_TYPE_GENEVE
ERROR:COMPLEX_MACRO: Macros with complex values should be enclosed in parentheses
#870: FILE: lib/ethdev/rte_ethdev.h:1429:
+#define RTE_TUNNEL_TYPE_GENEVE RTE_DEPRECATED(RTE_TUNNEL_TYPE_GENEVE) RTE_ETH_TUNNEL_TYPE_GENEVE
WARNING:LONG_LINE: line length of 102 exceeds 100 columns
#871: FILE: lib/ethdev/rte_ethdev.h:1430:
+#define RTE_TUNNEL_TYPE_TEREDO RTE_DEPRECATED(RTE_TUNNEL_TYPE_TEREDO) RTE_ETH_TUNNEL_TYPE_TEREDO
ERROR:COMPLEX_MACRO: Macros with complex values should be enclosed in parentheses
#871: FILE: lib/ethdev/rte_ethdev.h:1430:
+#define RTE_TUNNEL_TYPE_TEREDO RTE_DEPRECATED(RTE_TUNNEL_TYPE_TEREDO) RTE_ETH_TUNNEL_TYPE_TEREDO
WARNING:LONG_LINE: line length of 101 exceeds 100 columns
#872: FILE: lib/ethdev/rte_ethdev.h:1431:
+#define RTE_TUNNEL_TYPE_NVGRE RTE_DEPRECATED(RTE_TUNNEL_TYPE_NVGRE) RTE_ETH_TUNNEL_TYPE_NVGRE
ERROR:COMPLEX_MACRO: Macros with complex values should be enclosed in parentheses
#872: FILE: lib/ethdev/rte_ethdev.h:1431:
+#define RTE_TUNNEL_TYPE_NVGRE RTE_DEPRECATED(RTE_TUNNEL_TYPE_NVGRE) RTE_ETH_TUNNEL_TYPE_NVGRE
WARNING:LONG_LINE: line length of 105 exceeds 100 columns
#873: FILE: lib/ethdev/rte_ethdev.h:1432:
+#define RTE_TUNNEL_TYPE_IP_IN_GRE RTE_DEPRECATED(RTE_TUNNEL_TYPE_IP_IN_GRE) RTE_ETH_TUNNEL_TYPE_IP_IN_GRE
ERROR:COMPLEX_MACRO: Macros with complex values should be enclosed in parentheses
#873: FILE: lib/ethdev/rte_ethdev.h:1432:
+#define RTE_TUNNEL_TYPE_IP_IN_GRE RTE_DEPRECATED(RTE_TUNNEL_TYPE_IP_IN_GRE) RTE_ETH_TUNNEL_TYPE_IP_IN_GRE
WARNING:LONG_LINE: line length of 104 exceeds 100 columns
#874: FILE: lib/ethdev/rte_ethdev.h:1433:
+#define RTE_L2_TUNNEL_TYPE_E_TAG RTE_DEPRECATED(RTE_L2_TUNNEL_TYPE_E_TAG) RTE_ETH_L2_TUNNEL_TYPE_E_TAG
ERROR:COMPLEX_MACRO: Macros with complex values should be enclosed in parentheses
#874: FILE: lib/ethdev/rte_ethdev.h:1433:
+#define RTE_L2_TUNNEL_TYPE_E_TAG RTE_DEPRECATED(RTE_L2_TUNNEL_TYPE_E_TAG) RTE_ETH_L2_TUNNEL_TYPE_E_TAG
WARNING:LONG_LINE: line length of 105 exceeds 100 columns
#875: FILE: lib/ethdev/rte_ethdev.h:1434:
+#define RTE_TUNNEL_TYPE_VXLAN_GPE RTE_DEPRECATED(RTE_TUNNEL_TYPE_VXLAN_GPE) RTE_ETH_TUNNEL_TYPE_VXLAN_GPE
ERROR:COMPLEX_MACRO: Macros with complex values should be enclosed in parentheses
#875: FILE: lib/ethdev/rte_ethdev.h:1434:
+#define RTE_TUNNEL_TYPE_VXLAN_GPE RTE_DEPRECATED(RTE_TUNNEL_TYPE_VXLAN_GPE) RTE_ETH_TUNNEL_TYPE_VXLAN_GPE
WARNING:LONG_LINE: line length of 101 exceeds 100 columns
#876: FILE: lib/ethdev/rte_ethdev.h:1435:
+#define RTE_TUNNEL_TYPE_ECPRI RTE_DEPRECATED(RTE_TUNNEL_TYPE_ECPRI) RTE_ETH_TUNNEL_TYPE_ECPRI
ERROR:COMPLEX_MACRO: Macros with complex values should be enclosed in parentheses
#876: FILE: lib/ethdev/rte_ethdev.h:1435:
+#define RTE_TUNNEL_TYPE_ECPRI RTE_DEPRECATED(RTE_TUNNEL_TYPE_ECPRI) RTE_ETH_TUNNEL_TYPE_ECPRI
ERROR:COMPLEX_MACRO: Macros with complex values should be enclosed in parentheses
#877: FILE: lib/ethdev/rte_ethdev.h:1436:
+#define RTE_TUNNEL_TYPE_MAX RTE_DEPRECATED(RTE_TUNNEL_TYPE_MAX) RTE_ETH_TUNNEL_TYPE_MAX
ERROR:COMPLEX_MACRO: Macros with complex values should be enclosed in parentheses
#888: FILE: lib/ethdev/rte_ethdev.h:1452:
+#define RTE_FDIR_PBALLOC_64K RTE_DEPRECATED(RTE_FDIR_PBALLOC_64K) RTE_ETH_FDIR_PBALLOC_64K
ERROR:COMPLEX_MACRO: Macros with complex values should be enclosed in parentheses
#889: FILE: lib/ethdev/rte_ethdev.h:1453:
+#define RTE_FDIR_PBALLOC_128K RTE_DEPRECATED(RTE_FDIR_PBALLOC_128K) RTE_ETH_FDIR_PBALLOC_128K
ERROR:COMPLEX_MACRO: Macros with complex values should be enclosed in parentheses
#890: FILE: lib/ethdev/rte_ethdev.h:1454:
+#define RTE_FDIR_PBALLOC_256K RTE_DEPRECATED(RTE_FDIR_PBALLOC_256K) RTE_ETH_FDIR_PBALLOC_256K
WARNING:LONG_LINE: line length of 117 exceeds 100 columns
#948: FILE: lib/ethdev/rte_ethdev.h:1583:
+#define DEV_RX_OFFLOAD_VLAN_STRIP RTE_DEPRECATED(DEV_RX_OFFLOAD_VLAN_STRIP) RTE_ETH_RX_OFFLOAD_VLAN_STRIP
ERROR:COMPLEX_MACRO: Macros with complex values should be enclosed in parentheses
#948: FILE: lib/ethdev/rte_ethdev.h:1583:
+#define DEV_RX_OFFLOAD_VLAN_STRIP RTE_DEPRECATED(DEV_RX_OFFLOAD_VLAN_STRIP) RTE_ETH_RX_OFFLOAD_VLAN_STRIP
WARNING:LONG_LINE: line length of 117 exceeds 100 columns
#949: FILE: lib/ethdev/rte_ethdev.h:1584:
+#define DEV_RX_OFFLOAD_IPV4_CKSUM RTE_DEPRECATED(DEV_RX_OFFLOAD_IPV4_CKSUM) RTE_ETH_RX_OFFLOAD_IPV4_CKSUM
ERROR:COMPLEX_MACRO: Macros with complex values should be enclosed in parentheses
#949: FILE: lib/ethdev/rte_ethdev.h:1584:
+#define DEV_RX_OFFLOAD_IPV4_CKSUM RTE_DEPRECATED(DEV_RX_OFFLOAD_IPV4_CKSUM) RTE_ETH_RX_OFFLOAD_IPV4_CKSUM
WARNING:LONG_LINE: line length of 116 exceeds 100 columns
#950: FILE: lib/ethdev/rte_ethdev.h:1585:
+#define DEV_RX_OFFLOAD_UDP_CKSUM RTE_DEPRECATED(DEV_RX_OFFLOAD_UDP_CKSUM) RTE_ETH_RX_OFFLOAD_UDP_CKSUM
ERROR:COMPLEX_MACRO: Macros with complex values should be enclosed in parentheses
#950: FILE: lib/ethdev/rte_ethdev.h:1585:
+#define DEV_RX_OFFLOAD_UDP_CKSUM RTE_DEPRECATED(DEV_RX_OFFLOAD_UDP_CKSUM) RTE_ETH_RX_OFFLOAD_UDP_CKSUM
WARNING:LONG_LINE: line length of 116 exceeds 100 columns
#951: FILE: lib/ethdev/rte_ethdev.h:1586:
+#define DEV_RX_OFFLOAD_TCP_CKSUM RTE_DEPRECATED(DEV_RX_OFFLOAD_TCP_CKSUM) RTE_ETH_RX_OFFLOAD_TCP_CKSUM
ERROR:COMPLEX_MACRO: Macros with complex values should be enclosed in parentheses
#951: FILE: lib/ethdev/rte_ethdev.h:1586:
+#define DEV_RX_OFFLOAD_TCP_CKSUM RTE_DEPRECATED(DEV_RX_OFFLOAD_TCP_CKSUM) RTE_ETH_RX_OFFLOAD_TCP_CKSUM
WARNING:LONG_LINE: line length of 114 exceeds 100 columns
#952: FILE: lib/ethdev/rte_ethdev.h:1587:
+#define DEV_RX_OFFLOAD_TCP_LRO RTE_DEPRECATED(DEV_RX_OFFLOAD_TCP_LRO) RTE_ETH_RX_OFFLOAD_TCP_LRO
ERROR:COMPLEX_MACRO: Macros with complex values should be enclosed in parentheses
#952: FILE: lib/ethdev/rte_ethdev.h:1587:
+#define DEV_RX_OFFLOAD_TCP_LRO RTE_DEPRECATED(DEV_RX_OFFLOAD_TCP_LRO) RTE_ETH_RX_OFFLOAD_TCP_LRO
WARNING:LONG_LINE: line length of 117 exceeds 100 columns
#953: FILE: lib/ethdev/rte_ethdev.h:1588:
+#define DEV_RX_OFFLOAD_QINQ_STRIP RTE_DEPRECATED(DEV_RX_OFFLOAD_QINQ_STRIP) RTE_ETH_RX_OFFLOAD_QINQ_STRIP
ERROR:COMPLEX_MACRO: Macros with complex values should be enclosed in parentheses
#953: FILE: lib/ethdev/rte_ethdev.h:1588:
+#define DEV_RX_OFFLOAD_QINQ_STRIP RTE_DEPRECATED(DEV_RX_OFFLOAD_QINQ_STRIP) RTE_ETH_RX_OFFLOAD_QINQ_STRIP
WARNING:LONG_LINE: line length of 123 exceeds 100 columns
#954: FILE: lib/ethdev/rte_ethdev.h:1589:
+#define DEV_RX_OFFLOAD_OUTER_IPV4_CKSUM RTE_DEPRECATED(DEV_RX_OFFLOAD_OUTER_IPV4_CKSUM) RTE_ETH_RX_OFFLOAD_OUTER_IPV4_CKSUM
ERROR:COMPLEX_MACRO: Macros with complex values should be enclosed in parentheses
#954: FILE: lib/ethdev/rte_ethdev.h:1589:
+#define DEV_RX_OFFLOAD_OUTER_IPV4_CKSUM RTE_DEPRECATED(DEV_RX_OFFLOAD_OUTER_IPV4_CKSUM) RTE_ETH_RX_OFFLOAD_OUTER_IPV4_CKSUM
WARNING:LONG_LINE: line length of 119 exceeds 100 columns
#955: FILE: lib/ethdev/rte_ethdev.h:1590:
+#define DEV_RX_OFFLOAD_MACSEC_STRIP RTE_DEPRECATED(DEV_RX_OFFLOAD_MACSEC_STRIP) RTE_ETH_RX_OFFLOAD_MACSEC_STRIP
ERROR:COMPLEX_MACRO: Macros with complex values should be enclosed in parentheses
#955: FILE: lib/ethdev/rte_ethdev.h:1590:
+#define DEV_RX_OFFLOAD_MACSEC_STRIP RTE_DEPRECATED(DEV_RX_OFFLOAD_MACSEC_STRIP) RTE_ETH_RX_OFFLOAD_MACSEC_STRIP
WARNING:LONG_LINE: line length of 119 exceeds 100 columns
#956: FILE: lib/ethdev/rte_ethdev.h:1591:
+#define DEV_RX_OFFLOAD_HEADER_SPLIT RTE_DEPRECATED(DEV_RX_OFFLOAD_HEADER_SPLIT) RTE_ETH_RX_OFFLOAD_HEADER_SPLIT
ERROR:COMPLEX_MACRO: Macros with complex values should be enclosed in parentheses
#956: FILE: lib/ethdev/rte_ethdev.h:1591:
+#define DEV_RX_OFFLOAD_HEADER_SPLIT RTE_DEPRECATED(DEV_RX_OFFLOAD_HEADER_SPLIT) RTE_ETH_RX_OFFLOAD_HEADER_SPLIT
WARNING:LONG_LINE: line length of 118 exceeds 100 columns
#957: FILE: lib/ethdev/rte_ethdev.h:1592:
+#define DEV_RX_OFFLOAD_VLAN_FILTER RTE_DEPRECATED(DEV_RX_OFFLOAD_VLAN_FILTER) RTE_ETH_RX_OFFLOAD_VLAN_FILTER
ERROR:COMPLEX_MACRO: Macros with complex values should be enclosed in parentheses
#957: FILE: lib/ethdev/rte_ethdev.h:1592:
+#define DEV_RX_OFFLOAD_VLAN_FILTER RTE_DEPRECATED(DEV_RX_OFFLOAD_VLAN_FILTER) RTE_ETH_RX_OFFLOAD_VLAN_FILTER
WARNING:LONG_LINE: line length of 118 exceeds 100 columns
#958: FILE: lib/ethdev/rte_ethdev.h:1593:
+#define DEV_RX_OFFLOAD_VLAN_EXTEND RTE_DEPRECATED(DEV_RX_OFFLOAD_VLAN_EXTEND) RTE_ETH_RX_OFFLOAD_VLAN_EXTEND
ERROR:COMPLEX_MACRO: Macros with complex values should be enclosed in parentheses
#958: FILE: lib/ethdev/rte_ethdev.h:1593:
+#define DEV_RX_OFFLOAD_VLAN_EXTEND RTE_DEPRECATED(DEV_RX_OFFLOAD_VLAN_EXTEND) RTE_ETH_RX_OFFLOAD_VLAN_EXTEND
WARNING:LONG_LINE: line length of 114 exceeds 100 columns
#959: FILE: lib/ethdev/rte_ethdev.h:1594:
+#define DEV_RX_OFFLOAD_SCATTER RTE_DEPRECATED(DEV_RX_OFFLOAD_SCATTER) RTE_ETH_RX_OFFLOAD_SCATTER
ERROR:COMPLEX_MACRO: Macros with complex values should be enclosed in parentheses
#959: FILE: lib/ethdev/rte_ethdev.h:1594:
+#define DEV_RX_OFFLOAD_SCATTER RTE_DEPRECATED(DEV_RX_OFFLOAD_SCATTER) RTE_ETH_RX_OFFLOAD_SCATTER
WARNING:LONG_LINE: line length of 116 exceeds 100 columns
#960: FILE: lib/ethdev/rte_ethdev.h:1595:
+#define DEV_RX_OFFLOAD_TIMESTAMP RTE_DEPRECATED(DEV_RX_OFFLOAD_TIMESTAMP) RTE_ETH_RX_OFFLOAD_TIMESTAMP
ERROR:COMPLEX_MACRO: Macros with complex values should be enclosed in parentheses
#960: FILE: lib/ethdev/rte_ethdev.h:1595:
+#define DEV_RX_OFFLOAD_TIMESTAMP RTE_DEPRECATED(DEV_RX_OFFLOAD_TIMESTAMP) RTE_ETH_RX_OFFLOAD_TIMESTAMP
WARNING:LONG_LINE: line length of 115 exceeds 100 columns
#961: FILE: lib/ethdev/rte_ethdev.h:1596:
+#define DEV_RX_OFFLOAD_SECURITY RTE_DEPRECATED(DEV_RX_OFFLOAD_SECURITY) RTE_ETH_RX_OFFLOAD_SECURITY
ERROR:COMPLEX_MACRO: Macros with complex values should be enclosed in parentheses
#961: FILE: lib/ethdev/rte_ethdev.h:1596:
+#define DEV_RX_OFFLOAD_SECURITY RTE_DEPRECATED(DEV_RX_OFFLOAD_SECURITY) RTE_ETH_RX_OFFLOAD_SECURITY
WARNING:LONG_LINE: line length of 115 exceeds 100 columns
#962: FILE: lib/ethdev/rte_ethdev.h:1597:
+#define DEV_RX_OFFLOAD_KEEP_CRC RTE_DEPRECATED(DEV_RX_OFFLOAD_KEEP_CRC) RTE_ETH_RX_OFFLOAD_KEEP_CRC
ERROR:COMPLEX_MACRO: Macros with complex values should be enclosed in parentheses
#962: FILE: lib/ethdev/rte_ethdev.h:1597:
+#define DEV_RX_OFFLOAD_KEEP_CRC RTE_DEPRECATED(DEV_RX_OFFLOAD_KEEP_CRC) RTE_ETH_RX_OFFLOAD_KEEP_CRC
WARNING:LONG_LINE: line length of 117 exceeds 100 columns
#963: FILE: lib/ethdev/rte_ethdev.h:1598:
+#define DEV_RX_OFFLOAD_SCTP_CKSUM RTE_DEPRECATED(DEV_RX_OFFLOAD_SCTP_CKSUM) RTE_ETH_RX_OFFLOAD_SCTP_CKSUM
ERROR:COMPLEX_MACRO: Macros with complex values should be enclosed in parentheses
#963: FILE: lib/ethdev/rte_ethdev.h:1598:
+#define DEV_RX_OFFLOAD_SCTP_CKSUM RTE_DEPRECATED(DEV_RX_OFFLOAD_SCTP_CKSUM) RTE_ETH_RX_OFFLOAD_SCTP_CKSUM
WARNING:LONG_LINE: line length of 122 exceeds 100 columns
#964: FILE: lib/ethdev/rte_ethdev.h:1599:
+#define DEV_RX_OFFLOAD_OUTER_UDP_CKSUM RTE_DEPRECATED(DEV_RX_OFFLOAD_OUTER_UDP_CKSUM) RTE_ETH_RX_OFFLOAD_OUTER_UDP_CKSUM
ERROR:COMPLEX_MACRO: Macros with complex values should be enclosed in parentheses
#964: FILE: lib/ethdev/rte_ethdev.h:1599:
+#define DEV_RX_OFFLOAD_OUTER_UDP_CKSUM RTE_DEPRECATED(DEV_RX_OFFLOAD_OUTER_UDP_CKSUM) RTE_ETH_RX_OFFLOAD_OUTER_UDP_CKSUM
WARNING:LONG_LINE: line length of 115 exceeds 100 columns
#965: FILE: lib/ethdev/rte_ethdev.h:1600:
+#define DEV_RX_OFFLOAD_RSS_HASH RTE_DEPRECATED(DEV_RX_OFFLOAD_RSS_HASH) RTE_ETH_RX_OFFLOAD_RSS_HASH
ERROR:COMPLEX_MACRO: Macros with complex values should be enclosed in parentheses
#965: FILE: lib/ethdev/rte_ethdev.h:1600:
+#define DEV_RX_OFFLOAD_RSS_HASH RTE_DEPRECATED(DEV_RX_OFFLOAD_RSS_HASH) RTE_ETH_RX_OFFLOAD_RSS_HASH
ERROR:COMPLEX_MACRO: Macros with complex values should be enclosed in parentheses
#971: FILE: lib/ethdev/rte_ethdev.h:1605:
+#define DEV_RX_OFFLOAD_CHECKSUM RTE_DEPRECATED(DEV_RX_OFFLOAD_CHECKSUM) RTE_ETH_RX_OFFLOAD_CHECKSUM
ERROR:COMPLEX_MACRO: Macros with complex values should be enclosed in parentheses
#977: FILE: lib/ethdev/rte_ethdev.h:1610:
+#define DEV_RX_OFFLOAD_VLAN RTE_DEPRECATED(DEV_RX_OFFLOAD_VLAN) RTE_ETH_RX_OFFLOAD_VLAN
WARNING:LONG_LINE: line length of 120 exceeds 100 columns
#1059: FILE: lib/ethdev/rte_ethdev.h:1673:
+#define DEV_TX_OFFLOAD_VLAN_INSERT RTE_DEPRECATED(DEV_TX_OFFLOAD_VLAN_INSERT) RTE_ETH_TX_OFFLOAD_VLAN_INSERT
ERROR:COMPLEX_MACRO: Macros with complex values should be enclosed in parentheses
#1059: FILE: lib/ethdev/rte_ethdev.h:1673:
+#define DEV_TX_OFFLOAD_VLAN_INSERT RTE_DEPRECATED(DEV_TX_OFFLOAD_VLAN_INSERT) RTE_ETH_TX_OFFLOAD_VLAN_INSERT
WARNING:LONG_LINE: line length of 119 exceeds 100 columns
#1060: FILE: lib/ethdev/rte_ethdev.h:1674:
+#define DEV_TX_OFFLOAD_IPV4_CKSUM RTE_DEPRECATED(DEV_TX_OFFLOAD_IPV4_CKSUM) RTE_ETH_TX_OFFLOAD_IPV4_CKSUM
ERROR:COMPLEX_MACRO: Macros with complex values should be enclosed in parentheses
#1060: FILE: lib/ethdev/rte_ethdev.h:1674:
+#define DEV_TX_OFFLOAD_IPV4_CKSUM RTE_DEPRECATED(DEV_TX_OFFLOAD_IPV4_CKSUM) RTE_ETH_TX_OFFLOAD_IPV4_CKSUM
WARNING:LONG_LINE: line length of 118 exceeds 100 columns
#1061: FILE: lib/ethdev/rte_ethdev.h:1675:
+#define DEV_TX_OFFLOAD_UDP_CKSUM RTE_DEPRECATED(DEV_TX_OFFLOAD_UDP_CKSUM) RTE_ETH_TX_OFFLOAD_UDP_CKSUM
ERROR:COMPLEX_MACRO: Macros with complex values should be enclosed in parentheses
#1061: FILE: lib/ethdev/rte_ethdev.h:1675:
+#define DEV_TX_OFFLOAD_UDP_CKSUM RTE_DEPRECATED(DEV_TX_OFFLOAD_UDP_CKSUM) RTE_ETH_TX_OFFLOAD_UDP_CKSUM
WARNING:LONG_LINE: line length of 118 exceeds 100 columns
#1062: FILE: lib/ethdev/rte_ethdev.h:1676:
+#define DEV_TX_OFFLOAD_TCP_CKSUM RTE_DEPRECATED(DEV_TX_OFFLOAD_TCP_CKSUM) RTE_ETH_TX_OFFLOAD_TCP_CKSUM
ERROR:COMPLEX_MACRO: Macros with complex values should be enclosed in parentheses
#1062: FILE: lib/ethdev/rte_ethdev.h:1676:
+#define DEV_TX_OFFLOAD_TCP_CKSUM RTE_DEPRECATED(DEV_TX_OFFLOAD_TCP_CKSUM) RTE_ETH_TX_OFFLOAD_TCP_CKSUM
WARNING:LONG_LINE: line length of 119 exceeds 100 columns
#1063: FILE: lib/ethdev/rte_ethdev.h:1677:
+#define DEV_TX_OFFLOAD_SCTP_CKSUM RTE_DEPRECATED(DEV_TX_OFFLOAD_SCTP_CKSUM) RTE_ETH_TX_OFFLOAD_SCTP_CKSUM
ERROR:COMPLEX_MACRO: Macros with complex values should be enclosed in parentheses
#1063: FILE: lib/ethdev/rte_ethdev.h:1677:
+#define DEV_TX_OFFLOAD_SCTP_CKSUM RTE_DEPRECATED(DEV_TX_OFFLOAD_SCTP_CKSUM) RTE_ETH_TX_OFFLOAD_SCTP_CKSUM
WARNING:LONG_LINE: line length of 116 exceeds 100 columns
#1064: FILE: lib/ethdev/rte_ethdev.h:1678:
+#define DEV_TX_OFFLOAD_TCP_TSO RTE_DEPRECATED(DEV_TX_OFFLOAD_TCP_TSO) RTE_ETH_TX_OFFLOAD_TCP_TSO
ERROR:COMPLEX_MACRO: Macros with complex values should be enclosed in parentheses
#1064: FILE: lib/ethdev/rte_ethdev.h:1678:
+#define DEV_TX_OFFLOAD_TCP_TSO RTE_DEPRECATED(DEV_TX_OFFLOAD_TCP_TSO) RTE_ETH_TX_OFFLOAD_TCP_TSO
WARNING:LONG_LINE: line length of 116 exceeds 100 columns
#1065: FILE: lib/ethdev/rte_ethdev.h:1679:
+#define DEV_TX_OFFLOAD_UDP_TSO RTE_DEPRECATED(DEV_TX_OFFLOAD_UDP_TSO) RTE_ETH_TX_OFFLOAD_UDP_TSO
ERROR:COMPLEX_MACRO: Macros with complex values should be enclosed in parentheses
#1065: FILE: lib/ethdev/rte_ethdev.h:1679:
+#define DEV_TX_OFFLOAD_UDP_TSO RTE_DEPRECATED(DEV_TX_OFFLOAD_UDP_TSO) RTE_ETH_TX_OFFLOAD_UDP_TSO
WARNING:LONG_LINE: line length of 125 exceeds 100 columns
#1066: FILE: lib/ethdev/rte_ethdev.h:1680:
+#define DEV_TX_OFFLOAD_OUTER_IPV4_CKSUM RTE_DEPRECATED(DEV_TX_OFFLOAD_OUTER_IPV4_CKSUM) RTE_ETH_TX_OFFLOAD_OUTER_IPV4_CKSUM
ERROR:COMPLEX_MACRO: Macros with complex values should be enclosed in parentheses
#1066: FILE: lib/ethdev/rte_ethdev.h:1680:
+#define DEV_TX_OFFLOAD_OUTER_IPV4_CKSUM RTE_DEPRECATED(DEV_TX_OFFLOAD_OUTER_IPV4_CKSUM) RTE_ETH_TX_OFFLOAD_OUTER_IPV4_CKSUM
WARNING:LONG_LINE: line length of 120 exceeds 100 columns
#1067: FILE: lib/ethdev/rte_ethdev.h:1681:
+#define DEV_TX_OFFLOAD_QINQ_INSERT RTE_DEPRECATED(DEV_TX_OFFLOAD_QINQ_INSERT) RTE_ETH_TX_OFFLOAD_QINQ_INSERT
ERROR:COMPLEX_MACRO: Macros with complex values should be enclosed in parentheses
#1067: FILE: lib/ethdev/rte_ethdev.h:1681:
+#define DEV_TX_OFFLOAD_QINQ_INSERT RTE_DEPRECATED(DEV_TX_OFFLOAD_QINQ_INSERT) RTE_ETH_TX_OFFLOAD_QINQ_INSERT
WARNING:LONG_LINE: line length of 122 exceeds 100 columns
#1068: FILE: lib/ethdev/rte_ethdev.h:1682:
+#define DEV_TX_OFFLOAD_VXLAN_TNL_TSO RTE_DEPRECATED(DEV_TX_OFFLOAD_VXLAN_TNL_TSO) RTE_ETH_TX_OFFLOAD_VXLAN_TNL_TSO
ERROR:COMPLEX_MACRO: Macros with complex values should be enclosed in parentheses
#1068: FILE: lib/ethdev/rte_ethdev.h:1682:
+#define DEV_TX_OFFLOAD_VXLAN_TNL_TSO RTE_DEPRECATED(DEV_TX_OFFLOAD_VXLAN_TNL_TSO) RTE_ETH_TX_OFFLOAD_VXLAN_TNL_TSO
WARNING:LONG_LINE: line length of 120 exceeds 100 columns
#1069: FILE: lib/ethdev/rte_ethdev.h:1683:
+#define DEV_TX_OFFLOAD_GRE_TNL_TSO RTE_DEPRECATED(DEV_TX_OFFLOAD_GRE_TNL_TSO) RTE_ETH_TX_OFFLOAD_GRE_TNL_TSO
ERROR:COMPLEX_MACRO: Macros with complex values should be enclosed in parentheses
#1069: FILE: lib/ethdev/rte_ethdev.h:1683:
+#define DEV_TX_OFFLOAD_GRE_TNL_TSO RTE_DEPRECATED(DEV_TX_OFFLOAD_GRE_TNL_TSO) RTE_ETH_TX_OFFLOAD_GRE_TNL_TSO
WARNING:LONG_LINE: line length of 121 exceeds 100 columns
#1070: FILE: lib/ethdev/rte_ethdev.h:1684:
+#define DEV_TX_OFFLOAD_IPIP_TNL_TSO RTE_DEPRECATED(DEV_TX_OFFLOAD_IPIP_TNL_TSO) RTE_ETH_TX_OFFLOAD_IPIP_TNL_TSO
ERROR:COMPLEX_MACRO: Macros with complex values should be enclosed in parentheses
#1070: FILE: lib/ethdev/rte_ethdev.h:1684:
+#define DEV_TX_OFFLOAD_IPIP_TNL_TSO RTE_DEPRECATED(DEV_TX_OFFLOAD_IPIP_TNL_TSO) RTE_ETH_TX_OFFLOAD_IPIP_TNL_TSO
WARNING:LONG_LINE: line length of 123 exceeds 100 columns
#1071: FILE: lib/ethdev/rte_ethdev.h:1685:
+#define DEV_TX_OFFLOAD_GENEVE_TNL_TSO RTE_DEPRECATED(DEV_TX_OFFLOAD_GENEVE_TNL_TSO) RTE_ETH_TX_OFFLOAD_GENEVE_TNL_TSO
ERROR:COMPLEX_MACRO: Macros with complex values should be enclosed in parentheses
#1071: FILE: lib/ethdev/rte_ethdev.h:1685:
+#define DEV_TX_OFFLOAD_GENEVE_TNL_TSO RTE_DEPRECATED(DEV_TX_OFFLOAD_GENEVE_TNL_TSO) RTE_ETH_TX_OFFLOAD_GENEVE_TNL_TSO
WARNING:LONG_LINE: line length of 122 exceeds 100 columns
#1072: FILE: lib/ethdev/rte_ethdev.h:1686:
+#define DEV_TX_OFFLOAD_MACSEC_INSERT RTE_DEPRECATED(DEV_TX_OFFLOAD_MACSEC_INSERT) RTE_ETH_TX_OFFLOAD_MACSEC_INSERT
ERROR:COMPLEX_MACRO: Macros with complex values should be enclosed in parentheses
#1072: FILE: lib/ethdev/rte_ethdev.h:1686:
+#define DEV_TX_OFFLOAD_MACSEC_INSERT RTE_DEPRECATED(DEV_TX_OFFLOAD_MACSEC_INSERT) RTE_ETH_TX_OFFLOAD_MACSEC_INSERT
WARNING:LONG_LINE: line length of 120 exceeds 100 columns
#1073: FILE: lib/ethdev/rte_ethdev.h:1687:
+#define DEV_TX_OFFLOAD_MT_LOCKFREE RTE_DEPRECATED(DEV_TX_OFFLOAD_MT_LOCKFREE) RTE_ETH_TX_OFFLOAD_MT_LOCKFREE
ERROR:COMPLEX_MACRO: Macros with complex values should be enclosed in parentheses
#1073: FILE: lib/ethdev/rte_ethdev.h:1687:
+#define DEV_TX_OFFLOAD_MT_LOCKFREE RTE_DEPRECATED(DEV_TX_OFFLOAD_MT_LOCKFREE) RTE_ETH_TX_OFFLOAD_MT_LOCKFREE
WARNING:LONG_LINE: line length of 119 exceeds 100 columns
#1074: FILE: lib/ethdev/rte_ethdev.h:1688:
+#define DEV_TX_OFFLOAD_MULTI_SEGS RTE_DEPRECATED(DEV_TX_OFFLOAD_MULTI_SEGS) RTE_ETH_TX_OFFLOAD_MULTI_SEGS
ERROR:COMPLEX_MACRO: Macros with complex values should be enclosed in parentheses
#1074: FILE: lib/ethdev/rte_ethdev.h:1688:
+#define DEV_TX_OFFLOAD_MULTI_SEGS RTE_DEPRECATED(DEV_TX_OFFLOAD_MULTI_SEGS) RTE_ETH_TX_OFFLOAD_MULTI_SEGS
WARNING:LONG_LINE: line length of 123 exceeds 100 columns
#1075: FILE: lib/ethdev/rte_ethdev.h:1689:
+#define DEV_TX_OFFLOAD_MBUF_FAST_FREE RTE_DEPRECATED(DEV_TX_OFFLOAD_MBUF_FAST_FREE) RTE_ETH_TX_OFFLOAD_MBUF_FAST_FREE
ERROR:COMPLEX_MACRO: Macros with complex values should be enclosed in parentheses
#1075: FILE: lib/ethdev/rte_ethdev.h:1689:
+#define DEV_TX_OFFLOAD_MBUF_FAST_FREE RTE_DEPRECATED(DEV_TX_OFFLOAD_MBUF_FAST_FREE) RTE_ETH_TX_OFFLOAD_MBUF_FAST_FREE
WARNING:LONG_LINE: line length of 117 exceeds 100 columns
#1076: FILE: lib/ethdev/rte_ethdev.h:1690:
+#define DEV_TX_OFFLOAD_SECURITY RTE_DEPRECATED(DEV_TX_OFFLOAD_SECURITY) RTE_ETH_TX_OFFLOAD_SECURITY
ERROR:COMPLEX_MACRO: Macros with complex values should be enclosed in parentheses
#1076: FILE: lib/ethdev/rte_ethdev.h:1690:
+#define DEV_TX_OFFLOAD_SECURITY RTE_DEPRECATED(DEV_TX_OFFLOAD_SECURITY) RTE_ETH_TX_OFFLOAD_SECURITY
WARNING:LONG_LINE: line length of 120 exceeds 100 columns
#1077: FILE: lib/ethdev/rte_ethdev.h:1691:
+#define DEV_TX_OFFLOAD_UDP_TNL_TSO RTE_DEPRECATED(DEV_TX_OFFLOAD_UDP_TNL_TSO) RTE_ETH_TX_OFFLOAD_UDP_TNL_TSO
ERROR:COMPLEX_MACRO: Macros with complex values should be enclosed in parentheses
#1077: FILE: lib/ethdev/rte_ethdev.h:1691:
+#define DEV_TX_OFFLOAD_UDP_TNL_TSO RTE_DEPRECATED(DEV_TX_OFFLOAD_UDP_TNL_TSO) RTE_ETH_TX_OFFLOAD_UDP_TNL_TSO
WARNING:LONG_LINE: line length of 119 exceeds 100 columns
#1078: FILE: lib/ethdev/rte_ethdev.h:1692:
+#define DEV_TX_OFFLOAD_IP_TNL_TSO RTE_DEPRECATED(DEV_TX_OFFLOAD_IP_TNL_TSO) RTE_ETH_TX_OFFLOAD_IP_TNL_TSO
ERROR:COMPLEX_MACRO: Macros with complex values should be enclosed in parentheses
#1078: FILE: lib/ethdev/rte_ethdev.h:1692:
+#define DEV_TX_OFFLOAD_IP_TNL_TSO RTE_DEPRECATED(DEV_TX_OFFLOAD_IP_TNL_TSO) RTE_ETH_TX_OFFLOAD_IP_TNL_TSO
WARNING:LONG_LINE: line length of 124 exceeds 100 columns
#1079: FILE: lib/ethdev/rte_ethdev.h:1693:
+#define DEV_TX_OFFLOAD_OUTER_UDP_CKSUM RTE_DEPRECATED(DEV_TX_OFFLOAD_OUTER_UDP_CKSUM) RTE_ETH_TX_OFFLOAD_OUTER_UDP_CKSUM
ERROR:COMPLEX_MACRO: Macros with complex values should be enclosed in parentheses
#1079: FILE: lib/ethdev/rte_ethdev.h:1693:
+#define DEV_TX_OFFLOAD_OUTER_UDP_CKSUM RTE_DEPRECATED(DEV_TX_OFFLOAD_OUTER_UDP_CKSUM) RTE_ETH_TX_OFFLOAD_OUTER_UDP_CKSUM
WARNING:LONG_LINE: line length of 126 exceeds 100 columns
#1080: FILE: lib/ethdev/rte_ethdev.h:1694:
+#define DEV_TX_OFFLOAD_SEND_ON_TIMESTAMP RTE_DEPRECATED(DEV_TX_OFFLOAD_SEND_ON_TIMESTAMP) RTE_ETH_TX_OFFLOAD_SEND_ON_TIMESTAMP
ERROR:COMPLEX_MACRO: Macros with complex values should be enclosed in parentheses
#1080: FILE: lib/ethdev/rte_ethdev.h:1694:
+#define DEV_TX_OFFLOAD_SEND_ON_TIMESTAMP RTE_DEPRECATED(DEV_TX_OFFLOAD_SEND_ON_TIMESTAMP) RTE_ETH_TX_OFFLOAD_SEND_ON_TIMESTAMP
ERROR:COMPLEX_MACRO: Macros with complex values should be enclosed in parentheses
#1093: FILE: lib/ethdev/rte_ethdev.h:1949:
+#define ETH_DCB_NUM_TCS RTE_DEPRECATED(ETH_DCB_NUM_TCS) RTE_ETH_DCB_NUM_TCS
ERROR:COMPLEX_MACRO: Macros with complex values should be enclosed in parentheses
#1094: FILE: lib/ethdev/rte_ethdev.h:1950:
+#define ETH_MAX_VMDQ_POOL RTE_DEPRECATED(ETH_MAX_VMDQ_POOL) RTE_ETH_MAX_VMDQ_POOL
total: 226 errors, 71 warnings, 975 lines checked
^ permalink raw reply [flat|nested] 15+ messages in thread
* |SUCCESS| pw105751 [PATCH v3] ethdev: mark old macros as deprecated
[not found] <20220112143623.2535685-1-ferruh.yigit@intel.com>
2022-01-12 14:37 ` |WARNING| pw105751 [PATCH v3] ethdev: mark old macros as deprecated checkpatch
@ 2022-01-12 16:19 ` 0-day Robot
1 sibling, 0 replies; 15+ messages in thread
From: 0-day Robot @ 2022-01-12 16:19 UTC (permalink / raw)
To: test-report; +Cc: robot
From: robot@bytheb.org
Test-Label: github-robot: build
Test-Status: SUCCESS
http://patchwork.dpdk.org/patch/105751/
_github build: passed_
Build URL: https://github.com/ovsrobot/dpdk/actions/runs/1688208992
^ permalink raw reply [flat|nested] 15+ messages in thread
* |SUCCESS| pw105751 [PATCH] [v3] ethdev: mark old macros as deprecated
@ 2022-01-12 16:09 dpdklab
0 siblings, 0 replies; 15+ messages in thread
From: dpdklab @ 2022-01-12 16:09 UTC (permalink / raw)
To: Test Report; +Cc: dpdklab
[-- Attachment #1: Type: text/plain, Size: 2784 bytes --]
Test-Label: iol-x86_64-unit-testing
Test-Status: SUCCESS
http://dpdk.org/patch/105751
_Testing PASS_
Submitter: Ferruh Yigit <ferruh.yigit@intel.com>
Date: Wednesday, January 12 2022 14:36:23
DPDK git baseline: Repo:dpdk
Branch: master
CommitID:3f993907ee9d530bc595d973a5f764674fcaf509
105751 --> testing pass
Test environment and result as below:
+------------------+----------------+
| Environment | dpdk_unit_test |
+==================+================+
| Ubuntu 18.04 | PASS |
+------------------+----------------+
| CentOS 8 | PASS |
+------------------+----------------+
| RHEL 7 | PASS |
+------------------+----------------+
| Arch Linux | PASS |
+------------------+----------------+
| CentOS Stream 8 | PASS |
+------------------+----------------+
| RHEL8 | PASS |
+------------------+----------------+
| Fedora 32 | PASS |
+------------------+----------------+
| openSUSE Leap 15 | PASS |
+------------------+----------------+
| Fedora 31 | PASS |
+------------------+----------------+
| Fedora 34 clang | PASS |
+------------------+----------------+
| Fedora 34 | PASS |
+------------------+----------------+
| Ubuntu 20.04 | PASS |
+------------------+----------------+
| Fedora 33 | PASS |
+------------------+----------------+
Ubuntu 18.04
Kernel: 4.18.0-240.10.1.el8_3.x86_64
Compiler: gcc 7.5.0-3ubuntu1~18.04
CentOS 8
Kernel: 4.18.0-240.10.1.el8_3.x86_64
Compiler: gcc 8.3.1 20191121 (Red Hat 8.3.1-5)
RHEL 7
Kernel: 4.18.0-240.10.1.el8_3.x86_64
Compiler: gcc 4.8.5 20150623 (Red Hat 4.8.5-44)
Arch Linux
Kernel: 5.4.0-73-generic
Compiler: gcc 11.1.0
CentOS Stream 8
Kernel: 4.18.0-240.10.1.el8_3.x86_64
Compiler: gcc 8.4.1 20200928
RHEL8
Kernel: 4.18.0-240.10.1.el8_3.x86_64
Compiler: gcc 8.3.1 20191121 (Red Hat 8.3.1-5)
Fedora 32
Kernel: 4.18.0-240.10.1.el8_3.x86_64
Compiler: gcc 10.2.1
openSUSE Leap 15
Kernel: 4.18.0-240.10.1.el8_3.x86_64
Compiler: gcc 7.5.0
Fedora 31
Kernel: 4.18.0-240.10.1.el8_3.x86_64
Compiler: gcc 9.3.1
Fedora 34 clang
Kernel: 5.4.0-72-generic
Compiler: clang 12.0.0 (Fedora 12.0.0-0.3.rc1.fc34)
Fedora 34
Kernel: 5.4.0-72-generic
Compiler: gcc 11.1.1 20210428 (Red Hat 11.1.1-1)
Ubuntu 20.04
Kernel: 4.18.0-240.10.1.el8_3.x86_64
Compiler: gcc 9.3.0-17ubuntu1~20.04
Fedora 33
Kernel: 5.4.0-72-generic
Compiler: gcc 10.3.1 20210422 (Red Hat 10.3.1-1)
To view detailed results, visit:
https://lab.dpdk.org/results/dashboard/patchsets/20647/
UNH-IOL DPDK Community Lab
To manage your email subscriptions, visit:
https://lab.dpdk.org/results/dashboard/preferences/subscriptions/
^ permalink raw reply [flat|nested] 15+ messages in thread
* |SUCCESS| pw105751 [PATCH] [v3] ethdev: mark old macros as deprecated
@ 2022-01-12 16:08 dpdklab
0 siblings, 0 replies; 15+ messages in thread
From: dpdklab @ 2022-01-12 16:08 UTC (permalink / raw)
To: Test Report; +Cc: dpdklab
[-- Attachment #1: Type: text/plain, Size: 1448 bytes --]
Test-Label: iol-aarch64-unit-testing
Test-Status: SUCCESS
http://dpdk.org/patch/105751
_Testing PASS_
Submitter: Ferruh Yigit <ferruh.yigit@intel.com>
Date: Wednesday, January 12 2022 14:36:23
DPDK git baseline: Repo:dpdk
Branch: master
CommitID:3f993907ee9d530bc595d973a5f764674fcaf509
105751 --> testing pass
Test environment and result as below:
+-------------------------------+----------------+--------------+
| Environment | dpdk_unit_test | lpm_autotest |
+===============================+================+==============+
| Ubuntu 20.04 ARM GCC Native | PASS | SKIPPED |
+-------------------------------+----------------+--------------+
| Ubuntu 20.04 ARM Clang Native | PASS | SKIPPED |
+-------------------------------+----------------+--------------+
| Ubuntu 20.04 ARM SVE | SKIPPED | PASS |
+-------------------------------+----------------+--------------+
Ubuntu 20.04 ARM GCC Native
Kernel: 5.4.0-53-generic
Compiler: gcc 9.3
Ubuntu 20.04 ARM Clang Native
Kernel: 5.4.0-53-generic
Compiler: clang 10.0.0-4ubuntu1
Ubuntu 20.04 ARM SVE
Kernel: 5.4.0-80-generic
Compiler: gcc 10.3.0 (Ubuntu 10.3.0-1ubuntu1~20.04)
To view detailed results, visit:
https://lab.dpdk.org/results/dashboard/patchsets/20647/
UNH-IOL DPDK Community Lab
To manage your email subscriptions, visit:
https://lab.dpdk.org/results/dashboard/preferences/subscriptions/
^ permalink raw reply [flat|nested] 15+ messages in thread
* |SUCCESS| pw105751 [PATCH] [v3] ethdev: mark old macros as deprecated
@ 2022-01-12 16:04 dpdklab
0 siblings, 0 replies; 15+ messages in thread
From: dpdklab @ 2022-01-12 16:04 UTC (permalink / raw)
To: Test Report; +Cc: dpdklab
[-- Attachment #1: Type: text/plain, Size: 2141 bytes --]
Test-Label: iol-aarch64-compile-testing
Test-Status: SUCCESS
http://dpdk.org/patch/105751
_Testing PASS_
Submitter: Ferruh Yigit <ferruh.yigit@intel.com>
Date: Wednesday, January 12 2022 14:36:23
DPDK git baseline: Repo:dpdk
Branch: master
CommitID:3f993907ee9d530bc595d973a5f764674fcaf509
105751 --> testing pass
Test environment and result as below:
+----------------------------------------+--------------------+
| Environment | dpdk_meson_compile |
+========================================+====================+
| Ubuntu 20.04 ARM GCC Native | PASS |
+----------------------------------------+--------------------+
| Ubuntu 20.04 ARM Clang Native | PASS |
+----------------------------------------+--------------------+
| Ubuntu 20.04 aarch32 GCC Cross Compile | PASS |
+----------------------------------------+--------------------+
| Ubuntu 20.04 ARM SVE | PASS |
+----------------------------------------+--------------------+
| Ubuntu 20.04 ARM Clang Cross Compile | PASS |
+----------------------------------------+--------------------+
| Ubuntu 20.04 ARM GCC Cross Compile | PASS |
+----------------------------------------+--------------------+
Ubuntu 20.04 ARM GCC Native
Kernel: 5.4.0-53-generic
Compiler: gcc 9.3
Ubuntu 20.04 ARM Clang Native
Kernel: 5.4.0-53-generic
Compiler: clang 10.0.0-4ubuntu1
Ubuntu 20.04 aarch32 GCC Cross Compile
Kernel: 5.4.0-72-generic
Compiler: gcc 9.3.0
Ubuntu 20.04 ARM SVE
Kernel: 5.4.0-80-generic
Compiler: gcc 10.3.0 (Ubuntu 10.3.0-1ubuntu1~20.04)
Ubuntu 20.04 ARM Clang Cross Compile
Kernel: 5.4.0-72-generic
Compiler: clang version 10.0.0-4ubuntu1
Ubuntu 20.04 ARM GCC Cross Compile
Kernel: 5.4.0-72-generic
Compiler: aarch64-linux-gnu-gcc (Ubuntu 9.3.0-17ubuntu1~20.04) 9.3.0
To view detailed results, visit:
https://lab.dpdk.org/results/dashboard/patchsets/20647/
UNH-IOL DPDK Community Lab
To manage your email subscriptions, visit:
https://lab.dpdk.org/results/dashboard/preferences/subscriptions/
^ permalink raw reply [flat|nested] 15+ messages in thread
* |SUCCESS| pw105751 [PATCH] [v3] ethdev: mark old macros as deprecated
@ 2022-01-12 15:50 dpdklab
0 siblings, 0 replies; 15+ messages in thread
From: dpdklab @ 2022-01-12 15:50 UTC (permalink / raw)
To: Test Report; +Cc: dpdk-test-reports
[-- Attachment #1: Type: text/plain, Size: 4286 bytes --]
Test-Label: iol-x86_64-compile-testing
Test-Status: SUCCESS
http://dpdk.org/patch/105751
_Testing PASS_
Submitter: Ferruh Yigit <ferruh.yigit@intel.com>
Date: Wednesday, January 12 2022 14:36:23
DPDK git baseline: Repo:dpdk
Branch: master
CommitID:3f993907ee9d530bc595d973a5f764674fcaf509
105751 --> testing pass
Test environment and result as below:
+---------------------+--------------------+----------------------+
| Environment | dpdk_meson_compile | dpdk_mingw64_compile |
+=====================+====================+======================+
| Windows Server 2019 | PASS | PASS |
+---------------------+--------------------+----------------------+
| FreeBSD 13 | PASS | SKIPPED |
+---------------------+--------------------+----------------------+
| openSUSE Leap 15 | PASS | SKIPPED |
+---------------------+--------------------+----------------------+
| Fedora 31 | PASS | SKIPPED |
+---------------------+--------------------+----------------------+
| CentOS Stream 8 | PASS | SKIPPED |
+---------------------+--------------------+----------------------+
| Fedora 32 | PASS | SKIPPED |
+---------------------+--------------------+----------------------+
| CentOS 8 | PASS | SKIPPED |
+---------------------+--------------------+----------------------+
| Arch Linux | PASS | SKIPPED |
+---------------------+--------------------+----------------------+
| Ubuntu 18.04 | PASS | SKIPPED |
+---------------------+--------------------+----------------------+
| RHEL 7 | PASS | SKIPPED |
+---------------------+--------------------+----------------------+
| Fedora 34 | PASS | SKIPPED |
+---------------------+--------------------+----------------------+
| Ubuntu 20.04 | PASS | SKIPPED |
+---------------------+--------------------+----------------------+
| Fedora 33 | PASS | SKIPPED |
+---------------------+--------------------+----------------------+
| Alpine | PASS | SKIPPED |
+---------------------+--------------------+----------------------+
| Fedora 34 clang | PASS | SKIPPED |
+---------------------+--------------------+----------------------+
| RHEL8 | PASS | SKIPPED |
+---------------------+--------------------+----------------------+
Windows Server 2019
Kernel: 10.0
Compiler: clang 9.0 and gcc 8.1.0 (MinGW)
FreeBSD 13
Kernel: 13.0
Compiler: clang 11.0.1
openSUSE Leap 15
Kernel: 4.18.0-240.10.1.el8_3.x86_64
Compiler: gcc 7.5.0
Fedora 31
Kernel: 4.18.0-240.10.1.el8_3.x86_64
Compiler: gcc 9.3.1
CentOS Stream 8
Kernel: 4.18.0-240.10.1.el8_3.x86_64
Compiler: gcc 8.4.1 20200928
Fedora 32
Kernel: 4.18.0-240.10.1.el8_3.x86_64
Compiler: gcc 10.2.1
CentOS 8
Kernel: 4.18.0-240.10.1.el8_3.x86_64
Compiler: gcc 8.3.1 20191121 (Red Hat 8.3.1-5)
Arch Linux
Kernel: 5.4.0-73-generic
Compiler: gcc 11.1.0
Ubuntu 18.04
Kernel: 4.18.0-240.10.1.el8_3.x86_64
Compiler: gcc 7.5.0-3ubuntu1~18.04
RHEL 7
Kernel: 4.18.0-240.10.1.el8_3.x86_64
Compiler: gcc 4.8.5 20150623 (Red Hat 4.8.5-44)
Fedora 34
Kernel: 5.4.0-72-generic
Compiler: gcc 11.1.1 20210428 (Red Hat 11.1.1-1)
Ubuntu 20.04
Kernel: 4.18.0-240.10.1.el8_3.x86_64
Compiler: gcc 9.3.0-17ubuntu1~20.04
Fedora 33
Kernel: 5.4.0-72-generic
Compiler: gcc 10.3.1 20210422 (Red Hat 10.3.1-1)
Alpine
Kernel: 5.4.0-73-generic
Compiler: gcc (Alpine 10.3.1_git20210424) 10.3.1 20210424
Fedora 34 clang
Kernel: 5.4.0-72-generic
Compiler: clang 12.0.0 (Fedora 12.0.0-0.3.rc1.fc34)
RHEL8
Kernel: 4.18.0-240.10.1.el8_3.x86_64
Compiler: gcc 8.3.1 20191121 (Red Hat 8.3.1-5)
To view detailed results, visit:
https://lab.dpdk.org/results/dashboard/patchsets/20647/
UNH-IOL DPDK Community Lab
To manage your email subscriptions, visit:
https://lab.dpdk.org/results/dashboard/preferences/subscriptions/
^ permalink raw reply [flat|nested] 15+ messages in thread
* |SUCCESS| pw105751 [PATCH] [v3] ethdev: mark old macros as deprecated
@ 2022-01-12 15:26 dpdklab
0 siblings, 0 replies; 15+ messages in thread
From: dpdklab @ 2022-01-12 15:26 UTC (permalink / raw)
To: Test Report; +Cc: dpdk-test-reports
[-- Attachment #1: Type: text/plain, Size: 3857 bytes --]
Test-Label: iol-intel-Performance
Test-Status: SUCCESS
http://dpdk.org/patch/105751
_Performance Testing PASS_
Submitter: Ferruh Yigit <ferruh.yigit@intel.com>
Date: Wednesday, January 12 2022 14:36:23
DPDK git baseline: Repo:dpdk
Branch: master
CommitID:3f993907ee9d530bc595d973a5f764674fcaf509
105751 --> performance testing pass
Test environment and result as below:
Ubuntu 20.04
Kernel: 4.15.0-generic
Compiler: gcc 7.4
NIC: Intel Corporation Ethernet Converged Network Adapter 82599ES 10000 Mbps
Target: x86_64-native-linuxapp-gcc
Fail/Total: 0/4
Detail performance results:
+------------+---------+----------+-------------+------------------------------+
| frame_size | txd/rxd | num_cpus | num_threads | throughput difference from |
| | | | | expected |
+============+=========+==========+=============+==============================+
| 64 | 512 | 1 | 1 | -0.1% |
+------------+---------+----------+-------------+------------------------------+
| 64 | 2048 | 1 | 1 | -0.0% |
+------------+---------+----------+-------------+------------------------------+
| 64 | 512 | 1 | 2 | 0.1% |
+------------+---------+----------+-------------+------------------------------+
| 64 | 2048 | 1 | 2 | 0.1% |
+------------+---------+----------+-------------+------------------------------+
Ubuntu 20.04
Kernel: 4.15.0-generic
Compiler: gcc 7.4
NIC: Intel Corporation Ethernet Converged Network Adapter XL710-QDA2 40000 Mbps
Target: x86_64-native-linuxapp-gcc
Fail/Total: 0/4
Detail performance results:
+------------+---------+----------+-------------+------------------------------+
| frame_size | txd/rxd | num_cpus | num_threads | throughput difference from |
| | | | | expected |
+============+=========+==========+=============+==============================+
| 64 | 512 | 1 | 1 | -0.0% |
+------------+---------+----------+-------------+------------------------------+
| 64 | 2048 | 1 | 1 | -0.2% |
+------------+---------+----------+-------------+------------------------------+
| 64 | 512 | 1 | 2 | -0.2% |
+------------+---------+----------+-------------+------------------------------+
| 64 | 2048 | 1 | 2 | -3.0% |
+------------+---------+----------+-------------+------------------------------+
Ubuntu 20.04 ARM
Kernel: 4.15.0-132-generic
Compiler: gcc 7.5
NIC: Arm Intel Corporation Ethernet Converged Network Adapter XL710-QDA2 40000 Mbps
Target: x86_64-native-linuxapp-gcc
Fail/Total: 0/2
Detail performance results:
+------------+---------+----------+-------------+------------------------------+
| frame_size | txd/rxd | num_cpus | num_threads | throughput difference from |
| | | | | expected |
+============+=========+==========+=============+==============================+
| 64 | 512 | 1 | 1 | -0.3% |
+------------+---------+----------+-------------+------------------------------+
| 64 | 2048 | 1 | 1 | 0.1% |
+------------+---------+----------+-------------+------------------------------+
To view detailed results, visit:
https://lab.dpdk.org/results/dashboard/patchsets/20647/
UNH-IOL DPDK Community Lab
To manage your email subscriptions, visit:
https://lab.dpdk.org/results/dashboard/preferences/subscriptions/
^ permalink raw reply [flat|nested] 15+ messages in thread
* |SUCCESS| pw105751 [PATCH] [v3] ethdev: mark old macros as deprecated
@ 2022-01-12 15:16 dpdklab
0 siblings, 0 replies; 15+ messages in thread
From: dpdklab @ 2022-01-12 15:16 UTC (permalink / raw)
To: Test Report; +Cc: dpdk-test-reports
[-- Attachment #1: Type: text/plain, Size: 1175 bytes --]
Test-Label: iol-intel-Functional
Test-Status: SUCCESS
http://dpdk.org/patch/105751
_Functional Testing PASS_
Submitter: Ferruh Yigit <ferruh.yigit@intel.com>
Date: Wednesday, January 12 2022 14:36:23
DPDK git baseline: Repo:dpdk
Branch: master
CommitID:3f993907ee9d530bc595d973a5f764674fcaf509
105751 --> functional testing pass
Test environment and result as below:
Ubuntu 20.04
Kernel: 4.15.0-generic
Compiler: gcc 7.4
NIC: Intel Corporation Ethernet Converged Network Adapter XL710-QDA2 40000 Mbps
Target: x86_64-native-linuxapp-gcc
Fail/Total: 0/2
Ubuntu 20.04
Kernel: 4.15.0-generic
Compiler: gcc 7.4
NIC: Intel Corporation Ethernet Converged Network Adapter 82599ES 10000 Mbps
Target: x86_64-native-linuxapp-gcc
Fail/Total: 0/2
Ubuntu 20.04 ARM
Kernel: 4.15.0-132-generic
Compiler: gcc 7.5
NIC: Arm Intel Corporation Ethernet Converged Network Adapter XL710-QDA2 40000 Mbps
Target: x86_64-native-linuxapp-gcc
Fail/Total: 0/2
To view detailed results, visit:
https://lab.dpdk.org/results/dashboard/patchsets/20647/
UNH-IOL DPDK Community Lab
To manage your email subscriptions, visit:
https://lab.dpdk.org/results/dashboard/preferences/subscriptions/
^ permalink raw reply [flat|nested] 15+ messages in thread
* |SUCCESS| pw105751 [PATCH] [v3] ethdev: mark old macros as deprecated
@ 2022-01-12 15:14 dpdklab
0 siblings, 0 replies; 15+ messages in thread
From: dpdklab @ 2022-01-12 15:14 UTC (permalink / raw)
To: Test Report; +Cc: dpdk-test-reports
[-- Attachment #1: Type: text/plain, Size: 2981 bytes --]
Test-Label: iol-intel-Performance
Test-Status: SUCCESS
http://dpdk.org/patch/105751
_Performance Testing PASS_
Submitter: Ferruh Yigit <ferruh.yigit@intel.com>
Date: Wednesday, January 12 2022 14:36:23
DPDK git baseline: Repo:dpdk
Branch: master
CommitID:3f993907ee9d530bc595d973a5f764674fcaf509
105751 --> performance testing pass
Test environment and result as below:
Ubuntu 20.04
Kernel: 4.15.0-generic
Compiler: gcc 7.4
NIC: Intel Corporation Ethernet Converged Network Adapter 82599ES 10000 Mbps
Target: x86_64-native-linuxapp-gcc
Fail/Total: 0/4
Detail performance results:
+------------+---------+----------+-------------+------------------------------+
| frame_size | txd/rxd | num_cpus | num_threads | throughput difference from |
| | | | | expected |
+============+=========+==========+=============+==============================+
| 64 | 512 | 1 | 1 | -0.1% |
+------------+---------+----------+-------------+------------------------------+
| 64 | 2048 | 1 | 1 | -0.0% |
+------------+---------+----------+-------------+------------------------------+
| 64 | 512 | 1 | 2 | 0.1% |
+------------+---------+----------+-------------+------------------------------+
| 64 | 2048 | 1 | 2 | 0.1% |
+------------+---------+----------+-------------+------------------------------+
Ubuntu 20.04
Kernel: 4.15.0-generic
Compiler: gcc 7.4
NIC: Intel Corporation Ethernet Converged Network Adapter XL710-QDA2 40000 Mbps
Target: x86_64-native-linuxapp-gcc
Fail/Total: 0/4
Detail performance results:
+------------+---------+----------+-------------+------------------------------+
| frame_size | txd/rxd | num_cpus | num_threads | throughput difference from |
| | | | | expected |
+============+=========+==========+=============+==============================+
| 64 | 512 | 1 | 1 | -0.0% |
+------------+---------+----------+-------------+------------------------------+
| 64 | 2048 | 1 | 1 | -0.2% |
+------------+---------+----------+-------------+------------------------------+
| 64 | 512 | 1 | 2 | -0.2% |
+------------+---------+----------+-------------+------------------------------+
| 64 | 2048 | 1 | 2 | -3.0% |
+------------+---------+----------+-------------+------------------------------+
To view detailed results, visit:
https://lab.dpdk.org/results/dashboard/patchsets/20647/
UNH-IOL DPDK Community Lab
To manage your email subscriptions, visit:
https://lab.dpdk.org/results/dashboard/preferences/subscriptions/
^ permalink raw reply [flat|nested] 15+ messages in thread
* |SUCCESS| pw105751 [PATCH] [v3] ethdev: mark old macros as deprecated
@ 2022-01-12 15:13 dpdklab
0 siblings, 0 replies; 15+ messages in thread
From: dpdklab @ 2022-01-12 15:13 UTC (permalink / raw)
To: Ajit Khaparde, Test Report; +Cc: dpdk-test-reports
[-- Attachment #1: Type: text/plain, Size: 797 bytes --]
Test-Label: iol-broadcom-Functional
Test-Status: SUCCESS
http://dpdk.org/patch/105751
_Functional Testing PASS_
Submitter: Ferruh Yigit <ferruh.yigit@intel.com>
Date: Wednesday, January 12 2022 14:36:23
DPDK git baseline: Repo:dpdk
Branch: master
CommitID:3f993907ee9d530bc595d973a5f764674fcaf509
105751 --> functional testing pass
Test environment and result as below:
Ubuntu 20.04
Kernel: 4.15.0-65-generic
Compiler: gcc gcc (Ubuntu 7.4.0-1ubuntu1~18.04.1) 7.4.0
NIC: Broadcom Inc. brcm_57414 25000 Mbps
Target: x86_64-native-linuxapp-gcc
Fail/Total: 0/3
To view detailed results, visit:
https://lab.dpdk.org/results/dashboard/patchsets/20647/
UNH-IOL DPDK Community Lab
To manage your email subscriptions, visit:
https://lab.dpdk.org/results/dashboard/preferences/subscriptions/
^ permalink raw reply [flat|nested] 15+ messages in thread
* |SUCCESS| pw105751 [PATCH] [v3] ethdev: mark old macros as deprecated
@ 2022-01-12 15:12 dpdklab
0 siblings, 0 replies; 15+ messages in thread
From: dpdklab @ 2022-01-12 15:12 UTC (permalink / raw)
To: Test Report; +Cc: dpdk-test-reports
[-- Attachment #1: Type: text/plain, Size: 991 bytes --]
Test-Label: iol-intel-Functional
Test-Status: SUCCESS
http://dpdk.org/patch/105751
_Functional Testing PASS_
Submitter: Ferruh Yigit <ferruh.yigit@intel.com>
Date: Wednesday, January 12 2022 14:36:23
DPDK git baseline: Repo:dpdk
Branch: master
CommitID:3f993907ee9d530bc595d973a5f764674fcaf509
105751 --> functional testing pass
Test environment and result as below:
Ubuntu 20.04
Kernel: 4.15.0-generic
Compiler: gcc 7.4
NIC: Intel Corporation Ethernet Converged Network Adapter XL710-QDA2 40000 Mbps
Target: x86_64-native-linuxapp-gcc
Fail/Total: 0/2
Ubuntu 20.04 ARM
Kernel: 4.15.0-132-generic
Compiler: gcc 7.5
NIC: Arm Intel Corporation Ethernet Converged Network Adapter XL710-QDA2 40000 Mbps
Target: x86_64-native-linuxapp-gcc
Fail/Total: 0/2
To view detailed results, visit:
https://lab.dpdk.org/results/dashboard/patchsets/20647/
UNH-IOL DPDK Community Lab
To manage your email subscriptions, visit:
https://lab.dpdk.org/results/dashboard/preferences/subscriptions/
^ permalink raw reply [flat|nested] 15+ messages in thread
* |SUCCESS| pw105751 [PATCH] [v3] ethdev: mark old macros as deprecated
@ 2022-01-12 15:10 dpdklab
0 siblings, 0 replies; 15+ messages in thread
From: dpdklab @ 2022-01-12 15:10 UTC (permalink / raw)
To: Test Report; +Cc: dpdk-test-reports
[-- Attachment #1: Type: text/plain, Size: 1793 bytes --]
Test-Label: iol-intel-Performance
Test-Status: SUCCESS
http://dpdk.org/patch/105751
_Performance Testing PASS_
Submitter: Ferruh Yigit <ferruh.yigit@intel.com>
Date: Wednesday, January 12 2022 14:36:23
DPDK git baseline: Repo:dpdk
Branch: master
CommitID:3f993907ee9d530bc595d973a5f764674fcaf509
105751 --> performance testing pass
Test environment and result as below:
Ubuntu 20.04
Kernel: 4.15.0-generic
Compiler: gcc 7.4
NIC: Intel Corporation Ethernet Converged Network Adapter 82599ES 10000 Mbps
Target: x86_64-native-linuxapp-gcc
Fail/Total: 0/4
Detail performance results:
+------------+---------+----------+-------------+------------------------------+
| frame_size | txd/rxd | num_cpus | num_threads | throughput difference from |
| | | | | expected |
+============+=========+==========+=============+==============================+
| 64 | 512 | 1 | 1 | -0.1% |
+------------+---------+----------+-------------+------------------------------+
| 64 | 2048 | 1 | 1 | -0.0% |
+------------+---------+----------+-------------+------------------------------+
| 64 | 512 | 1 | 2 | 0.1% |
+------------+---------+----------+-------------+------------------------------+
| 64 | 2048 | 1 | 2 | 0.1% |
+------------+---------+----------+-------------+------------------------------+
To view detailed results, visit:
https://lab.dpdk.org/results/dashboard/patchsets/20647/
UNH-IOL DPDK Community Lab
To manage your email subscriptions, visit:
https://lab.dpdk.org/results/dashboard/preferences/subscriptions/
^ permalink raw reply [flat|nested] 15+ messages in thread
* |SUCCESS| pw105751 [PATCH] [v3] ethdev: mark old macros as deprecated
@ 2022-01-12 15:06 dpdklab
0 siblings, 0 replies; 15+ messages in thread
From: dpdklab @ 2022-01-12 15:06 UTC (permalink / raw)
To: Ali Alnubani, Test Report; +Cc: dpdk-test-reports
[-- Attachment #1: Type: text/plain, Size: 2080 bytes --]
Test-Label: iol-mellanox-Performance
Test-Status: SUCCESS
http://dpdk.org/patch/105751
_Performance Testing PASS_
Submitter: Ferruh Yigit <ferruh.yigit@intel.com>
Date: Wednesday, January 12 2022 14:36:23
DPDK git baseline: Repo:dpdk
Branch: master
CommitID:3f993907ee9d530bc595d973a5f764674fcaf509
105751 --> performance testing pass
Test environment and result as below:
Ubuntu 20.04
Kernel: 4.15.0-generic
Compiler: gcc 7.4
NIC: Mellanox ConnectX-5 100000 Mbps
Target: x86_64-native-linuxapp-gcc
Fail/Total: 0/6
Detail performance results:
+------------+---------+----------+-------------+------------------------------+
| frame_size | txd/rxd | num_cpus | num_threads | throughput difference from |
| | | | | expected |
+============+=========+==========+=============+==============================+
| 64 | 256 | 1 | 1 | -0.0% |
+------------+---------+----------+-------------+------------------------------+
| 128 | 256 | 1 | 1 | 0.2% |
+------------+---------+----------+-------------+------------------------------+
| 1024 | 256 | 1 | 1 | 0.0% |
+------------+---------+----------+-------------+------------------------------+
| 256 | 256 | 1 | 1 | -0.0% |
+------------+---------+----------+-------------+------------------------------+
| 1518 | 256 | 1 | 1 | 0.0% |
+------------+---------+----------+-------------+------------------------------+
| 512 | 256 | 1 | 1 | 0.2% |
+------------+---------+----------+-------------+------------------------------+
To view detailed results, visit:
https://lab.dpdk.org/results/dashboard/patchsets/20647/
UNH-IOL DPDK Community Lab
To manage your email subscriptions, visit:
https://lab.dpdk.org/results/dashboard/preferences/subscriptions/
^ permalink raw reply [flat|nested] 15+ messages in thread
* |SUCCESS| pw105751 [PATCH] [v3] ethdev: mark old macros as deprecated
@ 2022-01-12 15:05 dpdklab
0 siblings, 0 replies; 15+ messages in thread
From: dpdklab @ 2022-01-12 15:05 UTC (permalink / raw)
To: Ajit Khaparde, Test Report; +Cc: dpdk-test-reports
[-- Attachment #1: Type: text/plain, Size: 1801 bytes --]
Test-Label: iol-broadcom-Performance
Test-Status: SUCCESS
http://dpdk.org/patch/105751
_Performance Testing PASS_
Submitter: Ferruh Yigit <ferruh.yigit@intel.com>
Date: Wednesday, January 12 2022 14:36:23
DPDK git baseline: Repo:dpdk
Branch: master
CommitID:3f993907ee9d530bc595d973a5f764674fcaf509
105751 --> performance testing pass
Test environment and result as below:
Ubuntu 20.04
Kernel: 4.15.0-65-generic
Compiler: gcc gcc (Ubuntu 7.4.0-1ubuntu1~18.04.1) 7.4.0
NIC: Broadcom Inc. brcm_57414 25000 Mbps
Target: x86_64-native-linuxapp-gcc
Fail/Total: 0/4
Detail performance results:
+----------+-------------+---------+------------+------------------------------+
| num_cpus | num_threads | txd/rxd | frame_size | throughput difference from |
| | | | | expected |
+==========+=============+=========+============+==============================+
| 1 | 2 | 512 | 64 | -0.2% |
+----------+-------------+---------+------------+------------------------------+
| 1 | 2 | 2048 | 64 | -0.0% |
+----------+-------------+---------+------------+------------------------------+
| 1 | 1 | 512 | 64 | -0.0% |
+----------+-------------+---------+------------+------------------------------+
| 1 | 1 | 2048 | 64 | 0.1% |
+----------+-------------+---------+------------+------------------------------+
To view detailed results, visit:
https://lab.dpdk.org/results/dashboard/patchsets/20647/
UNH-IOL DPDK Community Lab
To manage your email subscriptions, visit:
https://lab.dpdk.org/results/dashboard/preferences/subscriptions/
^ permalink raw reply [flat|nested] 15+ messages in thread
* |SUCCESS| pw105751 [PATCH] [v3] ethdev: mark old macros as deprecated
@ 2022-01-12 14:59 dpdklab
0 siblings, 0 replies; 15+ messages in thread
From: dpdklab @ 2022-01-12 14:59 UTC (permalink / raw)
To: Test Report; +Cc: dpdk-test-reports
[-- Attachment #1: Type: text/plain, Size: 792 bytes --]
Test-Label: iol-intel-Functional
Test-Status: SUCCESS
http://dpdk.org/patch/105751
_Functional Testing PASS_
Submitter: Ferruh Yigit <ferruh.yigit@intel.com>
Date: Wednesday, January 12 2022 14:36:23
DPDK git baseline: Repo:dpdk
Branch: master
CommitID:3f993907ee9d530bc595d973a5f764674fcaf509
105751 --> functional testing pass
Test environment and result as below:
Ubuntu 20.04
Kernel: 4.15.0-generic
Compiler: gcc 7.4
NIC: Intel Corporation Ethernet Converged Network Adapter XL710-QDA2 40000 Mbps
Target: x86_64-native-linuxapp-gcc
Fail/Total: 0/2
To view detailed results, visit:
https://lab.dpdk.org/results/dashboard/patchsets/20647/
UNH-IOL DPDK Community Lab
To manage your email subscriptions, visit:
https://lab.dpdk.org/results/dashboard/preferences/subscriptions/
^ permalink raw reply [flat|nested] 15+ messages in thread
end of thread, other threads:[~2022-01-12 16:09 UTC | newest]
Thread overview: 15+ messages (download: mbox.gz / follow: Atom feed)
-- links below jump to the message on this page --
[not found] <20220112143623.2535685-1-ferruh.yigit@intel.com>
2022-01-12 14:37 ` |WARNING| pw105751 [PATCH v3] ethdev: mark old macros as deprecated checkpatch
2022-01-12 16:19 ` |SUCCESS| " 0-day Robot
2022-01-12 16:09 |SUCCESS| pw105751 [PATCH] [v3] " dpdklab
-- strict thread matches above, loose matches on Subject: below --
2022-01-12 16:08 dpdklab
2022-01-12 16:04 dpdklab
2022-01-12 15:50 dpdklab
2022-01-12 15:26 dpdklab
2022-01-12 15:16 dpdklab
2022-01-12 15:14 dpdklab
2022-01-12 15:13 dpdklab
2022-01-12 15:12 dpdklab
2022-01-12 15:10 dpdklab
2022-01-12 15:06 dpdklab
2022-01-12 15:05 dpdklab
2022-01-12 14:59 dpdklab
This is a public inbox, see mirroring instructions
for how to clone and mirror all data and code used for this inbox;
as well as URLs for NNTP newsgroup(s).