automatic DPDK test reports
 help / color / mirror / Atom feed
From: dpdklab@iol.unh.edu
To: Test Report <test-report@dpdk.org>
Cc: dpdklab@iol.unh.edu
Subject: |SUCCESS| [GIT MASTER] bab4318634e0d2276e8bae5ea18789cfda813c70
Date: Thu, 13 Jan 2022 07:19:53 +0000 (UTC)
Message-ID: <20220113071953.C108D602B7@dpdk-ubuntu.dpdklab.iol.unh.edu> (raw)

[-- Attachment #1: Type: text/plain, Size: 1421 bytes --]

_Testing PASS_

Branch: tags/v20.11

bab4318634e0d2276e8bae5ea18789cfda813c70 --> testing pass

Test environment and result as below:

+------------------------------------+--------------------+
|            Environment             | dpdk_meson_compile |
+====================================+====================+
| Ubuntu 20.04 ARM GCC Native        | PASS               |
+------------------------------------+--------------------+
| Ubuntu 20.04 ARM Clang Native      | PASS               |
+------------------------------------+--------------------+
| Ubuntu 20.04 ARM GCC Cross Compile | PASS               |
+------------------------------------+--------------------+
| Ubuntu 20.04 ARM SVE               | PASS               |
+------------------------------------+--------------------+


Ubuntu 20.04 ARM GCC Native
	Kernel: 5.4.0-53-generic
	Compiler: gcc 9.3

Ubuntu 20.04 ARM Clang Native
	Kernel: 5.4.0-53-generic
	Compiler: clang 10.0.0-4ubuntu1

Ubuntu 20.04 ARM GCC Cross Compile
	Kernel: 5.4.0-72-generic
	Compiler: aarch64-linux-gnu-gcc (Ubuntu 9.3.0-17ubuntu1~20.04) 9.3.0

Ubuntu 20.04 ARM SVE
	Kernel: 5.4.0-80-generic
	Compiler: gcc 10.3.0 (Ubuntu 10.3.0-1ubuntu1~20.04)

To view detailed results, visit:
https://lab.dpdk.org/results/dashboard/tarballs/18258/

UNH-IOL DPDK Community Lab

To manage your email subscriptions, visit: 
https://lab.dpdk.org/results/dashboard/preferences/subscriptions/

             reply	other threads:[~2022-01-13  7:19 UTC|newest]

Thread overview: 73+ messages / expand[flat|nested]  mbox.gz  Atom feed  top
2022-01-13  7:19 dpdklab [this message]
  -- strict thread matches above, loose matches on Subject: below --
2022-01-17  6:50 dpdklab
2022-01-17  6:44 dpdklab
2022-01-17  6:35 dpdklab
2022-01-17  6:10 dpdklab
2022-01-17  6:00 dpdklab
2022-01-17  6:00 dpdklab
2022-01-17  5:58 dpdklab
2022-01-17  5:55 dpdklab
2022-01-17  5:53 dpdklab
2022-01-17  5:51 dpdklab
2022-01-17  5:49 dpdklab
2022-01-17  5:45 dpdklab
2022-01-17  5:45 dpdklab
2022-01-16  7:17 dpdklab
2022-01-16  7:03 dpdklab
2022-01-16  6:34 dpdklab
2022-01-16  6:13 dpdklab
2022-01-16  6:01 dpdklab
2022-01-16  6:00 dpdklab
2022-01-16  5:59 dpdklab
2022-01-16  5:59 dpdklab
2022-01-16  5:54 dpdklab
2022-01-16  5:52 dpdklab
2022-01-16  5:49 dpdklab
2022-01-16  5:46 dpdklab
2022-01-16  5:45 dpdklab
2022-01-15  8:34 dpdklab
2022-01-15  6:43 dpdklab
2022-01-15  6:29 dpdklab
2022-01-15  6:10 dpdklab
2022-01-15  6:01 dpdklab
2022-01-15  6:01 dpdklab
2022-01-15  5:59 dpdklab
2022-01-15  5:59 dpdklab
2022-01-15  5:55 dpdklab
2022-01-15  5:54 dpdklab
2022-01-15  5:52 dpdklab
2022-01-15  5:49 dpdklab
2022-01-15  5:45 dpdklab
2022-01-14  7:27 dpdklab
2022-01-14  7:03 dpdklab
2022-01-14  6:35 dpdklab
2022-01-14  6:14 dpdklab
2022-01-14  6:02 dpdklab
2022-01-14  6:01 dpdklab
2022-01-14  6:01 dpdklab
2022-01-14  6:00 dpdklab
2022-01-14  5:59 dpdklab
2022-01-14  5:55 dpdklab
2022-01-14  5:51 dpdklab
2022-01-14  5:49 dpdklab
2022-01-14  5:48 dpdklab
2022-01-13  6:54 dpdklab
2022-01-13  6:45 dpdklab
2022-01-13  6:12 dpdklab
2022-01-13  6:02 dpdklab
2022-01-13  6:01 dpdklab
2022-01-13  6:00 dpdklab
2022-01-13  6:00 dpdklab
2022-01-13  5:54 dpdklab
2022-01-13  5:52 dpdklab
2022-01-13  5:51 dpdklab
2022-01-13  5:46 dpdklab
2022-01-13  5:46 dpdklab
2022-01-12 20:44 dpdklab
2022-01-12 19:49 dpdklab
2022-01-12 19:39 dpdklab
2022-01-12 19:13 dpdklab
2022-01-12 19:01 dpdklab
2022-01-12 18:56 dpdklab
2022-01-12 18:56 dpdklab
2022-01-12 18:50 dpdklab

Reply instructions:

You may reply publicly to this message via plain-text email
using any one of the following methods:

* Save the following mbox file, import it into your mail client,
  and reply-to-all from there: mbox

  Avoid top-posting and favor interleaved quoting:
  https://en.wikipedia.org/wiki/Posting_style#Interleaved_style

* Reply using the --to, --cc, and --in-reply-to
  switches of git-send-email(1):

  git send-email \
    --in-reply-to=20220113071953.C108D602B7@dpdk-ubuntu.dpdklab.iol.unh.edu \
    --to=dpdklab@iol.unh.edu \
    --cc=test-report@dpdk.org \
    /path/to/YOUR_REPLY

  https://kernel.org/pub/software/scm/git/docs/git-send-email.html

* If your mail client supports setting the In-Reply-To header
  via mailto: links, try the mailto: link

automatic DPDK test reports

This inbox may be cloned and mirrored by anyone:

	git clone --mirror http://inbox.dpdk.org/test-report/0 test-report/git/0.git

	# If you have public-inbox 1.1+ installed, you may
	# initialize and index your mirror using the following commands:
	public-inbox-init -V2 test-report test-report/ http://inbox.dpdk.org/test-report \
		test-report@dpdk.org
	public-inbox-index test-report

Example config snippet for mirrors.
Newsgroup available over NNTP:
	nntp://inbox.dpdk.org/inbox.dpdk.test-report


AGPL code for this site: git clone https://public-inbox.org/public-inbox.git