From: dpdklab@iol.unh.edu To: Test Report <test-report@dpdk.org> Cc: dpdk-test-reports@iol.unh.edu Subject: |SUCCESS| [GIT MASTER] 6f716880ee53ac1e50c9c75dc749886e3257bb8f Date: Fri, 14 Jan 2022 16:53:58 +0000 (UTC) Message-ID: <20220114165358.63113602B7@dpdk-ubuntu.dpdklab.iol.unh.edu> (raw) [-- Attachment #1: Type: text/plain, Size: 2565 bytes --] _Testing PASS_ Branch: dpdk-next-virtio 6f716880ee53ac1e50c9c75dc749886e3257bb8f --> testing pass Test environment and result as below: +------------------+----------------+ | Environment | dpdk_unit_test | +==================+================+ | Ubuntu 18.04 | PASS | +------------------+----------------+ | Arch Linux | PASS | +------------------+----------------+ | CentOS 8 | PASS | +------------------+----------------+ | CentOS Stream 8 | PASS | +------------------+----------------+ | RHEL 7 | PASS | +------------------+----------------+ | RHEL8 | PASS | +------------------+----------------+ | Fedora 32 | PASS | +------------------+----------------+ | Fedora 31 | PASS | +------------------+----------------+ | Fedora 34 | PASS | +------------------+----------------+ | Fedora 34 clang | PASS | +------------------+----------------+ | Ubuntu 20.04 | PASS | +------------------+----------------+ | Fedora 33 | PASS | +------------------+----------------+ | openSUSE Leap 15 | PASS | +------------------+----------------+ Ubuntu 18.04 Kernel: 4.18.0-240.10.1.el8_3.x86_64 Compiler: gcc 7.5.0-3ubuntu1~18.04 Arch Linux Kernel: 5.4.0-73-generic Compiler: gcc 11.1.0 CentOS 8 Kernel: 4.18.0-240.10.1.el8_3.x86_64 Compiler: gcc 8.3.1 20191121 (Red Hat 8.3.1-5) CentOS Stream 8 Kernel: 4.18.0-240.10.1.el8_3.x86_64 Compiler: gcc 8.4.1 20200928 RHEL 7 Kernel: 4.18.0-240.10.1.el8_3.x86_64 Compiler: gcc 4.8.5 20150623 (Red Hat 4.8.5-44) RHEL8 Kernel: 4.18.0-240.10.1.el8_3.x86_64 Compiler: gcc 8.3.1 20191121 (Red Hat 8.3.1-5) Fedora 32 Kernel: 4.18.0-240.10.1.el8_3.x86_64 Compiler: gcc 10.2.1 Fedora 31 Kernel: 4.18.0-240.10.1.el8_3.x86_64 Compiler: gcc 9.3.1 Fedora 34 Kernel: 5.4.0-72-generic Compiler: gcc 11.1.1 20210428 (Red Hat 11.1.1-1) Fedora 34 clang Kernel: 5.4.0-72-generic Compiler: clang 12.0.0 (Fedora 12.0.0-0.3.rc1.fc34) Ubuntu 20.04 Kernel: 4.18.0-240.10.1.el8_3.x86_64 Compiler: gcc 9.3.0-17ubuntu1~20.04 Fedora 33 Kernel: 5.4.0-72-generic Compiler: gcc 10.3.1 20210422 (Red Hat 10.3.1-1) openSUSE Leap 15 Kernel: 4.18.0-240.10.1.el8_3.x86_64 Compiler: gcc 7.5.0 To view detailed results, visit: https://lab.dpdk.org/results/dashboard/tarballs/18275/ UNH-IOL DPDK Community Lab To manage your email subscriptions, visit: https://lab.dpdk.org/results/dashboard/preferences/subscriptions/
next reply other threads:[~2022-01-14 16:54 UTC|newest] Thread overview: 26+ messages / expand[flat|nested] mbox.gz Atom feed top 2022-01-14 16:53 dpdklab [this message] -- strict thread matches above, loose matches on Subject: below -- 2022-01-14 16:54 dpdklab 2022-01-14 16:48 dpdklab 2022-01-14 16:46 dpdklab 2022-01-14 16:46 dpdklab 2022-01-14 16:44 dpdklab 2022-01-14 16:42 dpdklab 2022-01-14 16:41 dpdklab 2022-01-14 16:39 dpdklab 2022-01-14 16:35 dpdklab 2022-01-14 16:34 dpdklab 2022-01-14 16:31 dpdklab 2022-01-14 16:31 dpdklab 2022-01-13 23:18 dpdklab 2022-01-13 23:15 dpdklab 2022-01-13 23:10 dpdklab 2022-01-13 23:09 dpdklab 2022-01-13 23:08 dpdklab 2022-01-13 23:08 dpdklab 2022-01-13 23:06 dpdklab 2022-01-13 23:06 dpdklab 2022-01-13 23:02 dpdklab 2022-01-13 23:02 dpdklab 2022-01-13 22:58 dpdklab 2022-01-13 22:57 dpdklab 2022-01-13 22:54 dpdklab
Reply instructions: You may reply publicly to this message via plain-text email using any one of the following methods: * Save the following mbox file, import it into your mail client, and reply-to-all from there: mbox Avoid top-posting and favor interleaved quoting: https://en.wikipedia.org/wiki/Posting_style#Interleaved_style * Reply using the --to, --cc, and --in-reply-to switches of git-send-email(1): git send-email \ --in-reply-to=20220114165358.63113602B7@dpdk-ubuntu.dpdklab.iol.unh.edu \ --to=dpdklab@iol.unh.edu \ --cc=dpdk-test-reports@iol.unh.edu \ --cc=test-report@dpdk.org \ /path/to/YOUR_REPLY https://kernel.org/pub/software/scm/git/docs/git-send-email.html * If your mail client supports setting the In-Reply-To header via mailto: links, try the mailto: link
automatic DPDK test reports This inbox may be cloned and mirrored by anyone: git clone --mirror http://inbox.dpdk.org/test-report/0 test-report/git/0.git # If you have public-inbox 1.1+ installed, you may # initialize and index your mirror using the following commands: public-inbox-init -V2 test-report test-report/ http://inbox.dpdk.org/test-report \ test-report@dpdk.org public-inbox-index test-report Example config snippet for mirrors. Newsgroup available over NNTP: nntp://inbox.dpdk.org/inbox.dpdk.test-report AGPL code for this site: git clone https://public-inbox.org/public-inbox.git