automatic DPDK test reports
 help / color / mirror / Atom feed
* |SUCCESS| pw105817-105868 [PATCH] [v4, 53/53] acl: remove unneeded header includes
@ 2022-01-14 17:27 dpdklab
  0 siblings, 0 replies; 11+ messages in thread
From: dpdklab @ 2022-01-14 17:27 UTC (permalink / raw)
  To: Test Report; +Cc: dpdk-test-reports

[-- Attachment #1: Type: text/plain, Size: 1801 bytes --]

Test-Label: iol-intel-Performance
Test-Status: SUCCESS
http://dpdk.org/patch/105868

_Performance Testing PASS_

Submitter: Sean Morrissey <sean.morrissey@intel.com>
Date: Friday, January 14 2022 16:24:09 
DPDK git baseline: Repo:dpdk
  Branch: master
  CommitID:6f716880ee53ac1e50c9c75dc749886e3257bb8f

105817-105868 --> performance testing pass

Test environment and result as below:

Ubuntu 20.04
Kernel: 4.15.0-generic
Compiler: gcc 7.4
NIC: Intel Corporation Ethernet Converged Network Adapter 82599ES 10000 Mbps
Target: x86_64-native-linuxapp-gcc
Fail/Total: 0/4

Detail performance results: 
+------------+---------+----------+-------------+------------------------------+
| frame_size | txd/rxd | num_cpus | num_threads |  throughput difference from  |
|            |         |          |             |           expected           |
+============+=========+==========+=============+==============================+
| 64         | 512     | 1        | 1           | -0.1%                        |
+------------+---------+----------+-------------+------------------------------+
| 64         | 2048    | 1        | 1           | 0.1%                         |
+------------+---------+----------+-------------+------------------------------+
| 64         | 512     | 1        | 2           | -0.1%                        |
+------------+---------+----------+-------------+------------------------------+
| 64         | 2048    | 1        | 2           | 0.2%                         |
+------------+---------+----------+-------------+------------------------------+

To view detailed results, visit:
https://lab.dpdk.org/results/dashboard/patchsets/20669/

UNH-IOL DPDK Community Lab

To manage your email subscriptions, visit: 
https://lab.dpdk.org/results/dashboard/preferences/subscriptions/

^ permalink raw reply	[flat|nested] 11+ messages in thread

* |SUCCESS| pw105817-105868 [PATCH] [v4, 53/53] acl: remove unneeded header includes
@ 2022-01-14 18:51 dpdklab
  0 siblings, 0 replies; 11+ messages in thread
From: dpdklab @ 2022-01-14 18:51 UTC (permalink / raw)
  To: Test Report; +Cc: dpdk-test-reports

[-- Attachment #1: Type: text/plain, Size: 1456 bytes --]

Test-Label: iol-aarch64-unit-testing
Test-Status: SUCCESS
http://dpdk.org/patch/105868

_Testing PASS_

Submitter: Sean Morrissey <sean.morrissey@intel.com>
Date: Friday, January 14 2022 16:24:09 
DPDK git baseline: Repo:dpdk
  Branch: master
  CommitID:6f716880ee53ac1e50c9c75dc749886e3257bb8f

105817-105868 --> testing pass

Test environment and result as below:

+-------------------------------+--------------+----------------+
|          Environment          | lpm_autotest | dpdk_unit_test |
+===============================+==============+================+
| Ubuntu 20.04 ARM SVE          | PASS         | SKIPPED        |
+-------------------------------+--------------+----------------+
| Ubuntu 20.04 ARM Clang Native | SKIPPED      | PASS           |
+-------------------------------+--------------+----------------+
| Ubuntu 20.04 ARM GCC Native   | SKIPPED      | PASS           |
+-------------------------------+--------------+----------------+


Ubuntu 20.04 ARM SVE
	Kernel: 5.4.0-80-generic
	Compiler: gcc 10.3.0 (Ubuntu 10.3.0-1ubuntu1~20.04)

Ubuntu 20.04 ARM Clang Native
	Kernel: 5.4.0-53-generic
	Compiler: clang 10.0.0-4ubuntu1

Ubuntu 20.04 ARM GCC Native
	Kernel: 5.4.0-53-generic
	Compiler: gcc 9.3

To view detailed results, visit:
https://lab.dpdk.org/results/dashboard/patchsets/20669/

UNH-IOL DPDK Community Lab

To manage your email subscriptions, visit: 
https://lab.dpdk.org/results/dashboard/preferences/subscriptions/

^ permalink raw reply	[flat|nested] 11+ messages in thread

* |SUCCESS| pw105817-105868 [PATCH] [v4, 53/53] acl: remove unneeded header includes
@ 2022-01-14 18:27 dpdklab
  0 siblings, 0 replies; 11+ messages in thread
From: dpdklab @ 2022-01-14 18:27 UTC (permalink / raw)
  To: Test Report; +Cc: dpdklab

[-- Attachment #1: Type: text/plain, Size: 2149 bytes --]

Test-Label: iol-aarch64-compile-testing
Test-Status: SUCCESS
http://dpdk.org/patch/105868

_Testing PASS_

Submitter: Sean Morrissey <sean.morrissey@intel.com>
Date: Friday, January 14 2022 16:24:09 
DPDK git baseline: Repo:dpdk
  Branch: master
  CommitID:6f716880ee53ac1e50c9c75dc749886e3257bb8f

105817-105868 --> testing pass

Test environment and result as below:

+----------------------------------------+--------------------+
|              Environment               | dpdk_meson_compile |
+========================================+====================+
| Ubuntu 20.04 ARM GCC Native            | PASS               |
+----------------------------------------+--------------------+
| Ubuntu 20.04 ARM SVE                   | PASS               |
+----------------------------------------+--------------------+
| Ubuntu 20.04 aarch32 GCC Cross Compile | PASS               |
+----------------------------------------+--------------------+
| Ubuntu 20.04 ARM Clang Native          | PASS               |
+----------------------------------------+--------------------+
| Ubuntu 20.04 ARM Clang Cross Compile   | PASS               |
+----------------------------------------+--------------------+
| Ubuntu 20.04 ARM GCC Cross Compile     | PASS               |
+----------------------------------------+--------------------+


Ubuntu 20.04 ARM GCC Native
	Kernel: 5.4.0-53-generic
	Compiler: gcc 9.3

Ubuntu 20.04 ARM SVE
	Kernel: 5.4.0-80-generic
	Compiler: gcc 10.3.0 (Ubuntu 10.3.0-1ubuntu1~20.04)

Ubuntu 20.04 aarch32 GCC Cross Compile
	Kernel: 5.4.0-72-generic
	Compiler: gcc 9.3.0

Ubuntu 20.04 ARM Clang Native
	Kernel: 5.4.0-53-generic
	Compiler: clang 10.0.0-4ubuntu1

Ubuntu 20.04 ARM Clang Cross Compile
	Kernel: 5.4.0-72-generic
	Compiler: clang version 10.0.0-4ubuntu1

Ubuntu 20.04 ARM GCC Cross Compile
	Kernel: 5.4.0-72-generic
	Compiler: aarch64-linux-gnu-gcc (Ubuntu 9.3.0-17ubuntu1~20.04) 9.3.0

To view detailed results, visit:
https://lab.dpdk.org/results/dashboard/patchsets/20669/

UNH-IOL DPDK Community Lab

To manage your email subscriptions, visit: 
https://lab.dpdk.org/results/dashboard/preferences/subscriptions/

^ permalink raw reply	[flat|nested] 11+ messages in thread

* |SUCCESS| pw105817-105868 [PATCH] [v4, 53/53] acl: remove unneeded header includes
@ 2022-01-14 18:21 dpdklab
  0 siblings, 0 replies; 11+ messages in thread
From: dpdklab @ 2022-01-14 18:21 UTC (permalink / raw)
  To: Test Report; +Cc: dpdk-test-reports

[-- Attachment #1: Type: text/plain, Size: 1183 bytes --]

Test-Label: iol-intel-Functional
Test-Status: SUCCESS
http://dpdk.org/patch/105868

_Functional Testing PASS_

Submitter: Sean Morrissey <sean.morrissey@intel.com>
Date: Friday, January 14 2022 16:24:09 
DPDK git baseline: Repo:dpdk
  Branch: master
  CommitID:6f716880ee53ac1e50c9c75dc749886e3257bb8f

105817-105868 --> functional testing pass

Test environment and result as below:

Ubuntu 20.04
Kernel: 4.15.0-generic
Compiler: gcc 7.4
NIC: Intel Corporation Ethernet Converged Network Adapter XL710-QDA2 40000 Mbps
Target: x86_64-native-linuxapp-gcc
Fail/Total: 0/2


Ubuntu 20.04
Kernel: 4.15.0-generic
Compiler: gcc 7.4
NIC: Intel Corporation Ethernet Converged Network Adapter 82599ES 10000 Mbps
Target: x86_64-native-linuxapp-gcc
Fail/Total: 0/2


Ubuntu 20.04 ARM
Kernel: 4.15.0-132-generic
Compiler: gcc 7.5
NIC: Arm Intel Corporation Ethernet Converged Network Adapter XL710-QDA2 40000 Mbps
Target: x86_64-native-linuxapp-gcc
Fail/Total: 0/2


To view detailed results, visit:
https://lab.dpdk.org/results/dashboard/patchsets/20669/

UNH-IOL DPDK Community Lab

To manage your email subscriptions, visit: 
https://lab.dpdk.org/results/dashboard/preferences/subscriptions/

^ permalink raw reply	[flat|nested] 11+ messages in thread

* |SUCCESS| pw105817-105868 [PATCH] [v4, 53/53] acl: remove unneeded header includes
@ 2022-01-14 18:14 dpdklab
  0 siblings, 0 replies; 11+ messages in thread
From: dpdklab @ 2022-01-14 18:14 UTC (permalink / raw)
  To: Test Report; +Cc: dpdk-test-reports

[-- Attachment #1: Type: text/plain, Size: 3865 bytes --]

Test-Label: iol-intel-Performance
Test-Status: SUCCESS
http://dpdk.org/patch/105868

_Performance Testing PASS_

Submitter: Sean Morrissey <sean.morrissey@intel.com>
Date: Friday, January 14 2022 16:24:09 
DPDK git baseline: Repo:dpdk
  Branch: master
  CommitID:6f716880ee53ac1e50c9c75dc749886e3257bb8f

105817-105868 --> performance testing pass

Test environment and result as below:

Ubuntu 20.04
Kernel: 4.15.0-generic
Compiler: gcc 7.4
NIC: Intel Corporation Ethernet Converged Network Adapter 82599ES 10000 Mbps
Target: x86_64-native-linuxapp-gcc
Fail/Total: 0/4

Detail performance results: 
+------------+---------+----------+-------------+------------------------------+
| frame_size | txd/rxd | num_cpus | num_threads |  throughput difference from  |
|            |         |          |             |           expected           |
+============+=========+==========+=============+==============================+
| 64         | 512     | 1        | 1           | -0.1%                        |
+------------+---------+----------+-------------+------------------------------+
| 64         | 2048    | 1        | 1           | 0.1%                         |
+------------+---------+----------+-------------+------------------------------+
| 64         | 512     | 1        | 2           | -0.1%                        |
+------------+---------+----------+-------------+------------------------------+
| 64         | 2048    | 1        | 2           | 0.2%                         |
+------------+---------+----------+-------------+------------------------------+

Ubuntu 20.04
Kernel: 4.15.0-generic
Compiler: gcc 7.4
NIC: Intel Corporation Ethernet Converged Network Adapter XL710-QDA2 40000 Mbps
Target: x86_64-native-linuxapp-gcc
Fail/Total: 0/4

Detail performance results: 
+------------+---------+----------+-------------+------------------------------+
| frame_size | txd/rxd | num_cpus | num_threads |  throughput difference from  |
|            |         |          |             |           expected           |
+============+=========+==========+=============+==============================+
| 64         | 512     | 1        | 1           | 0.0%                         |
+------------+---------+----------+-------------+------------------------------+
| 64         | 2048    | 1        | 1           | -0.3%                        |
+------------+---------+----------+-------------+------------------------------+
| 64         | 512     | 1        | 2           | -0.2%                        |
+------------+---------+----------+-------------+------------------------------+
| 64         | 2048    | 1        | 2           | 0.0%                         |
+------------+---------+----------+-------------+------------------------------+

Ubuntu 20.04 ARM
Kernel: 4.15.0-132-generic
Compiler: gcc 7.5
NIC: Arm Intel Corporation Ethernet Converged Network Adapter XL710-QDA2 40000 Mbps
Target: x86_64-native-linuxapp-gcc
Fail/Total: 0/2

Detail performance results: 
+------------+---------+----------+-------------+------------------------------+
| frame_size | txd/rxd | num_cpus | num_threads |  throughput difference from  |
|            |         |          |             |           expected           |
+============+=========+==========+=============+==============================+
| 64         | 512     | 1        | 1           | -0.3%                        |
+------------+---------+----------+-------------+------------------------------+
| 64         | 2048    | 1        | 1           | -0.0%                        |
+------------+---------+----------+-------------+------------------------------+

To view detailed results, visit:
https://lab.dpdk.org/results/dashboard/patchsets/20669/

UNH-IOL DPDK Community Lab

To manage your email subscriptions, visit: 
https://lab.dpdk.org/results/dashboard/preferences/subscriptions/

^ permalink raw reply	[flat|nested] 11+ messages in thread

* |SUCCESS| pw105817-105868 [PATCH] [v4, 53/53] acl: remove unneeded header includes
@ 2022-01-14 17:33 dpdklab
  0 siblings, 0 replies; 11+ messages in thread
From: dpdklab @ 2022-01-14 17:33 UTC (permalink / raw)
  To: Test Report; +Cc: dpdk-test-reports

[-- Attachment #1: Type: text/plain, Size: 984 bytes --]

Test-Label: iol-intel-Functional
Test-Status: SUCCESS
http://dpdk.org/patch/105868

_Functional Testing PASS_

Submitter: Sean Morrissey <sean.morrissey@intel.com>
Date: Friday, January 14 2022 16:24:09 
DPDK git baseline: Repo:dpdk
  Branch: master
  CommitID:6f716880ee53ac1e50c9c75dc749886e3257bb8f

105817-105868 --> functional testing pass

Test environment and result as below:

Ubuntu 20.04
Kernel: 4.15.0-generic
Compiler: gcc 7.4
NIC: Intel Corporation Ethernet Converged Network Adapter XL710-QDA2 40000 Mbps
Target: x86_64-native-linuxapp-gcc
Fail/Total: 0/2


Ubuntu 20.04
Kernel: 4.15.0-generic
Compiler: gcc 7.4
NIC: Intel Corporation Ethernet Converged Network Adapter 82599ES 10000 Mbps
Target: x86_64-native-linuxapp-gcc
Fail/Total: 0/2


To view detailed results, visit:
https://lab.dpdk.org/results/dashboard/patchsets/20669/

UNH-IOL DPDK Community Lab

To manage your email subscriptions, visit: 
https://lab.dpdk.org/results/dashboard/preferences/subscriptions/

^ permalink raw reply	[flat|nested] 11+ messages in thread

* |SUCCESS| pw105817-105868 [PATCH] [v4, 53/53] acl: remove unneeded header includes
@ 2022-01-14 17:33 dpdklab
  0 siblings, 0 replies; 11+ messages in thread
From: dpdklab @ 2022-01-14 17:33 UTC (permalink / raw)
  To: Ajit Khaparde, Test Report; +Cc: dpdk-test-reports

[-- Attachment #1: Type: text/plain, Size: 1809 bytes --]

Test-Label: iol-broadcom-Performance
Test-Status: SUCCESS
http://dpdk.org/patch/105868

_Performance Testing PASS_

Submitter: Sean Morrissey <sean.morrissey@intel.com>
Date: Friday, January 14 2022 16:24:09 
DPDK git baseline: Repo:dpdk
  Branch: master
  CommitID:6f716880ee53ac1e50c9c75dc749886e3257bb8f

105817-105868 --> performance testing pass

Test environment and result as below:

Ubuntu 20.04
Kernel: 4.15.0-65-generic
Compiler: gcc gcc (Ubuntu 7.4.0-1ubuntu1~18.04.1) 7.4.0
NIC: Broadcom Inc. brcm_57414 25000 Mbps
Target: x86_64-native-linuxapp-gcc
Fail/Total: 0/4

Detail performance results: 
+----------+-------------+---------+------------+------------------------------+
| num_cpus | num_threads | txd/rxd | frame_size |  throughput difference from  |
|          |             |         |            |           expected           |
+==========+=============+=========+============+==============================+
| 1        | 2           | 512     | 64         | -0.1%                        |
+----------+-------------+---------+------------+------------------------------+
| 1        | 2           | 2048    | 64         | -0.1%                        |
+----------+-------------+---------+------------+------------------------------+
| 1        | 1           | 512     | 64         | -0.2%                        |
+----------+-------------+---------+------------+------------------------------+
| 1        | 1           | 2048    | 64         | 0.1%                         |
+----------+-------------+---------+------------+------------------------------+

To view detailed results, visit:
https://lab.dpdk.org/results/dashboard/patchsets/20669/

UNH-IOL DPDK Community Lab

To manage your email subscriptions, visit: 
https://lab.dpdk.org/results/dashboard/preferences/subscriptions/

^ permalink raw reply	[flat|nested] 11+ messages in thread

* |SUCCESS| pw105817-105868 [PATCH] [v4, 53/53] acl: remove unneeded header includes
@ 2022-01-14 17:31 dpdklab
  0 siblings, 0 replies; 11+ messages in thread
From: dpdklab @ 2022-01-14 17:31 UTC (permalink / raw)
  To: Test Report; +Cc: dpdk-test-reports

[-- Attachment #1: Type: text/plain, Size: 2989 bytes --]

Test-Label: iol-intel-Performance
Test-Status: SUCCESS
http://dpdk.org/patch/105868

_Performance Testing PASS_

Submitter: Sean Morrissey <sean.morrissey@intel.com>
Date: Friday, January 14 2022 16:24:09 
DPDK git baseline: Repo:dpdk
  Branch: master
  CommitID:6f716880ee53ac1e50c9c75dc749886e3257bb8f

105817-105868 --> performance testing pass

Test environment and result as below:

Ubuntu 20.04
Kernel: 4.15.0-generic
Compiler: gcc 7.4
NIC: Intel Corporation Ethernet Converged Network Adapter 82599ES 10000 Mbps
Target: x86_64-native-linuxapp-gcc
Fail/Total: 0/4

Detail performance results: 
+------------+---------+----------+-------------+------------------------------+
| frame_size | txd/rxd | num_cpus | num_threads |  throughput difference from  |
|            |         |          |             |           expected           |
+============+=========+==========+=============+==============================+
| 64         | 512     | 1        | 1           | -0.1%                        |
+------------+---------+----------+-------------+------------------------------+
| 64         | 2048    | 1        | 1           | 0.1%                         |
+------------+---------+----------+-------------+------------------------------+
| 64         | 512     | 1        | 2           | -0.1%                        |
+------------+---------+----------+-------------+------------------------------+
| 64         | 2048    | 1        | 2           | 0.2%                         |
+------------+---------+----------+-------------+------------------------------+

Ubuntu 20.04
Kernel: 4.15.0-generic
Compiler: gcc 7.4
NIC: Intel Corporation Ethernet Converged Network Adapter XL710-QDA2 40000 Mbps
Target: x86_64-native-linuxapp-gcc
Fail/Total: 0/4

Detail performance results: 
+------------+---------+----------+-------------+------------------------------+
| frame_size | txd/rxd | num_cpus | num_threads |  throughput difference from  |
|            |         |          |             |           expected           |
+============+=========+==========+=============+==============================+
| 64         | 512     | 1        | 1           | 0.0%                         |
+------------+---------+----------+-------------+------------------------------+
| 64         | 2048    | 1        | 1           | -0.3%                        |
+------------+---------+----------+-------------+------------------------------+
| 64         | 512     | 1        | 2           | -0.2%                        |
+------------+---------+----------+-------------+------------------------------+
| 64         | 2048    | 1        | 2           | 0.0%                         |
+------------+---------+----------+-------------+------------------------------+

To view detailed results, visit:
https://lab.dpdk.org/results/dashboard/patchsets/20669/

UNH-IOL DPDK Community Lab

To manage your email subscriptions, visit: 
https://lab.dpdk.org/results/dashboard/preferences/subscriptions/

^ permalink raw reply	[flat|nested] 11+ messages in thread

* |SUCCESS| pw105817-105868 [PATCH] [v4, 53/53] acl: remove unneeded header includes
@ 2022-01-14 17:22 dpdklab
  0 siblings, 0 replies; 11+ messages in thread
From: dpdklab @ 2022-01-14 17:22 UTC (permalink / raw)
  To: Ali Alnubani, Test Report; +Cc: dpdk-test-reports

[-- Attachment #1: Type: text/plain, Size: 2088 bytes --]

Test-Label: iol-mellanox-Performance
Test-Status: SUCCESS
http://dpdk.org/patch/105868

_Performance Testing PASS_

Submitter: Sean Morrissey <sean.morrissey@intel.com>
Date: Friday, January 14 2022 16:24:09 
DPDK git baseline: Repo:dpdk
  Branch: master
  CommitID:6f716880ee53ac1e50c9c75dc749886e3257bb8f

105817-105868 --> performance testing pass

Test environment and result as below:

Ubuntu 20.04
Kernel: 4.15.0-generic
Compiler: gcc 7.4
NIC: Mellanox ConnectX-5 100000 Mbps
Target: x86_64-native-linuxapp-gcc
Fail/Total: 0/6

Detail performance results: 
+------------+---------+----------+-------------+------------------------------+
| frame_size | txd/rxd | num_cpus | num_threads |  throughput difference from  |
|            |         |          |             |           expected           |
+============+=========+==========+=============+==============================+
| 64         | 256     | 1        | 1           | -0.2%                        |
+------------+---------+----------+-------------+------------------------------+
| 128        | 256     | 1        | 1           | 0.2%                         |
+------------+---------+----------+-------------+------------------------------+
| 1024       | 256     | 1        | 1           | 0.2%                         |
+------------+---------+----------+-------------+------------------------------+
| 256        | 256     | 1        | 1           | -0.1%                        |
+------------+---------+----------+-------------+------------------------------+
| 1518       | 256     | 1        | 1           | -0.2%                        |
+------------+---------+----------+-------------+------------------------------+
| 512        | 256     | 1        | 1           | -0.2%                        |
+------------+---------+----------+-------------+------------------------------+

To view detailed results, visit:
https://lab.dpdk.org/results/dashboard/patchsets/20669/

UNH-IOL DPDK Community Lab

To manage your email subscriptions, visit: 
https://lab.dpdk.org/results/dashboard/preferences/subscriptions/

^ permalink raw reply	[flat|nested] 11+ messages in thread

* |SUCCESS| pw105817-105868 [PATCH] [v4, 53/53] acl: remove unneeded header includes
@ 2022-01-14 17:20 dpdklab
  0 siblings, 0 replies; 11+ messages in thread
From: dpdklab @ 2022-01-14 17:20 UTC (permalink / raw)
  To: Ajit Khaparde, Test Report; +Cc: dpdk-test-reports

[-- Attachment #1: Type: text/plain, Size: 805 bytes --]

Test-Label: iol-broadcom-Functional
Test-Status: SUCCESS
http://dpdk.org/patch/105868

_Functional Testing PASS_

Submitter: Sean Morrissey <sean.morrissey@intel.com>
Date: Friday, January 14 2022 16:24:09 
DPDK git baseline: Repo:dpdk
  Branch: master
  CommitID:6f716880ee53ac1e50c9c75dc749886e3257bb8f

105817-105868 --> functional testing pass

Test environment and result as below:

Ubuntu 20.04
Kernel: 4.15.0-65-generic
Compiler: gcc gcc (Ubuntu 7.4.0-1ubuntu1~18.04.1) 7.4.0
NIC: Broadcom Inc. brcm_57414 25000 Mbps
Target: x86_64-native-linuxapp-gcc
Fail/Total: 0/3


To view detailed results, visit:
https://lab.dpdk.org/results/dashboard/patchsets/20669/

UNH-IOL DPDK Community Lab

To manage your email subscriptions, visit: 
https://lab.dpdk.org/results/dashboard/preferences/subscriptions/

^ permalink raw reply	[flat|nested] 11+ messages in thread

* |SUCCESS| pw105817-105868 [PATCH] [v4, 53/53] acl: remove unneeded header includes
@ 2022-01-14 17:16 dpdklab
  0 siblings, 0 replies; 11+ messages in thread
From: dpdklab @ 2022-01-14 17:16 UTC (permalink / raw)
  To: Test Report; +Cc: dpdk-test-reports

[-- Attachment #1: Type: text/plain, Size: 800 bytes --]

Test-Label: iol-intel-Functional
Test-Status: SUCCESS
http://dpdk.org/patch/105868

_Functional Testing PASS_

Submitter: Sean Morrissey <sean.morrissey@intel.com>
Date: Friday, January 14 2022 16:24:09 
DPDK git baseline: Repo:dpdk
  Branch: master
  CommitID:6f716880ee53ac1e50c9c75dc749886e3257bb8f

105817-105868 --> functional testing pass

Test environment and result as below:

Ubuntu 20.04
Kernel: 4.15.0-generic
Compiler: gcc 7.4
NIC: Intel Corporation Ethernet Converged Network Adapter XL710-QDA2 40000 Mbps
Target: x86_64-native-linuxapp-gcc
Fail/Total: 0/2


To view detailed results, visit:
https://lab.dpdk.org/results/dashboard/patchsets/20669/

UNH-IOL DPDK Community Lab

To manage your email subscriptions, visit: 
https://lab.dpdk.org/results/dashboard/preferences/subscriptions/

^ permalink raw reply	[flat|nested] 11+ messages in thread

end of thread, other threads:[~2022-01-14 18:51 UTC | newest]

Thread overview: 11+ messages (download: mbox.gz / follow: Atom feed)
-- links below jump to the message on this page --
2022-01-14 17:27 |SUCCESS| pw105817-105868 [PATCH] [v4, 53/53] acl: remove unneeded header includes dpdklab
  -- strict thread matches above, loose matches on Subject: below --
2022-01-14 18:51 dpdklab
2022-01-14 18:27 dpdklab
2022-01-14 18:21 dpdklab
2022-01-14 18:14 dpdklab
2022-01-14 17:33 dpdklab
2022-01-14 17:33 dpdklab
2022-01-14 17:31 dpdklab
2022-01-14 17:22 dpdklab
2022-01-14 17:20 dpdklab
2022-01-14 17:16 dpdklab

automatic DPDK test reports

This inbox may be cloned and mirrored by anyone:

	git clone --mirror http://inbox.dpdk.org/test-report/0 test-report/git/0.git

	# If you have public-inbox 1.1+ installed, you may
	# initialize and index your mirror using the following commands:
	public-inbox-init -V2 test-report test-report/ http://inbox.dpdk.org/test-report \
		test-report@dpdk.org
	public-inbox-index test-report

Example config snippet for mirrors.
Newsgroup available over NNTP:
	nntp://inbox.dpdk.org/inbox.dpdk.test-report


AGPL code for this site: git clone https://public-inbox.org/public-inbox.git