From: dpdklab@iol.unh.edu To: Test Report <test-report@dpdk.org> Cc: dpdklab@iol.unh.edu Subject: |SUCCESS| pw105869 [PATCH] mempool: fix get objects from mempool with cache Date: Fri, 14 Jan 2022 17:48:22 +0000 (UTC) Message-ID: <20220114174822.2035B602B7@dpdk-ubuntu.dpdklab.iol.unh.edu> (raw) [-- Attachment #1: Type: text/plain, Size: 3218 bytes --] Test-Label: iol-abi-testing Test-Status: SUCCESS http://dpdk.org/patch/105869 _Testing PASS_ Submitter: Morten Brørup <mb@smartsharesystems.com> Date: Friday, January 14 2022 16:36:50 DPDK git baseline: Repo:dpdk Branch: master CommitID:6f716880ee53ac1e50c9c75dc749886e3257bb8f 105869 --> testing pass Test environment and result as below: +-----------------------------+----------+ | Environment | abi_test | +=============================+==========+ | FreeBSD 13 | PASS | +-----------------------------+----------+ | Ubuntu 18.04 | PASS | +-----------------------------+----------+ | Ubuntu 20.04 ARM GCC Native | PASS | +-----------------------------+----------+ | Fedora 34 clang | PASS | +-----------------------------+----------+ | CentOS 8 | PASS | +-----------------------------+----------+ | openSUSE Leap 15 | PASS | +-----------------------------+----------+ | RHEL8 | PASS | +-----------------------------+----------+ | Arch Linux | PASS | +-----------------------------+----------+ | Fedora 32 | PASS | +-----------------------------+----------+ | Fedora 33 | PASS | +-----------------------------+----------+ | CentOS Stream 8 | PASS | +-----------------------------+----------+ | Fedora 34 | PASS | +-----------------------------+----------+ | Fedora 31 | PASS | +-----------------------------+----------+ | RHEL 7 | PASS | +-----------------------------+----------+ | Ubuntu 20.04 | PASS | +-----------------------------+----------+ FreeBSD 13 Kernel: 13.0 Compiler: clang 11.0.1 Ubuntu 18.04 Kernel: 4.18.0-240.10.1.el8_3.x86_64 Compiler: gcc 7.5.0-3ubuntu1~18.04 Ubuntu 20.04 ARM GCC Native Kernel: 5.4.0-53-generic Compiler: gcc 9.3 Fedora 34 clang Kernel: 5.4.0-72-generic Compiler: clang 12.0.0 (Fedora 12.0.0-0.3.rc1.fc34) CentOS 8 Kernel: 4.18.0-240.10.1.el8_3.x86_64 Compiler: gcc 8.3.1 20191121 (Red Hat 8.3.1-5) openSUSE Leap 15 Kernel: 4.18.0-240.10.1.el8_3.x86_64 Compiler: gcc 7.5.0 RHEL8 Kernel: 4.18.0-240.10.1.el8_3.x86_64 Compiler: gcc 8.3.1 20191121 (Red Hat 8.3.1-5) Arch Linux Kernel: 5.4.0-73-generic Compiler: gcc 11.1.0 Fedora 32 Kernel: 4.18.0-240.10.1.el8_3.x86_64 Compiler: gcc 10.2.1 Fedora 33 Kernel: 5.4.0-72-generic Compiler: gcc 10.3.1 20210422 (Red Hat 10.3.1-1) CentOS Stream 8 Kernel: 4.18.0-240.10.1.el8_3.x86_64 Compiler: gcc 8.4.1 20200928 Fedora 34 Kernel: 5.4.0-72-generic Compiler: gcc 11.1.1 20210428 (Red Hat 11.1.1-1) Fedora 31 Kernel: 4.18.0-240.10.1.el8_3.x86_64 Compiler: gcc 9.3.1 RHEL 7 Kernel: 4.18.0-240.10.1.el8_3.x86_64 Compiler: gcc 4.8.5 20150623 (Red Hat 4.8.5-44) Ubuntu 20.04 Kernel: 4.18.0-240.10.1.el8_3.x86_64 Compiler: gcc 9.3.0-17ubuntu1~20.04 To view detailed results, visit: https://lab.dpdk.org/results/dashboard/patchsets/20670/ UNH-IOL DPDK Community Lab To manage your email subscriptions, visit: https://lab.dpdk.org/results/dashboard/preferences/subscriptions/
next reply other threads:[~2022-01-14 17:48 UTC|newest] Thread overview: 15+ messages / expand[flat|nested] mbox.gz Atom feed top 2022-01-14 17:48 dpdklab [this message] [not found] <20220114163650.94288-1-mb@smartsharesystems.com> 2022-01-14 18:39 ` 0-day Robot -- strict thread matches above, loose matches on Subject: below -- 2022-01-14 18:17 dpdklab 2022-01-14 17:55 dpdklab 2022-01-14 17:51 dpdklab 2022-01-14 17:50 dpdklab 2022-01-14 17:38 dpdklab 2022-01-14 17:19 dpdklab 2022-01-14 17:13 dpdklab 2022-01-14 17:13 dpdklab 2022-01-14 17:12 dpdklab 2022-01-14 17:06 dpdklab 2022-01-14 17:01 dpdklab 2022-01-14 16:58 dpdklab 2022-01-14 16:58 dpdklab
Reply instructions: You may reply publicly to this message via plain-text email using any one of the following methods: * Save the following mbox file, import it into your mail client, and reply-to-all from there: mbox Avoid top-posting and favor interleaved quoting: https://en.wikipedia.org/wiki/Posting_style#Interleaved_style * Reply using the --to, --cc, and --in-reply-to switches of git-send-email(1): git send-email \ --in-reply-to=20220114174822.2035B602B7@dpdk-ubuntu.dpdklab.iol.unh.edu \ --to=dpdklab@iol.unh.edu \ --cc=test-report@dpdk.org \ /path/to/YOUR_REPLY https://kernel.org/pub/software/scm/git/docs/git-send-email.html * If your mail client supports setting the In-Reply-To header via mailto: links, try the mailto: link
automatic DPDK test reports This inbox may be cloned and mirrored by anyone: git clone --mirror http://inbox.dpdk.org/test-report/0 test-report/git/0.git # If you have public-inbox 1.1+ installed, you may # initialize and index your mirror using the following commands: public-inbox-init -V2 test-report test-report/ http://inbox.dpdk.org/test-report \ test-report@dpdk.org public-inbox-index test-report Example config snippet for mirrors. Newsgroup available over NNTP: nntp://inbox.dpdk.org/inbox.dpdk.test-report AGPL code for this site: git clone https://public-inbox.org/public-inbox.git