* |SUCCESS| pw105809 [PATCH] [v2] vhost: add log for VHOST_USER_SET_VRING_BASE
@ 2022-01-14 18:33 dpdklab
  0 siblings, 0 replies; 25+ messages in thread
From: dpdklab @ 2022-01-14 18:33 UTC (permalink / raw)
  To: Test Report; +Cc: dpdk-test-reports
[-- Attachment #1: Type: text/plain, Size: 2970 bytes --]
Test-Label: iol-intel-Performance
Test-Status: SUCCESS
http://dpdk.org/patch/105809
_Performance Testing PASS_
Submitter: Andy Pei <andy.pei@intel.com>
Date: Friday, January 14 2022 07:57:07 
DPDK git baseline: Repo:dpdk
  Branch: master
  CommitID:6f716880ee53ac1e50c9c75dc749886e3257bb8f
105809 --> performance testing pass
Test environment and result as below:
Ubuntu 20.04
Kernel: 4.15.0-generic
Compiler: gcc 7.4
NIC: Intel Corporation Ethernet Converged Network Adapter XL710-QDA2 40000 Mbps
Target: x86_64-native-linuxapp-gcc
Fail/Total: 0/4
Detail performance results: 
+------------+---------+----------+-------------+------------------------------+
| frame_size | txd/rxd | num_cpus | num_threads |  throughput difference from  |
|            |         |          |             |           expected           |
+============+=========+==========+=============+==============================+
| 64         | 512     | 1        | 1           | -0.1%                        |
+------------+---------+----------+-------------+------------------------------+
| 64         | 2048    | 1        | 1           | -0.1%                        |
+------------+---------+----------+-------------+------------------------------+
| 64         | 512     | 1        | 2           | 0.4%                         |
+------------+---------+----------+-------------+------------------------------+
| 64         | 2048    | 1        | 2           | -2.5%                        |
+------------+---------+----------+-------------+------------------------------+
Ubuntu 20.04
Kernel: 4.15.0-generic
Compiler: gcc 7.4
NIC: Intel Corporation Ethernet Converged Network Adapter 82599ES 10000 Mbps
Target: x86_64-native-linuxapp-gcc
Fail/Total: 0/4
Detail performance results: 
+------------+---------+----------+-------------+------------------------------+
| frame_size | txd/rxd | num_cpus | num_threads |  throughput difference from  |
|            |         |          |             |           expected           |
+============+=========+==========+=============+==============================+
| 64         | 512     | 1        | 1           | -0.5%                        |
+------------+---------+----------+-------------+------------------------------+
| 64         | 2048    | 1        | 1           | 0.2%                         |
+------------+---------+----------+-------------+------------------------------+
| 64         | 512     | 1        | 2           | -0.0%                        |
+------------+---------+----------+-------------+------------------------------+
| 64         | 2048    | 1        | 2           | -0.1%                        |
+------------+---------+----------+-------------+------------------------------+
To view detailed results, visit:
https://lab.dpdk.org/results/dashboard/patchsets/20665/
UNH-IOL DPDK Community Lab
To manage your email subscriptions, visit: 
https://lab.dpdk.org/results/dashboard/preferences/subscriptions/
^ permalink raw reply	[flat|nested] 25+ messages in thread
* |SUCCESS| pw105809 [PATCH] [v2] vhost: add log for VHOST_USER_SET_VRING_BASE
@ 2022-01-14 22:29 dpdklab
  0 siblings, 0 replies; 25+ messages in thread
From: dpdklab @ 2022-01-14 22:29 UTC (permalink / raw)
  To: Test Report; +Cc: dpdk-test-reports
[-- Attachment #1: Type: text/plain, Size: 3206 bytes --]
Test-Label: iol-abi-testing
Test-Status: SUCCESS
http://dpdk.org/patch/105809
_Testing PASS_
Submitter: Andy Pei <andy.pei@intel.com>
Date: Friday, January 14 2022 07:57:07 
DPDK git baseline: Repo:dpdk
  Branch: master
  CommitID:6f716880ee53ac1e50c9c75dc749886e3257bb8f
105809 --> testing pass
Test environment and result as below:
+-----------------------------+----------+
|         Environment         | abi_test |
+=============================+==========+
| FreeBSD 13                  | PASS     |
+-----------------------------+----------+
| Ubuntu 20.04 ARM GCC Native | PASS     |
+-----------------------------+----------+
| Ubuntu 18.04                | PASS     |
+-----------------------------+----------+
| Fedora 34 clang             | PASS     |
+-----------------------------+----------+
| CentOS 8                    | PASS     |
+-----------------------------+----------+
| Fedora 32                   | PASS     |
+-----------------------------+----------+
| Fedora 33                   | PASS     |
+-----------------------------+----------+
| openSUSE Leap 15            | PASS     |
+-----------------------------+----------+
| Ubuntu 20.04                | PASS     |
+-----------------------------+----------+
| RHEL8                       | PASS     |
+-----------------------------+----------+
| Arch Linux                  | PASS     |
+-----------------------------+----------+
| RHEL 7                      | PASS     |
+-----------------------------+----------+
| CentOS Stream 8             | PASS     |
+-----------------------------+----------+
| Fedora 34                   | PASS     |
+-----------------------------+----------+
| Fedora 31                   | PASS     |
+-----------------------------+----------+
FreeBSD 13
	Kernel: 13.0
	Compiler: clang 11.0.1
Ubuntu 20.04 ARM GCC Native
	Kernel: 5.4.0-53-generic
	Compiler: gcc 9.3
Ubuntu 18.04
	Kernel: 4.18.0-240.10.1.el8_3.x86_64
	Compiler: gcc 7.5.0-3ubuntu1~18.04
Fedora 34 clang
	Kernel: 5.4.0-72-generic
	Compiler: clang 12.0.0 (Fedora 12.0.0-0.3.rc1.fc34)
CentOS 8
	Kernel: 4.18.0-240.10.1.el8_3.x86_64
	Compiler: gcc 8.3.1 20191121 (Red Hat 8.3.1-5)
Fedora 32
	Kernel: 4.18.0-240.10.1.el8_3.x86_64
	Compiler: gcc 10.2.1
Fedora 33
	Kernel: 5.4.0-72-generic
	Compiler: gcc 10.3.1 20210422 (Red Hat 10.3.1-1)
openSUSE Leap 15
	Kernel: 4.18.0-240.10.1.el8_3.x86_64
	Compiler: gcc 7.5.0
Ubuntu 20.04
	Kernel: 4.18.0-240.10.1.el8_3.x86_64
	Compiler: gcc 9.3.0-17ubuntu1~20.04
RHEL8
	Kernel: 4.18.0-240.10.1.el8_3.x86_64
	Compiler: gcc 8.3.1 20191121 (Red Hat 8.3.1-5)
Arch Linux
	Kernel: 5.4.0-73-generic
	Compiler: gcc 11.1.0
RHEL 7
	Kernel: 4.18.0-240.10.1.el8_3.x86_64
	Compiler: gcc 4.8.5 20150623 (Red Hat 4.8.5-44)
CentOS Stream 8
	Kernel: 4.18.0-240.10.1.el8_3.x86_64
	Compiler: gcc 8.4.1 20200928
Fedora 34
	Kernel: 5.4.0-72-generic
	Compiler: gcc 11.1.1 20210428 (Red Hat 11.1.1-1)
Fedora 31
	Kernel: 4.18.0-240.10.1.el8_3.x86_64
	Compiler: gcc 9.3.1
To view detailed results, visit:
https://lab.dpdk.org/results/dashboard/patchsets/20665/
UNH-IOL DPDK Community Lab
To manage your email subscriptions, visit: 
https://lab.dpdk.org/results/dashboard/preferences/subscriptions/
^ permalink raw reply	[flat|nested] 25+ messages in thread
* |SUCCESS| pw105809 [PATCH] [v2] vhost: add log for VHOST_USER_SET_VRING_BASE
@ 2022-01-14 21:02 dpdklab
  0 siblings, 0 replies; 25+ messages in thread
From: dpdklab @ 2022-01-14 21:02 UTC (permalink / raw)
  To: Test Report; +Cc: dpdklab
[-- Attachment #1: Type: text/plain, Size: 2130 bytes --]
Test-Label: iol-aarch64-compile-testing
Test-Status: SUCCESS
http://dpdk.org/patch/105809
_Testing PASS_
Submitter: Andy Pei <andy.pei@intel.com>
Date: Friday, January 14 2022 07:57:07 
DPDK git baseline: Repo:dpdk
  Branch: master
  CommitID:6f716880ee53ac1e50c9c75dc749886e3257bb8f
105809 --> testing pass
Test environment and result as below:
+----------------------------------------+--------------------+
|              Environment               | dpdk_meson_compile |
+========================================+====================+
| Ubuntu 20.04 ARM SVE                   | PASS               |
+----------------------------------------+--------------------+
| Ubuntu 20.04 aarch32 GCC Cross Compile | PASS               |
+----------------------------------------+--------------------+
| Ubuntu 20.04 ARM Clang Cross Compile   | PASS               |
+----------------------------------------+--------------------+
| Ubuntu 20.04 ARM GCC Cross Compile     | PASS               |
+----------------------------------------+--------------------+
| Ubuntu 20.04 ARM GCC Native            | PASS               |
+----------------------------------------+--------------------+
| Ubuntu 20.04 ARM Clang Native          | PASS               |
+----------------------------------------+--------------------+
Ubuntu 20.04 ARM SVE
	Kernel: 5.4.0-80-generic
	Compiler: gcc 10.3.0 (Ubuntu 10.3.0-1ubuntu1~20.04)
Ubuntu 20.04 aarch32 GCC Cross Compile
	Kernel: 5.4.0-72-generic
	Compiler: gcc 9.3.0
Ubuntu 20.04 ARM Clang Cross Compile
	Kernel: 5.4.0-72-generic
	Compiler: clang version 10.0.0-4ubuntu1
Ubuntu 20.04 ARM GCC Cross Compile
	Kernel: 5.4.0-72-generic
	Compiler: aarch64-linux-gnu-gcc (Ubuntu 9.3.0-17ubuntu1~20.04) 9.3.0
Ubuntu 20.04 ARM GCC Native
	Kernel: 5.4.0-53-generic
	Compiler: gcc 9.3
Ubuntu 20.04 ARM Clang Native
	Kernel: 5.4.0-53-generic
	Compiler: clang 10.0.0-4ubuntu1
To view detailed results, visit:
https://lab.dpdk.org/results/dashboard/patchsets/20665/
UNH-IOL DPDK Community Lab
To manage your email subscriptions, visit: 
https://lab.dpdk.org/results/dashboard/preferences/subscriptions/
^ permalink raw reply	[flat|nested] 25+ messages in thread
* |SUCCESS| pw105809 [PATCH] [v2] vhost: add log for VHOST_USER_SET_VRING_BASE
@ 2022-01-14 20:21 dpdklab
  0 siblings, 0 replies; 25+ messages in thread
From: dpdklab @ 2022-01-14 20:21 UTC (permalink / raw)
  To: Test Report; +Cc: dpdk-test-reports
[-- Attachment #1: Type: text/plain, Size: 3846 bytes --]
Test-Label: iol-intel-Performance
Test-Status: SUCCESS
http://dpdk.org/patch/105809
_Performance Testing PASS_
Submitter: Andy Pei <andy.pei@intel.com>
Date: Friday, January 14 2022 07:57:07 
DPDK git baseline: Repo:dpdk
  Branch: master
  CommitID:6f716880ee53ac1e50c9c75dc749886e3257bb8f
105809 --> performance testing pass
Test environment and result as below:
Ubuntu 20.04
Kernel: 4.15.0-generic
Compiler: gcc 7.4
NIC: Intel Corporation Ethernet Converged Network Adapter XL710-QDA2 40000 Mbps
Target: x86_64-native-linuxapp-gcc
Fail/Total: 0/4
Detail performance results: 
+------------+---------+----------+-------------+------------------------------+
| frame_size | txd/rxd | num_cpus | num_threads |  throughput difference from  |
|            |         |          |             |           expected           |
+============+=========+==========+=============+==============================+
| 64         | 512     | 1        | 1           | 0.0%                         |
+------------+---------+----------+-------------+------------------------------+
| 64         | 2048    | 1        | 1           | -0.7%                        |
+------------+---------+----------+-------------+------------------------------+
| 64         | 512     | 1        | 2           | -0.2%                        |
+------------+---------+----------+-------------+------------------------------+
| 64         | 2048    | 1        | 2           | 0.9%                         |
+------------+---------+----------+-------------+------------------------------+
Ubuntu 20.04
Kernel: 4.15.0-generic
Compiler: gcc 7.4
NIC: Intel Corporation Ethernet Converged Network Adapter 82599ES 10000 Mbps
Target: x86_64-native-linuxapp-gcc
Fail/Total: 0/4
Detail performance results: 
+------------+---------+----------+-------------+------------------------------+
| frame_size | txd/rxd | num_cpus | num_threads |  throughput difference from  |
|            |         |          |             |           expected           |
+============+=========+==========+=============+==============================+
| 64         | 512     | 1        | 1           | -0.5%                        |
+------------+---------+----------+-------------+------------------------------+
| 64         | 2048    | 1        | 1           | 0.0%                         |
+------------+---------+----------+-------------+------------------------------+
| 64         | 512     | 1        | 2           | 0.0%                         |
+------------+---------+----------+-------------+------------------------------+
| 64         | 2048    | 1        | 2           | 0.1%                         |
+------------+---------+----------+-------------+------------------------------+
Ubuntu 20.04 ARM
Kernel: 4.15.0-132-generic
Compiler: gcc 7.5
NIC: Arm Intel Corporation Ethernet Converged Network Adapter XL710-QDA2 40000 Mbps
Target: x86_64-native-linuxapp-gcc
Fail/Total: 0/2
Detail performance results: 
+------------+---------+----------+-------------+------------------------------+
| frame_size | txd/rxd | num_cpus | num_threads |  throughput difference from  |
|            |         |          |             |           expected           |
+============+=========+==========+=============+==============================+
| 64         | 512     | 1        | 1           | 0.9%                         |
+------------+---------+----------+-------------+------------------------------+
| 64         | 2048    | 1        | 1           | -1.4%                        |
+------------+---------+----------+-------------+------------------------------+
To view detailed results, visit:
https://lab.dpdk.org/results/dashboard/patchsets/20665/
UNH-IOL DPDK Community Lab
To manage your email subscriptions, visit: 
https://lab.dpdk.org/results/dashboard/preferences/subscriptions/
^ permalink raw reply	[flat|nested] 25+ messages in thread
* |SUCCESS| pw105809 [PATCH] [v2] vhost: add log for VHOST_USER_SET_VRING_BASE
@ 2022-01-14 20:12 dpdklab
  0 siblings, 0 replies; 25+ messages in thread
From: dpdklab @ 2022-01-14 20:12 UTC (permalink / raw)
  To: Test Report; +Cc: dpdk-test-reports
[-- Attachment #1: Type: text/plain, Size: 1437 bytes --]
Test-Label: iol-aarch64-unit-testing
Test-Status: SUCCESS
http://dpdk.org/patch/105809
_Testing PASS_
Submitter: Andy Pei <andy.pei@intel.com>
Date: Friday, January 14 2022 07:57:07 
DPDK git baseline: Repo:dpdk
  Branch: master
  CommitID:6f716880ee53ac1e50c9c75dc749886e3257bb8f
105809 --> testing pass
Test environment and result as below:
+-------------------------------+--------------+----------------+
|          Environment          | lpm_autotest | dpdk_unit_test |
+===============================+==============+================+
| Ubuntu 20.04 ARM SVE          | PASS         | SKIPPED        |
+-------------------------------+--------------+----------------+
| Ubuntu 20.04 ARM Clang Native | SKIPPED      | PASS           |
+-------------------------------+--------------+----------------+
| Ubuntu 20.04 ARM GCC Native   | SKIPPED      | PASS           |
+-------------------------------+--------------+----------------+
Ubuntu 20.04 ARM SVE
	Kernel: 5.4.0-80-generic
	Compiler: gcc 10.3.0 (Ubuntu 10.3.0-1ubuntu1~20.04)
Ubuntu 20.04 ARM Clang Native
	Kernel: 5.4.0-53-generic
	Compiler: clang 10.0.0-4ubuntu1
Ubuntu 20.04 ARM GCC Native
	Kernel: 5.4.0-53-generic
	Compiler: gcc 9.3
To view detailed results, visit:
https://lab.dpdk.org/results/dashboard/patchsets/20665/
UNH-IOL DPDK Community Lab
To manage your email subscriptions, visit: 
https://lab.dpdk.org/results/dashboard/preferences/subscriptions/
^ permalink raw reply	[flat|nested] 25+ messages in thread
* |SUCCESS| pw105809 [PATCH] [v2] vhost: add log for VHOST_USER_SET_VRING_BASE
@ 2022-01-14 20:07 dpdklab
  0 siblings, 0 replies; 25+ messages in thread
From: dpdklab @ 2022-01-14 20:07 UTC (permalink / raw)
  To: Test Report; +Cc: dpdk-test-reports
[-- Attachment #1: Type: text/plain, Size: 1164 bytes --]
Test-Label: iol-intel-Functional
Test-Status: SUCCESS
http://dpdk.org/patch/105809
_Functional Testing PASS_
Submitter: Andy Pei <andy.pei@intel.com>
Date: Friday, January 14 2022 07:57:07 
DPDK git baseline: Repo:dpdk
  Branch: master
  CommitID:6f716880ee53ac1e50c9c75dc749886e3257bb8f
105809 --> functional testing pass
Test environment and result as below:
Ubuntu 20.04
Kernel: 4.15.0-generic
Compiler: gcc 7.4
NIC: Intel Corporation Ethernet Converged Network Adapter 82599ES 10000 Mbps
Target: x86_64-native-linuxapp-gcc
Fail/Total: 0/2
Ubuntu 20.04
Kernel: 4.15.0-generic
Compiler: gcc 7.4
NIC: Intel Corporation Ethernet Converged Network Adapter XL710-QDA2 40000 Mbps
Target: x86_64-native-linuxapp-gcc
Fail/Total: 0/2
Ubuntu 20.04 ARM
Kernel: 4.15.0-132-generic
Compiler: gcc 7.5
NIC: Arm Intel Corporation Ethernet Converged Network Adapter XL710-QDA2 40000 Mbps
Target: x86_64-native-linuxapp-gcc
Fail/Total: 0/2
To view detailed results, visit:
https://lab.dpdk.org/results/dashboard/patchsets/20665/
UNH-IOL DPDK Community Lab
To manage your email subscriptions, visit: 
https://lab.dpdk.org/results/dashboard/preferences/subscriptions/
^ permalink raw reply	[flat|nested] 25+ messages in thread
* |SUCCESS| pw105809 [PATCH] [v2] vhost: add log for VHOST_USER_SET_VRING_BASE
@ 2022-01-14 20:01 dpdklab
  0 siblings, 0 replies; 25+ messages in thread
From: dpdklab @ 2022-01-14 20:01 UTC (permalink / raw)
  To: Test Report; +Cc: dpdk-test-reports
[-- Attachment #1: Type: text/plain, Size: 4275 bytes --]
Test-Label: iol-x86_64-compile-testing
Test-Status: SUCCESS
http://dpdk.org/patch/105809
_Testing PASS_
Submitter: Andy Pei <andy.pei@intel.com>
Date: Friday, January 14 2022 07:57:07 
DPDK git baseline: Repo:dpdk
  Branch: master
  CommitID:6f716880ee53ac1e50c9c75dc749886e3257bb8f
105809 --> testing pass
Test environment and result as below:
+---------------------+--------------------+----------------------+
|     Environment     | dpdk_meson_compile | dpdk_mingw64_compile |
+=====================+====================+======================+
| FreeBSD 13          | PASS               | SKIPPED              |
+---------------------+--------------------+----------------------+
| Windows Server 2019 | PASS               | PASS                 |
+---------------------+--------------------+----------------------+
| openSUSE Leap 15    | PASS               | SKIPPED              |
+---------------------+--------------------+----------------------+
| Ubuntu 18.04        | PASS               | SKIPPED              |
+---------------------+--------------------+----------------------+
| CentOS 8            | PASS               | SKIPPED              |
+---------------------+--------------------+----------------------+
| CentOS Stream 8     | PASS               | SKIPPED              |
+---------------------+--------------------+----------------------+
| Ubuntu 20.04        | PASS               | SKIPPED              |
+---------------------+--------------------+----------------------+
| Fedora 31           | PASS               | SKIPPED              |
+---------------------+--------------------+----------------------+
| RHEL 7              | PASS               | SKIPPED              |
+---------------------+--------------------+----------------------+
| RHEL8               | PASS               | SKIPPED              |
+---------------------+--------------------+----------------------+
| Fedora 34           | PASS               | SKIPPED              |
+---------------------+--------------------+----------------------+
| Arch Linux          | PASS               | SKIPPED              |
+---------------------+--------------------+----------------------+
| Alpine              | PASS               | SKIPPED              |
+---------------------+--------------------+----------------------+
| Fedora 33           | PASS               | SKIPPED              |
+---------------------+--------------------+----------------------+
| Fedora 32           | PASS               | SKIPPED              |
+---------------------+--------------------+----------------------+
| Fedora 34 clang     | PASS               | SKIPPED              |
+---------------------+--------------------+----------------------+
FreeBSD 13
	Kernel: 13.0
	Compiler: clang 11.0.1
Windows Server 2019
	Kernel: 10.0
	Compiler: clang 9.0 and gcc 8.1.0 (MinGW)
openSUSE Leap 15
	Kernel: 4.18.0-240.10.1.el8_3.x86_64
	Compiler: gcc 7.5.0
Ubuntu 18.04
	Kernel: 4.18.0-240.10.1.el8_3.x86_64
	Compiler: gcc 7.5.0-3ubuntu1~18.04
CentOS 8
	Kernel: 4.18.0-240.10.1.el8_3.x86_64
	Compiler: gcc 8.3.1 20191121 (Red Hat 8.3.1-5)
CentOS Stream 8
	Kernel: 4.18.0-240.10.1.el8_3.x86_64
	Compiler: gcc 8.4.1 20200928
Ubuntu 20.04
	Kernel: 4.18.0-240.10.1.el8_3.x86_64
	Compiler: gcc 9.3.0-17ubuntu1~20.04
Fedora 31
	Kernel: 4.18.0-240.10.1.el8_3.x86_64
	Compiler: gcc 9.3.1
RHEL 7
	Kernel: 4.18.0-240.10.1.el8_3.x86_64
	Compiler: gcc 4.8.5 20150623 (Red Hat 4.8.5-44)
RHEL8
	Kernel: 4.18.0-240.10.1.el8_3.x86_64
	Compiler: gcc 8.3.1 20191121 (Red Hat 8.3.1-5)
Fedora 34
	Kernel: 5.4.0-72-generic
	Compiler: gcc 11.1.1 20210428 (Red Hat 11.1.1-1)
Arch Linux
	Kernel: 5.4.0-73-generic
	Compiler: gcc 11.1.0
Alpine
	Kernel: 5.4.0-73-generic
	Compiler: gcc (Alpine 10.3.1_git20210424) 10.3.1 20210424
Fedora 33
	Kernel: 5.4.0-72-generic
	Compiler: gcc 10.3.1 20210422 (Red Hat 10.3.1-1)
Fedora 32
	Kernel: 4.18.0-240.10.1.el8_3.x86_64
	Compiler: gcc 10.2.1
Fedora 34 clang
	Kernel: 5.4.0-72-generic
	Compiler: clang 12.0.0 (Fedora 12.0.0-0.3.rc1.fc34)
To view detailed results, visit:
https://lab.dpdk.org/results/dashboard/patchsets/20665/
UNH-IOL DPDK Community Lab
To manage your email subscriptions, visit: 
https://lab.dpdk.org/results/dashboard/preferences/subscriptions/
^ permalink raw reply	[flat|nested] 25+ messages in thread
* |SUCCESS| pw105809 [PATCH] [v2] vhost: add log for VHOST_USER_SET_VRING_BASE
@ 2022-01-14 19:54 dpdklab
  0 siblings, 0 replies; 25+ messages in thread
From: dpdklab @ 2022-01-14 19:54 UTC (permalink / raw)
  To: Test Report; +Cc: dpdk-test-reports
[-- Attachment #1: Type: text/plain, Size: 3846 bytes --]
Test-Label: iol-intel-Performance
Test-Status: SUCCESS
http://dpdk.org/patch/105809
_Performance Testing PASS_
Submitter: Andy Pei <andy.pei@intel.com>
Date: Friday, January 14 2022 07:57:07 
DPDK git baseline: Repo:dpdk
  Branch: master
  CommitID:6f716880ee53ac1e50c9c75dc749886e3257bb8f
105809 --> performance testing pass
Test environment and result as below:
Ubuntu 20.04
Kernel: 4.15.0-generic
Compiler: gcc 7.4
NIC: Intel Corporation Ethernet Converged Network Adapter XL710-QDA2 40000 Mbps
Target: x86_64-native-linuxapp-gcc
Fail/Total: 0/4
Detail performance results: 
+------------+---------+----------+-------------+------------------------------+
| frame_size | txd/rxd | num_cpus | num_threads |  throughput difference from  |
|            |         |          |             |           expected           |
+============+=========+==========+=============+==============================+
| 64         | 512     | 1        | 1           | 0.0%                         |
+------------+---------+----------+-------------+------------------------------+
| 64         | 2048    | 1        | 1           | -0.7%                        |
+------------+---------+----------+-------------+------------------------------+
| 64         | 512     | 1        | 2           | -0.2%                        |
+------------+---------+----------+-------------+------------------------------+
| 64         | 2048    | 1        | 2           | 0.9%                         |
+------------+---------+----------+-------------+------------------------------+
Ubuntu 20.04
Kernel: 4.15.0-generic
Compiler: gcc 7.4
NIC: Intel Corporation Ethernet Converged Network Adapter 82599ES 10000 Mbps
Target: x86_64-native-linuxapp-gcc
Fail/Total: 0/4
Detail performance results: 
+------------+---------+----------+-------------+------------------------------+
| frame_size | txd/rxd | num_cpus | num_threads |  throughput difference from  |
|            |         |          |             |           expected           |
+============+=========+==========+=============+==============================+
| 64         | 512     | 1        | 1           | -0.5%                        |
+------------+---------+----------+-------------+------------------------------+
| 64         | 2048    | 1        | 1           | 0.0%                         |
+------------+---------+----------+-------------+------------------------------+
| 64         | 512     | 1        | 2           | 0.0%                         |
+------------+---------+----------+-------------+------------------------------+
| 64         | 2048    | 1        | 2           | 0.1%                         |
+------------+---------+----------+-------------+------------------------------+
Ubuntu 20.04 ARM
Kernel: 4.15.0-132-generic
Compiler: gcc 7.5
NIC: Arm Intel Corporation Ethernet Converged Network Adapter XL710-QDA2 40000 Mbps
Target: x86_64-native-linuxapp-gcc
Fail/Total: 0/2
Detail performance results: 
+------------+---------+----------+-------------+------------------------------+
| frame_size | txd/rxd | num_cpus | num_threads |  throughput difference from  |
|            |         |          |             |           expected           |
+============+=========+==========+=============+==============================+
| 64         | 512     | 1        | 1           | 0.7%                         |
+------------+---------+----------+-------------+------------------------------+
| 64         | 2048    | 1        | 1           | 1.1%                         |
+------------+---------+----------+-------------+------------------------------+
To view detailed results, visit:
https://lab.dpdk.org/results/dashboard/patchsets/20665/
UNH-IOL DPDK Community Lab
To manage your email subscriptions, visit: 
https://lab.dpdk.org/results/dashboard/preferences/subscriptions/
^ permalink raw reply	[flat|nested] 25+ messages in thread
* |SUCCESS| pw105809 [PATCH] [v2] vhost: add log for VHOST_USER_SET_VRING_BASE
@ 2022-01-14 19:48 dpdklab
  0 siblings, 0 replies; 25+ messages in thread
From: dpdklab @ 2022-01-14 19:48 UTC (permalink / raw)
  To: Test Report; +Cc: dpdklab
[-- Attachment #1: Type: text/plain, Size: 2773 bytes --]
Test-Label: iol-x86_64-unit-testing
Test-Status: SUCCESS
http://dpdk.org/patch/105809
_Testing PASS_
Submitter: Andy Pei <andy.pei@intel.com>
Date: Friday, January 14 2022 07:57:07 
DPDK git baseline: Repo:dpdk
  Branch: master
  CommitID:6f716880ee53ac1e50c9c75dc749886e3257bb8f
105809 --> testing pass
Test environment and result as below:
+------------------+----------------+
|   Environment    | dpdk_unit_test |
+==================+================+
| CentOS 8         | PASS           |
+------------------+----------------+
| openSUSE Leap 15 | PASS           |
+------------------+----------------+
| Fedora 33        | PASS           |
+------------------+----------------+
| Ubuntu 20.04     | PASS           |
+------------------+----------------+
| Fedora 31        | PASS           |
+------------------+----------------+
| RHEL8            | PASS           |
+------------------+----------------+
| CentOS Stream 8  | PASS           |
+------------------+----------------+
| RHEL 7           | PASS           |
+------------------+----------------+
| Fedora 32        | PASS           |
+------------------+----------------+
| Ubuntu 18.04     | PASS           |
+------------------+----------------+
| Arch Linux       | PASS           |
+------------------+----------------+
| Fedora 34        | PASS           |
+------------------+----------------+
| Fedora 34 clang  | PASS           |
+------------------+----------------+
CentOS 8
	Kernel: 4.18.0-240.10.1.el8_3.x86_64
	Compiler: gcc 8.3.1 20191121 (Red Hat 8.3.1-5)
openSUSE Leap 15
	Kernel: 4.18.0-240.10.1.el8_3.x86_64
	Compiler: gcc 7.5.0
Fedora 33
	Kernel: 5.4.0-72-generic
	Compiler: gcc 10.3.1 20210422 (Red Hat 10.3.1-1)
Ubuntu 20.04
	Kernel: 4.18.0-240.10.1.el8_3.x86_64
	Compiler: gcc 9.3.0-17ubuntu1~20.04
Fedora 31
	Kernel: 4.18.0-240.10.1.el8_3.x86_64
	Compiler: gcc 9.3.1
RHEL8
	Kernel: 4.18.0-240.10.1.el8_3.x86_64
	Compiler: gcc 8.3.1 20191121 (Red Hat 8.3.1-5)
CentOS Stream 8
	Kernel: 4.18.0-240.10.1.el8_3.x86_64
	Compiler: gcc 8.4.1 20200928
RHEL 7
	Kernel: 4.18.0-240.10.1.el8_3.x86_64
	Compiler: gcc 4.8.5 20150623 (Red Hat 4.8.5-44)
Fedora 32
	Kernel: 4.18.0-240.10.1.el8_3.x86_64
	Compiler: gcc 10.2.1
Ubuntu 18.04
	Kernel: 4.18.0-240.10.1.el8_3.x86_64
	Compiler: gcc 7.5.0-3ubuntu1~18.04
Arch Linux
	Kernel: 5.4.0-73-generic
	Compiler: gcc 11.1.0
Fedora 34
	Kernel: 5.4.0-72-generic
	Compiler: gcc 11.1.1 20210428 (Red Hat 11.1.1-1)
Fedora 34 clang
	Kernel: 5.4.0-72-generic
	Compiler: clang 12.0.0 (Fedora 12.0.0-0.3.rc1.fc34)
To view detailed results, visit:
https://lab.dpdk.org/results/dashboard/patchsets/20665/
UNH-IOL DPDK Community Lab
To manage your email subscriptions, visit: 
https://lab.dpdk.org/results/dashboard/preferences/subscriptions/
^ permalink raw reply	[flat|nested] 25+ messages in thread
* |SUCCESS| pw105809 [PATCH] [v2] vhost: add log for VHOST_USER_SET_VRING_BASE
@ 2022-01-14 19:39 dpdklab
  0 siblings, 0 replies; 25+ messages in thread
From: dpdklab @ 2022-01-14 19:39 UTC (permalink / raw)
  To: Test Report; +Cc: dpdk-test-reports
[-- Attachment #1: Type: text/plain, Size: 1164 bytes --]
Test-Label: iol-intel-Functional
Test-Status: SUCCESS
http://dpdk.org/patch/105809
_Functional Testing PASS_
Submitter: Andy Pei <andy.pei@intel.com>
Date: Friday, January 14 2022 07:57:07 
DPDK git baseline: Repo:dpdk
  Branch: master
  CommitID:6f716880ee53ac1e50c9c75dc749886e3257bb8f
105809 --> functional testing pass
Test environment and result as below:
Ubuntu 20.04
Kernel: 4.15.0-generic
Compiler: gcc 7.4
NIC: Intel Corporation Ethernet Converged Network Adapter 82599ES 10000 Mbps
Target: x86_64-native-linuxapp-gcc
Fail/Total: 0/2
Ubuntu 20.04
Kernel: 4.15.0-generic
Compiler: gcc 7.4
NIC: Intel Corporation Ethernet Converged Network Adapter XL710-QDA2 40000 Mbps
Target: x86_64-native-linuxapp-gcc
Fail/Total: 0/2
Ubuntu 20.04 ARM
Kernel: 4.15.0-132-generic
Compiler: gcc 7.5
NIC: Arm Intel Corporation Ethernet Converged Network Adapter XL710-QDA2 40000 Mbps
Target: x86_64-native-linuxapp-gcc
Fail/Total: 0/2
To view detailed results, visit:
https://lab.dpdk.org/results/dashboard/patchsets/20665/
UNH-IOL DPDK Community Lab
To manage your email subscriptions, visit: 
https://lab.dpdk.org/results/dashboard/preferences/subscriptions/
^ permalink raw reply	[flat|nested] 25+ messages in thread
* |SUCCESS| pw105809 [PATCH] [v2] vhost: add log for VHOST_USER_SET_VRING_BASE
@ 2022-01-14 18:52 dpdklab
  0 siblings, 0 replies; 25+ messages in thread
From: dpdklab @ 2022-01-14 18:52 UTC (permalink / raw)
  To: Test Report; +Cc: dpdk-test-reports
[-- Attachment #1: Type: text/plain, Size: 965 bytes --]
Test-Label: iol-intel-Functional
Test-Status: SUCCESS
http://dpdk.org/patch/105809
_Functional Testing PASS_
Submitter: Andy Pei <andy.pei@intel.com>
Date: Friday, January 14 2022 07:57:07 
DPDK git baseline: Repo:dpdk
  Branch: master
  CommitID:6f716880ee53ac1e50c9c75dc749886e3257bb8f
105809 --> functional testing pass
Test environment and result as below:
Ubuntu 20.04
Kernel: 4.15.0-generic
Compiler: gcc 7.4
NIC: Intel Corporation Ethernet Converged Network Adapter 82599ES 10000 Mbps
Target: x86_64-native-linuxapp-gcc
Fail/Total: 0/2
Ubuntu 20.04
Kernel: 4.15.0-generic
Compiler: gcc 7.4
NIC: Intel Corporation Ethernet Converged Network Adapter XL710-QDA2 40000 Mbps
Target: x86_64-native-linuxapp-gcc
Fail/Total: 0/2
To view detailed results, visit:
https://lab.dpdk.org/results/dashboard/patchsets/20665/
UNH-IOL DPDK Community Lab
To manage your email subscriptions, visit: 
https://lab.dpdk.org/results/dashboard/preferences/subscriptions/
^ permalink raw reply	[flat|nested] 25+ messages in thread
* |SUCCESS| pw105809 [PATCH] [v2] vhost: add log for VHOST_USER_SET_VRING_BASE
@ 2022-01-14 18:49 dpdklab
  0 siblings, 0 replies; 25+ messages in thread
From: dpdklab @ 2022-01-14 18:49 UTC (permalink / raw)
  To: Ajit Khaparde, Test Report; +Cc: dpdk-test-reports
[-- Attachment #1: Type: text/plain, Size: 1790 bytes --]
Test-Label: iol-broadcom-Performance
Test-Status: SUCCESS
http://dpdk.org/patch/105809
_Performance Testing PASS_
Submitter: Andy Pei <andy.pei@intel.com>
Date: Friday, January 14 2022 07:57:07 
DPDK git baseline: Repo:dpdk
  Branch: master
  CommitID:6f716880ee53ac1e50c9c75dc749886e3257bb8f
105809 --> performance testing pass
Test environment and result as below:
Ubuntu 20.04
Kernel: 4.15.0-65-generic
Compiler: gcc gcc (Ubuntu 7.4.0-1ubuntu1~18.04.1) 7.4.0
NIC: Broadcom Inc. brcm_57414 25000 Mbps
Target: x86_64-native-linuxapp-gcc
Fail/Total: 0/4
Detail performance results: 
+----------+-------------+---------+------------+------------------------------+
| num_cpus | num_threads | txd/rxd | frame_size |  throughput difference from  |
|          |             |         |            |           expected           |
+==========+=============+=========+============+==============================+
| 1        | 2           | 512     | 64         | -0.2%                        |
+----------+-------------+---------+------------+------------------------------+
| 1        | 2           | 2048    | 64         | 0.0%                         |
+----------+-------------+---------+------------+------------------------------+
| 1        | 1           | 512     | 64         | -0.1%                        |
+----------+-------------+---------+------------+------------------------------+
| 1        | 1           | 2048    | 64         | 0.2%                         |
+----------+-------------+---------+------------+------------------------------+
To view detailed results, visit:
https://lab.dpdk.org/results/dashboard/patchsets/20665/
UNH-IOL DPDK Community Lab
To manage your email subscriptions, visit: 
https://lab.dpdk.org/results/dashboard/preferences/subscriptions/
^ permalink raw reply	[flat|nested] 25+ messages in thread
* |SUCCESS| pw105809 [PATCH] [v2] vhost: add log for VHOST_USER_SET_VRING_BASE
@ 2022-01-14 18:48 dpdklab
  0 siblings, 0 replies; 25+ messages in thread
From: dpdklab @ 2022-01-14 18:48 UTC (permalink / raw)
  To: Test Report; +Cc: dpdk-test-reports
[-- Attachment #1: Type: text/plain, Size: 2970 bytes --]
Test-Label: iol-intel-Performance
Test-Status: SUCCESS
http://dpdk.org/patch/105809
_Performance Testing PASS_
Submitter: Andy Pei <andy.pei@intel.com>
Date: Friday, January 14 2022 07:57:07 
DPDK git baseline: Repo:dpdk
  Branch: master
  CommitID:6f716880ee53ac1e50c9c75dc749886e3257bb8f
105809 --> performance testing pass
Test environment and result as below:
Ubuntu 20.04
Kernel: 4.15.0-generic
Compiler: gcc 7.4
NIC: Intel Corporation Ethernet Converged Network Adapter XL710-QDA2 40000 Mbps
Target: x86_64-native-linuxapp-gcc
Fail/Total: 0/4
Detail performance results: 
+------------+---------+----------+-------------+------------------------------+
| frame_size | txd/rxd | num_cpus | num_threads |  throughput difference from  |
|            |         |          |             |           expected           |
+============+=========+==========+=============+==============================+
| 64         | 512     | 1        | 1           | 0.0%                         |
+------------+---------+----------+-------------+------------------------------+
| 64         | 2048    | 1        | 1           | -0.7%                        |
+------------+---------+----------+-------------+------------------------------+
| 64         | 512     | 1        | 2           | -0.2%                        |
+------------+---------+----------+-------------+------------------------------+
| 64         | 2048    | 1        | 2           | 0.9%                         |
+------------+---------+----------+-------------+------------------------------+
Ubuntu 20.04
Kernel: 4.15.0-generic
Compiler: gcc 7.4
NIC: Intel Corporation Ethernet Converged Network Adapter 82599ES 10000 Mbps
Target: x86_64-native-linuxapp-gcc
Fail/Total: 0/4
Detail performance results: 
+------------+---------+----------+-------------+------------------------------+
| frame_size | txd/rxd | num_cpus | num_threads |  throughput difference from  |
|            |         |          |             |           expected           |
+============+=========+==========+=============+==============================+
| 64         | 512     | 1        | 1           | -0.5%                        |
+------------+---------+----------+-------------+------------------------------+
| 64         | 2048    | 1        | 1           | 0.0%                         |
+------------+---------+----------+-------------+------------------------------+
| 64         | 512     | 1        | 2           | 0.0%                         |
+------------+---------+----------+-------------+------------------------------+
| 64         | 2048    | 1        | 2           | 0.1%                         |
+------------+---------+----------+-------------+------------------------------+
To view detailed results, visit:
https://lab.dpdk.org/results/dashboard/patchsets/20665/
UNH-IOL DPDK Community Lab
To manage your email subscriptions, visit: 
https://lab.dpdk.org/results/dashboard/preferences/subscriptions/
^ permalink raw reply	[flat|nested] 25+ messages in thread
* |SUCCESS| pw105809 [PATCH] [v2] vhost: add log for VHOST_USER_SET_VRING_BASE
@ 2022-01-14 18:43 dpdklab
  0 siblings, 0 replies; 25+ messages in thread
From: dpdklab @ 2022-01-14 18:43 UTC (permalink / raw)
  To: Test Report; +Cc: dpdk-test-reports
[-- Attachment #1: Type: text/plain, Size: 965 bytes --]
Test-Label: iol-intel-Functional
Test-Status: SUCCESS
http://dpdk.org/patch/105809
_Functional Testing PASS_
Submitter: Andy Pei <andy.pei@intel.com>
Date: Friday, January 14 2022 07:57:07 
DPDK git baseline: Repo:dpdk
  Branch: master
  CommitID:6f716880ee53ac1e50c9c75dc749886e3257bb8f
105809 --> functional testing pass
Test environment and result as below:
Ubuntu 20.04
Kernel: 4.15.0-generic
Compiler: gcc 7.4
NIC: Intel Corporation Ethernet Converged Network Adapter 82599ES 10000 Mbps
Target: x86_64-native-linuxapp-gcc
Fail/Total: 0/2
Ubuntu 20.04
Kernel: 4.15.0-generic
Compiler: gcc 7.4
NIC: Intel Corporation Ethernet Converged Network Adapter XL710-QDA2 40000 Mbps
Target: x86_64-native-linuxapp-gcc
Fail/Total: 0/2
To view detailed results, visit:
https://lab.dpdk.org/results/dashboard/patchsets/20665/
UNH-IOL DPDK Community Lab
To manage your email subscriptions, visit: 
https://lab.dpdk.org/results/dashboard/preferences/subscriptions/
^ permalink raw reply	[flat|nested] 25+ messages in thread
* |SUCCESS| pw105809 [PATCH] [v2] vhost: add log for VHOST_USER_SET_VRING_BASE
@ 2022-01-14 18:39 dpdklab
  0 siblings, 0 replies; 25+ messages in thread
From: dpdklab @ 2022-01-14 18:39 UTC (permalink / raw)
  To: Test Report; +Cc: dpdk-test-reports
[-- Attachment #1: Type: text/plain, Size: 2970 bytes --]
Test-Label: iol-intel-Performance
Test-Status: SUCCESS
http://dpdk.org/patch/105809
_Performance Testing PASS_
Submitter: Andy Pei <andy.pei@intel.com>
Date: Friday, January 14 2022 07:57:07 
DPDK git baseline: Repo:dpdk
  Branch: master
  CommitID:6f716880ee53ac1e50c9c75dc749886e3257bb8f
105809 --> performance testing pass
Test environment and result as below:
Ubuntu 20.04
Kernel: 4.15.0-generic
Compiler: gcc 7.4
NIC: Intel Corporation Ethernet Converged Network Adapter XL710-QDA2 40000 Mbps
Target: x86_64-native-linuxapp-gcc
Fail/Total: 0/4
Detail performance results: 
+------------+---------+----------+-------------+------------------------------+
| frame_size | txd/rxd | num_cpus | num_threads |  throughput difference from  |
|            |         |          |             |           expected           |
+============+=========+==========+=============+==============================+
| 64         | 512     | 1        | 1           | 0.0%                         |
+------------+---------+----------+-------------+------------------------------+
| 64         | 2048    | 1        | 1           | -0.7%                        |
+------------+---------+----------+-------------+------------------------------+
| 64         | 512     | 1        | 2           | -0.2%                        |
+------------+---------+----------+-------------+------------------------------+
| 64         | 2048    | 1        | 2           | 0.9%                         |
+------------+---------+----------+-------------+------------------------------+
Ubuntu 20.04
Kernel: 4.15.0-generic
Compiler: gcc 7.4
NIC: Intel Corporation Ethernet Converged Network Adapter 82599ES 10000 Mbps
Target: x86_64-native-linuxapp-gcc
Fail/Total: 0/4
Detail performance results: 
+------------+---------+----------+-------------+------------------------------+
| frame_size | txd/rxd | num_cpus | num_threads |  throughput difference from  |
|            |         |          |             |           expected           |
+============+=========+==========+=============+==============================+
| 64         | 512     | 1        | 1           | -0.5%                        |
+------------+---------+----------+-------------+------------------------------+
| 64         | 2048    | 1        | 1           | 0.2%                         |
+------------+---------+----------+-------------+------------------------------+
| 64         | 512     | 1        | 2           | -0.0%                        |
+------------+---------+----------+-------------+------------------------------+
| 64         | 2048    | 1        | 2           | -0.1%                        |
+------------+---------+----------+-------------+------------------------------+
To view detailed results, visit:
https://lab.dpdk.org/results/dashboard/patchsets/20665/
UNH-IOL DPDK Community Lab
To manage your email subscriptions, visit: 
https://lab.dpdk.org/results/dashboard/preferences/subscriptions/
^ permalink raw reply	[flat|nested] 25+ messages in thread
* |SUCCESS| pw105809 [PATCH] [v2] vhost: add log for VHOST_USER_SET_VRING_BASE
@ 2022-01-14 18:38 dpdklab
  0 siblings, 0 replies; 25+ messages in thread
From: dpdklab @ 2022-01-14 18:38 UTC (permalink / raw)
  To: Ajit Khaparde, Test Report; +Cc: dpdk-test-reports
[-- Attachment #1: Type: text/plain, Size: 786 bytes --]
Test-Label: iol-broadcom-Functional
Test-Status: SUCCESS
http://dpdk.org/patch/105809
_Functional Testing PASS_
Submitter: Andy Pei <andy.pei@intel.com>
Date: Friday, January 14 2022 07:57:07 
DPDK git baseline: Repo:dpdk
  Branch: master
  CommitID:6f716880ee53ac1e50c9c75dc749886e3257bb8f
105809 --> functional testing pass
Test environment and result as below:
Ubuntu 20.04
Kernel: 4.15.0-65-generic
Compiler: gcc gcc (Ubuntu 7.4.0-1ubuntu1~18.04.1) 7.4.0
NIC: Broadcom Inc. brcm_57414 25000 Mbps
Target: x86_64-native-linuxapp-gcc
Fail/Total: 0/3
To view detailed results, visit:
https://lab.dpdk.org/results/dashboard/patchsets/20665/
UNH-IOL DPDK Community Lab
To manage your email subscriptions, visit: 
https://lab.dpdk.org/results/dashboard/preferences/subscriptions/
^ permalink raw reply	[flat|nested] 25+ messages in thread
* |SUCCESS| pw105809 [PATCH] [v2] vhost: add log for VHOST_USER_SET_VRING_BASE
@ 2022-01-14 18:30 dpdklab
  0 siblings, 0 replies; 25+ messages in thread
From: dpdklab @ 2022-01-14 18:30 UTC (permalink / raw)
  To: Ajit Khaparde, Test Report; +Cc: dpdk-test-reports
[-- Attachment #1: Type: text/plain, Size: 1790 bytes --]
Test-Label: iol-broadcom-Performance
Test-Status: SUCCESS
http://dpdk.org/patch/105809
_Performance Testing PASS_
Submitter: Andy Pei <andy.pei@intel.com>
Date: Friday, January 14 2022 07:57:07 
DPDK git baseline: Repo:dpdk
  Branch: master
  CommitID:6f716880ee53ac1e50c9c75dc749886e3257bb8f
105809 --> performance testing pass
Test environment and result as below:
Ubuntu 20.04
Kernel: 4.15.0-65-generic
Compiler: gcc gcc (Ubuntu 7.4.0-1ubuntu1~18.04.1) 7.4.0
NIC: Broadcom Inc. brcm_57414 25000 Mbps
Target: x86_64-native-linuxapp-gcc
Fail/Total: 0/4
Detail performance results: 
+----------+-------------+---------+------------+------------------------------+
| num_cpus | num_threads | txd/rxd | frame_size |  throughput difference from  |
|          |             |         |            |           expected           |
+==========+=============+=========+============+==============================+
| 1        | 2           | 512     | 64         | -0.2%                        |
+----------+-------------+---------+------------+------------------------------+
| 1        | 2           | 2048    | 64         | 0.1%                         |
+----------+-------------+---------+------------+------------------------------+
| 1        | 1           | 512     | 64         | 0.0%                         |
+----------+-------------+---------+------------+------------------------------+
| 1        | 1           | 2048    | 64         | 0.0%                         |
+----------+-------------+---------+------------+------------------------------+
To view detailed results, visit:
https://lab.dpdk.org/results/dashboard/patchsets/20665/
UNH-IOL DPDK Community Lab
To manage your email subscriptions, visit: 
https://lab.dpdk.org/results/dashboard/preferences/subscriptions/
^ permalink raw reply	[flat|nested] 25+ messages in thread
* |SUCCESS| pw105809 [PATCH] [v2] vhost: add log for VHOST_USER_SET_VRING_BASE
@ 2022-01-14 18:25 dpdklab
  0 siblings, 0 replies; 25+ messages in thread
From: dpdklab @ 2022-01-14 18:25 UTC (permalink / raw)
  To: Test Report; +Cc: dpdk-test-reports
[-- Attachment #1: Type: text/plain, Size: 965 bytes --]
Test-Label: iol-intel-Functional
Test-Status: SUCCESS
http://dpdk.org/patch/105809
_Functional Testing PASS_
Submitter: Andy Pei <andy.pei@intel.com>
Date: Friday, January 14 2022 07:57:07 
DPDK git baseline: Repo:dpdk
  Branch: master
  CommitID:6f716880ee53ac1e50c9c75dc749886e3257bb8f
105809 --> functional testing pass
Test environment and result as below:
Ubuntu 20.04
Kernel: 4.15.0-generic
Compiler: gcc 7.4
NIC: Intel Corporation Ethernet Converged Network Adapter 82599ES 10000 Mbps
Target: x86_64-native-linuxapp-gcc
Fail/Total: 0/2
Ubuntu 20.04
Kernel: 4.15.0-generic
Compiler: gcc 7.4
NIC: Intel Corporation Ethernet Converged Network Adapter XL710-QDA2 40000 Mbps
Target: x86_64-native-linuxapp-gcc
Fail/Total: 0/2
To view detailed results, visit:
https://lab.dpdk.org/results/dashboard/patchsets/20665/
UNH-IOL DPDK Community Lab
To manage your email subscriptions, visit: 
https://lab.dpdk.org/results/dashboard/preferences/subscriptions/
^ permalink raw reply	[flat|nested] 25+ messages in thread
* |SUCCESS| pw105809 [PATCH] [v2] vhost: add log for VHOST_USER_SET_VRING_BASE
@ 2022-01-14 18:21 dpdklab
  0 siblings, 0 replies; 25+ messages in thread
From: dpdklab @ 2022-01-14 18:21 UTC (permalink / raw)
  To: Test Report; +Cc: dpdk-test-reports
[-- Attachment #1: Type: text/plain, Size: 1785 bytes --]
Test-Label: iol-intel-Performance
Test-Status: SUCCESS
http://dpdk.org/patch/105809
_Performance Testing PASS_
Submitter: Andy Pei <andy.pei@intel.com>
Date: Friday, January 14 2022 07:57:07 
DPDK git baseline: Repo:dpdk
  Branch: master
  CommitID:6f716880ee53ac1e50c9c75dc749886e3257bb8f
105809 --> performance testing pass
Test environment and result as below:
Ubuntu 20.04
Kernel: 4.15.0-generic
Compiler: gcc 7.4
NIC: Intel Corporation Ethernet Converged Network Adapter XL710-QDA2 40000 Mbps
Target: x86_64-native-linuxapp-gcc
Fail/Total: 0/4
Detail performance results: 
+------------+---------+----------+-------------+------------------------------+
| frame_size | txd/rxd | num_cpus | num_threads |  throughput difference from  |
|            |         |          |             |           expected           |
+============+=========+==========+=============+==============================+
| 64         | 512     | 1        | 1           | -0.1%                        |
+------------+---------+----------+-------------+------------------------------+
| 64         | 2048    | 1        | 1           | -0.1%                        |
+------------+---------+----------+-------------+------------------------------+
| 64         | 512     | 1        | 2           | 0.4%                         |
+------------+---------+----------+-------------+------------------------------+
| 64         | 2048    | 1        | 2           | -2.5%                        |
+------------+---------+----------+-------------+------------------------------+
To view detailed results, visit:
https://lab.dpdk.org/results/dashboard/patchsets/20665/
UNH-IOL DPDK Community Lab
To manage your email subscriptions, visit: 
https://lab.dpdk.org/results/dashboard/preferences/subscriptions/
^ permalink raw reply	[flat|nested] 25+ messages in thread
* |SUCCESS| pw105809 [PATCH] [v2] vhost: add log for VHOST_USER_SET_VRING_BASE
@ 2022-01-14 18:19 dpdklab
  0 siblings, 0 replies; 25+ messages in thread
From: dpdklab @ 2022-01-14 18:19 UTC (permalink / raw)
  To: Ajit Khaparde, Test Report; +Cc: dpdk-test-reports
[-- Attachment #1: Type: text/plain, Size: 786 bytes --]
Test-Label: iol-broadcom-Functional
Test-Status: SUCCESS
http://dpdk.org/patch/105809
_Functional Testing PASS_
Submitter: Andy Pei <andy.pei@intel.com>
Date: Friday, January 14 2022 07:57:07 
DPDK git baseline: Repo:dpdk
  Branch: master
  CommitID:6f716880ee53ac1e50c9c75dc749886e3257bb8f
105809 --> functional testing pass
Test environment and result as below:
Ubuntu 20.04
Kernel: 4.15.0-65-generic
Compiler: gcc gcc (Ubuntu 7.4.0-1ubuntu1~18.04.1) 7.4.0
NIC: Broadcom Inc. brcm_57414 25000 Mbps
Target: x86_64-native-linuxapp-gcc
Fail/Total: 0/3
To view detailed results, visit:
https://lab.dpdk.org/results/dashboard/patchsets/20665/
UNH-IOL DPDK Community Lab
To manage your email subscriptions, visit: 
https://lab.dpdk.org/results/dashboard/preferences/subscriptions/
^ permalink raw reply	[flat|nested] 25+ messages in thread
* |SUCCESS| pw105809 [PATCH] [v2] vhost: add log for VHOST_USER_SET_VRING_BASE
@ 2022-01-14 18:18 dpdklab
  0 siblings, 0 replies; 25+ messages in thread
From: dpdklab @ 2022-01-14 18:18 UTC (permalink / raw)
  To: Test Report; +Cc: dpdk-test-reports
[-- Attachment #1: Type: text/plain, Size: 778 bytes --]
Test-Label: iol-intel-Functional
Test-Status: SUCCESS
http://dpdk.org/patch/105809
_Functional Testing PASS_
Submitter: Andy Pei <andy.pei@intel.com>
Date: Friday, January 14 2022 07:57:07 
DPDK git baseline: Repo:dpdk
  Branch: master
  CommitID:6f716880ee53ac1e50c9c75dc749886e3257bb8f
105809 --> functional testing pass
Test environment and result as below:
Ubuntu 20.04
Kernel: 4.15.0-generic
Compiler: gcc 7.4
NIC: Intel Corporation Ethernet Converged Network Adapter 82599ES 10000 Mbps
Target: x86_64-native-linuxapp-gcc
Fail/Total: 0/2
To view detailed results, visit:
https://lab.dpdk.org/results/dashboard/patchsets/20665/
UNH-IOL DPDK Community Lab
To manage your email subscriptions, visit: 
https://lab.dpdk.org/results/dashboard/preferences/subscriptions/
^ permalink raw reply	[flat|nested] 25+ messages in thread
* |SUCCESS| pw105809 [PATCH] [v2] vhost: add log for VHOST_USER_SET_VRING_BASE
@ 2022-01-14 18:16 dpdklab
  0 siblings, 0 replies; 25+ messages in thread
From: dpdklab @ 2022-01-14 18:16 UTC (permalink / raw)
  To: Ali Alnubani, Test Report; +Cc: dpdk-test-reports
[-- Attachment #1: Type: text/plain, Size: 2069 bytes --]
Test-Label: iol-mellanox-Performance
Test-Status: SUCCESS
http://dpdk.org/patch/105809
_Performance Testing PASS_
Submitter: Andy Pei <andy.pei@intel.com>
Date: Friday, January 14 2022 07:57:07 
DPDK git baseline: Repo:dpdk
  Branch: master
  CommitID:6f716880ee53ac1e50c9c75dc749886e3257bb8f
105809 --> performance testing pass
Test environment and result as below:
Ubuntu 20.04
Kernel: 4.15.0-generic
Compiler: gcc 7.4
NIC: Mellanox ConnectX-5 100000 Mbps
Target: x86_64-native-linuxapp-gcc
Fail/Total: 0/6
Detail performance results: 
+------------+---------+----------+-------------+------------------------------+
| frame_size | txd/rxd | num_cpus | num_threads |  throughput difference from  |
|            |         |          |             |           expected           |
+============+=========+==========+=============+==============================+
| 64         | 256     | 1        | 1           | -0.1%                        |
+------------+---------+----------+-------------+------------------------------+
| 128        | 256     | 1        | 1           | -0.2%                        |
+------------+---------+----------+-------------+------------------------------+
| 1024       | 256     | 1        | 1           | 0.3%                         |
+------------+---------+----------+-------------+------------------------------+
| 256        | 256     | 1        | 1           | -0.0%                        |
+------------+---------+----------+-------------+------------------------------+
| 1518       | 256     | 1        | 1           | -0.2%                        |
+------------+---------+----------+-------------+------------------------------+
| 512        | 256     | 1        | 1           | -0.3%                        |
+------------+---------+----------+-------------+------------------------------+
To view detailed results, visit:
https://lab.dpdk.org/results/dashboard/patchsets/20665/
UNH-IOL DPDK Community Lab
To manage your email subscriptions, visit: 
https://lab.dpdk.org/results/dashboard/preferences/subscriptions/
^ permalink raw reply	[flat|nested] 25+ messages in thread
* |SUCCESS| pw105809 [PATCH] [v2] vhost: add log for VHOST_USER_SET_VRING_BASE
@ 2022-01-14 18:03 dpdklab
  0 siblings, 0 replies; 25+ messages in thread
From: dpdklab @ 2022-01-14 18:03 UTC (permalink / raw)
  To: Ali Alnubani, Test Report; +Cc: dpdk-test-reports
[-- Attachment #1: Type: text/plain, Size: 2069 bytes --]
Test-Label: iol-mellanox-Performance
Test-Status: SUCCESS
http://dpdk.org/patch/105809
_Performance Testing PASS_
Submitter: Andy Pei <andy.pei@intel.com>
Date: Friday, January 14 2022 07:57:07 
DPDK git baseline: Repo:dpdk
  Branch: master
  CommitID:6f716880ee53ac1e50c9c75dc749886e3257bb8f
105809 --> performance testing pass
Test environment and result as below:
Ubuntu 20.04
Kernel: 4.15.0-generic
Compiler: gcc 7.4
NIC: Mellanox ConnectX-5 100000 Mbps
Target: x86_64-native-linuxapp-gcc
Fail/Total: 0/6
Detail performance results: 
+------------+---------+----------+-------------+------------------------------+
| frame_size | txd/rxd | num_cpus | num_threads |  throughput difference from  |
|            |         |          |             |           expected           |
+============+=========+==========+=============+==============================+
| 64         | 256     | 1        | 1           | -0.0%                        |
+------------+---------+----------+-------------+------------------------------+
| 128        | 256     | 1        | 1           | -0.2%                        |
+------------+---------+----------+-------------+------------------------------+
| 1024       | 256     | 1        | 1           | 0.1%                         |
+------------+---------+----------+-------------+------------------------------+
| 256        | 256     | 1        | 1           | 0.2%                         |
+------------+---------+----------+-------------+------------------------------+
| 1518       | 256     | 1        | 1           | -0.0%                        |
+------------+---------+----------+-------------+------------------------------+
| 512        | 256     | 1        | 1           | -0.4%                        |
+------------+---------+----------+-------------+------------------------------+
To view detailed results, visit:
https://lab.dpdk.org/results/dashboard/patchsets/20665/
UNH-IOL DPDK Community Lab
To manage your email subscriptions, visit: 
https://lab.dpdk.org/results/dashboard/preferences/subscriptions/
^ permalink raw reply	[flat|nested] 25+ messages in thread
[parent not found: <1642147027-203645-1-git-send-email-andy.pei@intel.com>]
end of thread, other threads:[~2022-01-14 22:29 UTC | newest]
Thread overview: 25+ messages (download: mbox.gz / follow: Atom feed)
-- links below jump to the message on this page --
2022-01-14 18:33 |SUCCESS| pw105809 [PATCH] [v2] vhost: add log for VHOST_USER_SET_VRING_BASE dpdklab
  -- strict thread matches above, loose matches on Subject: below --
2022-01-14 22:29 dpdklab
2022-01-14 21:02 dpdklab
2022-01-14 20:21 dpdklab
2022-01-14 20:12 dpdklab
2022-01-14 20:07 dpdklab
2022-01-14 20:01 dpdklab
2022-01-14 19:54 dpdklab
2022-01-14 19:48 dpdklab
2022-01-14 19:39 dpdklab
2022-01-14 18:52 dpdklab
2022-01-14 18:49 dpdklab
2022-01-14 18:48 dpdklab
2022-01-14 18:43 dpdklab
2022-01-14 18:39 dpdklab
2022-01-14 18:38 dpdklab
2022-01-14 18:30 dpdklab
2022-01-14 18:25 dpdklab
2022-01-14 18:21 dpdklab
2022-01-14 18:19 dpdklab
2022-01-14 18:18 dpdklab
2022-01-14 18:16 dpdklab
2022-01-14 18:03 dpdklab
     [not found] <1642147027-203645-1-git-send-email-andy.pei@intel.com>
2022-01-14  8:01 ` |SUCCESS| pw105809 [PATCH v2] " checkpatch
2022-01-14  9:59 ` 0-day Robot
This is a public inbox, see mirroring instructions
for how to clone and mirror all data and code used for this inbox;
as well as URLs for NNTP newsgroup(s).