automatic DPDK test reports
 help / color / mirror / Atom feed
From: dpdklab@iol.unh.edu
To: Test Report <test-report@dpdk.org>
Cc: dpdk-test-reports@iol.unh.edu
Subject: |SUCCESS| pw105809 [PATCH] [v2] vhost: add log for VHOST_USER_SET_VRING_BASE
Date: Fri, 14 Jan 2022 20:12:03 +0000 (UTC)
Message-ID: <20220114201203.5548E602B7@dpdk-ubuntu.dpdklab.iol.unh.edu> (raw)

[-- Attachment #1: Type: text/plain, Size: 1437 bytes --]

Test-Label: iol-aarch64-unit-testing
Test-Status: SUCCESS
http://dpdk.org/patch/105809

_Testing PASS_

Submitter: Andy Pei <andy.pei@intel.com>
Date: Friday, January 14 2022 07:57:07 
DPDK git baseline: Repo:dpdk
  Branch: master
  CommitID:6f716880ee53ac1e50c9c75dc749886e3257bb8f

105809 --> testing pass

Test environment and result as below:

+-------------------------------+--------------+----------------+
|          Environment          | lpm_autotest | dpdk_unit_test |
+===============================+==============+================+
| Ubuntu 20.04 ARM SVE          | PASS         | SKIPPED        |
+-------------------------------+--------------+----------------+
| Ubuntu 20.04 ARM Clang Native | SKIPPED      | PASS           |
+-------------------------------+--------------+----------------+
| Ubuntu 20.04 ARM GCC Native   | SKIPPED      | PASS           |
+-------------------------------+--------------+----------------+


Ubuntu 20.04 ARM SVE
	Kernel: 5.4.0-80-generic
	Compiler: gcc 10.3.0 (Ubuntu 10.3.0-1ubuntu1~20.04)

Ubuntu 20.04 ARM Clang Native
	Kernel: 5.4.0-53-generic
	Compiler: clang 10.0.0-4ubuntu1

Ubuntu 20.04 ARM GCC Native
	Kernel: 5.4.0-53-generic
	Compiler: gcc 9.3

To view detailed results, visit:
https://lab.dpdk.org/results/dashboard/patchsets/20665/

UNH-IOL DPDK Community Lab

To manage your email subscriptions, visit: 
https://lab.dpdk.org/results/dashboard/preferences/subscriptions/

             reply	other threads:[~2022-01-14 20:12 UTC|newest]

Thread overview: 25+ messages / expand[flat|nested]  mbox.gz  Atom feed  top
2022-01-14 20:12 dpdklab [this message]
  -- strict thread matches above, loose matches on Subject: below --
2022-01-14 22:29 dpdklab
2022-01-14 21:02 dpdklab
2022-01-14 20:21 dpdklab
2022-01-14 20:07 dpdklab
2022-01-14 20:01 dpdklab
2022-01-14 19:54 dpdklab
2022-01-14 19:48 dpdklab
2022-01-14 19:39 dpdklab
2022-01-14 18:52 dpdklab
2022-01-14 18:49 dpdklab
2022-01-14 18:48 dpdklab
2022-01-14 18:43 dpdklab
2022-01-14 18:39 dpdklab
2022-01-14 18:38 dpdklab
2022-01-14 18:33 dpdklab
2022-01-14 18:30 dpdklab
2022-01-14 18:25 dpdklab
2022-01-14 18:21 dpdklab
2022-01-14 18:19 dpdklab
2022-01-14 18:18 dpdklab
2022-01-14 18:16 dpdklab
2022-01-14 18:03 dpdklab
     [not found] <1642147027-203645-1-git-send-email-andy.pei@intel.com>
2022-01-14  8:01 ` |SUCCESS| pw105809 [PATCH v2] " checkpatch
2022-01-14  9:59 ` 0-day Robot

Reply instructions:

You may reply publicly to this message via plain-text email
using any one of the following methods:

* Save the following mbox file, import it into your mail client,
  and reply-to-all from there: mbox

  Avoid top-posting and favor interleaved quoting:
  https://en.wikipedia.org/wiki/Posting_style#Interleaved_style

* Reply using the --to, --cc, and --in-reply-to
  switches of git-send-email(1):

  git send-email \
    --in-reply-to=20220114201203.5548E602B7@dpdk-ubuntu.dpdklab.iol.unh.edu \
    --to=dpdklab@iol.unh.edu \
    --cc=dpdk-test-reports@iol.unh.edu \
    --cc=test-report@dpdk.org \
    /path/to/YOUR_REPLY

  https://kernel.org/pub/software/scm/git/docs/git-send-email.html

* If your mail client supports setting the In-Reply-To header
  via mailto: links, try the mailto: link

automatic DPDK test reports

This inbox may be cloned and mirrored by anyone:

	git clone --mirror http://inbox.dpdk.org/test-report/0 test-report/git/0.git

	# If you have public-inbox 1.1+ installed, you may
	# initialize and index your mirror using the following commands:
	public-inbox-init -V2 test-report test-report/ http://inbox.dpdk.org/test-report \
		test-report@dpdk.org
	public-inbox-index test-report

Example config snippet for mirrors.
Newsgroup available over NNTP:
	nntp://inbox.dpdk.org/inbox.dpdk.test-report


AGPL code for this site: git clone https://public-inbox.org/public-inbox.git