From: dpdklab@iol.unh.edu To: Test Report <test-report@dpdk.org> Cc: dpdklab@iol.unh.edu Subject: |SUCCESS| pw105870 [PATCH] net/memif: remove unnecessary rx_intr stub Date: Fri, 14 Jan 2022 21:58:25 +0000 (UTC) Message-ID: <20220114215825.B82EB602B7@dpdk-ubuntu.dpdklab.iol.unh.edu> (raw) [-- Attachment #1: Type: text/plain, Size: 1454 bytes --] Test-Label: iol-aarch64-unit-testing Test-Status: SUCCESS http://dpdk.org/patch/105870 _Testing PASS_ Submitter: Stephen Hemminger <stephen@networkplumber.org> Date: Friday, January 14 2022 20:46:44 DPDK git baseline: Repo:dpdk Branch: master CommitID:6f716880ee53ac1e50c9c75dc749886e3257bb8f 105870 --> testing pass Test environment and result as below: +-------------------------------+----------------+--------------+ | Environment | dpdk_unit_test | lpm_autotest | +===============================+================+==============+ | Ubuntu 20.04 ARM GCC Native | PASS | SKIPPED | +-------------------------------+----------------+--------------+ | Ubuntu 20.04 ARM Clang Native | PASS | SKIPPED | +-------------------------------+----------------+--------------+ | Ubuntu 20.04 ARM SVE | SKIPPED | PASS | +-------------------------------+----------------+--------------+ Ubuntu 20.04 ARM GCC Native Kernel: 5.4.0-53-generic Compiler: gcc 9.3 Ubuntu 20.04 ARM Clang Native Kernel: 5.4.0-53-generic Compiler: clang 10.0.0-4ubuntu1 Ubuntu 20.04 ARM SVE Kernel: 5.4.0-80-generic Compiler: gcc 10.3.0 (Ubuntu 10.3.0-1ubuntu1~20.04) To view detailed results, visit: https://lab.dpdk.org/results/dashboard/patchsets/20671/ UNH-IOL DPDK Community Lab To manage your email subscriptions, visit: https://lab.dpdk.org/results/dashboard/preferences/subscriptions/
next reply other threads:[~2022-01-14 21:58 UTC|newest] Thread overview: 16+ messages / expand[flat|nested] mbox.gz Atom feed top 2022-01-14 21:58 dpdklab [this message] -- strict thread matches above, loose matches on Subject: below -- 2022-01-14 23:07 dpdklab 2022-01-14 22:00 dpdklab 2022-01-14 21:49 dpdklab 2022-01-14 21:46 dpdklab 2022-01-14 21:25 dpdklab 2022-01-14 21:24 dpdklab 2022-01-14 21:22 dpdklab 2022-01-14 21:21 dpdklab 2022-01-14 21:19 dpdklab 2022-01-14 21:18 dpdklab 2022-01-14 21:14 dpdklab 2022-01-14 21:13 dpdklab 2022-01-14 21:10 dpdklab [not found] <20220114204644.351712-1-stephen@networkplumber.org> 2022-01-14 20:48 ` checkpatch 2022-01-14 22:19 ` 0-day Robot
Reply instructions: You may reply publicly to this message via plain-text email using any one of the following methods: * Save the following mbox file, import it into your mail client, and reply-to-all from there: mbox Avoid top-posting and favor interleaved quoting: https://en.wikipedia.org/wiki/Posting_style#Interleaved_style * Reply using the --to, --cc, and --in-reply-to switches of git-send-email(1): git send-email \ --in-reply-to=20220114215825.B82EB602B7@dpdk-ubuntu.dpdklab.iol.unh.edu \ --to=dpdklab@iol.unh.edu \ --cc=test-report@dpdk.org \ /path/to/YOUR_REPLY https://kernel.org/pub/software/scm/git/docs/git-send-email.html * If your mail client supports setting the In-Reply-To header via mailto: links, try the mailto: link
automatic DPDK test reports This inbox may be cloned and mirrored by anyone: git clone --mirror http://inbox.dpdk.org/test-report/0 test-report/git/0.git # If you have public-inbox 1.1+ installed, you may # initialize and index your mirror using the following commands: public-inbox-init -V2 test-report test-report/ http://inbox.dpdk.org/test-report \ test-report@dpdk.org public-inbox-index test-report Example config snippet for mirrors. Newsgroup available over NNTP: nntp://inbox.dpdk.org/inbox.dpdk.test-report AGPL code for this site: git clone https://public-inbox.org/public-inbox.git