From: dpdklab@iol.unh.edu To: Test Report <test-report@dpdk.org> Cc: dpdk-test-reports@iol.unh.edu Subject: |SUCCESS| pw105870 [PATCH] net/memif: remove unnecessary rx_intr stub Date: Fri, 14 Jan 2022 22:00:34 +0000 (UTC) Message-ID: <20220114220034.5C6C5602B7@dpdk-ubuntu.dpdklab.iol.unh.edu> (raw) [-- Attachment #1: Type: text/plain, Size: 2790 bytes --] Test-Label: iol-x86_64-unit-testing Test-Status: SUCCESS http://dpdk.org/patch/105870 _Testing PASS_ Submitter: Stephen Hemminger <stephen@networkplumber.org> Date: Friday, January 14 2022 20:46:44 DPDK git baseline: Repo:dpdk Branch: master CommitID:6f716880ee53ac1e50c9c75dc749886e3257bb8f 105870 --> testing pass Test environment and result as below: +------------------+----------------+ | Environment | dpdk_unit_test | +==================+================+ | Ubuntu 18.04 | PASS | +------------------+----------------+ | Arch Linux | PASS | +------------------+----------------+ | Fedora 31 | PASS | +------------------+----------------+ | Fedora 32 | PASS | +------------------+----------------+ | CentOS 8 | PASS | +------------------+----------------+ | RHEL 7 | PASS | +------------------+----------------+ | Fedora 33 | PASS | +------------------+----------------+ | Fedora 34 | PASS | +------------------+----------------+ | Fedora 34 clang | PASS | +------------------+----------------+ | Ubuntu 20.04 | PASS | +------------------+----------------+ | RHEL8 | PASS | +------------------+----------------+ | CentOS Stream 8 | PASS | +------------------+----------------+ | openSUSE Leap 15 | PASS | +------------------+----------------+ Ubuntu 18.04 Kernel: 4.18.0-240.10.1.el8_3.x86_64 Compiler: gcc 7.5.0-3ubuntu1~18.04 Arch Linux Kernel: 5.4.0-73-generic Compiler: gcc 11.1.0 Fedora 31 Kernel: 4.18.0-240.10.1.el8_3.x86_64 Compiler: gcc 9.3.1 Fedora 32 Kernel: 4.18.0-240.10.1.el8_3.x86_64 Compiler: gcc 10.2.1 CentOS 8 Kernel: 4.18.0-240.10.1.el8_3.x86_64 Compiler: gcc 8.3.1 20191121 (Red Hat 8.3.1-5) RHEL 7 Kernel: 4.18.0-240.10.1.el8_3.x86_64 Compiler: gcc 4.8.5 20150623 (Red Hat 4.8.5-44) Fedora 33 Kernel: 5.4.0-72-generic Compiler: gcc 10.3.1 20210422 (Red Hat 10.3.1-1) Fedora 34 Kernel: 5.4.0-72-generic Compiler: gcc 11.1.1 20210428 (Red Hat 11.1.1-1) Fedora 34 clang Kernel: 5.4.0-72-generic Compiler: clang 12.0.0 (Fedora 12.0.0-0.3.rc1.fc34) Ubuntu 20.04 Kernel: 4.18.0-240.10.1.el8_3.x86_64 Compiler: gcc 9.3.0-17ubuntu1~20.04 RHEL8 Kernel: 4.18.0-240.10.1.el8_3.x86_64 Compiler: gcc 8.3.1 20191121 (Red Hat 8.3.1-5) CentOS Stream 8 Kernel: 4.18.0-240.10.1.el8_3.x86_64 Compiler: gcc 8.4.1 20200928 openSUSE Leap 15 Kernel: 4.18.0-240.10.1.el8_3.x86_64 Compiler: gcc 7.5.0 To view detailed results, visit: https://lab.dpdk.org/results/dashboard/patchsets/20671/ UNH-IOL DPDK Community Lab To manage your email subscriptions, visit: https://lab.dpdk.org/results/dashboard/preferences/subscriptions/
next reply other threads:[~2022-01-14 22:00 UTC|newest] Thread overview: 16+ messages / expand[flat|nested] mbox.gz Atom feed top 2022-01-14 22:00 dpdklab [this message] -- strict thread matches above, loose matches on Subject: below -- 2022-01-14 23:07 dpdklab [not found] <20220114204644.351712-1-stephen@networkplumber.org> 2022-01-14 20:48 ` checkpatch 2022-01-14 22:19 ` 0-day Robot 2022-01-14 21:58 dpdklab 2022-01-14 21:49 dpdklab 2022-01-14 21:46 dpdklab 2022-01-14 21:25 dpdklab 2022-01-14 21:24 dpdklab 2022-01-14 21:22 dpdklab 2022-01-14 21:21 dpdklab 2022-01-14 21:19 dpdklab 2022-01-14 21:18 dpdklab 2022-01-14 21:14 dpdklab 2022-01-14 21:13 dpdklab 2022-01-14 21:10 dpdklab
Reply instructions: You may reply publicly to this message via plain-text email using any one of the following methods: * Save the following mbox file, import it into your mail client, and reply-to-all from there: mbox Avoid top-posting and favor interleaved quoting: https://en.wikipedia.org/wiki/Posting_style#Interleaved_style * Reply using the --to, --cc, and --in-reply-to switches of git-send-email(1): git send-email \ --in-reply-to=20220114220034.5C6C5602B7@dpdk-ubuntu.dpdklab.iol.unh.edu \ --to=dpdklab@iol.unh.edu \ --cc=dpdk-test-reports@iol.unh.edu \ --cc=test-report@dpdk.org \ /path/to/YOUR_REPLY https://kernel.org/pub/software/scm/git/docs/git-send-email.html * If your mail client supports setting the In-Reply-To header via mailto: links, try the mailto: link
automatic DPDK test reports This inbox may be cloned and mirrored by anyone: git clone --mirror http://inbox.dpdk.org/test-report/0 test-report/git/0.git # If you have public-inbox 1.1+ installed, you may # initialize and index your mirror using the following commands: public-inbox-init -V2 test-report test-report/ http://inbox.dpdk.org/test-report \ test-report@dpdk.org public-inbox-index test-report Example config snippet for mirrors. Newsgroup available over NNTP: nntp://inbox.dpdk.org/inbox.dpdk.test-report AGPL code for this site: git clone https://public-inbox.org/public-inbox.git