From: dpdklab@iol.unh.edu To: Test Report <test-report@dpdk.org> Cc: dpdk-test-reports@iol.unh.edu Subject: |SUCCESS| pw105809 [PATCH] [v2] vhost: add log for VHOST_USER_SET_VRING_BASE Date: Fri, 14 Jan 2022 22:29:05 +0000 (UTC) Message-ID: <20220114222905.34AA5602B7@dpdk-ubuntu.dpdklab.iol.unh.edu> (raw) [-- Attachment #1: Type: text/plain, Size: 3206 bytes --] Test-Label: iol-abi-testing Test-Status: SUCCESS http://dpdk.org/patch/105809 _Testing PASS_ Submitter: Andy Pei <andy.pei@intel.com> Date: Friday, January 14 2022 07:57:07 DPDK git baseline: Repo:dpdk Branch: master CommitID:6f716880ee53ac1e50c9c75dc749886e3257bb8f 105809 --> testing pass Test environment and result as below: +-----------------------------+----------+ | Environment | abi_test | +=============================+==========+ | FreeBSD 13 | PASS | +-----------------------------+----------+ | Ubuntu 20.04 ARM GCC Native | PASS | +-----------------------------+----------+ | Ubuntu 18.04 | PASS | +-----------------------------+----------+ | Fedora 34 clang | PASS | +-----------------------------+----------+ | CentOS 8 | PASS | +-----------------------------+----------+ | Fedora 32 | PASS | +-----------------------------+----------+ | Fedora 33 | PASS | +-----------------------------+----------+ | openSUSE Leap 15 | PASS | +-----------------------------+----------+ | Ubuntu 20.04 | PASS | +-----------------------------+----------+ | RHEL8 | PASS | +-----------------------------+----------+ | Arch Linux | PASS | +-----------------------------+----------+ | RHEL 7 | PASS | +-----------------------------+----------+ | CentOS Stream 8 | PASS | +-----------------------------+----------+ | Fedora 34 | PASS | +-----------------------------+----------+ | Fedora 31 | PASS | +-----------------------------+----------+ FreeBSD 13 Kernel: 13.0 Compiler: clang 11.0.1 Ubuntu 20.04 ARM GCC Native Kernel: 5.4.0-53-generic Compiler: gcc 9.3 Ubuntu 18.04 Kernel: 4.18.0-240.10.1.el8_3.x86_64 Compiler: gcc 7.5.0-3ubuntu1~18.04 Fedora 34 clang Kernel: 5.4.0-72-generic Compiler: clang 12.0.0 (Fedora 12.0.0-0.3.rc1.fc34) CentOS 8 Kernel: 4.18.0-240.10.1.el8_3.x86_64 Compiler: gcc 8.3.1 20191121 (Red Hat 8.3.1-5) Fedora 32 Kernel: 4.18.0-240.10.1.el8_3.x86_64 Compiler: gcc 10.2.1 Fedora 33 Kernel: 5.4.0-72-generic Compiler: gcc 10.3.1 20210422 (Red Hat 10.3.1-1) openSUSE Leap 15 Kernel: 4.18.0-240.10.1.el8_3.x86_64 Compiler: gcc 7.5.0 Ubuntu 20.04 Kernel: 4.18.0-240.10.1.el8_3.x86_64 Compiler: gcc 9.3.0-17ubuntu1~20.04 RHEL8 Kernel: 4.18.0-240.10.1.el8_3.x86_64 Compiler: gcc 8.3.1 20191121 (Red Hat 8.3.1-5) Arch Linux Kernel: 5.4.0-73-generic Compiler: gcc 11.1.0 RHEL 7 Kernel: 4.18.0-240.10.1.el8_3.x86_64 Compiler: gcc 4.8.5 20150623 (Red Hat 4.8.5-44) CentOS Stream 8 Kernel: 4.18.0-240.10.1.el8_3.x86_64 Compiler: gcc 8.4.1 20200928 Fedora 34 Kernel: 5.4.0-72-generic Compiler: gcc 11.1.1 20210428 (Red Hat 11.1.1-1) Fedora 31 Kernel: 4.18.0-240.10.1.el8_3.x86_64 Compiler: gcc 9.3.1 To view detailed results, visit: https://lab.dpdk.org/results/dashboard/patchsets/20665/ UNH-IOL DPDK Community Lab To manage your email subscriptions, visit: https://lab.dpdk.org/results/dashboard/preferences/subscriptions/
next reply other threads:[~2022-01-14 22:29 UTC|newest] Thread overview: 25+ messages / expand[flat|nested] mbox.gz Atom feed top 2022-01-14 22:29 dpdklab [this message] -- strict thread matches above, loose matches on Subject: below -- 2022-01-14 21:02 dpdklab 2022-01-14 20:21 dpdklab 2022-01-14 20:12 dpdklab 2022-01-14 20:07 dpdklab 2022-01-14 20:01 dpdklab 2022-01-14 19:54 dpdklab 2022-01-14 19:48 dpdklab 2022-01-14 19:39 dpdklab 2022-01-14 18:52 dpdklab 2022-01-14 18:49 dpdklab 2022-01-14 18:48 dpdklab 2022-01-14 18:43 dpdklab 2022-01-14 18:39 dpdklab 2022-01-14 18:38 dpdklab 2022-01-14 18:33 dpdklab 2022-01-14 18:30 dpdklab 2022-01-14 18:25 dpdklab 2022-01-14 18:21 dpdklab 2022-01-14 18:19 dpdklab 2022-01-14 18:18 dpdklab 2022-01-14 18:16 dpdklab 2022-01-14 18:03 dpdklab [not found] <1642147027-203645-1-git-send-email-andy.pei@intel.com> 2022-01-14 8:01 ` |SUCCESS| pw105809 [PATCH v2] " checkpatch 2022-01-14 9:59 ` 0-day Robot
Reply instructions: You may reply publicly to this message via plain-text email using any one of the following methods: * Save the following mbox file, import it into your mail client, and reply-to-all from there: mbox Avoid top-posting and favor interleaved quoting: https://en.wikipedia.org/wiki/Posting_style#Interleaved_style * Reply using the --to, --cc, and --in-reply-to switches of git-send-email(1): git send-email \ --in-reply-to=20220114222905.34AA5602B7@dpdk-ubuntu.dpdklab.iol.unh.edu \ --to=dpdklab@iol.unh.edu \ --cc=dpdk-test-reports@iol.unh.edu \ --cc=test-report@dpdk.org \ /path/to/YOUR_REPLY https://kernel.org/pub/software/scm/git/docs/git-send-email.html * If your mail client supports setting the In-Reply-To header via mailto: links, try the mailto: link
automatic DPDK test reports This inbox may be cloned and mirrored by anyone: git clone --mirror http://inbox.dpdk.org/test-report/0 test-report/git/0.git # If you have public-inbox 1.1+ installed, you may # initialize and index your mirror using the following commands: public-inbox-init -V2 test-report test-report/ http://inbox.dpdk.org/test-report \ test-report@dpdk.org public-inbox-index test-report Example config snippet for mirrors. Newsgroup available over NNTP: nntp://inbox.dpdk.org/inbox.dpdk.test-report AGPL code for this site: git clone https://public-inbox.org/public-inbox.git