Test-Label: checkpatch Test-Status: SUCCESS http://dpdk.org/patch/106151 _coding style OK_
[-- Attachment #1: Type: text/plain, Size: 4293 bytes --] Test-Label: iol-x86_64-compile-testing Test-Status: SUCCESS http://dpdk.org/patch/106151 _Testing PASS_ Submitter: Bruce Richardson <bruce.richardson@intel.com> Date: Thursday, January 20 2022 17:41:59 DPDK git baseline: Repo:dpdk Branch: master CommitID:62c21c38a26e654bba09be147ea2d61c2e699a13 106151 --> testing pass Test environment and result as below: +---------------------+--------------------+----------------------+ | Environment | dpdk_meson_compile | dpdk_mingw64_compile | +=====================+====================+======================+ | openSUSE Leap 15 | PASS | SKIPPED | +---------------------+--------------------+----------------------+ | Ubuntu 18.04 | PASS | SKIPPED | +---------------------+--------------------+----------------------+ | CentOS 8 | PASS | SKIPPED | +---------------------+--------------------+----------------------+ | Ubuntu 20.04 | PASS | SKIPPED | +---------------------+--------------------+----------------------+ | Fedora 33 | PASS | SKIPPED | +---------------------+--------------------+----------------------+ | Fedora 34 | PASS | SKIPPED | +---------------------+--------------------+----------------------+ | Fedora 32 | PASS | SKIPPED | +---------------------+--------------------+----------------------+ | CentOS Stream 8 | PASS | SKIPPED | +---------------------+--------------------+----------------------+ | Arch Linux | PASS | SKIPPED | +---------------------+--------------------+----------------------+ | Windows Server 2019 | PASS | PASS | +---------------------+--------------------+----------------------+ | RHEL 7 | PASS | SKIPPED | +---------------------+--------------------+----------------------+ | RHEL8 | PASS | SKIPPED | +---------------------+--------------------+----------------------+ | Alpine | PASS | SKIPPED | +---------------------+--------------------+----------------------+ | FreeBSD 13 | PASS | SKIPPED | +---------------------+--------------------+----------------------+ | Fedora 31 | PASS | SKIPPED | +---------------------+--------------------+----------------------+ | Fedora 34 clang | PASS | SKIPPED | +---------------------+--------------------+----------------------+ openSUSE Leap 15 Kernel: 4.18.0-240.10.1.el8_3.x86_64 Compiler: gcc 7.5.0 Ubuntu 18.04 Kernel: 4.18.0-240.10.1.el8_3.x86_64 Compiler: gcc 7.5.0-3ubuntu1~18.04 CentOS 8 Kernel: 4.18.0-240.10.1.el8_3.x86_64 Compiler: gcc 8.3.1 20191121 (Red Hat 8.3.1-5) Ubuntu 20.04 Kernel: 4.18.0-240.10.1.el8_3.x86_64 Compiler: gcc 9.3.0-17ubuntu1~20.04 Fedora 33 Kernel: 5.4.0-72-generic Compiler: gcc 10.3.1 20210422 (Red Hat 10.3.1-1) Fedora 34 Kernel: 5.4.0-72-generic Compiler: gcc 11.1.1 20210428 (Red Hat 11.1.1-1) Fedora 32 Kernel: 4.18.0-240.10.1.el8_3.x86_64 Compiler: gcc 10.2.1 CentOS Stream 8 Kernel: 4.18.0-240.10.1.el8_3.x86_64 Compiler: gcc 8.4.1 20200928 Arch Linux Kernel: 5.4.0-73-generic Compiler: gcc 11.1.0 Windows Server 2019 Kernel: 10.0 Compiler: clang 9.0 and gcc 8.1.0 (MinGW) RHEL 7 Kernel: 4.18.0-240.10.1.el8_3.x86_64 Compiler: gcc 4.8.5 20150623 (Red Hat 4.8.5-44) RHEL8 Kernel: 4.18.0-240.10.1.el8_3.x86_64 Compiler: gcc 8.3.1 20191121 (Red Hat 8.3.1-5) Alpine Kernel: 5.4.0-73-generic Compiler: gcc (Alpine 10.3.1_git20210424) 10.3.1 20210424 FreeBSD 13 Kernel: 13.0 Compiler: clang 11.0.1 Fedora 31 Kernel: 4.18.0-240.10.1.el8_3.x86_64 Compiler: gcc 9.3.1 Fedora 34 clang Kernel: 5.4.0-72-generic Compiler: clang 12.0.0 (Fedora 12.0.0-0.3.rc1.fc34) To view detailed results, visit: https://lab.dpdk.org/results/dashboard/patchsets/20753/ UNH-IOL DPDK Community Lab To manage your email subscriptions, visit: https://lab.dpdk.org/results/dashboard/preferences/subscriptions/
[-- Attachment #1: Type: text/plain, Size: 2791 bytes --] Test-Label: iol-x86_64-unit-testing Test-Status: SUCCESS http://dpdk.org/patch/106151 _Testing PASS_ Submitter: Bruce Richardson <bruce.richardson@intel.com> Date: Thursday, January 20 2022 17:41:59 DPDK git baseline: Repo:dpdk Branch: master CommitID:62c21c38a26e654bba09be147ea2d61c2e699a13 106151 --> testing pass Test environment and result as below: +------------------+----------------+ | Environment | dpdk_unit_test | +==================+================+ | Arch Linux | PASS | +------------------+----------------+ | Ubuntu 18.04 | PASS | +------------------+----------------+ | CentOS Stream 8 | PASS | +------------------+----------------+ | CentOS 8 | PASS | +------------------+----------------+ | Fedora 33 | PASS | +------------------+----------------+ | RHEL8 | PASS | +------------------+----------------+ | RHEL 7 | PASS | +------------------+----------------+ | openSUSE Leap 15 | PASS | +------------------+----------------+ | Fedora 31 | PASS | +------------------+----------------+ | Ubuntu 20.04 | PASS | +------------------+----------------+ | Fedora 34 | PASS | +------------------+----------------+ | Fedora 32 | PASS | +------------------+----------------+ | Fedora 34 clang | PASS | +------------------+----------------+ Arch Linux Kernel: 5.4.0-73-generic Compiler: gcc 11.1.0 Ubuntu 18.04 Kernel: 4.18.0-240.10.1.el8_3.x86_64 Compiler: gcc 7.5.0-3ubuntu1~18.04 CentOS Stream 8 Kernel: 4.18.0-240.10.1.el8_3.x86_64 Compiler: gcc 8.4.1 20200928 CentOS 8 Kernel: 4.18.0-240.10.1.el8_3.x86_64 Compiler: gcc 8.3.1 20191121 (Red Hat 8.3.1-5) Fedora 33 Kernel: 5.4.0-72-generic Compiler: gcc 10.3.1 20210422 (Red Hat 10.3.1-1) RHEL8 Kernel: 4.18.0-240.10.1.el8_3.x86_64 Compiler: gcc 8.3.1 20191121 (Red Hat 8.3.1-5) RHEL 7 Kernel: 4.18.0-240.10.1.el8_3.x86_64 Compiler: gcc 4.8.5 20150623 (Red Hat 4.8.5-44) openSUSE Leap 15 Kernel: 4.18.0-240.10.1.el8_3.x86_64 Compiler: gcc 7.5.0 Fedora 31 Kernel: 4.18.0-240.10.1.el8_3.x86_64 Compiler: gcc 9.3.1 Ubuntu 20.04 Kernel: 4.18.0-240.10.1.el8_3.x86_64 Compiler: gcc 9.3.0-17ubuntu1~20.04 Fedora 34 Kernel: 5.4.0-72-generic Compiler: gcc 11.1.1 20210428 (Red Hat 11.1.1-1) Fedora 32 Kernel: 4.18.0-240.10.1.el8_3.x86_64 Compiler: gcc 10.2.1 Fedora 34 clang Kernel: 5.4.0-72-generic Compiler: clang 12.0.0 (Fedora 12.0.0-0.3.rc1.fc34) To view detailed results, visit: https://lab.dpdk.org/results/dashboard/patchsets/20753/ UNH-IOL DPDK Community Lab To manage your email subscriptions, visit: https://lab.dpdk.org/results/dashboard/preferences/subscriptions/
[-- Attachment #1: Type: text/plain, Size: 1455 bytes --] Test-Label: iol-aarch64-unit-testing Test-Status: SUCCESS http://dpdk.org/patch/106151 _Testing PASS_ Submitter: Bruce Richardson <bruce.richardson@intel.com> Date: Thursday, January 20 2022 17:41:59 DPDK git baseline: Repo:dpdk Branch: master CommitID:62c21c38a26e654bba09be147ea2d61c2e699a13 106151 --> testing pass Test environment and result as below: +-------------------------------+--------------+----------------+ | Environment | lpm_autotest | dpdk_unit_test | +===============================+==============+================+ | Ubuntu 20.04 ARM SVE | PASS | SKIPPED | +-------------------------------+--------------+----------------+ | Ubuntu 20.04 ARM GCC Native | SKIPPED | PASS | +-------------------------------+--------------+----------------+ | Ubuntu 20.04 ARM Clang Native | SKIPPED | PASS | +-------------------------------+--------------+----------------+ Ubuntu 20.04 ARM SVE Kernel: 5.4.0-80-generic Compiler: gcc 10.3.0 (Ubuntu 10.3.0-1ubuntu1~20.04) Ubuntu 20.04 ARM GCC Native Kernel: 5.4.0-53-generic Compiler: gcc 9.3 Ubuntu 20.04 ARM Clang Native Kernel: 5.4.0-53-generic Compiler: clang 10.0.0-4ubuntu1 To view detailed results, visit: https://lab.dpdk.org/results/dashboard/patchsets/20753/ UNH-IOL DPDK Community Lab To manage your email subscriptions, visit: https://lab.dpdk.org/results/dashboard/preferences/subscriptions/
[-- Attachment #1: Type: text/plain, Size: 2148 bytes --] Test-Label: iol-aarch64-compile-testing Test-Status: SUCCESS http://dpdk.org/patch/106151 _Testing PASS_ Submitter: Bruce Richardson <bruce.richardson@intel.com> Date: Thursday, January 20 2022 17:41:59 DPDK git baseline: Repo:dpdk Branch: master CommitID:62c21c38a26e654bba09be147ea2d61c2e699a13 106151 --> testing pass Test environment and result as below: +----------------------------------------+--------------------+ | Environment | dpdk_meson_compile | +========================================+====================+ | Ubuntu 20.04 ARM GCC Cross Compile | PASS | +----------------------------------------+--------------------+ | Ubuntu 20.04 ARM SVE | PASS | +----------------------------------------+--------------------+ | Ubuntu 20.04 aarch32 GCC Cross Compile | PASS | +----------------------------------------+--------------------+ | Ubuntu 20.04 ARM Clang Cross Compile | PASS | +----------------------------------------+--------------------+ | Ubuntu 20.04 ARM Clang Native | PASS | +----------------------------------------+--------------------+ | Ubuntu 20.04 ARM GCC Native | PASS | +----------------------------------------+--------------------+ Ubuntu 20.04 ARM GCC Cross Compile Kernel: 5.4.0-72-generic Compiler: aarch64-linux-gnu-gcc (Ubuntu 9.3.0-17ubuntu1~20.04) 9.3.0 Ubuntu 20.04 ARM SVE Kernel: 5.4.0-80-generic Compiler: gcc 10.3.0 (Ubuntu 10.3.0-1ubuntu1~20.04) Ubuntu 20.04 aarch32 GCC Cross Compile Kernel: 5.4.0-72-generic Compiler: gcc 9.3.0 Ubuntu 20.04 ARM Clang Cross Compile Kernel: 5.4.0-72-generic Compiler: clang version 10.0.0-4ubuntu1 Ubuntu 20.04 ARM Clang Native Kernel: 5.4.0-53-generic Compiler: clang 10.0.0-4ubuntu1 Ubuntu 20.04 ARM GCC Native Kernel: 5.4.0-53-generic Compiler: gcc 9.3 To view detailed results, visit: https://lab.dpdk.org/results/dashboard/patchsets/20753/ UNH-IOL DPDK Community Lab To manage your email subscriptions, visit: https://lab.dpdk.org/results/dashboard/preferences/subscriptions/
[-- Attachment #1: Type: text/plain, Size: 3224 bytes --] Test-Label: iol-abi-testing Test-Status: SUCCESS http://dpdk.org/patch/106151 _Testing PASS_ Submitter: Bruce Richardson <bruce.richardson@intel.com> Date: Thursday, January 20 2022 17:41:59 DPDK git baseline: Repo:dpdk Branch: master CommitID:62c21c38a26e654bba09be147ea2d61c2e699a13 106151 --> testing pass Test environment and result as below: +-----------------------------+----------+ | Environment | abi_test | +=============================+==========+ | FreeBSD 13 | PASS | +-----------------------------+----------+ | Ubuntu 20.04 ARM GCC Native | PASS | +-----------------------------+----------+ | Ubuntu 18.04 | PASS | +-----------------------------+----------+ | RHEL8 | PASS | +-----------------------------+----------+ | Fedora 34 clang | PASS | +-----------------------------+----------+ | Arch Linux | PASS | +-----------------------------+----------+ | RHEL 7 | PASS | +-----------------------------+----------+ | Fedora 32 | PASS | +-----------------------------+----------+ | Fedora 31 | PASS | +-----------------------------+----------+ | Fedora 34 | PASS | +-----------------------------+----------+ | CentOS 8 | PASS | +-----------------------------+----------+ | openSUSE Leap 15 | PASS | +-----------------------------+----------+ | Fedora 33 | PASS | +-----------------------------+----------+ | Ubuntu 20.04 | PASS | +-----------------------------+----------+ | CentOS Stream 8 | PASS | +-----------------------------+----------+ FreeBSD 13 Kernel: 13.0 Compiler: clang 11.0.1 Ubuntu 20.04 ARM GCC Native Kernel: 5.4.0-53-generic Compiler: gcc 9.3 Ubuntu 18.04 Kernel: 4.18.0-240.10.1.el8_3.x86_64 Compiler: gcc 7.5.0-3ubuntu1~18.04 RHEL8 Kernel: 4.18.0-240.10.1.el8_3.x86_64 Compiler: gcc 8.3.1 20191121 (Red Hat 8.3.1-5) Fedora 34 clang Kernel: 5.4.0-72-generic Compiler: clang 12.0.0 (Fedora 12.0.0-0.3.rc1.fc34) Arch Linux Kernel: 5.4.0-73-generic Compiler: gcc 11.1.0 RHEL 7 Kernel: 4.18.0-240.10.1.el8_3.x86_64 Compiler: gcc 4.8.5 20150623 (Red Hat 4.8.5-44) Fedora 32 Kernel: 4.18.0-240.10.1.el8_3.x86_64 Compiler: gcc 10.2.1 Fedora 31 Kernel: 4.18.0-240.10.1.el8_3.x86_64 Compiler: gcc 9.3.1 Fedora 34 Kernel: 5.4.0-72-generic Compiler: gcc 11.1.1 20210428 (Red Hat 11.1.1-1) CentOS 8 Kernel: 4.18.0-240.10.1.el8_3.x86_64 Compiler: gcc 8.3.1 20191121 (Red Hat 8.3.1-5) openSUSE Leap 15 Kernel: 4.18.0-240.10.1.el8_3.x86_64 Compiler: gcc 7.5.0 Fedora 33 Kernel: 5.4.0-72-generic Compiler: gcc 10.3.1 20210422 (Red Hat 10.3.1-1) Ubuntu 20.04 Kernel: 4.18.0-240.10.1.el8_3.x86_64 Compiler: gcc 9.3.0-17ubuntu1~20.04 CentOS Stream 8 Kernel: 4.18.0-240.10.1.el8_3.x86_64 Compiler: gcc 8.4.1 20200928 To view detailed results, visit: https://lab.dpdk.org/results/dashboard/patchsets/20753/ UNH-IOL DPDK Community Lab To manage your email subscriptions, visit: https://lab.dpdk.org/results/dashboard/preferences/subscriptions/