* |SUCCESS| pw106604 [PATCH] net/ice: display/reset VF stats on DCF representor
[not found] <20220127092157.372176-1-ke1x.zhang@intel.com>
@ 2022-01-27 9:26 ` checkpatch
2022-01-27 10:59 ` 0-day Robot
1 sibling, 0 replies; 8+ messages in thread
From: checkpatch @ 2022-01-27 9:26 UTC (permalink / raw)
To: test-report
Test-Label: checkpatch
Test-Status: SUCCESS
http://dpdk.org/patch/106604
_coding style OK_
^ permalink raw reply [flat|nested] 8+ messages in thread
* |SUCCESS| pw106604 [PATCH] net/ice: display/reset VF stats on DCF representor
[not found] <20220127092157.372176-1-ke1x.zhang@intel.com>
2022-01-27 9:26 ` |SUCCESS| pw106604 [PATCH] net/ice: display/reset VF stats on DCF representor checkpatch
@ 2022-01-27 10:59 ` 0-day Robot
1 sibling, 0 replies; 8+ messages in thread
From: 0-day Robot @ 2022-01-27 10:59 UTC (permalink / raw)
To: test-report; +Cc: robot
From: robot@bytheb.org
Test-Label: github-robot: build
Test-Status: SUCCESS
http://patchwork.dpdk.org/patch/106604/
_github build: passed_
Build URL: https://github.com/ovsrobot/dpdk/actions/runs/1755493472
^ permalink raw reply [flat|nested] 8+ messages in thread
* |SUCCESS| pw106604 [PATCH] net/ice: display/reset VF stats on DCF representor
@ 2022-01-27 10:41 dpdklab
0 siblings, 0 replies; 8+ messages in thread
From: dpdklab @ 2022-01-27 10:41 UTC (permalink / raw)
To: Test Report; +Cc: dpdklab, David Marchand, Thomas Monjalon
[-- Attachment #1: Type: text/plain, Size: 1441 bytes --]
Test-Label: iol-aarch64-unit-testing
Test-Status: SUCCESS
http://dpdk.org/patch/106604
_Testing PASS_
Submitter: Ke Zhang <ke1x.zhang@intel.com>
Date: Thursday, January 27 2022 09:21:57
DPDK git baseline: Repo:dpdk
Branch: master
CommitID:5f6bc8a4edc50ba74eb28f974b6ebacdb799a5db
106604 --> testing pass
Test environment and result as below:
+-------------------------------+----------------+--------------+
| Environment | dpdk_unit_test | lpm_autotest |
+===============================+================+==============+
| Ubuntu 20.04 ARM GCC Native | PASS | SKIPPED |
+-------------------------------+----------------+--------------+
| Ubuntu 20.04 ARM Clang Native | PASS | SKIPPED |
+-------------------------------+----------------+--------------+
| Ubuntu 20.04 ARM SVE | SKIPPED | PASS |
+-------------------------------+----------------+--------------+
Ubuntu 20.04 ARM GCC Native
Kernel: 5.4.0-53-generic
Compiler: gcc 9.3
Ubuntu 20.04 ARM Clang Native
Kernel: 5.4.0-53-generic
Compiler: clang 10.0.0-4ubuntu1
Ubuntu 20.04 ARM SVE
Kernel: 5.4.0-80-generic
Compiler: gcc 10.3.0 (Ubuntu 10.3.0-1ubuntu1~20.04)
To view detailed results, visit:
https://lab.dpdk.org/results/dashboard/patchsets/20840/
UNH-IOL DPDK Community Lab
To manage your email subscriptions, visit:
https://lab.dpdk.org/results/dashboard/preferences/subscriptions/
^ permalink raw reply [flat|nested] 8+ messages in thread
* |SUCCESS| pw106604 [PATCH] net/ice: display/reset VF stats on DCF representor
@ 2022-01-27 10:40 dpdklab
0 siblings, 0 replies; 8+ messages in thread
From: dpdklab @ 2022-01-27 10:40 UTC (permalink / raw)
To: Test Report; +Cc: dpdklab, David Marchand, Thomas Monjalon
[-- Attachment #1: Type: text/plain, Size: 2134 bytes --]
Test-Label: iol-aarch64-compile-testing
Test-Status: SUCCESS
http://dpdk.org/patch/106604
_Testing PASS_
Submitter: Ke Zhang <ke1x.zhang@intel.com>
Date: Thursday, January 27 2022 09:21:57
DPDK git baseline: Repo:dpdk
Branch: master
CommitID:5f6bc8a4edc50ba74eb28f974b6ebacdb799a5db
106604 --> testing pass
Test environment and result as below:
+----------------------------------------+--------------------+
| Environment | dpdk_meson_compile |
+========================================+====================+
| Ubuntu 20.04 ARM GCC Native | PASS |
+----------------------------------------+--------------------+
| Ubuntu 20.04 ARM Clang Native | PASS |
+----------------------------------------+--------------------+
| Ubuntu 20.04 aarch32 GCC Cross Compile | PASS |
+----------------------------------------+--------------------+
| Ubuntu 20.04 ARM SVE | PASS |
+----------------------------------------+--------------------+
| Ubuntu 20.04 ARM Clang Cross Compile | PASS |
+----------------------------------------+--------------------+
| Ubuntu 20.04 ARM GCC Cross Compile | PASS |
+----------------------------------------+--------------------+
Ubuntu 20.04 ARM GCC Native
Kernel: 5.4.0-53-generic
Compiler: gcc 9.3
Ubuntu 20.04 ARM Clang Native
Kernel: 5.4.0-53-generic
Compiler: clang 10.0.0-4ubuntu1
Ubuntu 20.04 aarch32 GCC Cross Compile
Kernel: 5.4.0-72-generic
Compiler: gcc 9.3.0
Ubuntu 20.04 ARM SVE
Kernel: 5.4.0-80-generic
Compiler: gcc 10.3.0 (Ubuntu 10.3.0-1ubuntu1~20.04)
Ubuntu 20.04 ARM Clang Cross Compile
Kernel: 5.4.0-72-generic
Compiler: clang version 10.0.0-4ubuntu1
Ubuntu 20.04 ARM GCC Cross Compile
Kernel: 5.4.0-72-generic
Compiler: aarch64-linux-gnu-gcc (Ubuntu 9.3.0-17ubuntu1~20.04) 9.3.0
To view detailed results, visit:
https://lab.dpdk.org/results/dashboard/patchsets/20840/
UNH-IOL DPDK Community Lab
To manage your email subscriptions, visit:
https://lab.dpdk.org/results/dashboard/preferences/subscriptions/
^ permalink raw reply [flat|nested] 8+ messages in thread
* |SUCCESS| pw106604 [PATCH] net/ice: display/reset VF stats on DCF representor
@ 2022-01-27 10:05 dpdklab
0 siblings, 0 replies; 8+ messages in thread
From: dpdklab @ 2022-01-27 10:05 UTC (permalink / raw)
To: Test Report; +Cc: dpdk-test-reports, David Marchand, Thomas Monjalon
[-- Attachment #1: Type: text/plain, Size: 984 bytes --]
Test-Label: iol-intel-Functional
Test-Status: SUCCESS
http://dpdk.org/patch/106604
_Functional Testing PASS_
Submitter: Ke Zhang <ke1x.zhang@intel.com>
Date: Thursday, January 27 2022 09:21:57
DPDK git baseline: Repo:dpdk
Branch: master
CommitID:5f6bc8a4edc50ba74eb28f974b6ebacdb799a5db
106604 --> functional testing pass
Test environment and result as below:
Ubuntu 20.04 ARM
Kernel: 4.15.0-132-generic
Compiler: gcc 7.5
NIC: Arm Intel Corporation Ethernet Converged Network Adapter XL710-QDA2 40000 Mbps
Target: x86_64-native-linuxapp-gcc
Fail/Total: 0/2
Ubuntu 20.04
Kernel: 4.15.0-generic
Compiler: gcc 7.4
NIC: Intel Corporation Ethernet Converged Network Adapter XL710-QDA2 40000 Mbps
Target: x86_64-native-linuxapp-gcc
Fail/Total: 0/2
To view detailed results, visit:
https://lab.dpdk.org/results/dashboard/patchsets/20840/
UNH-IOL DPDK Community Lab
To manage your email subscriptions, visit:
https://lab.dpdk.org/results/dashboard/preferences/subscriptions/
^ permalink raw reply [flat|nested] 8+ messages in thread
* |SUCCESS| pw106604 [PATCH] net/ice: display/reset VF stats on DCF representor
@ 2022-01-27 10:00 dpdklab
0 siblings, 0 replies; 8+ messages in thread
From: dpdklab @ 2022-01-27 10:00 UTC (permalink / raw)
To: Test Report; +Cc: dpdk-test-reports, David Marchand, Thomas Monjalon
[-- Attachment #1: Type: text/plain, Size: 1789 bytes --]
Test-Label: iol-intel-Performance
Test-Status: SUCCESS
http://dpdk.org/patch/106604
_Performance Testing PASS_
Submitter: Ke Zhang <ke1x.zhang@intel.com>
Date: Thursday, January 27 2022 09:21:57
DPDK git baseline: Repo:dpdk
Branch: master
CommitID:5f6bc8a4edc50ba74eb28f974b6ebacdb799a5db
106604 --> performance testing pass
Test environment and result as below:
Ubuntu 20.04
Kernel: 4.15.0-generic
Compiler: gcc 7.4
NIC: Intel Corporation Ethernet Converged Network Adapter XL710-QDA2 40000 Mbps
Target: x86_64-native-linuxapp-gcc
Fail/Total: 0/4
Detail performance results:
+----------+-------------+---------+------------+------------------------------+
| num_cpus | num_threads | txd/rxd | frame_size | throughput difference from |
| | | | | expected |
+==========+=============+=========+============+==============================+
| 1 | 2 | 512 | 64 | 0.7% |
+----------+-------------+---------+------------+------------------------------+
| 1 | 2 | 2048 | 64 | -3.2% |
+----------+-------------+---------+------------+------------------------------+
| 1 | 1 | 512 | 64 | 1.8% |
+----------+-------------+---------+------------+------------------------------+
| 1 | 1 | 2048 | 64 | -0.1% |
+----------+-------------+---------+------------+------------------------------+
To view detailed results, visit:
https://lab.dpdk.org/results/dashboard/patchsets/20840/
UNH-IOL DPDK Community Lab
To manage your email subscriptions, visit:
https://lab.dpdk.org/results/dashboard/preferences/subscriptions/
^ permalink raw reply [flat|nested] 8+ messages in thread
* |SUCCESS| pw106604 [PATCH] net/ice: display/reset VF stats on DCF representor
@ 2022-01-27 9:58 dpdklab
0 siblings, 0 replies; 8+ messages in thread
From: dpdklab @ 2022-01-27 9:58 UTC (permalink / raw)
To: Ajit Khaparde, Test Report
Cc: dpdk-test-reports, David Marchand, Thomas Monjalon
[-- Attachment #1: Type: text/plain, Size: 790 bytes --]
Test-Label: iol-broadcom-Functional
Test-Status: SUCCESS
http://dpdk.org/patch/106604
_Functional Testing PASS_
Submitter: Ke Zhang <ke1x.zhang@intel.com>
Date: Thursday, January 27 2022 09:21:57
DPDK git baseline: Repo:dpdk
Branch: master
CommitID:5f6bc8a4edc50ba74eb28f974b6ebacdb799a5db
106604 --> functional testing pass
Test environment and result as below:
Ubuntu 20.04
Kernel: 4.15.0-65-generic
Compiler: gcc gcc (Ubuntu 7.4.0-1ubuntu1~18.04.1) 7.4.0
NIC: Broadcom Inc. brcm_57414 25000 Mbps
Target: x86_64-native-linuxapp-gcc
Fail/Total: 0/3
To view detailed results, visit:
https://lab.dpdk.org/results/dashboard/patchsets/20840/
UNH-IOL DPDK Community Lab
To manage your email subscriptions, visit:
https://lab.dpdk.org/results/dashboard/preferences/subscriptions/
^ permalink raw reply [flat|nested] 8+ messages in thread
* |SUCCESS| pw106604 [PATCH] net/ice: display/reset VF stats on DCF representor
@ 2022-01-27 9:52 dpdklab
0 siblings, 0 replies; 8+ messages in thread
From: dpdklab @ 2022-01-27 9:52 UTC (permalink / raw)
To: Test Report; +Cc: dpdk-test-reports, David Marchand, Thomas Monjalon
[-- Attachment #1: Type: text/plain, Size: 797 bytes --]
Test-Label: iol-intel-Functional
Test-Status: SUCCESS
http://dpdk.org/patch/106604
_Functional Testing PASS_
Submitter: Ke Zhang <ke1x.zhang@intel.com>
Date: Thursday, January 27 2022 09:21:57
DPDK git baseline: Repo:dpdk
Branch: master
CommitID:5f6bc8a4edc50ba74eb28f974b6ebacdb799a5db
106604 --> functional testing pass
Test environment and result as below:
Ubuntu 20.04 ARM
Kernel: 4.15.0-132-generic
Compiler: gcc 7.5
NIC: Arm Intel Corporation Ethernet Converged Network Adapter XL710-QDA2 40000 Mbps
Target: x86_64-native-linuxapp-gcc
Fail/Total: 0/2
To view detailed results, visit:
https://lab.dpdk.org/results/dashboard/patchsets/20840/
UNH-IOL DPDK Community Lab
To manage your email subscriptions, visit:
https://lab.dpdk.org/results/dashboard/preferences/subscriptions/
^ permalink raw reply [flat|nested] 8+ messages in thread
end of thread, other threads:[~2022-01-27 10:41 UTC | newest]
Thread overview: 8+ messages (download: mbox.gz / follow: Atom feed)
-- links below jump to the message on this page --
[not found] <20220127092157.372176-1-ke1x.zhang@intel.com>
2022-01-27 9:26 ` |SUCCESS| pw106604 [PATCH] net/ice: display/reset VF stats on DCF representor checkpatch
2022-01-27 10:59 ` 0-day Robot
2022-01-27 10:41 dpdklab
-- strict thread matches above, loose matches on Subject: below --
2022-01-27 10:40 dpdklab
2022-01-27 10:05 dpdklab
2022-01-27 10:00 dpdklab
2022-01-27 9:58 dpdklab
2022-01-27 9:52 dpdklab
This is a public inbox, see mirroring instructions
for how to clone and mirror all data and code used for this inbox;
as well as URLs for NNTP newsgroup(s).