* |SUCCESS| pw107280-107284 [PATCH] [v6, 5/5] crypto: modify return value for asym session create
@ 2022-02-10 19:18 dpdklab
0 siblings, 0 replies; 10+ messages in thread
From: dpdklab @ 2022-02-10 19:18 UTC (permalink / raw)
To: Test Report; +Cc: dpdk-test-reports, David Marchand, Thomas Monjalon
[-- Attachment #1: Type: text/plain, Size: 4186 bytes --]
Test-Label: iol-intel-Performance
Test-Status: SUCCESS
http://dpdk.org/patch/107284
_Performance Testing PASS_
Submitter: Ciara Power <ciara.power@intel.com>
Date: Thursday, February 10 2022 15:54:04
DPDK git baseline: Repo:dpdk
Branch: master
CommitID:6e97b5fc1ada1501852e12de84c8514db248929d
107280-107284 --> performance testing pass
Test environment and result as below:
Ubuntu 20.04 ARM
Kernel: 4.15.0-132-generic
Compiler: gcc 7.5
NIC: Arm Intel Corporation Ethernet Converged Network Adapter XL710-QDA2 40000 Mbps
Target: x86_64-native-linuxapp-gcc
Fail/Total: 0/2
Detail performance results:
+------------+---------+----------+-------------+------------------------------+
| frame_size | txd/rxd | num_cpus | num_threads | throughput difference from |
| | | | | expected |
+============+=========+==========+=============+==============================+
| 64 | 512 | 1 | 1 | 0.8% |
+------------+---------+----------+-------------+------------------------------+
| 64 | 2048 | 1 | 1 | 4.6% |
+------------+---------+----------+-------------+------------------------------+
Ubuntu 20.04
Kernel: 4.15.0-generic
Compiler: gcc 7.4
NIC: Intel Corporation Ethernet Converged Network Adapter XL710-QDA2 40000 Mbps
Target: x86_64-native-linuxapp-gcc
Fail/Total: 0/4
Detail performance results:
+----------+-------------+---------+------------+------------------------------+
| num_cpus | num_threads | txd/rxd | frame_size | throughput difference from |
| | | | | expected |
+==========+=============+=========+============+==============================+
| 1 | 2 | 512 | 64 | -0.1% |
+----------+-------------+---------+------------+------------------------------+
| 1 | 2 | 2048 | 64 | -0.6% |
+----------+-------------+---------+------------+------------------------------+
| 1 | 1 | 512 | 64 | -1.3% |
+----------+-------------+---------+------------+------------------------------+
| 1 | 1 | 2048 | 64 | -0.1% |
+----------+-------------+---------+------------+------------------------------+
Ubuntu 20.04
Kernel: 4.15.0-generic
Compiler: gcc 7.4
NIC: Intel Corporation Ethernet Converged Network Adapter 82599ES 10000 Mbps
Target: x86_64-native-linuxapp-gcc
Fail/Total: 0/6
Detail performance results:
+----------+-------------+---------+------------+------------------------------+
| num_cpus | num_threads | txd/rxd | frame_size | throughput difference from |
| | | | | expected |
+==========+=============+=========+============+==============================+
| 1 | 2 | 128 | 64 | 0.2% |
+----------+-------------+---------+------------+------------------------------+
| 1 | 2 | 512 | 64 | 0.2% |
+----------+-------------+---------+------------+------------------------------+
| 1 | 2 | 2048 | 64 | -0.1% |
+----------+-------------+---------+------------+------------------------------+
| 1 | 1 | 128 | 64 | 0.2% |
+----------+-------------+---------+------------+------------------------------+
| 1 | 1 | 512 | 64 | 0.1% |
+----------+-------------+---------+------------+------------------------------+
| 1 | 1 | 2048 | 64 | -0.4% |
+----------+-------------+---------+------------+------------------------------+
To view detailed results, visit:
https://lab.dpdk.org/results/dashboard/patchsets/21016/
UNH-IOL DPDK Community Lab
To manage your email subscriptions, visit:
https://lab.dpdk.org/results/dashboard/preferences/subscriptions/
^ permalink raw reply [flat|nested] 10+ messages in thread
* |SUCCESS| pw107280-107284 [PATCH] [v6, 5/5] crypto: modify return value for asym session create
@ 2022-02-11 13:20 dpdklab
0 siblings, 0 replies; 10+ messages in thread
From: dpdklab @ 2022-02-11 13:20 UTC (permalink / raw)
To: Test Report; +Cc: dpdklab, David Marchand, Thomas Monjalon
[-- Attachment #1: Type: text/plain, Size: 3086 bytes --]
Test-Label: iol-abi-testing
Test-Status: SUCCESS
http://dpdk.org/patch/107284
_Testing PASS_
Submitter: Ciara Power <ciara.power@intel.com>
Date: Thursday, February 10 2022 15:54:04
DPDK git baseline: Repo:dpdk
Branch: master
CommitID:6e97b5fc1ada1501852e12de84c8514db248929d
107280-107284 --> testing pass
Test environment and result as below:
+-----------------------------+----------+
| Environment | abi_test |
+=============================+==========+
| RHEL8 | PASS |
+-----------------------------+----------+
| RHEL 7 | PASS |
+-----------------------------+----------+
| Ubuntu 20.04 ARM GCC Native | PASS |
+-----------------------------+----------+
| Ubuntu 18.04 | PASS |
+-----------------------------+----------+
| CentOS 8 | PASS |
+-----------------------------+----------+
| Ubuntu 20.04 | PASS |
+-----------------------------+----------+
| Fedora 33 | PASS |
+-----------------------------+----------+
| Arch Linux | PASS |
+-----------------------------+----------+
| openSUSE Leap 15 | PASS |
+-----------------------------+----------+
| Fedora 34 | PASS |
+-----------------------------+----------+
| Fedora 34 clang | PASS |
+-----------------------------+----------+
| Fedora 31 | PASS |
+-----------------------------+----------+
| Fedora 32 | PASS |
+-----------------------------+----------+
| CentOS Stream 8 | PASS |
+-----------------------------+----------+
RHEL8
Kernel: 4.18.0-240.10.1.el8_3.x86_64
Compiler: gcc 8.3.1 20191121 (Red Hat 8.3.1-5)
RHEL 7
Kernel: 4.18.0-240.10.1.el8_3.x86_64
Compiler: gcc 4.8.5 20150623 (Red Hat 4.8.5-44)
Ubuntu 20.04 ARM GCC Native
Kernel: 5.4.0-53-generic
Compiler: gcc 9.3
Ubuntu 18.04
Kernel: 4.18.0-240.10.1.el8_3.x86_64
Compiler: gcc 7.5.0-3ubuntu1~18.04
CentOS 8
Kernel: 4.18.0-240.10.1.el8_3.x86_64
Compiler: gcc 8.3.1 20191121 (Red Hat 8.3.1-5)
Ubuntu 20.04
Kernel: 4.18.0-240.10.1.el8_3.x86_64
Compiler: gcc 9.3.0-17ubuntu1~20.04
Fedora 33
Kernel: 5.4.0-72-generic
Compiler: gcc 10.3.1 20210422 (Red Hat 10.3.1-1)
Arch Linux
Kernel: 5.4.0-73-generic
Compiler: gcc 11.1.0
openSUSE Leap 15
Kernel: 4.18.0-240.10.1.el8_3.x86_64
Compiler: gcc 7.5.0
Fedora 34
Kernel: 5.4.0-72-generic
Compiler: gcc 11.1.1 20210428 (Red Hat 11.1.1-1)
Fedora 34 clang
Kernel: 5.4.0-72-generic
Compiler: clang 12.0.0 (Fedora 12.0.0-0.3.rc1.fc34)
Fedora 31
Kernel: 4.18.0-240.10.1.el8_3.x86_64
Compiler: gcc 9.3.1
Fedora 32
Kernel: 4.18.0-240.10.1.el8_3.x86_64
Compiler: gcc 10.2.1
CentOS Stream 8
Kernel: 4.18.0-240.10.1.el8_3.x86_64
Compiler: gcc 8.4.1 20200928
To view detailed results, visit:
https://lab.dpdk.org/results/dashboard/patchsets/21016/
UNH-IOL DPDK Community Lab
To manage your email subscriptions, visit:
https://lab.dpdk.org/results/dashboard/preferences/subscriptions/
^ permalink raw reply [flat|nested] 10+ messages in thread
* |SUCCESS| pw107280-107284 [PATCH] [v6, 5/5] crypto: modify return value for asym session create
@ 2022-02-10 19:05 dpdklab
0 siblings, 0 replies; 10+ messages in thread
From: dpdklab @ 2022-02-10 19:05 UTC (permalink / raw)
To: Test Report; +Cc: dpdk-test-reports, David Marchand, Thomas Monjalon
[-- Attachment #1: Type: text/plain, Size: 2677 bytes --]
Test-Label: iol-intel-Performance
Test-Status: SUCCESS
http://dpdk.org/patch/107284
_Performance Testing PASS_
Submitter: Ciara Power <ciara.power@intel.com>
Date: Thursday, February 10 2022 15:54:04
DPDK git baseline: Repo:dpdk
Branch: master
CommitID:6e97b5fc1ada1501852e12de84c8514db248929d
107280-107284 --> performance testing pass
Test environment and result as below:
Ubuntu 20.04 ARM
Kernel: 4.15.0-132-generic
Compiler: gcc 7.5
NIC: Arm Intel Corporation Ethernet Converged Network Adapter XL710-QDA2 40000 Mbps
Target: x86_64-native-linuxapp-gcc
Fail/Total: 0/2
Detail performance results:
+------------+---------+----------+-------------+------------------------------+
| frame_size | txd/rxd | num_cpus | num_threads | throughput difference from |
| | | | | expected |
+============+=========+==========+=============+==============================+
| 64 | 512 | 1 | 1 | 0.8% |
+------------+---------+----------+-------------+------------------------------+
| 64 | 2048 | 1 | 1 | 4.6% |
+------------+---------+----------+-------------+------------------------------+
Ubuntu 20.04
Kernel: 4.15.0-generic
Compiler: gcc 7.4
NIC: Intel Corporation Ethernet Converged Network Adapter XL710-QDA2 40000 Mbps
Target: x86_64-native-linuxapp-gcc
Fail/Total: 0/4
Detail performance results:
+----------+-------------+---------+------------+------------------------------+
| num_cpus | num_threads | txd/rxd | frame_size | throughput difference from |
| | | | | expected |
+==========+=============+=========+============+==============================+
| 1 | 2 | 512 | 64 | -0.1% |
+----------+-------------+---------+------------+------------------------------+
| 1 | 2 | 2048 | 64 | -0.6% |
+----------+-------------+---------+------------+------------------------------+
| 1 | 1 | 512 | 64 | -1.3% |
+----------+-------------+---------+------------+------------------------------+
| 1 | 1 | 2048 | 64 | -0.1% |
+----------+-------------+---------+------------+------------------------------+
To view detailed results, visit:
https://lab.dpdk.org/results/dashboard/patchsets/21016/
UNH-IOL DPDK Community Lab
To manage your email subscriptions, visit:
https://lab.dpdk.org/results/dashboard/preferences/subscriptions/
^ permalink raw reply [flat|nested] 10+ messages in thread
* |SUCCESS| pw107280-107284 [PATCH] [v6, 5/5] crypto: modify return value for asym session create
@ 2022-02-10 19:03 dpdklab
0 siblings, 0 replies; 10+ messages in thread
From: dpdklab @ 2022-02-10 19:03 UTC (permalink / raw)
To: Ajit Khaparde, Test Report
Cc: dpdk-test-reports, David Marchand, Thomas Monjalon
[-- Attachment #1: Type: text/plain, Size: 1806 bytes --]
Test-Label: iol-broadcom-Performance
Test-Status: SUCCESS
http://dpdk.org/patch/107284
_Performance Testing PASS_
Submitter: Ciara Power <ciara.power@intel.com>
Date: Thursday, February 10 2022 15:54:04
DPDK git baseline: Repo:dpdk
Branch: master
CommitID:6e97b5fc1ada1501852e12de84c8514db248929d
107280-107284 --> performance testing pass
Test environment and result as below:
Ubuntu 20.04
Kernel: 4.15.0-65-generic
Compiler: gcc gcc (Ubuntu 7.4.0-1ubuntu1~18.04.1) 7.4.0
NIC: Broadcom Inc. brcm_57414 25000 Mbps
Target: x86_64-native-linuxapp-gcc
Fail/Total: 0/4
Detail performance results:
+----------+-------------+---------+------------+------------------------------+
| num_cpus | num_threads | txd/rxd | frame_size | throughput difference from |
| | | | | expected |
+==========+=============+=========+============+==============================+
| 1 | 2 | 512 | 64 | 0.1% |
+----------+-------------+---------+------------+------------------------------+
| 1 | 2 | 2048 | 64 | 0.1% |
+----------+-------------+---------+------------+------------------------------+
| 1 | 1 | 512 | 64 | -0.2% |
+----------+-------------+---------+------------+------------------------------+
| 1 | 1 | 2048 | 64 | 0.1% |
+----------+-------------+---------+------------+------------------------------+
To view detailed results, visit:
https://lab.dpdk.org/results/dashboard/patchsets/21016/
UNH-IOL DPDK Community Lab
To manage your email subscriptions, visit:
https://lab.dpdk.org/results/dashboard/preferences/subscriptions/
^ permalink raw reply [flat|nested] 10+ messages in thread
* |SUCCESS| pw107280-107284 [PATCH] [v6, 5/5] crypto: modify return value for asym session create
@ 2022-02-10 18:58 dpdklab
0 siblings, 0 replies; 10+ messages in thread
From: dpdklab @ 2022-02-10 18:58 UTC (permalink / raw)
To: Test Report; +Cc: dpdk-test-reports, David Marchand, Thomas Monjalon
[-- Attachment #1: Type: text/plain, Size: 1180 bytes --]
Test-Label: iol-intel-Functional
Test-Status: SUCCESS
http://dpdk.org/patch/107284
_Functional Testing PASS_
Submitter: Ciara Power <ciara.power@intel.com>
Date: Thursday, February 10 2022 15:54:04
DPDK git baseline: Repo:dpdk
Branch: master
CommitID:6e97b5fc1ada1501852e12de84c8514db248929d
107280-107284 --> functional testing pass
Test environment and result as below:
Ubuntu 20.04 ARM
Kernel: 4.15.0-132-generic
Compiler: gcc 7.5
NIC: Arm Intel Corporation Ethernet Converged Network Adapter XL710-QDA2 40000 Mbps
Target: x86_64-native-linuxapp-gcc
Fail/Total: 0/2
Ubuntu 20.04
Kernel: 4.15.0-generic
Compiler: gcc 7.4
NIC: Intel Corporation Ethernet Converged Network Adapter XL710-QDA2 40000 Mbps
Target: x86_64-native-linuxapp-gcc
Fail/Total: 0/2
Ubuntu 20.04
Kernel: 4.15.0-generic
Compiler: gcc 7.4
NIC: Intel Corporation Ethernet Converged Network Adapter 82599ES 10000 Mbps
Target: x86_64-native-linuxapp-gcc
Fail/Total: 0/2
To view detailed results, visit:
https://lab.dpdk.org/results/dashboard/patchsets/21016/
UNH-IOL DPDK Community Lab
To manage your email subscriptions, visit:
https://lab.dpdk.org/results/dashboard/preferences/subscriptions/
^ permalink raw reply [flat|nested] 10+ messages in thread
* |SUCCESS| pw107280-107284 [PATCH] [v6, 5/5] crypto: modify return value for asym session create
@ 2022-02-10 18:51 dpdklab
0 siblings, 0 replies; 10+ messages in thread
From: dpdklab @ 2022-02-10 18:51 UTC (permalink / raw)
To: Ajit Khaparde, Test Report
Cc: dpdk-test-reports, David Marchand, Thomas Monjalon
[-- Attachment #1: Type: text/plain, Size: 802 bytes --]
Test-Label: iol-broadcom-Functional
Test-Status: SUCCESS
http://dpdk.org/patch/107284
_Functional Testing PASS_
Submitter: Ciara Power <ciara.power@intel.com>
Date: Thursday, February 10 2022 15:54:04
DPDK git baseline: Repo:dpdk
Branch: master
CommitID:6e97b5fc1ada1501852e12de84c8514db248929d
107280-107284 --> functional testing pass
Test environment and result as below:
Ubuntu 20.04
Kernel: 4.15.0-65-generic
Compiler: gcc gcc (Ubuntu 7.4.0-1ubuntu1~18.04.1) 7.4.0
NIC: Broadcom Inc. brcm_57414 25000 Mbps
Target: x86_64-native-linuxapp-gcc
Fail/Total: 0/3
To view detailed results, visit:
https://lab.dpdk.org/results/dashboard/patchsets/21016/
UNH-IOL DPDK Community Lab
To manage your email subscriptions, visit:
https://lab.dpdk.org/results/dashboard/preferences/subscriptions/
^ permalink raw reply [flat|nested] 10+ messages in thread
* |SUCCESS| pw107280-107284 [PATCH] [v6, 5/5] crypto: modify return value for asym session create
@ 2022-02-10 18:50 dpdklab
0 siblings, 0 replies; 10+ messages in thread
From: dpdklab @ 2022-02-10 18:50 UTC (permalink / raw)
To: Test Report; +Cc: dpdk-test-reports, David Marchand, Thomas Monjalon
[-- Attachment #1: Type: text/plain, Size: 996 bytes --]
Test-Label: iol-intel-Functional
Test-Status: SUCCESS
http://dpdk.org/patch/107284
_Functional Testing PASS_
Submitter: Ciara Power <ciara.power@intel.com>
Date: Thursday, February 10 2022 15:54:04
DPDK git baseline: Repo:dpdk
Branch: master
CommitID:6e97b5fc1ada1501852e12de84c8514db248929d
107280-107284 --> functional testing pass
Test environment and result as below:
Ubuntu 20.04 ARM
Kernel: 4.15.0-132-generic
Compiler: gcc 7.5
NIC: Arm Intel Corporation Ethernet Converged Network Adapter XL710-QDA2 40000 Mbps
Target: x86_64-native-linuxapp-gcc
Fail/Total: 0/2
Ubuntu 20.04
Kernel: 4.15.0-generic
Compiler: gcc 7.4
NIC: Intel Corporation Ethernet Converged Network Adapter XL710-QDA2 40000 Mbps
Target: x86_64-native-linuxapp-gcc
Fail/Total: 0/2
To view detailed results, visit:
https://lab.dpdk.org/results/dashboard/patchsets/21016/
UNH-IOL DPDK Community Lab
To manage your email subscriptions, visit:
https://lab.dpdk.org/results/dashboard/preferences/subscriptions/
^ permalink raw reply [flat|nested] 10+ messages in thread
* |SUCCESS| pw107280-107284 [PATCH] [v6, 5/5] crypto: modify return value for asym session create
@ 2022-02-10 18:48 dpdklab
0 siblings, 0 replies; 10+ messages in thread
From: dpdklab @ 2022-02-10 18:48 UTC (permalink / raw)
To: Test Report; +Cc: dpdk-test-reports, David Marchand, Thomas Monjalon
[-- Attachment #1: Type: text/plain, Size: 1489 bytes --]
Test-Label: iol-intel-Performance
Test-Status: SUCCESS
http://dpdk.org/patch/107284
_Performance Testing PASS_
Submitter: Ciara Power <ciara.power@intel.com>
Date: Thursday, February 10 2022 15:54:04
DPDK git baseline: Repo:dpdk
Branch: master
CommitID:6e97b5fc1ada1501852e12de84c8514db248929d
107280-107284 --> performance testing pass
Test environment and result as below:
Ubuntu 20.04 ARM
Kernel: 4.15.0-132-generic
Compiler: gcc 7.5
NIC: Arm Intel Corporation Ethernet Converged Network Adapter XL710-QDA2 40000 Mbps
Target: x86_64-native-linuxapp-gcc
Fail/Total: 0/2
Detail performance results:
+------------+---------+----------+-------------+------------------------------+
| frame_size | txd/rxd | num_cpus | num_threads | throughput difference from |
| | | | | expected |
+============+=========+==========+=============+==============================+
| 64 | 512 | 1 | 1 | 0.8% |
+------------+---------+----------+-------------+------------------------------+
| 64 | 2048 | 1 | 1 | 4.6% |
+------------+---------+----------+-------------+------------------------------+
To view detailed results, visit:
https://lab.dpdk.org/results/dashboard/patchsets/21016/
UNH-IOL DPDK Community Lab
To manage your email subscriptions, visit:
https://lab.dpdk.org/results/dashboard/preferences/subscriptions/
^ permalink raw reply [flat|nested] 10+ messages in thread
* |SUCCESS| pw107280-107284 [PATCH] [v6, 5/5] crypto: modify return value for asym session create
@ 2022-02-10 18:47 dpdklab
0 siblings, 0 replies; 10+ messages in thread
From: dpdklab @ 2022-02-10 18:47 UTC (permalink / raw)
To: Ali Alnubani, Test Report
Cc: dpdk-test-reports, David Marchand, Thomas Monjalon
[-- Attachment #1: Type: text/plain, Size: 2085 bytes --]
Test-Label: iol-mellanox-Performance
Test-Status: SUCCESS
http://dpdk.org/patch/107284
_Performance Testing PASS_
Submitter: Ciara Power <ciara.power@intel.com>
Date: Thursday, February 10 2022 15:54:04
DPDK git baseline: Repo:dpdk
Branch: master
CommitID:6e97b5fc1ada1501852e12de84c8514db248929d
107280-107284 --> performance testing pass
Test environment and result as below:
Ubuntu 20.04
Kernel: 4.15.0-generic
Compiler: gcc 7.4
NIC: Mellanox ConnectX-5 100000 Mbps
Target: x86_64-native-linuxapp-gcc
Fail/Total: 0/6
Detail performance results:
+------------+---------+----------+-------------+------------------------------+
| frame_size | txd/rxd | num_cpus | num_threads | throughput difference from |
| | | | | expected |
+============+=========+==========+=============+==============================+
| 64 | 256 | 1 | 1 | 0.4% |
+------------+---------+----------+-------------+------------------------------+
| 128 | 256 | 1 | 1 | -0.0% |
+------------+---------+----------+-------------+------------------------------+
| 1024 | 256 | 1 | 1 | -0.2% |
+------------+---------+----------+-------------+------------------------------+
| 256 | 256 | 1 | 1 | 0.1% |
+------------+---------+----------+-------------+------------------------------+
| 1518 | 256 | 1 | 1 | -0.1% |
+------------+---------+----------+-------------+------------------------------+
| 512 | 256 | 1 | 1 | -0.2% |
+------------+---------+----------+-------------+------------------------------+
To view detailed results, visit:
https://lab.dpdk.org/results/dashboard/patchsets/21016/
UNH-IOL DPDK Community Lab
To manage your email subscriptions, visit:
https://lab.dpdk.org/results/dashboard/preferences/subscriptions/
^ permalink raw reply [flat|nested] 10+ messages in thread
* |SUCCESS| pw107280-107284 [PATCH] [v6, 5/5] crypto: modify return value for asym session create
@ 2022-02-10 18:41 dpdklab
0 siblings, 0 replies; 10+ messages in thread
From: dpdklab @ 2022-02-10 18:41 UTC (permalink / raw)
To: Test Report; +Cc: dpdk-test-reports, David Marchand, Thomas Monjalon
[-- Attachment #1: Type: text/plain, Size: 809 bytes --]
Test-Label: iol-intel-Functional
Test-Status: SUCCESS
http://dpdk.org/patch/107284
_Functional Testing PASS_
Submitter: Ciara Power <ciara.power@intel.com>
Date: Thursday, February 10 2022 15:54:04
DPDK git baseline: Repo:dpdk
Branch: master
CommitID:6e97b5fc1ada1501852e12de84c8514db248929d
107280-107284 --> functional testing pass
Test environment and result as below:
Ubuntu 20.04 ARM
Kernel: 4.15.0-132-generic
Compiler: gcc 7.5
NIC: Arm Intel Corporation Ethernet Converged Network Adapter XL710-QDA2 40000 Mbps
Target: x86_64-native-linuxapp-gcc
Fail/Total: 0/2
To view detailed results, visit:
https://lab.dpdk.org/results/dashboard/patchsets/21016/
UNH-IOL DPDK Community Lab
To manage your email subscriptions, visit:
https://lab.dpdk.org/results/dashboard/preferences/subscriptions/
^ permalink raw reply [flat|nested] 10+ messages in thread
end of thread, other threads:[~2022-02-11 13:21 UTC | newest]
Thread overview: 10+ messages (download: mbox.gz / follow: Atom feed)
-- links below jump to the message on this page --
2022-02-10 19:18 |SUCCESS| pw107280-107284 [PATCH] [v6, 5/5] crypto: modify return value for asym session create dpdklab
-- strict thread matches above, loose matches on Subject: below --
2022-02-11 13:20 dpdklab
2022-02-10 19:05 dpdklab
2022-02-10 19:03 dpdklab
2022-02-10 18:58 dpdklab
2022-02-10 18:51 dpdklab
2022-02-10 18:50 dpdklab
2022-02-10 18:48 dpdklab
2022-02-10 18:47 dpdklab
2022-02-10 18:41 dpdklab
This is a public inbox, see mirroring instructions
for how to clone and mirror all data and code used for this inbox;
as well as URLs for NNTP newsgroup(s).