* |SUCCESS| pw108629 [PATCH] app/testpmd: fix flex item input link parsing
@ 2022-03-11 4:55 dpdklab
0 siblings, 0 replies; 6+ messages in thread
From: dpdklab @ 2022-03-11 4:55 UTC (permalink / raw)
To: Test Report; +Cc: dpdk-test-reports, David Marchand, Thomas Monjalon
[-- Attachment #1: Type: text/plain, Size: 3078 bytes --]
Test-Label: iol-abi-testing
Test-Status: SUCCESS
http://dpdk.org/patch/108629
_Testing PASS_
Submitter: Gregory Etelson <getelson@nvidia.com>
Date: Thursday, March 10 2022 05:59:53
DPDK git baseline: Repo:dpdk
Branch: master
CommitID:312b94ef884f0cf4ee42dde36acf23a41172794d
108629 --> testing pass
Test environment and result as below:
+-----------------------------+----------+
| Environment | abi_test |
+=============================+==========+
| Ubuntu 20.04 ARM GCC Native | PASS |
+-----------------------------+----------+
| Fedora 34 | PASS |
+-----------------------------+----------+
| RHEL 7 | PASS |
+-----------------------------+----------+
| openSUSE Leap 15 | PASS |
+-----------------------------+----------+
| Fedora 33 | PASS |
+-----------------------------+----------+
| CentOS Stream 8 | PASS |
+-----------------------------+----------+
| Fedora 31 | PASS |
+-----------------------------+----------+
| RHEL8 | PASS |
+-----------------------------+----------+
| Fedora 34 clang | PASS |
+-----------------------------+----------+
| Ubuntu 20.04 | PASS |
+-----------------------------+----------+
| Ubuntu 18.04 | PASS |
+-----------------------------+----------+
| CentOS 8 | PASS |
+-----------------------------+----------+
| Fedora 32 | PASS |
+-----------------------------+----------+
| Arch Linux | PASS |
+-----------------------------+----------+
Ubuntu 20.04 ARM GCC Native
Kernel: 5.4.0-53-generic
Compiler: gcc 9.3
Fedora 34
Kernel: 5.4.0-72-generic
Compiler: gcc 11.1.1 20210428 (Red Hat 11.1.1-1)
RHEL 7
Kernel: 4.18.0-240.10.1.el8_3.x86_64
Compiler: gcc 4.8.5 20150623 (Red Hat 4.8.5-44)
openSUSE Leap 15
Kernel: 4.18.0-240.10.1.el8_3.x86_64
Compiler: gcc 7.5.0
Fedora 33
Kernel: 5.4.0-72-generic
Compiler: gcc 10.3.1 20210422 (Red Hat 10.3.1-1)
CentOS Stream 8
Kernel: 4.18.0-240.10.1.el8_3.x86_64
Compiler: gcc 8.4.1 20200928
Fedora 31
Kernel: 4.18.0-240.10.1.el8_3.x86_64
Compiler: gcc 9.3.1
RHEL8
Kernel: 4.18.0-240.10.1.el8_3.x86_64
Compiler: gcc 8.3.1 20191121 (Red Hat 8.3.1-5)
Fedora 34 clang
Kernel: 5.4.0-72-generic
Compiler: clang 12.0.0 (Fedora 12.0.0-0.3.rc1.fc34)
Ubuntu 20.04
Kernel: 4.18.0-240.10.1.el8_3.x86_64
Compiler: gcc 9.3.0-17ubuntu1~20.04
Ubuntu 18.04
Kernel: 4.18.0-240.10.1.el8_3.x86_64
Compiler: gcc 7.5.0-3ubuntu1~18.04
CentOS 8
Kernel: 4.18.0-240.10.1.el8_3.x86_64
Compiler: gcc 8.3.1 20191121 (Red Hat 8.3.1-5)
Fedora 32
Kernel: 4.18.0-240.10.1.el8_3.x86_64
Compiler: gcc 10.2.1
Arch Linux
Kernel: 5.4.0-73-generic
Compiler: gcc 11.1.0
To view detailed results, visit:
https://lab.dpdk.org/results/dashboard/patchsets/21457/
UNH-IOL DPDK Community Lab
To manage your email subscriptions, visit:
https://lab.dpdk.org/results/dashboard/preferences/subscriptions/
^ permalink raw reply [flat|nested] 6+ messages in thread
* |SUCCESS| pw108629 [PATCH] app/testpmd: fix flex item input link parsing
@ 2022-03-10 8:03 dpdklab
0 siblings, 0 replies; 6+ messages in thread
From: dpdklab @ 2022-03-10 8:03 UTC (permalink / raw)
To: Test Report; +Cc: dpdk-test-reports, David Marchand, Thomas Monjalon
[-- Attachment #1: Type: text/plain, Size: 985 bytes --]
Test-Label: iol-intel-Functional
Test-Status: SUCCESS
http://dpdk.org/patch/108629
_Functional Testing PASS_
Submitter: Gregory Etelson <getelson@nvidia.com>
Date: Thursday, March 10 2022 05:59:53
DPDK git baseline: Repo:dpdk
Branch: master
CommitID:312b94ef884f0cf4ee42dde36acf23a41172794d
108629 --> functional testing pass
Test environment and result as below:
Ubuntu 20.04 ARM
Kernel: 4.15.0-132-generic
Compiler: gcc 7.5
NIC: Arm Intel Corporation Ethernet Converged Network Adapter XL710-QDA2 40000 Mbps
Target: x86_64-native-linuxapp-gcc
Fail/Total: 0/2
Ubuntu 20.04
Kernel: 4.15.0-generic
Compiler: gcc 7.4
NIC: Intel Corporation Ethernet Converged Network Adapter 82599ES 10000 Mbps
Target: x86_64-native-linuxapp-gcc
Fail/Total: 0/2
To view detailed results, visit:
https://lab.dpdk.org/results/dashboard/patchsets/21457/
UNH-IOL DPDK Community Lab
To manage your email subscriptions, visit:
https://lab.dpdk.org/results/dashboard/preferences/subscriptions/
^ permalink raw reply [flat|nested] 6+ messages in thread
* |SUCCESS| pw108629 [PATCH] app/testpmd: fix flex item input link parsing
[not found] <20220310055953.32380-1-getelson@nvidia.com>
2022-03-10 6:02 ` checkpatch
@ 2022-03-10 8:00 ` 0-day Robot
1 sibling, 0 replies; 6+ messages in thread
From: 0-day Robot @ 2022-03-10 8:00 UTC (permalink / raw)
To: test-report; +Cc: robot
From: robot@bytheb.org
Test-Label: github-robot: build
Test-Status: SUCCESS
http://patchwork.dpdk.org/patch/108629/
_github build: passed_
Build URL: https://github.com/ovsrobot/dpdk/actions/runs/1961515921
^ permalink raw reply [flat|nested] 6+ messages in thread
* |SUCCESS| pw108629 [PATCH] app/testpmd: fix flex item input link parsing
@ 2022-03-10 6:43 dpdklab
0 siblings, 0 replies; 6+ messages in thread
From: dpdklab @ 2022-03-10 6:43 UTC (permalink / raw)
To: Test Report; +Cc: dpdk-test-reports, David Marchand, Thomas Monjalon
[-- Attachment #1: Type: text/plain, Size: 801 bytes --]
Test-Label: iol-intel-Functional
Test-Status: SUCCESS
http://dpdk.org/patch/108629
_Functional Testing PASS_
Submitter: Gregory Etelson <getelson@nvidia.com>
Date: Thursday, March 10 2022 05:59:53
DPDK git baseline: Repo:dpdk
Branch: master
CommitID:312b94ef884f0cf4ee42dde36acf23a41172794d
108629 --> functional testing pass
Test environment and result as below:
Ubuntu 20.04 ARM
Kernel: 4.15.0-132-generic
Compiler: gcc 7.5
NIC: Arm Intel Corporation Ethernet Converged Network Adapter XL710-QDA2 40000 Mbps
Target: x86_64-native-linuxapp-gcc
Fail/Total: 0/2
To view detailed results, visit:
https://lab.dpdk.org/results/dashboard/patchsets/21457/
UNH-IOL DPDK Community Lab
To manage your email subscriptions, visit:
https://lab.dpdk.org/results/dashboard/preferences/subscriptions/
^ permalink raw reply [flat|nested] 6+ messages in thread
* |SUCCESS| pw108629 [PATCH] app/testpmd: fix flex item input link parsing
@ 2022-03-10 6:38 dpdklab
0 siblings, 0 replies; 6+ messages in thread
From: dpdklab @ 2022-03-10 6:38 UTC (permalink / raw)
To: Ali Alnubani, Test Report
Cc: dpdk-test-reports, David Marchand, Thomas Monjalon
[-- Attachment #1: Type: text/plain, Size: 2077 bytes --]
Test-Label: iol-mellanox-Performance
Test-Status: SUCCESS
http://dpdk.org/patch/108629
_Performance Testing PASS_
Submitter: Gregory Etelson <getelson@nvidia.com>
Date: Thursday, March 10 2022 05:59:53
DPDK git baseline: Repo:dpdk
Branch: master
CommitID:312b94ef884f0cf4ee42dde36acf23a41172794d
108629 --> performance testing pass
Test environment and result as below:
Ubuntu 20.04
Kernel: 4.15.0-generic
Compiler: gcc 7.4
NIC: Mellanox ConnectX-5 100000 Mbps
Target: x86_64-native-linuxapp-gcc
Fail/Total: 0/6
Detail performance results:
+------------+---------+----------+-------------+------------------------------+
| frame_size | txd/rxd | num_cpus | num_threads | throughput difference from |
| | | | | expected |
+============+=========+==========+=============+==============================+
| 64 | 256 | 1 | 1 | -0.1% |
+------------+---------+----------+-------------+------------------------------+
| 128 | 256 | 1 | 1 | -0.2% |
+------------+---------+----------+-------------+------------------------------+
| 1024 | 256 | 1 | 1 | -0.2% |
+------------+---------+----------+-------------+------------------------------+
| 256 | 256 | 1 | 1 | 0.2% |
+------------+---------+----------+-------------+------------------------------+
| 1518 | 256 | 1 | 1 | -0.1% |
+------------+---------+----------+-------------+------------------------------+
| 512 | 256 | 1 | 1 | -0.1% |
+------------+---------+----------+-------------+------------------------------+
To view detailed results, visit:
https://lab.dpdk.org/results/dashboard/patchsets/21457/
UNH-IOL DPDK Community Lab
To manage your email subscriptions, visit:
https://lab.dpdk.org/results/dashboard/preferences/subscriptions/
^ permalink raw reply [flat|nested] 6+ messages in thread
* |SUCCESS| pw108629 [PATCH] app/testpmd: fix flex item input link parsing
[not found] <20220310055953.32380-1-getelson@nvidia.com>
@ 2022-03-10 6:02 ` checkpatch
2022-03-10 8:00 ` 0-day Robot
1 sibling, 0 replies; 6+ messages in thread
From: checkpatch @ 2022-03-10 6:02 UTC (permalink / raw)
To: test-report
Test-Label: checkpatch
Test-Status: SUCCESS
http://dpdk.org/patch/108629
_coding style OK_
^ permalink raw reply [flat|nested] 6+ messages in thread
end of thread, other threads:[~2022-03-11 4:55 UTC | newest]
Thread overview: 6+ messages (download: mbox.gz / follow: Atom feed)
-- links below jump to the message on this page --
2022-03-11 4:55 |SUCCESS| pw108629 [PATCH] app/testpmd: fix flex item input link parsing dpdklab
-- strict thread matches above, loose matches on Subject: below --
2022-03-10 8:03 dpdklab
2022-03-10 6:43 dpdklab
2022-03-10 6:38 dpdklab
[not found] <20220310055953.32380-1-getelson@nvidia.com>
2022-03-10 6:02 ` checkpatch
2022-03-10 8:00 ` 0-day Robot
This is a public inbox, see mirroring instructions
for how to clone and mirror all data and code used for this inbox;
as well as URLs for NNTP newsgroup(s).