* |WARNING| pw111007 [PATCH v4] app/testpmd: fix port status of slave device
[not found] <20220511021434.40565-1-humin29@huawei.com>
@ 2022-05-11 2:16 ` checkpatch
2022-05-11 3:59 ` |SUCCESS| " 0-day Robot
1 sibling, 0 replies; 13+ messages in thread
From: checkpatch @ 2022-05-11 2:16 UTC (permalink / raw)
To: test-report; +Cc: Min Hu (Connor)
Test-Label: checkpatch
Test-Status: WARNING
http://dpdk.org/patch/111007
_coding style issues_
WARNING:TYPO_SPELLING: 'slave' may be misspelled - perhaps 'secondary'?
#33:
Subject: [PATCH v4] app/testpmd: fix port status of slave device
WARNING:TYPO_SPELLING: 'slaves' may be misspelled - perhaps 'secondaries'?
#59:
Starting or stopping a bonded port also starts or stops all active slaves
WARNING:TYPO_SPELLING: 'slaves' may be misspelled - perhaps 'secondaries'?
#61:
the port status of all slaves.
WARNING:TYPO_SPELLING: 'slave' may be misspelled - perhaps 'secondary'?
#109: FILE: app/test-pmd/testpmd.c:604:
+change_bonding_slave_port_status(portid_t bond_pid, bool is_stop)
WARNING:TYPO_SPELLING: 'slave' may be misspelled - perhaps 'secondary'?
#113: FILE: app/test-pmd/testpmd.c:608:
+ portid_t slave_pids[RTE_MAX_ETHPORTS];
WARNING:TYPO_SPELLING: 'slaves' may be misspelled - perhaps 'secondaries'?
#115: FILE: app/test-pmd/testpmd.c:610:
+ int num_slaves;
WARNING:TYPO_SPELLING: 'slave' may be misspelled - perhaps 'secondary'?
#116: FILE: app/test-pmd/testpmd.c:611:
+ portid_t slave_pid;
WARNING:TYPO_SPELLING: 'slaves' may be misspelled - perhaps 'secondaries'?
#119: FILE: app/test-pmd/testpmd.c:614:
+ num_slaves = rte_eth_bond_slaves_get(bond_pid, slave_pids,
WARNING:TYPO_SPELLING: 'slaves' may be misspelled - perhaps 'secondaries'?
#119: FILE: app/test-pmd/testpmd.c:614:
+ num_slaves = rte_eth_bond_slaves_get(bond_pid, slave_pids,
WARNING:TYPO_SPELLING: 'slave' may be misspelled - perhaps 'secondary'?
#119: FILE: app/test-pmd/testpmd.c:614:
+ num_slaves = rte_eth_bond_slaves_get(bond_pid, slave_pids,
WARNING:TYPO_SPELLING: 'slaves' may be misspelled - perhaps 'secondaries'?
#121: FILE: app/test-pmd/testpmd.c:616:
+ if (num_slaves < 0) {
WARNING:TYPO_SPELLING: 'slave' may be misspelled - perhaps 'secondary'?
#122: FILE: app/test-pmd/testpmd.c:617:
+ fprintf(stderr, "Failed to get slave list for port = %u
",
WARNING:TYPO_SPELLING: 'slaves' may be misspelled - perhaps 'secondaries'?
#124: FILE: app/test-pmd/testpmd.c:619:
+ return num_slaves;
WARNING:TYPO_SPELLING: 'slaves' may be misspelled - perhaps 'secondaries'?
#127: FILE: app/test-pmd/testpmd.c:622:
+ for (i = 0; i < num_slaves; i++) {
WARNING:TYPO_SPELLING: 'slave' may be misspelled - perhaps 'secondary'?
#128: FILE: app/test-pmd/testpmd.c:623:
+ slave_pid = slave_pids[i];
WARNING:TYPO_SPELLING: 'slave' may be misspelled - perhaps 'secondary'?
#128: FILE: app/test-pmd/testpmd.c:623:
+ slave_pid = slave_pids[i];
WARNING:TYPO_SPELLING: 'slave' may be misspelled - perhaps 'secondary'?
#129: FILE: app/test-pmd/testpmd.c:624:
+ port = &ports[slave_pid];
WARNING:TYPO_SPELLING: 'slaves' may be misspelled - perhaps 'secondaries'?
#155: FILE: app/test-pmd/testpmd.c:648:
+ * Starting a bonded port also starts all slaves under the bonded
WARNING:TYPO_SPELLING: 'slaves' may be misspelled - perhaps 'secondaries'?
#157: FILE: app/test-pmd/testpmd.c:650:
+ * port status of these slaves.
WARNING:TYPO_SPELLING: 'slave' may be misspelled - perhaps 'secondary'?
#160: FILE: app/test-pmd/testpmd.c:653:
+ return change_bonding_slave_port_status(port_id, false);
WARNING:TYPO_SPELLING: 'slaves' may be misspelled - perhaps 'secondaries'?
#181: FILE: app/test-pmd/testpmd.c:672:
+ * Stopping a bonded port also stops all slaves under the bonded
WARNING:TYPO_SPELLING: 'slaves' may be misspelled - perhaps 'secondaries'?
#183: FILE: app/test-pmd/testpmd.c:674:
+ * port status of these slaves.
WARNING:TYPO_SPELLING: 'slave' may be misspelled - perhaps 'secondary'?
#186: FILE: app/test-pmd/testpmd.c:677:
+ return change_bonding_slave_port_status(port_id, true);
WARNING:TYPO_SPELLING: 'slave' may be misspelled - perhaps 'secondary'?
#200: FILE: app/test-pmd/testpmd.h:269:
+ uint8_t slave_flag : 1, /**< bonding slave port */
WARNING:TYPO_SPELLING: 'slave' may be misspelled - perhaps 'secondary'?
#200: FILE: app/test-pmd/testpmd.h:269:
+ uint8_t slave_flag : 1, /**< bonding slave port */
total: 0 errors, 25 warnings, 110 lines checked
^ permalink raw reply [flat|nested] 13+ messages in thread
* |SUCCESS| pw111007 [PATCH v4] app/testpmd: fix port status of slave device
[not found] <20220511021434.40565-1-humin29@huawei.com>
2022-05-11 2:16 ` |WARNING| pw111007 [PATCH v4] app/testpmd: fix port status of slave device checkpatch
@ 2022-05-11 3:59 ` 0-day Robot
1 sibling, 0 replies; 13+ messages in thread
From: 0-day Robot @ 2022-05-11 3:59 UTC (permalink / raw)
To: test-report; +Cc: robot
From: robot@bytheb.org
Test-Label: github-robot: build
Test-Status: SUCCESS
http://patchwork.dpdk.org/patch/111007/
_github build: passed_
Build URL: https://github.com/ovsrobot/dpdk/actions/runs/2304500877
^ permalink raw reply [flat|nested] 13+ messages in thread
* |SUCCESS| pw111007 [PATCH] [v4] app/testpmd: fix port status of slave device
@ 2022-05-11 4:18 dpdklab
0 siblings, 0 replies; 13+ messages in thread
From: dpdklab @ 2022-05-11 4:18 UTC (permalink / raw)
To: Test Report; +Cc: dpdk-test-reports, David Marchand, Thomas Monjalon
[-- Attachment #1: Type: text/plain, Size: 4050 bytes --]
Test-Label: iol-x86_64-compile-testing
Test-Status: SUCCESS
http://dpdk.org/patch/111007
_Testing PASS_
Submitter: Min Hu (Connor) <humin29@huawei.com>
Date: Wednesday, May 11 2022 02:14:34
DPDK git baseline: Repo:dpdk
Branch: master
CommitID:36db4a1ad46448a2610133b021677ce6a0e0534e
111007 --> testing pass
Test environment and result as below:
+---------------------+--------------------+----------------------+
| Environment | dpdk_meson_compile | dpdk_mingw64_compile |
+=====================+====================+======================+
| Windows Server 2019 | PASS | PASS |
+---------------------+--------------------+----------------------+
| FreeBSD 13 | PASS | SKIPPED |
+---------------------+--------------------+----------------------+
| openSUSE Leap 15 | PASS | SKIPPED |
+---------------------+--------------------+----------------------+
| Ubuntu 20.04 | PASS | SKIPPED |
+---------------------+--------------------+----------------------+
| Ubuntu 18.04 | PASS | SKIPPED |
+---------------------+--------------------+----------------------+
| RHEL8 | PASS | SKIPPED |
+---------------------+--------------------+----------------------+
| CentOS Stream 8 | PASS | SKIPPED |
+---------------------+--------------------+----------------------+
| Fedora 31 | PASS | SKIPPED |
+---------------------+--------------------+----------------------+
| Fedora 34 | PASS | SKIPPED |
+---------------------+--------------------+----------------------+
| RHEL 7 | PASS | SKIPPED |
+---------------------+--------------------+----------------------+
| Fedora 33 | PASS | SKIPPED |
+---------------------+--------------------+----------------------+
| Arch Linux | PASS | SKIPPED |
+---------------------+--------------------+----------------------+
| Fedora 32 | PASS | SKIPPED |
+---------------------+--------------------+----------------------+
| Alpine | PASS | SKIPPED |
+---------------------+--------------------+----------------------+
| Fedora 34 clang | PASS | SKIPPED |
+---------------------+--------------------+----------------------+
Windows Server 2019
Kernel: 10.0
Compiler: clang 14.0 and gcc 8.1.0 (MinGW)
FreeBSD 13
Kernel: 13.0
Compiler: clang 11.0.1
openSUSE Leap 15
Kernel: 4.18.0-240.10.1.el8_3.x86_64
Compiler: gcc 7.5.0
Ubuntu 20.04
Kernel: 4.18.0-240.10.1.el8_3.x86_64
Compiler: gcc 9.3.0-17ubuntu1~20.04
Ubuntu 18.04
Kernel: 4.18.0-240.10.1.el8_3.x86_64
Compiler: gcc 7.5.0-3ubuntu1~18.04
RHEL8
Kernel: 4.18.0-240.10.1.el8_3.x86_64
Compiler: gcc 8.3.1 20191121 (Red Hat 8.3.1-5)
CentOS Stream 8
Kernel: 4.18.0-240.10.1.el8_3.x86_64
Compiler: gcc 8.4.1 20200928
Fedora 31
Kernel: 4.18.0-240.10.1.el8_3.x86_64
Compiler: gcc 9.3.1
Fedora 34
Kernel: 5.4.0-72-generic
Compiler: gcc 11.1.1 20210428 (Red Hat 11.1.1-1)
RHEL 7
Kernel: 4.18.0-240.10.1.el8_3.x86_64
Compiler: gcc 4.8.5 20150623 (Red Hat 4.8.5-44)
Fedora 33
Kernel: 5.4.0-72-generic
Compiler: gcc 10.3.1 20210422 (Red Hat 10.3.1-1)
Arch Linux
Kernel: 5.4.0-73-generic
Compiler: gcc 11.1.0
Fedora 32
Kernel: 4.18.0-240.10.1.el8_3.x86_64
Compiler: gcc 10.2.1
Alpine
Kernel: 5.4.0-73-generic
Compiler: gcc (Alpine 10.3.1_git20210424) 10.3.1 20210424
Fedora 34 clang
Kernel: 5.4.0-72-generic
Compiler: clang 12.0.0 (Fedora 12.0.0-0.3.rc1.fc34)
To view detailed results, visit:
https://lab.dpdk.org/results/dashboard/patchsets/22068/
UNH-IOL DPDK Community Lab
To manage your email subscriptions, visit:
https://lab.dpdk.org/results/dashboard/preferences/subscriptions/
^ permalink raw reply [flat|nested] 13+ messages in thread
* |SUCCESS| pw111007 [PATCH] [v4] app/testpmd: fix port status of slave device
@ 2022-05-11 3:53 dpdklab
0 siblings, 0 replies; 13+ messages in thread
From: dpdklab @ 2022-05-11 3:53 UTC (permalink / raw)
To: Test Report; +Cc: dpdklab, David Marchand, Thomas Monjalon
[-- Attachment #1: Type: text/plain, Size: 2437 bytes --]
Test-Label: iol-abi-testing
Test-Status: SUCCESS
http://dpdk.org/patch/111007
_Testing PASS_
Submitter: Min Hu (Connor) <humin29@huawei.com>
Date: Wednesday, May 11 2022 02:14:34
DPDK git baseline: Repo:dpdk
Branch: master
CommitID:36db4a1ad46448a2610133b021677ce6a0e0534e
111007 --> testing pass
Test environment and result as below:
+------------------+----------+
| Environment | abi_test |
+==================+==========+
| Arch Linux | PASS |
+------------------+----------+
| RHEL 7 | PASS |
+------------------+----------+
| Ubuntu 18.04 | PASS |
+------------------+----------+
| Fedora 32 | PASS |
+------------------+----------+
| RHEL8 | PASS |
+------------------+----------+
| openSUSE Leap 15 | PASS |
+------------------+----------+
| Ubuntu 20.04 | PASS |
+------------------+----------+
| CentOS Stream 8 | PASS |
+------------------+----------+
| Fedora 31 | PASS |
+------------------+----------+
| Fedora 34 | PASS |
+------------------+----------+
| Fedora 33 | PASS |
+------------------+----------+
| Fedora 34 clang | PASS |
+------------------+----------+
Arch Linux
Kernel: 5.4.0-73-generic
Compiler: gcc 11.1.0
RHEL 7
Kernel: 4.18.0-240.10.1.el8_3.x86_64
Compiler: gcc 4.8.5 20150623 (Red Hat 4.8.5-44)
Ubuntu 18.04
Kernel: 4.18.0-240.10.1.el8_3.x86_64
Compiler: gcc 7.5.0-3ubuntu1~18.04
Fedora 32
Kernel: 4.18.0-240.10.1.el8_3.x86_64
Compiler: gcc 10.2.1
RHEL8
Kernel: 4.18.0-240.10.1.el8_3.x86_64
Compiler: gcc 8.3.1 20191121 (Red Hat 8.3.1-5)
openSUSE Leap 15
Kernel: 4.18.0-240.10.1.el8_3.x86_64
Compiler: gcc 7.5.0
Ubuntu 20.04
Kernel: 4.18.0-240.10.1.el8_3.x86_64
Compiler: gcc 9.3.0-17ubuntu1~20.04
CentOS Stream 8
Kernel: 4.18.0-240.10.1.el8_3.x86_64
Compiler: gcc 8.4.1 20200928
Fedora 31
Kernel: 4.18.0-240.10.1.el8_3.x86_64
Compiler: gcc 9.3.1
Fedora 34
Kernel: 5.4.0-72-generic
Compiler: gcc 11.1.1 20210428 (Red Hat 11.1.1-1)
Fedora 33
Kernel: 5.4.0-72-generic
Compiler: gcc 10.3.1 20210422 (Red Hat 10.3.1-1)
Fedora 34 clang
Kernel: 5.4.0-72-generic
Compiler: clang 12.0.0 (Fedora 12.0.0-0.3.rc1.fc34)
To view detailed results, visit:
https://lab.dpdk.org/results/dashboard/patchsets/22068/
UNH-IOL DPDK Community Lab
To manage your email subscriptions, visit:
https://lab.dpdk.org/results/dashboard/preferences/subscriptions/
^ permalink raw reply [flat|nested] 13+ messages in thread
* |SUCCESS| pw111007 [PATCH] [v4] app/testpmd: fix port status of slave device
@ 2022-05-11 3:37 dpdklab
0 siblings, 0 replies; 13+ messages in thread
From: dpdklab @ 2022-05-11 3:37 UTC (permalink / raw)
To: Test Report; +Cc: dpdklab, David Marchand, Thomas Monjalon
[-- Attachment #1: Type: text/plain, Size: 1443 bytes --]
Test-Label: iol-aarch64-unit-testing
Test-Status: SUCCESS
http://dpdk.org/patch/111007
_Testing PASS_
Submitter: Min Hu (Connor) <humin29@huawei.com>
Date: Wednesday, May 11 2022 02:14:34
DPDK git baseline: Repo:dpdk
Branch: master
CommitID:36db4a1ad46448a2610133b021677ce6a0e0534e
111007 --> testing pass
Test environment and result as below:
+-------------------------------+----------------+--------------+
| Environment | dpdk_unit_test | lpm_autotest |
+===============================+================+==============+
| Ubuntu 20.04 ARM GCC Native | PASS | SKIPPED |
+-------------------------------+----------------+--------------+
| Ubuntu 20.04 ARM Clang Native | PASS | SKIPPED |
+-------------------------------+----------------+--------------+
| Ubuntu 20.04 ARM SVE | SKIPPED | PASS |
+-------------------------------+----------------+--------------+
Ubuntu 20.04 ARM GCC Native
Kernel: 5.4.0-53-generic
Compiler: gcc 9.3
Ubuntu 20.04 ARM Clang Native
Kernel: 5.4.0-53-generic
Compiler: clang 10.0.0-4ubuntu1
Ubuntu 20.04 ARM SVE
Kernel: 5.4.0-80-generic
Compiler: gcc 10.3.0 (Ubuntu 10.3.0-1ubuntu1~20.04)
To view detailed results, visit:
https://lab.dpdk.org/results/dashboard/patchsets/22068/
UNH-IOL DPDK Community Lab
To manage your email subscriptions, visit:
https://lab.dpdk.org/results/dashboard/preferences/subscriptions/
^ permalink raw reply [flat|nested] 13+ messages in thread
* |SUCCESS| pw111007 [PATCH] [v4] app/testpmd: fix port status of slave device
@ 2022-05-11 3:36 dpdklab
0 siblings, 0 replies; 13+ messages in thread
From: dpdklab @ 2022-05-11 3:36 UTC (permalink / raw)
To: Test Report; +Cc: dpdklab, David Marchand, Thomas Monjalon
[-- Attachment #1: Type: text/plain, Size: 2607 bytes --]
Test-Label: iol-x86_64-unit-testing
Test-Status: SUCCESS
http://dpdk.org/patch/111007
_Testing PASS_
Submitter: Min Hu (Connor) <humin29@huawei.com>
Date: Wednesday, May 11 2022 02:14:34
DPDK git baseline: Repo:dpdk
Branch: master
CommitID:36db4a1ad46448a2610133b021677ce6a0e0534e
111007 --> testing pass
Test environment and result as below:
+------------------+----------------+
| Environment | dpdk_unit_test |
+==================+================+
| Fedora 34 | PASS |
+------------------+----------------+
| Fedora 32 | PASS |
+------------------+----------------+
| Ubuntu 20.04 | PASS |
+------------------+----------------+
| RHEL8 | PASS |
+------------------+----------------+
| Arch Linux | PASS |
+------------------+----------------+
| openSUSE Leap 15 | PASS |
+------------------+----------------+
| Ubuntu 18.04 | PASS |
+------------------+----------------+
| Fedora 33 | PASS |
+------------------+----------------+
| Fedora 31 | PASS |
+------------------+----------------+
| RHEL 7 | PASS |
+------------------+----------------+
| CentOS Stream 8 | PASS |
+------------------+----------------+
| Fedora 34 clang | PASS |
+------------------+----------------+
Fedora 34
Kernel: 5.4.0-72-generic
Compiler: gcc 11.1.1 20210428 (Red Hat 11.1.1-1)
Fedora 32
Kernel: 4.18.0-240.10.1.el8_3.x86_64
Compiler: gcc 10.2.1
Ubuntu 20.04
Kernel: 4.18.0-240.10.1.el8_3.x86_64
Compiler: gcc 9.3.0-17ubuntu1~20.04
RHEL8
Kernel: 4.18.0-240.10.1.el8_3.x86_64
Compiler: gcc 8.3.1 20191121 (Red Hat 8.3.1-5)
Arch Linux
Kernel: 5.4.0-73-generic
Compiler: gcc 11.1.0
openSUSE Leap 15
Kernel: 4.18.0-240.10.1.el8_3.x86_64
Compiler: gcc 7.5.0
Ubuntu 18.04
Kernel: 4.18.0-240.10.1.el8_3.x86_64
Compiler: gcc 7.5.0-3ubuntu1~18.04
Fedora 33
Kernel: 5.4.0-72-generic
Compiler: gcc 10.3.1 20210422 (Red Hat 10.3.1-1)
Fedora 31
Kernel: 4.18.0-240.10.1.el8_3.x86_64
Compiler: gcc 9.3.1
RHEL 7
Kernel: 4.18.0-240.10.1.el8_3.x86_64
Compiler: gcc 4.8.5 20150623 (Red Hat 4.8.5-44)
CentOS Stream 8
Kernel: 4.18.0-240.10.1.el8_3.x86_64
Compiler: gcc 8.4.1 20200928
Fedora 34 clang
Kernel: 5.4.0-72-generic
Compiler: clang 12.0.0 (Fedora 12.0.0-0.3.rc1.fc34)
To view detailed results, visit:
https://lab.dpdk.org/results/dashboard/patchsets/22068/
UNH-IOL DPDK Community Lab
To manage your email subscriptions, visit:
https://lab.dpdk.org/results/dashboard/preferences/subscriptions/
^ permalink raw reply [flat|nested] 13+ messages in thread
* |SUCCESS| pw111007 [PATCH] [v4] app/testpmd: fix port status of slave device
@ 2022-05-11 3:21 dpdklab
0 siblings, 0 replies; 13+ messages in thread
From: dpdklab @ 2022-05-11 3:21 UTC (permalink / raw)
To: Test Report; +Cc: dpdklab, David Marchand, Thomas Monjalon
[-- Attachment #1: Type: text/plain, Size: 2136 bytes --]
Test-Label: iol-aarch64-compile-testing
Test-Status: SUCCESS
http://dpdk.org/patch/111007
_Testing PASS_
Submitter: Min Hu (Connor) <humin29@huawei.com>
Date: Wednesday, May 11 2022 02:14:34
DPDK git baseline: Repo:dpdk
Branch: master
CommitID:36db4a1ad46448a2610133b021677ce6a0e0534e
111007 --> testing pass
Test environment and result as below:
+----------------------------------------+--------------------+
| Environment | dpdk_meson_compile |
+========================================+====================+
| Ubuntu 20.04 ARM GCC Native | PASS |
+----------------------------------------+--------------------+
| Ubuntu 20.04 ARM Clang Native | PASS |
+----------------------------------------+--------------------+
| Ubuntu 20.04 aarch32 GCC Cross Compile | PASS |
+----------------------------------------+--------------------+
| Ubuntu 20.04 ARM SVE | PASS |
+----------------------------------------+--------------------+
| Ubuntu 20.04 ARM GCC Cross Compile | PASS |
+----------------------------------------+--------------------+
| Ubuntu 20.04 ARM Clang Cross Compile | PASS |
+----------------------------------------+--------------------+
Ubuntu 20.04 ARM GCC Native
Kernel: 5.4.0-53-generic
Compiler: gcc 9.3
Ubuntu 20.04 ARM Clang Native
Kernel: 5.4.0-53-generic
Compiler: clang 10.0.0-4ubuntu1
Ubuntu 20.04 aarch32 GCC Cross Compile
Kernel: 5.4.0-72-generic
Compiler: gcc 9.3.0
Ubuntu 20.04 ARM SVE
Kernel: 5.4.0-80-generic
Compiler: gcc 10.3.0 (Ubuntu 10.3.0-1ubuntu1~20.04)
Ubuntu 20.04 ARM GCC Cross Compile
Kernel: 5.4.0-72-generic
Compiler: aarch64-linux-gnu-gcc (Ubuntu 9.3.0-17ubuntu1~20.04) 9.3.0
Ubuntu 20.04 ARM Clang Cross Compile
Kernel: 5.4.0-72-generic
Compiler: clang version 10.0.0-4ubuntu1
To view detailed results, visit:
https://lab.dpdk.org/results/dashboard/patchsets/22068/
UNH-IOL DPDK Community Lab
To manage your email subscriptions, visit:
https://lab.dpdk.org/results/dashboard/preferences/subscriptions/
^ permalink raw reply [flat|nested] 13+ messages in thread
* |SUCCESS| pw111007 [PATCH] [v4] app/testpmd: fix port status of slave device
@ 2022-05-11 3:00 dpdklab
0 siblings, 0 replies; 13+ messages in thread
From: dpdklab @ 2022-05-11 3:00 UTC (permalink / raw)
To: Test Report; +Cc: dpdk-test-reports, David Marchand, Thomas Monjalon
[-- Attachment #1: Type: text/plain, Size: 1170 bytes --]
Test-Label: iol-intel-Functional
Test-Status: SUCCESS
http://dpdk.org/patch/111007
_Functional Testing PASS_
Submitter: Min Hu (Connor) <humin29@huawei.com>
Date: Wednesday, May 11 2022 02:14:34
DPDK git baseline: Repo:dpdk
Branch: master
CommitID:36db4a1ad46448a2610133b021677ce6a0e0534e
111007 --> functional testing pass
Test environment and result as below:
Ubuntu 20.04
Kernel: 4.15.0-generic
Compiler: gcc 7.4
NIC: Intel Corporation Ethernet Converged Network Adapter XL710-QDA2 40000 Mbps
Target: x86_64-native-linuxapp-gcc
Fail/Total: 0/2
Ubuntu 20.04
Kernel: 4.15.0-generic
Compiler: gcc 7.4
NIC: Intel Corporation Ethernet Converged Network Adapter 82599ES 10000 Mbps
Target: x86_64-native-linuxapp-gcc
Fail/Total: 0/2
Ubuntu 20.04 ARM
Kernel: 4.15.0-132-generic
Compiler: gcc 7.5
NIC: Arm Intel Corporation Ethernet Converged Network Adapter XL710-QDA2 40000 Mbps
Target: x86_64-native-linuxapp-gcc
Fail/Total: 0/2
To view detailed results, visit:
https://lab.dpdk.org/results/dashboard/patchsets/22068/
UNH-IOL DPDK Community Lab
To manage your email subscriptions, visit:
https://lab.dpdk.org/results/dashboard/preferences/subscriptions/
^ permalink raw reply [flat|nested] 13+ messages in thread
* |SUCCESS| pw111007 [PATCH] [v4] app/testpmd: fix port status of slave device
@ 2022-05-11 2:56 dpdklab
0 siblings, 0 replies; 13+ messages in thread
From: dpdklab @ 2022-05-11 2:56 UTC (permalink / raw)
To: Test Report; +Cc: dpdk-test-reports, David Marchand, Thomas Monjalon
[-- Attachment #1: Type: text/plain, Size: 3300 bytes --]
Test-Label: iol-intel-Performance
Test-Status: SUCCESS
http://dpdk.org/patch/111007
_Performance Testing PASS_
Submitter: Min Hu (Connor) <humin29@huawei.com>
Date: Wednesday, May 11 2022 02:14:34
DPDK git baseline: Repo:dpdk
Branch: master
CommitID:36db4a1ad46448a2610133b021677ce6a0e0534e
111007 --> performance testing pass
Test environment and result as below:
Ubuntu 20.04
Kernel: 4.15.0-generic
Compiler: gcc 7.4
NIC: Intel Corporation Ethernet Converged Network Adapter 82599ES 10000 Mbps
Target: x86_64-native-linuxapp-gcc
Fail/Total: 0/6
Detail performance results:
+----------+-------------+---------+------------+------------------------------+
| num_cpus | num_threads | txd/rxd | frame_size | throughput difference from |
| | | | | expected |
+==========+=============+=========+============+==============================+
| 1 | 2 | 128 | 64 | -0.1% |
+----------+-------------+---------+------------+------------------------------+
| 1 | 2 | 512 | 64 | 0.1% |
+----------+-------------+---------+------------+------------------------------+
| 1 | 2 | 2048 | 64 | 0.2% |
+----------+-------------+---------+------------+------------------------------+
| 1 | 1 | 128 | 64 | 0.3% |
+----------+-------------+---------+------------+------------------------------+
| 1 | 1 | 512 | 64 | -0.3% |
+----------+-------------+---------+------------+------------------------------+
| 1 | 1 | 2048 | 64 | 0.1% |
+----------+-------------+---------+------------+------------------------------+
Ubuntu 20.04
Kernel: 4.15.0-generic
Compiler: gcc 7.4
NIC: Intel Corporation Ethernet Converged Network Adapter XL710-QDA2 40000 Mbps
Target: x86_64-native-linuxapp-gcc
Fail/Total: 0/4
Detail performance results:
+----------+-------------+---------+------------+------------------------------+
| num_cpus | num_threads | txd/rxd | frame_size | throughput difference from |
| | | | | expected |
+==========+=============+=========+============+==============================+
| 1 | 2 | 512 | 64 | 2.6% |
+----------+-------------+---------+------------+------------------------------+
| 1 | 2 | 2048 | 64 | -0.3% |
+----------+-------------+---------+------------+------------------------------+
| 1 | 1 | 512 | 64 | 2.9% |
+----------+-------------+---------+------------+------------------------------+
| 1 | 1 | 2048 | 64 | 0.5% |
+----------+-------------+---------+------------+------------------------------+
To view detailed results, visit:
https://lab.dpdk.org/results/dashboard/patchsets/22068/
UNH-IOL DPDK Community Lab
To manage your email subscriptions, visit:
https://lab.dpdk.org/results/dashboard/preferences/subscriptions/
^ permalink raw reply [flat|nested] 13+ messages in thread
* |SUCCESS| pw111007 [PATCH] [v4] app/testpmd: fix port status of slave device
@ 2022-05-11 2:54 dpdklab
0 siblings, 0 replies; 13+ messages in thread
From: dpdklab @ 2022-05-11 2:54 UTC (permalink / raw)
To: Test Report; +Cc: dpdk-test-reports, David Marchand, Thomas Monjalon
[-- Attachment #1: Type: text/plain, Size: 2112 bytes --]
Test-Label: iol-intel-Performance
Test-Status: SUCCESS
http://dpdk.org/patch/111007
_Performance Testing PASS_
Submitter: Min Hu (Connor) <humin29@huawei.com>
Date: Wednesday, May 11 2022 02:14:34
DPDK git baseline: Repo:dpdk
Branch: master
CommitID:36db4a1ad46448a2610133b021677ce6a0e0534e
111007 --> performance testing pass
Test environment and result as below:
Ubuntu 20.04
Kernel: 4.15.0-generic
Compiler: gcc 7.4
NIC: Intel Corporation Ethernet Converged Network Adapter 82599ES 10000 Mbps
Target: x86_64-native-linuxapp-gcc
Fail/Total: 0/6
Detail performance results:
+----------+-------------+---------+------------+------------------------------+
| num_cpus | num_threads | txd/rxd | frame_size | throughput difference from |
| | | | | expected |
+==========+=============+=========+============+==============================+
| 1 | 2 | 128 | 64 | -0.1% |
+----------+-------------+---------+------------+------------------------------+
| 1 | 2 | 512 | 64 | 0.1% |
+----------+-------------+---------+------------+------------------------------+
| 1 | 2 | 2048 | 64 | 0.2% |
+----------+-------------+---------+------------+------------------------------+
| 1 | 1 | 128 | 64 | 0.3% |
+----------+-------------+---------+------------+------------------------------+
| 1 | 1 | 512 | 64 | -0.3% |
+----------+-------------+---------+------------+------------------------------+
| 1 | 1 | 2048 | 64 | 0.1% |
+----------+-------------+---------+------------+------------------------------+
To view detailed results, visit:
https://lab.dpdk.org/results/dashboard/patchsets/22068/
UNH-IOL DPDK Community Lab
To manage your email subscriptions, visit:
https://lab.dpdk.org/results/dashboard/preferences/subscriptions/
^ permalink raw reply [flat|nested] 13+ messages in thread
* |SUCCESS| pw111007 [PATCH] [v4] app/testpmd: fix port status of slave device
@ 2022-05-11 2:47 dpdklab
0 siblings, 0 replies; 13+ messages in thread
From: dpdklab @ 2022-05-11 2:47 UTC (permalink / raw)
To: Ali Alnubani, Test Report
Cc: dpdk-test-reports, David Marchand, Thomas Monjalon
[-- Attachment #1: Type: text/plain, Size: 2075 bytes --]
Test-Label: iol-mellanox-Performance
Test-Status: SUCCESS
http://dpdk.org/patch/111007
_Performance Testing PASS_
Submitter: Min Hu (Connor) <humin29@huawei.com>
Date: Wednesday, May 11 2022 02:14:34
DPDK git baseline: Repo:dpdk
Branch: master
CommitID:36db4a1ad46448a2610133b021677ce6a0e0534e
111007 --> performance testing pass
Test environment and result as below:
Ubuntu 20.04
Kernel: 4.15.0-generic
Compiler: gcc 7.4
NIC: Mellanox ConnectX-5 100000 Mbps
Target: x86_64-native-linuxapp-gcc
Fail/Total: 0/6
Detail performance results:
+------------+---------+----------+-------------+------------------------------+
| frame_size | txd/rxd | num_cpus | num_threads | throughput difference from |
| | | | | expected |
+============+=========+==========+=============+==============================+
| 64 | 256 | 1 | 1 | -0.0% |
+------------+---------+----------+-------------+------------------------------+
| 128 | 256 | 1 | 1 | -0.6% |
+------------+---------+----------+-------------+------------------------------+
| 1024 | 256 | 1 | 1 | -0.3% |
+------------+---------+----------+-------------+------------------------------+
| 256 | 256 | 1 | 1 | 0.1% |
+------------+---------+----------+-------------+------------------------------+
| 1518 | 256 | 1 | 1 | 0.2% |
+------------+---------+----------+-------------+------------------------------+
| 512 | 256 | 1 | 1 | 0.2% |
+------------+---------+----------+-------------+------------------------------+
To view detailed results, visit:
https://lab.dpdk.org/results/dashboard/patchsets/22068/
UNH-IOL DPDK Community Lab
To manage your email subscriptions, visit:
https://lab.dpdk.org/results/dashboard/preferences/subscriptions/
^ permalink raw reply [flat|nested] 13+ messages in thread
* |SUCCESS| pw111007 [PATCH] [v4] app/testpmd: fix port status of slave device
@ 2022-05-11 2:41 dpdklab
0 siblings, 0 replies; 13+ messages in thread
From: dpdklab @ 2022-05-11 2:41 UTC (permalink / raw)
To: Test Report; +Cc: dpdk-test-reports, David Marchand, Thomas Monjalon
[-- Attachment #1: Type: text/plain, Size: 986 bytes --]
Test-Label: iol-intel-Functional
Test-Status: SUCCESS
http://dpdk.org/patch/111007
_Functional Testing PASS_
Submitter: Min Hu (Connor) <humin29@huawei.com>
Date: Wednesday, May 11 2022 02:14:34
DPDK git baseline: Repo:dpdk
Branch: master
CommitID:36db4a1ad46448a2610133b021677ce6a0e0534e
111007 --> functional testing pass
Test environment and result as below:
Ubuntu 20.04
Kernel: 4.15.0-generic
Compiler: gcc 7.4
NIC: Intel Corporation Ethernet Converged Network Adapter XL710-QDA2 40000 Mbps
Target: x86_64-native-linuxapp-gcc
Fail/Total: 0/2
Ubuntu 20.04 ARM
Kernel: 4.15.0-132-generic
Compiler: gcc 7.5
NIC: Arm Intel Corporation Ethernet Converged Network Adapter XL710-QDA2 40000 Mbps
Target: x86_64-native-linuxapp-gcc
Fail/Total: 0/2
To view detailed results, visit:
https://lab.dpdk.org/results/dashboard/patchsets/22068/
UNH-IOL DPDK Community Lab
To manage your email subscriptions, visit:
https://lab.dpdk.org/results/dashboard/preferences/subscriptions/
^ permalink raw reply [flat|nested] 13+ messages in thread
* |SUCCESS| pw111007 [PATCH] [v4] app/testpmd: fix port status of slave device
@ 2022-05-11 2:40 dpdklab
0 siblings, 0 replies; 13+ messages in thread
From: dpdklab @ 2022-05-11 2:40 UTC (permalink / raw)
To: Test Report; +Cc: dpdk-test-reports, David Marchand, Thomas Monjalon
[-- Attachment #1: Type: text/plain, Size: 787 bytes --]
Test-Label: iol-intel-Functional
Test-Status: SUCCESS
http://dpdk.org/patch/111007
_Functional Testing PASS_
Submitter: Min Hu (Connor) <humin29@huawei.com>
Date: Wednesday, May 11 2022 02:14:34
DPDK git baseline: Repo:dpdk
Branch: master
CommitID:36db4a1ad46448a2610133b021677ce6a0e0534e
111007 --> functional testing pass
Test environment and result as below:
Ubuntu 20.04
Kernel: 4.15.0-generic
Compiler: gcc 7.4
NIC: Intel Corporation Ethernet Converged Network Adapter XL710-QDA2 40000 Mbps
Target: x86_64-native-linuxapp-gcc
Fail/Total: 0/2
To view detailed results, visit:
https://lab.dpdk.org/results/dashboard/patchsets/22068/
UNH-IOL DPDK Community Lab
To manage your email subscriptions, visit:
https://lab.dpdk.org/results/dashboard/preferences/subscriptions/
^ permalink raw reply [flat|nested] 13+ messages in thread
end of thread, other threads:[~2022-05-11 4:18 UTC | newest]
Thread overview: 13+ messages (download: mbox.gz / follow: Atom feed)
-- links below jump to the message on this page --
[not found] <20220511021434.40565-1-humin29@huawei.com>
2022-05-11 2:16 ` |WARNING| pw111007 [PATCH v4] app/testpmd: fix port status of slave device checkpatch
2022-05-11 3:59 ` |SUCCESS| " 0-day Robot
2022-05-11 2:40 |SUCCESS| pw111007 [PATCH] [v4] " dpdklab
2022-05-11 2:41 dpdklab
2022-05-11 2:47 dpdklab
2022-05-11 2:54 dpdklab
2022-05-11 2:56 dpdklab
2022-05-11 3:00 dpdklab
2022-05-11 3:21 dpdklab
2022-05-11 3:36 dpdklab
2022-05-11 3:37 dpdklab
2022-05-11 3:53 dpdklab
2022-05-11 4:18 dpdklab
This is a public inbox, see mirroring instructions
for how to clone and mirror all data and code used for this inbox;
as well as URLs for NNTP newsgroup(s).