automatic DPDK test reports
 help / color / mirror / Atom feed
From: dpdklab@iol.unh.edu
To: Test Report <test-report@dpdk.org>
Cc: dpdklab@iol.unh.edu, David Marchand <david.marchand@redhat.com>,
	Thomas Monjalon <thomas@monjalon.net>
Subject: |SUCCESS| pw111076-111079 [PATCH] [v5, 8/8] Fixes: 046f11619567 ("net/vmxnet3: support MSI-X interrupt")
Date: Thu, 12 May 2022 19:58:59 +0000 (UTC)
Message-ID: <20220512195859.1B6D1600B3@dpdk-ubuntu.dpdklab.iol.unh.edu> (raw)

[-- Attachment #1: Type: text/plain, Size: 2139 bytes --]

Test-Label: iol-aarch64-compile-testing
Test-Status: SUCCESS
http://dpdk.org/patch/111079

_Testing PASS_

Submitter: Pankaj Gupta <pagupta@vmware.com>
Date: Thursday, May 12 2022 17:06:42 
DPDK git baseline: Repo:dpdk
  Branch: master
  CommitID:c0c305ee9e0e7c9feca6412266a778f330d20c19

111076-111079 --> testing pass

Test environment and result as below:

+----------------------------------------+--------------------+
|              Environment               | dpdk_meson_compile |
+========================================+====================+
| Ubuntu 20.04 ARM Clang Native          | PASS               |
+----------------------------------------+--------------------+
| Ubuntu 20.04 ARM GCC Native            | PASS               |
+----------------------------------------+--------------------+
| Ubuntu 20.04 aarch32 GCC Cross Compile | PASS               |
+----------------------------------------+--------------------+
| Ubuntu 20.04 ARM Clang Cross Compile   | PASS               |
+----------------------------------------+--------------------+
| Ubuntu 20.04 ARM GCC Cross Compile     | PASS               |
+----------------------------------------+--------------------+
| Ubuntu 20.04 ARM SVE                   | PASS               |
+----------------------------------------+--------------------+


Ubuntu 20.04 ARM Clang Native
	Kernel: 5.4.0-53-generic
	Compiler: clang 10.0.0-4ubuntu1

Ubuntu 20.04 ARM GCC Native
	Kernel: 5.4.0-53-generic
	Compiler: gcc 9.3

Ubuntu 20.04 aarch32 GCC Cross Compile
	Kernel: 5.4.0-72-generic
	Compiler: gcc 9.3.0

Ubuntu 20.04 ARM Clang Cross Compile
	Kernel: 5.4.0-72-generic
	Compiler: clang version 10.0.0-4ubuntu1

Ubuntu 20.04 ARM GCC Cross Compile
	Kernel: 5.4.0-72-generic
	Compiler: aarch64-linux-gnu-gcc (Ubuntu 9.3.0-17ubuntu1~20.04) 9.3.0

Ubuntu 20.04 ARM SVE
	Kernel: 5.4.0-80-generic
	Compiler: gcc 10.3.0 (Ubuntu 10.3.0-1ubuntu1~20.04)

To view detailed results, visit:
https://lab.dpdk.org/results/dashboard/patchsets/22099/

UNH-IOL DPDK Community Lab

To manage your email subscriptions, visit: 
https://lab.dpdk.org/results/dashboard/preferences/subscriptions/

             reply	other threads:[~2022-05-12 19:59 UTC|newest]

Thread overview: 11+ messages / expand[flat|nested]  mbox.gz  Atom feed  top
2022-05-12 19:58 dpdklab [this message]
  -- strict thread matches above, loose matches on Subject: below --
2022-05-13  7:48 dpdklab
2022-05-13  2:36 dpdklab
2022-05-12 22:02 dpdklab
2022-05-12 18:16 dpdklab
2022-05-12 18:00 dpdklab
2022-05-12 17:55 dpdklab
2022-05-12 17:50 dpdklab
2022-05-12 17:47 dpdklab
2022-05-12 17:41 dpdklab
2022-05-12 17:41 dpdklab

Reply instructions:

You may reply publicly to this message via plain-text email
using any one of the following methods:

* Save the following mbox file, import it into your mail client,
  and reply-to-all from there: mbox

  Avoid top-posting and favor interleaved quoting:
  https://en.wikipedia.org/wiki/Posting_style#Interleaved_style

* Reply using the --to, --cc, and --in-reply-to
  switches of git-send-email(1):

  git send-email \
    --in-reply-to=20220512195859.1B6D1600B3@dpdk-ubuntu.dpdklab.iol.unh.edu \
    --to=dpdklab@iol.unh.edu \
    --cc=david.marchand@redhat.com \
    --cc=test-report@dpdk.org \
    --cc=thomas@monjalon.net \
    /path/to/YOUR_REPLY

  https://kernel.org/pub/software/scm/git/docs/git-send-email.html

* If your mail client supports setting the In-Reply-To header
  via mailto: links, try the mailto: link

automatic DPDK test reports

This inbox may be cloned and mirrored by anyone:

	git clone --mirror http://inbox.dpdk.org/test-report/0 test-report/git/0.git

	# If you have public-inbox 1.1+ installed, you may
	# initialize and index your mirror using the following commands:
	public-inbox-init -V2 test-report test-report/ http://inbox.dpdk.org/test-report \
		test-report@dpdk.org
	public-inbox-index test-report

Example config snippet for mirrors.
Newsgroup available over NNTP:
	nntp://inbox.dpdk.org/inbox.dpdk.test-report


AGPL code for this site: git clone https://public-inbox.org/public-inbox.git