automatic DPDK test reports
 help / color / mirror / Atom feed
* |SUCCESS| [GIT MASTER] 592c7bf7148bec1a34db79370e968dd2d1f8f1dc
@ 2022-05-13  8:53 dpdklab
  0 siblings, 0 replies; 83+ messages in thread
From: dpdklab @ 2022-05-13  8:53 UTC (permalink / raw)
  To: Test Report
  Cc: dpdk-test-reports, Xueming Li, Christian Ehrhardt, Kevin Traynor,
	Luca Boccassi

[-- Attachment #1: Type: text/plain, Size: 2388 bytes --]

_Testing PASS_

Branch: tags/v21.11

592c7bf7148bec1a34db79370e968dd2d1f8f1dc --> testing pass

Test environment and result as below:

+------------------+----------------+
|   Environment    | dpdk_unit_test |
+==================+================+
| Fedora 32        | PASS           |
+------------------+----------------+
| Fedora 33        | PASS           |
+------------------+----------------+
| RHEL 7           | PASS           |
+------------------+----------------+
| Fedora 34        | PASS           |
+------------------+----------------+
| Fedora 34 clang  | PASS           |
+------------------+----------------+
| Fedora 31        | PASS           |
+------------------+----------------+
| openSUSE Leap 15 | PASS           |
+------------------+----------------+
| Ubuntu 20.04     | PASS           |
+------------------+----------------+
| RHEL8            | PASS           |
+------------------+----------------+
| CentOS Stream 8  | PASS           |
+------------------+----------------+
| Arch Linux       | PASS           |
+------------------+----------------+
| Ubuntu 18.04     | PASS           |
+------------------+----------------+


Fedora 32
	Kernel: 4.18.0-240.10.1.el8_3.x86_64
	Compiler: gcc 10.2.1

Fedora 33
	Kernel: 5.4.0-72-generic
	Compiler: gcc 10.3.1 20210422 (Red Hat 10.3.1-1)

RHEL 7
	Kernel: 4.18.0-240.10.1.el8_3.x86_64
	Compiler: gcc 4.8.5 20150623 (Red Hat 4.8.5-44)

Fedora 34
	Kernel: 5.4.0-72-generic
	Compiler: gcc 11.1.1 20210428 (Red Hat 11.1.1-1)

Fedora 34 clang
	Kernel: 5.4.0-72-generic
	Compiler: clang 12.0.0 (Fedora 12.0.0-0.3.rc1.fc34)

Fedora 31
	Kernel: 4.18.0-240.10.1.el8_3.x86_64
	Compiler: gcc 9.3.1

openSUSE Leap 15
	Kernel: 4.18.0-240.10.1.el8_3.x86_64
	Compiler: gcc 7.5.0

Ubuntu 20.04
	Kernel: 4.18.0-240.10.1.el8_3.x86_64
	Compiler: gcc 9.3.0-17ubuntu1~20.04

RHEL8
	Kernel: 4.18.0-240.10.1.el8_3.x86_64
	Compiler: gcc 8.3.1 20191121 (Red Hat 8.3.1-5)

CentOS Stream 8
	Kernel: 4.18.0-240.10.1.el8_3.x86_64
	Compiler: gcc 8.4.1 20200928

Arch Linux
	Kernel: 5.4.0-73-generic
	Compiler: gcc 11.1.0

Ubuntu 18.04
	Kernel: 4.18.0-240.10.1.el8_3.x86_64
	Compiler: gcc 7.5.0-3ubuntu1~18.04

To view detailed results, visit:
https://lab.dpdk.org/results/dashboard/tarballs/19798/

UNH-IOL DPDK Community Lab

To manage your email subscriptions, visit: 
https://lab.dpdk.org/results/dashboard/preferences/subscriptions/

^ permalink raw reply	[flat|nested] 83+ messages in thread

* |SUCCESS| [GIT MASTER] 592c7bf7148bec1a34db79370e968dd2d1f8f1dc
@ 2022-05-17  9:51 dpdklab
  0 siblings, 0 replies; 83+ messages in thread
From: dpdklab @ 2022-05-17  9:51 UTC (permalink / raw)
  To: Test Report
  Cc: dpdk-test-reports, Xueming Li, Christian Ehrhardt, Kevin Traynor,
	Luca Boccassi

[-- Attachment #1: Type: text/plain, Size: 3828 bytes --]

_Testing PASS_

Branch: tags/v21.11

592c7bf7148bec1a34db79370e968dd2d1f8f1dc --> testing pass

Test environment and result as below:

+---------------------+--------------------+----------------------+
|     Environment     | dpdk_meson_compile | dpdk_mingw64_compile |
+=====================+====================+======================+
| Windows Server 2019 | PASS               | PASS                 |
+---------------------+--------------------+----------------------+
| FreeBSD 13          | PASS               | SKIPPED              |
+---------------------+--------------------+----------------------+
| Ubuntu 18.04        | PASS               | SKIPPED              |
+---------------------+--------------------+----------------------+
| CentOS Stream 8     | PASS               | SKIPPED              |
+---------------------+--------------------+----------------------+
| openSUSE Leap 15    | PASS               | SKIPPED              |
+---------------------+--------------------+----------------------+
| RHEL8               | PASS               | SKIPPED              |
+---------------------+--------------------+----------------------+
| Ubuntu 20.04        | PASS               | SKIPPED              |
+---------------------+--------------------+----------------------+
| Arch Linux          | PASS               | SKIPPED              |
+---------------------+--------------------+----------------------+
| Fedora 31           | PASS               | SKIPPED              |
+---------------------+--------------------+----------------------+
| RHEL 7              | PASS               | SKIPPED              |
+---------------------+--------------------+----------------------+
| Fedora 34           | PASS               | SKIPPED              |
+---------------------+--------------------+----------------------+
| Fedora 32           | PASS               | SKIPPED              |
+---------------------+--------------------+----------------------+
| Fedora 34 clang     | PASS               | SKIPPED              |
+---------------------+--------------------+----------------------+
| Fedora 33           | PASS               | SKIPPED              |
+---------------------+--------------------+----------------------+
| Alpine              | PASS               | SKIPPED              |
+---------------------+--------------------+----------------------+


Windows Server 2019
	Kernel: 10.0
	Compiler: clang 14.0 and gcc 8.1.0 (MinGW)

FreeBSD 13
	Kernel: 13.0
	Compiler: clang 11.0.1

Ubuntu 18.04
	Kernel: 4.18.0-240.10.1.el8_3.x86_64
	Compiler: gcc 7.5.0-3ubuntu1~18.04

CentOS Stream 8
	Kernel: 4.18.0-240.10.1.el8_3.x86_64
	Compiler: gcc 8.4.1 20200928

openSUSE Leap 15
	Kernel: 4.18.0-240.10.1.el8_3.x86_64
	Compiler: gcc 7.5.0

RHEL8
	Kernel: 4.18.0-240.10.1.el8_3.x86_64
	Compiler: gcc 8.3.1 20191121 (Red Hat 8.3.1-5)

Ubuntu 20.04
	Kernel: 4.18.0-240.10.1.el8_3.x86_64
	Compiler: gcc 9.3.0-17ubuntu1~20.04

Arch Linux
	Kernel: 5.4.0-73-generic
	Compiler: gcc 11.1.0

Fedora 31
	Kernel: 4.18.0-240.10.1.el8_3.x86_64
	Compiler: gcc 9.3.1

RHEL 7
	Kernel: 4.18.0-240.10.1.el8_3.x86_64
	Compiler: gcc 4.8.5 20150623 (Red Hat 4.8.5-44)

Fedora 34
	Kernel: 5.4.0-72-generic
	Compiler: gcc 11.1.1 20210428 (Red Hat 11.1.1-1)

Fedora 32
	Kernel: 4.18.0-240.10.1.el8_3.x86_64
	Compiler: gcc 10.2.1

Fedora 34 clang
	Kernel: 5.4.0-72-generic
	Compiler: clang 12.0.0 (Fedora 12.0.0-0.3.rc1.fc34)

Fedora 33
	Kernel: 5.4.0-72-generic
	Compiler: gcc 10.3.1 20210422 (Red Hat 10.3.1-1)

Alpine
	Kernel: 5.4.0-73-generic
	Compiler: gcc (Alpine 10.3.1_git20210424) 10.3.1 20210424

To view detailed results, visit:
https://lab.dpdk.org/results/dashboard/tarballs/19837/

UNH-IOL DPDK Community Lab

To manage your email subscriptions, visit: 
https://lab.dpdk.org/results/dashboard/preferences/subscriptions/

^ permalink raw reply	[flat|nested] 83+ messages in thread

* |SUCCESS| [GIT MASTER] 592c7bf7148bec1a34db79370e968dd2d1f8f1dc
@ 2022-05-17  8:55 dpdklab
  0 siblings, 0 replies; 83+ messages in thread
From: dpdklab @ 2022-05-17  8:55 UTC (permalink / raw)
  To: Test Report
  Cc: dpdklab, Xueming Li, Christian Ehrhardt, Kevin Traynor, Luca Boccassi

[-- Attachment #1: Type: text/plain, Size: 2226 bytes --]

_Testing PASS_

Branch: tags/v21.11

592c7bf7148bec1a34db79370e968dd2d1f8f1dc --> testing pass

Test environment and result as below:

+------------------+----------+
|   Environment    | abi_test |
+==================+==========+
| Arch Linux       | PASS     |
+------------------+----------+
| RHEL8            | PASS     |
+------------------+----------+
| Ubuntu 18.04     | PASS     |
+------------------+----------+
| Fedora 32        | PASS     |
+------------------+----------+
| openSUSE Leap 15 | PASS     |
+------------------+----------+
| Fedora 33        | PASS     |
+------------------+----------+
| CentOS Stream 8  | PASS     |
+------------------+----------+
| Fedora 34 clang  | PASS     |
+------------------+----------+
| Fedora 31        | PASS     |
+------------------+----------+
| Fedora 34        | PASS     |
+------------------+----------+
| RHEL 7           | PASS     |
+------------------+----------+
| Ubuntu 20.04     | PASS     |
+------------------+----------+


Arch Linux
	Kernel: 5.4.0-73-generic
	Compiler: gcc 11.1.0

RHEL8
	Kernel: 4.18.0-240.10.1.el8_3.x86_64
	Compiler: gcc 8.3.1 20191121 (Red Hat 8.3.1-5)

Ubuntu 18.04
	Kernel: 4.18.0-240.10.1.el8_3.x86_64
	Compiler: gcc 7.5.0-3ubuntu1~18.04

Fedora 32
	Kernel: 4.18.0-240.10.1.el8_3.x86_64
	Compiler: gcc 10.2.1

openSUSE Leap 15
	Kernel: 4.18.0-240.10.1.el8_3.x86_64
	Compiler: gcc 7.5.0

Fedora 33
	Kernel: 5.4.0-72-generic
	Compiler: gcc 10.3.1 20210422 (Red Hat 10.3.1-1)

CentOS Stream 8
	Kernel: 4.18.0-240.10.1.el8_3.x86_64
	Compiler: gcc 8.4.1 20200928

Fedora 34 clang
	Kernel: 5.4.0-72-generic
	Compiler: clang 12.0.0 (Fedora 12.0.0-0.3.rc1.fc34)

Fedora 31
	Kernel: 4.18.0-240.10.1.el8_3.x86_64
	Compiler: gcc 9.3.1

Fedora 34
	Kernel: 5.4.0-72-generic
	Compiler: gcc 11.1.1 20210428 (Red Hat 11.1.1-1)

RHEL 7
	Kernel: 4.18.0-240.10.1.el8_3.x86_64
	Compiler: gcc 4.8.5 20150623 (Red Hat 4.8.5-44)

Ubuntu 20.04
	Kernel: 4.18.0-240.10.1.el8_3.x86_64
	Compiler: gcc 9.3.0-17ubuntu1~20.04

To view detailed results, visit:
https://lab.dpdk.org/results/dashboard/tarballs/19837/

UNH-IOL DPDK Community Lab

To manage your email subscriptions, visit: 
https://lab.dpdk.org/results/dashboard/preferences/subscriptions/

^ permalink raw reply	[flat|nested] 83+ messages in thread

* |SUCCESS| [GIT MASTER] 592c7bf7148bec1a34db79370e968dd2d1f8f1dc
@ 2022-05-17  8:51 dpdklab
  0 siblings, 0 replies; 83+ messages in thread
From: dpdklab @ 2022-05-17  8:51 UTC (permalink / raw)
  To: Test Report
  Cc: dpdklab, Xueming Li, Christian Ehrhardt, Kevin Traynor, Luca Boccassi

[-- Attachment #1: Type: text/plain, Size: 2388 bytes --]

_Testing PASS_

Branch: tags/v21.11

592c7bf7148bec1a34db79370e968dd2d1f8f1dc --> testing pass

Test environment and result as below:

+------------------+----------------+
|   Environment    | dpdk_unit_test |
+==================+================+
| Ubuntu 18.04     | PASS           |
+------------------+----------------+
| Arch Linux       | PASS           |
+------------------+----------------+
| CentOS Stream 8  | PASS           |
+------------------+----------------+
| Fedora 31        | PASS           |
+------------------+----------------+
| openSUSE Leap 15 | PASS           |
+------------------+----------------+
| RHEL 7           | PASS           |
+------------------+----------------+
| Fedora 34        | PASS           |
+------------------+----------------+
| Fedora 33        | PASS           |
+------------------+----------------+
| Fedora 34 clang  | PASS           |
+------------------+----------------+
| RHEL8            | PASS           |
+------------------+----------------+
| Fedora 32        | PASS           |
+------------------+----------------+
| Ubuntu 20.04     | PASS           |
+------------------+----------------+


Ubuntu 18.04
	Kernel: 4.18.0-240.10.1.el8_3.x86_64
	Compiler: gcc 7.5.0-3ubuntu1~18.04

Arch Linux
	Kernel: 5.4.0-73-generic
	Compiler: gcc 11.1.0

CentOS Stream 8
	Kernel: 4.18.0-240.10.1.el8_3.x86_64
	Compiler: gcc 8.4.1 20200928

Fedora 31
	Kernel: 4.18.0-240.10.1.el8_3.x86_64
	Compiler: gcc 9.3.1

openSUSE Leap 15
	Kernel: 4.18.0-240.10.1.el8_3.x86_64
	Compiler: gcc 7.5.0

RHEL 7
	Kernel: 4.18.0-240.10.1.el8_3.x86_64
	Compiler: gcc 4.8.5 20150623 (Red Hat 4.8.5-44)

Fedora 34
	Kernel: 5.4.0-72-generic
	Compiler: gcc 11.1.1 20210428 (Red Hat 11.1.1-1)

Fedora 33
	Kernel: 5.4.0-72-generic
	Compiler: gcc 10.3.1 20210422 (Red Hat 10.3.1-1)

Fedora 34 clang
	Kernel: 5.4.0-72-generic
	Compiler: clang 12.0.0 (Fedora 12.0.0-0.3.rc1.fc34)

RHEL8
	Kernel: 4.18.0-240.10.1.el8_3.x86_64
	Compiler: gcc 8.3.1 20191121 (Red Hat 8.3.1-5)

Fedora 32
	Kernel: 4.18.0-240.10.1.el8_3.x86_64
	Compiler: gcc 10.2.1

Ubuntu 20.04
	Kernel: 4.18.0-240.10.1.el8_3.x86_64
	Compiler: gcc 9.3.0-17ubuntu1~20.04

To view detailed results, visit:
https://lab.dpdk.org/results/dashboard/tarballs/19837/

UNH-IOL DPDK Community Lab

To manage your email subscriptions, visit: 
https://lab.dpdk.org/results/dashboard/preferences/subscriptions/

^ permalink raw reply	[flat|nested] 83+ messages in thread

* |SUCCESS| [GIT MASTER] 592c7bf7148bec1a34db79370e968dd2d1f8f1dc
@ 2022-05-17  8:21 dpdklab
  0 siblings, 0 replies; 83+ messages in thread
From: dpdklab @ 2022-05-17  8:21 UTC (permalink / raw)
  To: Test Report
  Cc: dpdklab, Xueming Li, Christian Ehrhardt, Kevin Traynor, Luca Boccassi

[-- Attachment #1: Type: text/plain, Size: 1421 bytes --]

_Testing PASS_

Branch: tags/v21.11

592c7bf7148bec1a34db79370e968dd2d1f8f1dc --> testing pass

Test environment and result as below:

+------------------------------------+--------------------+
|            Environment             | dpdk_meson_compile |
+====================================+====================+
| Ubuntu 20.04 ARM Clang Native      | PASS               |
+------------------------------------+--------------------+
| Ubuntu 20.04 ARM GCC Native        | PASS               |
+------------------------------------+--------------------+
| Ubuntu 20.04 ARM GCC Cross Compile | PASS               |
+------------------------------------+--------------------+
| Ubuntu 20.04 ARM SVE               | PASS               |
+------------------------------------+--------------------+


Ubuntu 20.04 ARM Clang Native
	Kernel: 5.4.0-53-generic
	Compiler: clang 10.0.0-4ubuntu1

Ubuntu 20.04 ARM GCC Native
	Kernel: 5.4.0-53-generic
	Compiler: gcc 9.3

Ubuntu 20.04 ARM GCC Cross Compile
	Kernel: 5.4.0-72-generic
	Compiler: aarch64-linux-gnu-gcc (Ubuntu 9.3.0-17ubuntu1~20.04) 9.3.0

Ubuntu 20.04 ARM SVE
	Kernel: 5.4.0-80-generic
	Compiler: gcc 10.3.0 (Ubuntu 10.3.0-1ubuntu1~20.04)

To view detailed results, visit:
https://lab.dpdk.org/results/dashboard/tarballs/19837/

UNH-IOL DPDK Community Lab

To manage your email subscriptions, visit: 
https://lab.dpdk.org/results/dashboard/preferences/subscriptions/

^ permalink raw reply	[flat|nested] 83+ messages in thread

* |SUCCESS| [GIT MASTER] 592c7bf7148bec1a34db79370e968dd2d1f8f1dc
@ 2022-05-17  5:58 dpdklab
  0 siblings, 0 replies; 83+ messages in thread
From: dpdklab @ 2022-05-17  5:58 UTC (permalink / raw)
  To: Test Report
  Cc: dpdk-test-reports, Xueming Li, Christian Ehrhardt, Kevin Traynor,
	Luca Boccassi

[-- Attachment #1: Type: text/plain, Size: 3083 bytes --]

_Performance Testing PASS_

Branch: tags/v21.11

592c7bf7148bec1a34db79370e968dd2d1f8f1dc --> performance testing pass

Test environment and result as below:

Ubuntu 20.04
Kernel: 4.15.0-generic
Compiler: gcc 7.4
NIC: Intel Corporation Ethernet Converged Network Adapter XL710-QDA2 40000 Mbps
Target: x86_64-native-linuxapp-gcc
Fail/Total: 0/4

Detail performance results: 
+----------+-------------+---------+------------+------------------------------+
| num_cpus | num_threads | txd/rxd | frame_size |  throughput difference from  |
|          |             |         |            |           expected           |
+==========+=============+=========+============+==============================+
| 1        | 2           | 512     | 64         | -1.7%                        |
+----------+-------------+---------+------------+------------------------------+
| 1        | 2           | 2048    | 64         | 1.7%                         |
+----------+-------------+---------+------------+------------------------------+
| 1        | 1           | 512     | 64         | 3.3%                         |
+----------+-------------+---------+------------+------------------------------+
| 1        | 1           | 2048    | 64         | -0.5%                        |
+----------+-------------+---------+------------+------------------------------+

Ubuntu 20.04
Kernel: 4.15.0-generic
Compiler: gcc 7.4
NIC: Intel Corporation Ethernet Converged Network Adapter 82599ES 10000 Mbps
Target: x86_64-native-linuxapp-gcc
Fail/Total: 0/6

Detail performance results: 
+----------+-------------+---------+------------+------------------------------+
| num_cpus | num_threads | txd/rxd | frame_size |  throughput difference from  |
|          |             |         |            |           expected           |
+==========+=============+=========+============+==============================+
| 1        | 2           | 128     | 64         | 0.1%                         |
+----------+-------------+---------+------------+------------------------------+
| 1        | 2           | 512     | 64         | 0.1%                         |
+----------+-------------+---------+------------+------------------------------+
| 1        | 2           | 2048    | 64         | -0.0%                        |
+----------+-------------+---------+------------+------------------------------+
| 1        | 1           | 128     | 64         | 0.1%                         |
+----------+-------------+---------+------------+------------------------------+
| 1        | 1           | 512     | 64         | -0.1%                        |
+----------+-------------+---------+------------+------------------------------+
| 1        | 1           | 2048    | 64         | -0.2%                        |
+----------+-------------+---------+------------+------------------------------+

To view detailed results, visit:
https://lab.dpdk.org/results/dashboard/tarballs/19837/

UNH-IOL DPDK Community Lab

To manage your email subscriptions, visit: 
https://lab.dpdk.org/results/dashboard/preferences/subscriptions/

^ permalink raw reply	[flat|nested] 83+ messages in thread

* |SUCCESS| [GIT MASTER] 592c7bf7148bec1a34db79370e968dd2d1f8f1dc
@ 2022-05-17  5:43 dpdklab
  0 siblings, 0 replies; 83+ messages in thread
From: dpdklab @ 2022-05-17  5:43 UTC (permalink / raw)
  To: Test Report
  Cc: dpdk-test-reports, Xueming Li, Christian Ehrhardt, Kevin Traynor,
	Luca Boccassi

[-- Attachment #1: Type: text/plain, Size: 1574 bytes --]

_Performance Testing PASS_

Branch: tags/v21.11

592c7bf7148bec1a34db79370e968dd2d1f8f1dc --> performance testing pass

Test environment and result as below:

Ubuntu 20.04
Kernel: 4.15.0-generic
Compiler: gcc 7.4
NIC: Intel Corporation Ethernet Converged Network Adapter XL710-QDA2 40000 Mbps
Target: x86_64-native-linuxapp-gcc
Fail/Total: 0/4

Detail performance results: 
+----------+-------------+---------+------------+------------------------------+
| num_cpus | num_threads | txd/rxd | frame_size |  throughput difference from  |
|          |             |         |            |           expected           |
+==========+=============+=========+============+==============================+
| 1        | 2           | 512     | 64         | -1.7%                        |
+----------+-------------+---------+------------+------------------------------+
| 1        | 2           | 2048    | 64         | 1.7%                         |
+----------+-------------+---------+------------+------------------------------+
| 1        | 1           | 512     | 64         | 3.3%                         |
+----------+-------------+---------+------------+------------------------------+
| 1        | 1           | 2048    | 64         | -0.5%                        |
+----------+-------------+---------+------------+------------------------------+

To view detailed results, visit:
https://lab.dpdk.org/results/dashboard/tarballs/19837/

UNH-IOL DPDK Community Lab

To manage your email subscriptions, visit: 
https://lab.dpdk.org/results/dashboard/preferences/subscriptions/

^ permalink raw reply	[flat|nested] 83+ messages in thread

* |SUCCESS| [GIT MASTER] 592c7bf7148bec1a34db79370e968dd2d1f8f1dc
@ 2022-05-17  5:40 dpdklab
  0 siblings, 0 replies; 83+ messages in thread
From: dpdklab @ 2022-05-17  5:40 UTC (permalink / raw)
  To: Test Report
  Cc: dpdklab, Xueming Li, Christian Ehrhardt, Kevin Traynor, Luca Boccassi

[-- Attachment #1: Type: text/plain, Size: 1223 bytes --]

_Testing PASS_

Branch: tags/v21.11

592c7bf7148bec1a34db79370e968dd2d1f8f1dc --> testing pass

Test environment and result as below:

+-------------------------------+----------------+--------------+
|          Environment          | dpdk_unit_test | lpm_autotest |
+===============================+================+==============+
| Ubuntu 20.04 ARM GCC Native   | PASS           | SKIPPED      |
+-------------------------------+----------------+--------------+
| Ubuntu 20.04 ARM Clang Native | PASS           | SKIPPED      |
+-------------------------------+----------------+--------------+
| Ubuntu 20.04 ARM SVE          | SKIPPED        | PASS         |
+-------------------------------+----------------+--------------+


Ubuntu 20.04 ARM GCC Native
	Kernel: 5.4.0-53-generic
	Compiler: gcc 9.3

Ubuntu 20.04 ARM Clang Native
	Kernel: 5.4.0-53-generic
	Compiler: clang 10.0.0-4ubuntu1

Ubuntu 20.04 ARM SVE
	Kernel: 5.4.0-80-generic
	Compiler: gcc 10.3.0 (Ubuntu 10.3.0-1ubuntu1~20.04)

To view detailed results, visit:
https://lab.dpdk.org/results/dashboard/tarballs/19837/

UNH-IOL DPDK Community Lab

To manage your email subscriptions, visit: 
https://lab.dpdk.org/results/dashboard/preferences/subscriptions/

^ permalink raw reply	[flat|nested] 83+ messages in thread

* |SUCCESS| [GIT MASTER] 592c7bf7148bec1a34db79370e968dd2d1f8f1dc
@ 2022-05-17  5:38 dpdklab
  0 siblings, 0 replies; 83+ messages in thread
From: dpdklab @ 2022-05-17  5:38 UTC (permalink / raw)
  To: Test Report
  Cc: dpdk-test-reports, Xueming Li, Christian Ehrhardt, Kevin Traynor,
	Luca Boccassi

[-- Attachment #1: Type: text/plain, Size: 954 bytes --]

_Functional Testing PASS_

Branch: tags/v21.11

592c7bf7148bec1a34db79370e968dd2d1f8f1dc --> functional testing pass

Test environment and result as below:

Ubuntu 20.04 ARM
Kernel: 4.15.0-132-generic
Compiler: gcc 7.5
NIC: Arm Intel Corporation Ethernet Converged Network Adapter XL710-QDA2 40000 Mbps
Target: x86_64-native-linuxapp-gcc
Fail/Total: 0/2


Ubuntu 20.04
Kernel: 4.15.0-generic
Compiler: gcc 7.4
NIC: Intel Corporation Ethernet Converged Network Adapter XL710-QDA2 40000 Mbps
Target: x86_64-native-linuxapp-gcc
Fail/Total: 0/2


Ubuntu 20.04
Kernel: 4.15.0-generic
Compiler: gcc 7.4
NIC: Intel Corporation Ethernet Converged Network Adapter 82599ES 10000 Mbps
Target: x86_64-native-linuxapp-gcc
Fail/Total: 0/2


To view detailed results, visit:
https://lab.dpdk.org/results/dashboard/tarballs/19837/

UNH-IOL DPDK Community Lab

To manage your email subscriptions, visit: 
https://lab.dpdk.org/results/dashboard/preferences/subscriptions/

^ permalink raw reply	[flat|nested] 83+ messages in thread

* |SUCCESS| [GIT MASTER] 592c7bf7148bec1a34db79370e968dd2d1f8f1dc
@ 2022-05-17  5:26 dpdklab
  0 siblings, 0 replies; 83+ messages in thread
From: dpdklab @ 2022-05-17  5:26 UTC (permalink / raw)
  To: Test Report
  Cc: dpdk-test-reports, Xueming Li, Christian Ehrhardt, Kevin Traynor,
	Luca Boccassi

[-- Attachment #1: Type: text/plain, Size: 770 bytes --]

_Functional Testing PASS_

Branch: tags/v21.11

592c7bf7148bec1a34db79370e968dd2d1f8f1dc --> functional testing pass

Test environment and result as below:

Ubuntu 20.04 ARM
Kernel: 4.15.0-132-generic
Compiler: gcc 7.5
NIC: Arm Intel Corporation Ethernet Converged Network Adapter XL710-QDA2 40000 Mbps
Target: x86_64-native-linuxapp-gcc
Fail/Total: 0/2


Ubuntu 20.04
Kernel: 4.15.0-generic
Compiler: gcc 7.4
NIC: Intel Corporation Ethernet Converged Network Adapter XL710-QDA2 40000 Mbps
Target: x86_64-native-linuxapp-gcc
Fail/Total: 0/2


To view detailed results, visit:
https://lab.dpdk.org/results/dashboard/tarballs/19837/

UNH-IOL DPDK Community Lab

To manage your email subscriptions, visit: 
https://lab.dpdk.org/results/dashboard/preferences/subscriptions/

^ permalink raw reply	[flat|nested] 83+ messages in thread

* |SUCCESS| [GIT MASTER] 592c7bf7148bec1a34db79370e968dd2d1f8f1dc
@ 2022-05-17  4:55 dpdklab
  0 siblings, 0 replies; 83+ messages in thread
From: dpdklab @ 2022-05-17  4:55 UTC (permalink / raw)
  To: Test Report
  Cc: dpdk-test-reports, Xueming Li, Christian Ehrhardt, Kevin Traynor,
	Luca Boccassi

[-- Attachment #1: Type: text/plain, Size: 583 bytes --]

_Functional Testing PASS_

Branch: tags/v21.11

592c7bf7148bec1a34db79370e968dd2d1f8f1dc --> functional testing pass

Test environment and result as below:

Ubuntu 20.04 ARM
Kernel: 4.15.0-132-generic
Compiler: gcc 7.5
NIC: Arm Intel Corporation Ethernet Converged Network Adapter XL710-QDA2 40000 Mbps
Target: x86_64-native-linuxapp-gcc
Fail/Total: 0/2


To view detailed results, visit:
https://lab.dpdk.org/results/dashboard/tarballs/19837/

UNH-IOL DPDK Community Lab

To manage your email subscriptions, visit: 
https://lab.dpdk.org/results/dashboard/preferences/subscriptions/

^ permalink raw reply	[flat|nested] 83+ messages in thread

* |SUCCESS| [GIT MASTER] 592c7bf7148bec1a34db79370e968dd2d1f8f1dc
@ 2022-05-16  7:43 dpdklab
  0 siblings, 0 replies; 83+ messages in thread
From: dpdklab @ 2022-05-16  7:43 UTC (permalink / raw)
  To: Test Report
  Cc: dpdklab, Xueming Li, Christian Ehrhardt, Kevin Traynor, Luca Boccassi

[-- Attachment #1: Type: text/plain, Size: 1421 bytes --]

_Testing PASS_

Branch: tags/v21.11

592c7bf7148bec1a34db79370e968dd2d1f8f1dc --> testing pass

Test environment and result as below:

+------------------------------------+--------------------+
|            Environment             | dpdk_meson_compile |
+====================================+====================+
| Ubuntu 20.04 ARM Clang Native      | PASS               |
+------------------------------------+--------------------+
| Ubuntu 20.04 ARM GCC Native        | PASS               |
+------------------------------------+--------------------+
| Ubuntu 20.04 ARM GCC Cross Compile | PASS               |
+------------------------------------+--------------------+
| Ubuntu 20.04 ARM SVE               | PASS               |
+------------------------------------+--------------------+


Ubuntu 20.04 ARM Clang Native
	Kernel: 5.4.0-53-generic
	Compiler: clang 10.0.0-4ubuntu1

Ubuntu 20.04 ARM GCC Native
	Kernel: 5.4.0-53-generic
	Compiler: gcc 9.3

Ubuntu 20.04 ARM GCC Cross Compile
	Kernel: 5.4.0-72-generic
	Compiler: aarch64-linux-gnu-gcc (Ubuntu 9.3.0-17ubuntu1~20.04) 9.3.0

Ubuntu 20.04 ARM SVE
	Kernel: 5.4.0-80-generic
	Compiler: gcc 10.3.0 (Ubuntu 10.3.0-1ubuntu1~20.04)

To view detailed results, visit:
https://lab.dpdk.org/results/dashboard/tarballs/19820/

UNH-IOL DPDK Community Lab

To manage your email subscriptions, visit: 
https://lab.dpdk.org/results/dashboard/preferences/subscriptions/

^ permalink raw reply	[flat|nested] 83+ messages in thread

* |SUCCESS| [GIT MASTER] 592c7bf7148bec1a34db79370e968dd2d1f8f1dc
@ 2022-05-16  7:18 dpdklab
  0 siblings, 0 replies; 83+ messages in thread
From: dpdklab @ 2022-05-16  7:18 UTC (permalink / raw)
  To: Test Report
  Cc: dpdk-test-reports, Xueming Li, Christian Ehrhardt, Kevin Traynor,
	Luca Boccassi

[-- Attachment #1: Type: text/plain, Size: 3828 bytes --]

_Testing PASS_

Branch: tags/v21.11

592c7bf7148bec1a34db79370e968dd2d1f8f1dc --> testing pass

Test environment and result as below:

+---------------------+--------------------+----------------------+
|     Environment     | dpdk_meson_compile | dpdk_mingw64_compile |
+=====================+====================+======================+
| FreeBSD 13          | PASS               | SKIPPED              |
+---------------------+--------------------+----------------------+
| Windows Server 2019 | PASS               | PASS                 |
+---------------------+--------------------+----------------------+
| Fedora 34           | PASS               | SKIPPED              |
+---------------------+--------------------+----------------------+
| Ubuntu 18.04        | PASS               | SKIPPED              |
+---------------------+--------------------+----------------------+
| CentOS Stream 8     | PASS               | SKIPPED              |
+---------------------+--------------------+----------------------+
| openSUSE Leap 15    | PASS               | SKIPPED              |
+---------------------+--------------------+----------------------+
| Ubuntu 20.04        | PASS               | SKIPPED              |
+---------------------+--------------------+----------------------+
| Fedora 34 clang     | PASS               | SKIPPED              |
+---------------------+--------------------+----------------------+
| Fedora 33           | PASS               | SKIPPED              |
+---------------------+--------------------+----------------------+
| Alpine              | PASS               | SKIPPED              |
+---------------------+--------------------+----------------------+
| Arch Linux          | PASS               | SKIPPED              |
+---------------------+--------------------+----------------------+
| RHEL8               | PASS               | SKIPPED              |
+---------------------+--------------------+----------------------+
| RHEL 7              | PASS               | SKIPPED              |
+---------------------+--------------------+----------------------+
| Fedora 31           | PASS               | SKIPPED              |
+---------------------+--------------------+----------------------+
| Fedora 32           | PASS               | SKIPPED              |
+---------------------+--------------------+----------------------+


FreeBSD 13
	Kernel: 13.0
	Compiler: clang 11.0.1

Windows Server 2019
	Kernel: 10.0
	Compiler: clang 14.0 and gcc 8.1.0 (MinGW)

Fedora 34
	Kernel: 5.4.0-72-generic
	Compiler: gcc 11.1.1 20210428 (Red Hat 11.1.1-1)

Ubuntu 18.04
	Kernel: 4.18.0-240.10.1.el8_3.x86_64
	Compiler: gcc 7.5.0-3ubuntu1~18.04

CentOS Stream 8
	Kernel: 4.18.0-240.10.1.el8_3.x86_64
	Compiler: gcc 8.4.1 20200928

openSUSE Leap 15
	Kernel: 4.18.0-240.10.1.el8_3.x86_64
	Compiler: gcc 7.5.0

Ubuntu 20.04
	Kernel: 4.18.0-240.10.1.el8_3.x86_64
	Compiler: gcc 9.3.0-17ubuntu1~20.04

Fedora 34 clang
	Kernel: 5.4.0-72-generic
	Compiler: clang 12.0.0 (Fedora 12.0.0-0.3.rc1.fc34)

Fedora 33
	Kernel: 5.4.0-72-generic
	Compiler: gcc 10.3.1 20210422 (Red Hat 10.3.1-1)

Alpine
	Kernel: 5.4.0-73-generic
	Compiler: gcc (Alpine 10.3.1_git20210424) 10.3.1 20210424

Arch Linux
	Kernel: 5.4.0-73-generic
	Compiler: gcc 11.1.0

RHEL8
	Kernel: 4.18.0-240.10.1.el8_3.x86_64
	Compiler: gcc 8.3.1 20191121 (Red Hat 8.3.1-5)

RHEL 7
	Kernel: 4.18.0-240.10.1.el8_3.x86_64
	Compiler: gcc 4.8.5 20150623 (Red Hat 4.8.5-44)

Fedora 31
	Kernel: 4.18.0-240.10.1.el8_3.x86_64
	Compiler: gcc 9.3.1

Fedora 32
	Kernel: 4.18.0-240.10.1.el8_3.x86_64
	Compiler: gcc 10.2.1

To view detailed results, visit:
https://lab.dpdk.org/results/dashboard/tarballs/19820/

UNH-IOL DPDK Community Lab

To manage your email subscriptions, visit: 
https://lab.dpdk.org/results/dashboard/preferences/subscriptions/

^ permalink raw reply	[flat|nested] 83+ messages in thread

* |SUCCESS| [GIT MASTER] 592c7bf7148bec1a34db79370e968dd2d1f8f1dc
@ 2022-05-16  7:06 dpdklab
  0 siblings, 0 replies; 83+ messages in thread
From: dpdklab @ 2022-05-16  7:06 UTC (permalink / raw)
  To: Test Report
  Cc: dpdklab, Xueming Li, Christian Ehrhardt, Kevin Traynor, Luca Boccassi

[-- Attachment #1: Type: text/plain, Size: 2388 bytes --]

_Testing PASS_

Branch: tags/v21.11

592c7bf7148bec1a34db79370e968dd2d1f8f1dc --> testing pass

Test environment and result as below:

+------------------+----------------+
|   Environment    | dpdk_unit_test |
+==================+================+
| CentOS Stream 8  | PASS           |
+------------------+----------------+
| Fedora 32        | PASS           |
+------------------+----------------+
| Ubuntu 20.04     | PASS           |
+------------------+----------------+
| Ubuntu 18.04     | PASS           |
+------------------+----------------+
| Fedora 31        | PASS           |
+------------------+----------------+
| Fedora 34        | PASS           |
+------------------+----------------+
| RHEL 7           | PASS           |
+------------------+----------------+
| openSUSE Leap 15 | PASS           |
+------------------+----------------+
| Fedora 33        | PASS           |
+------------------+----------------+
| Arch Linux       | PASS           |
+------------------+----------------+
| RHEL8            | PASS           |
+------------------+----------------+
| Fedora 34 clang  | PASS           |
+------------------+----------------+


CentOS Stream 8
	Kernel: 4.18.0-240.10.1.el8_3.x86_64
	Compiler: gcc 8.4.1 20200928

Fedora 32
	Kernel: 4.18.0-240.10.1.el8_3.x86_64
	Compiler: gcc 10.2.1

Ubuntu 20.04
	Kernel: 4.18.0-240.10.1.el8_3.x86_64
	Compiler: gcc 9.3.0-17ubuntu1~20.04

Ubuntu 18.04
	Kernel: 4.18.0-240.10.1.el8_3.x86_64
	Compiler: gcc 7.5.0-3ubuntu1~18.04

Fedora 31
	Kernel: 4.18.0-240.10.1.el8_3.x86_64
	Compiler: gcc 9.3.1

Fedora 34
	Kernel: 5.4.0-72-generic
	Compiler: gcc 11.1.1 20210428 (Red Hat 11.1.1-1)

RHEL 7
	Kernel: 4.18.0-240.10.1.el8_3.x86_64
	Compiler: gcc 4.8.5 20150623 (Red Hat 4.8.5-44)

openSUSE Leap 15
	Kernel: 4.18.0-240.10.1.el8_3.x86_64
	Compiler: gcc 7.5.0

Fedora 33
	Kernel: 5.4.0-72-generic
	Compiler: gcc 10.3.1 20210422 (Red Hat 10.3.1-1)

Arch Linux
	Kernel: 5.4.0-73-generic
	Compiler: gcc 11.1.0

RHEL8
	Kernel: 4.18.0-240.10.1.el8_3.x86_64
	Compiler: gcc 8.3.1 20191121 (Red Hat 8.3.1-5)

Fedora 34 clang
	Kernel: 5.4.0-72-generic
	Compiler: clang 12.0.0 (Fedora 12.0.0-0.3.rc1.fc34)

To view detailed results, visit:
https://lab.dpdk.org/results/dashboard/tarballs/19820/

UNH-IOL DPDK Community Lab

To manage your email subscriptions, visit: 
https://lab.dpdk.org/results/dashboard/preferences/subscriptions/

^ permalink raw reply	[flat|nested] 83+ messages in thread

* |SUCCESS| [GIT MASTER] 592c7bf7148bec1a34db79370e968dd2d1f8f1dc
@ 2022-05-16  7:01 dpdklab
  0 siblings, 0 replies; 83+ messages in thread
From: dpdklab @ 2022-05-16  7:01 UTC (permalink / raw)
  To: Test Report
  Cc: dpdklab, Xueming Li, Christian Ehrhardt, Kevin Traynor, Luca Boccassi

[-- Attachment #1: Type: text/plain, Size: 2226 bytes --]

_Testing PASS_

Branch: tags/v21.11

592c7bf7148bec1a34db79370e968dd2d1f8f1dc --> testing pass

Test environment and result as below:

+------------------+----------+
|   Environment    | abi_test |
+==================+==========+
| openSUSE Leap 15 | PASS     |
+------------------+----------+
| Fedora 31        | PASS     |
+------------------+----------+
| RHEL8            | PASS     |
+------------------+----------+
| Ubuntu 20.04     | PASS     |
+------------------+----------+
| Fedora 32        | PASS     |
+------------------+----------+
| Arch Linux       | PASS     |
+------------------+----------+
| Fedora 33        | PASS     |
+------------------+----------+
| Ubuntu 18.04     | PASS     |
+------------------+----------+
| RHEL 7           | PASS     |
+------------------+----------+
| CentOS Stream 8  | PASS     |
+------------------+----------+
| Fedora 34        | PASS     |
+------------------+----------+
| Fedora 34 clang  | PASS     |
+------------------+----------+


openSUSE Leap 15
	Kernel: 4.18.0-240.10.1.el8_3.x86_64
	Compiler: gcc 7.5.0

Fedora 31
	Kernel: 4.18.0-240.10.1.el8_3.x86_64
	Compiler: gcc 9.3.1

RHEL8
	Kernel: 4.18.0-240.10.1.el8_3.x86_64
	Compiler: gcc 8.3.1 20191121 (Red Hat 8.3.1-5)

Ubuntu 20.04
	Kernel: 4.18.0-240.10.1.el8_3.x86_64
	Compiler: gcc 9.3.0-17ubuntu1~20.04

Fedora 32
	Kernel: 4.18.0-240.10.1.el8_3.x86_64
	Compiler: gcc 10.2.1

Arch Linux
	Kernel: 5.4.0-73-generic
	Compiler: gcc 11.1.0

Fedora 33
	Kernel: 5.4.0-72-generic
	Compiler: gcc 10.3.1 20210422 (Red Hat 10.3.1-1)

Ubuntu 18.04
	Kernel: 4.18.0-240.10.1.el8_3.x86_64
	Compiler: gcc 7.5.0-3ubuntu1~18.04

RHEL 7
	Kernel: 4.18.0-240.10.1.el8_3.x86_64
	Compiler: gcc 4.8.5 20150623 (Red Hat 4.8.5-44)

CentOS Stream 8
	Kernel: 4.18.0-240.10.1.el8_3.x86_64
	Compiler: gcc 8.4.1 20200928

Fedora 34
	Kernel: 5.4.0-72-generic
	Compiler: gcc 11.1.1 20210428 (Red Hat 11.1.1-1)

Fedora 34 clang
	Kernel: 5.4.0-72-generic
	Compiler: clang 12.0.0 (Fedora 12.0.0-0.3.rc1.fc34)

To view detailed results, visit:
https://lab.dpdk.org/results/dashboard/tarballs/19820/

UNH-IOL DPDK Community Lab

To manage your email subscriptions, visit: 
https://lab.dpdk.org/results/dashboard/preferences/subscriptions/

^ permalink raw reply	[flat|nested] 83+ messages in thread

* |SUCCESS| [GIT MASTER] 592c7bf7148bec1a34db79370e968dd2d1f8f1dc
@ 2022-05-16  6:55 dpdklab
  0 siblings, 0 replies; 83+ messages in thread
From: dpdklab @ 2022-05-16  6:55 UTC (permalink / raw)
  To: Test Report
  Cc: dpdklab, Xueming Li, Christian Ehrhardt, Kevin Traynor, Luca Boccassi

[-- Attachment #1: Type: text/plain, Size: 1223 bytes --]

_Testing PASS_

Branch: tags/v21.11

592c7bf7148bec1a34db79370e968dd2d1f8f1dc --> testing pass

Test environment and result as below:

+-------------------------------+----------------+--------------+
|          Environment          | dpdk_unit_test | lpm_autotest |
+===============================+================+==============+
| Ubuntu 20.04 ARM Clang Native | PASS           | SKIPPED      |
+-------------------------------+----------------+--------------+
| Ubuntu 20.04 ARM GCC Native   | PASS           | SKIPPED      |
+-------------------------------+----------------+--------------+
| Ubuntu 20.04 ARM SVE          | SKIPPED        | PASS         |
+-------------------------------+----------------+--------------+


Ubuntu 20.04 ARM Clang Native
	Kernel: 5.4.0-53-generic
	Compiler: clang 10.0.0-4ubuntu1

Ubuntu 20.04 ARM GCC Native
	Kernel: 5.4.0-53-generic
	Compiler: gcc 9.3

Ubuntu 20.04 ARM SVE
	Kernel: 5.4.0-80-generic
	Compiler: gcc 10.3.0 (Ubuntu 10.3.0-1ubuntu1~20.04)

To view detailed results, visit:
https://lab.dpdk.org/results/dashboard/tarballs/19820/

UNH-IOL DPDK Community Lab

To manage your email subscriptions, visit: 
https://lab.dpdk.org/results/dashboard/preferences/subscriptions/

^ permalink raw reply	[flat|nested] 83+ messages in thread

* |SUCCESS| [GIT MASTER] 592c7bf7148bec1a34db79370e968dd2d1f8f1dc
@ 2022-05-16  5:41 dpdklab
  0 siblings, 0 replies; 83+ messages in thread
From: dpdklab @ 2022-05-16  5:41 UTC (permalink / raw)
  To: Test Report
  Cc: dpdk-test-reports, Xueming Li, Christian Ehrhardt, Kevin Traynor,
	Luca Boccassi

[-- Attachment #1: Type: text/plain, Size: 954 bytes --]

_Functional Testing PASS_

Branch: tags/v21.11

592c7bf7148bec1a34db79370e968dd2d1f8f1dc --> functional testing pass

Test environment and result as below:

Ubuntu 20.04 ARM
Kernel: 4.15.0-132-generic
Compiler: gcc 7.5
NIC: Arm Intel Corporation Ethernet Converged Network Adapter XL710-QDA2 40000 Mbps
Target: x86_64-native-linuxapp-gcc
Fail/Total: 0/2


Ubuntu 20.04
Kernel: 4.15.0-generic
Compiler: gcc 7.4
NIC: Intel Corporation Ethernet Converged Network Adapter XL710-QDA2 40000 Mbps
Target: x86_64-native-linuxapp-gcc
Fail/Total: 0/2


Ubuntu 20.04
Kernel: 4.15.0-generic
Compiler: gcc 7.4
NIC: Intel Corporation Ethernet Converged Network Adapter 82599ES 10000 Mbps
Target: x86_64-native-linuxapp-gcc
Fail/Total: 0/2


To view detailed results, visit:
https://lab.dpdk.org/results/dashboard/tarballs/19820/

UNH-IOL DPDK Community Lab

To manage your email subscriptions, visit: 
https://lab.dpdk.org/results/dashboard/preferences/subscriptions/

^ permalink raw reply	[flat|nested] 83+ messages in thread

* |SUCCESS| [GIT MASTER] 592c7bf7148bec1a34db79370e968dd2d1f8f1dc
@ 2022-05-16  5:34 dpdklab
  0 siblings, 0 replies; 83+ messages in thread
From: dpdklab @ 2022-05-16  5:34 UTC (permalink / raw)
  To: Test Report
  Cc: dpdk-test-reports, Xueming Li, Christian Ehrhardt, Kevin Traynor,
	Luca Boccassi

[-- Attachment #1: Type: text/plain, Size: 3083 bytes --]

_Performance Testing PASS_

Branch: tags/v21.11

592c7bf7148bec1a34db79370e968dd2d1f8f1dc --> performance testing pass

Test environment and result as below:

Ubuntu 20.04
Kernel: 4.15.0-generic
Compiler: gcc 7.4
NIC: Intel Corporation Ethernet Converged Network Adapter 82599ES 10000 Mbps
Target: x86_64-native-linuxapp-gcc
Fail/Total: 0/6

Detail performance results: 
+----------+-------------+---------+------------+------------------------------+
| num_cpus | num_threads | txd/rxd | frame_size |  throughput difference from  |
|          |             |         |            |           expected           |
+==========+=============+=========+============+==============================+
| 1        | 2           | 128     | 64         | -0.1%                        |
+----------+-------------+---------+------------+------------------------------+
| 1        | 2           | 512     | 64         | 0.1%                         |
+----------+-------------+---------+------------+------------------------------+
| 1        | 2           | 2048    | 64         | -0.0%                        |
+----------+-------------+---------+------------+------------------------------+
| 1        | 1           | 128     | 64         | -0.2%                        |
+----------+-------------+---------+------------+------------------------------+
| 1        | 1           | 512     | 64         | -0.3%                        |
+----------+-------------+---------+------------+------------------------------+
| 1        | 1           | 2048    | 64         | -0.1%                        |
+----------+-------------+---------+------------+------------------------------+

Ubuntu 20.04
Kernel: 4.15.0-generic
Compiler: gcc 7.4
NIC: Intel Corporation Ethernet Converged Network Adapter XL710-QDA2 40000 Mbps
Target: x86_64-native-linuxapp-gcc
Fail/Total: 0/4

Detail performance results: 
+----------+-------------+---------+------------+------------------------------+
| num_cpus | num_threads | txd/rxd | frame_size |  throughput difference from  |
|          |             |         |            |           expected           |
+==========+=============+=========+============+==============================+
| 1        | 2           | 512     | 64         | -0.4%                        |
+----------+-------------+---------+------------+------------------------------+
| 1        | 2           | 2048    | 64         | 0.4%                         |
+----------+-------------+---------+------------+------------------------------+
| 1        | 1           | 512     | 64         | -4.7%                        |
+----------+-------------+---------+------------+------------------------------+
| 1        | 1           | 2048    | 64         | -0.5%                        |
+----------+-------------+---------+------------+------------------------------+

To view detailed results, visit:
https://lab.dpdk.org/results/dashboard/tarballs/19820/

UNH-IOL DPDK Community Lab

To manage your email subscriptions, visit: 
https://lab.dpdk.org/results/dashboard/preferences/subscriptions/

^ permalink raw reply	[flat|nested] 83+ messages in thread

* |SUCCESS| [GIT MASTER] 592c7bf7148bec1a34db79370e968dd2d1f8f1dc
@ 2022-05-16  5:29 dpdklab
  0 siblings, 0 replies; 83+ messages in thread
From: dpdklab @ 2022-05-16  5:29 UTC (permalink / raw)
  To: Test Report
  Cc: dpdk-test-reports, Xueming Li, Christian Ehrhardt, Kevin Traynor,
	Luca Boccassi

[-- Attachment #1: Type: text/plain, Size: 1895 bytes --]

_Performance Testing PASS_

Branch: tags/v21.11

592c7bf7148bec1a34db79370e968dd2d1f8f1dc --> performance testing pass

Test environment and result as below:

Ubuntu 20.04
Kernel: 4.15.0-generic
Compiler: gcc 7.4
NIC: Intel Corporation Ethernet Converged Network Adapter 82599ES 10000 Mbps
Target: x86_64-native-linuxapp-gcc
Fail/Total: 0/6

Detail performance results: 
+----------+-------------+---------+------------+------------------------------+
| num_cpus | num_threads | txd/rxd | frame_size |  throughput difference from  |
|          |             |         |            |           expected           |
+==========+=============+=========+============+==============================+
| 1        | 2           | 128     | 64         | -0.1%                        |
+----------+-------------+---------+------------+------------------------------+
| 1        | 2           | 512     | 64         | 0.1%                         |
+----------+-------------+---------+------------+------------------------------+
| 1        | 2           | 2048    | 64         | -0.0%                        |
+----------+-------------+---------+------------+------------------------------+
| 1        | 1           | 128     | 64         | -0.2%                        |
+----------+-------------+---------+------------+------------------------------+
| 1        | 1           | 512     | 64         | -0.3%                        |
+----------+-------------+---------+------------+------------------------------+
| 1        | 1           | 2048    | 64         | -0.1%                        |
+----------+-------------+---------+------------+------------------------------+

To view detailed results, visit:
https://lab.dpdk.org/results/dashboard/tarballs/19820/

UNH-IOL DPDK Community Lab

To manage your email subscriptions, visit: 
https://lab.dpdk.org/results/dashboard/preferences/subscriptions/

^ permalink raw reply	[flat|nested] 83+ messages in thread

* |SUCCESS| [GIT MASTER] 592c7bf7148bec1a34db79370e968dd2d1f8f1dc
@ 2022-05-16  5:18 dpdklab
  0 siblings, 0 replies; 83+ messages in thread
From: dpdklab @ 2022-05-16  5:18 UTC (permalink / raw)
  To: Test Report
  Cc: dpdk-test-reports, Xueming Li, Christian Ehrhardt, Kevin Traynor,
	Luca Boccassi

[-- Attachment #1: Type: text/plain, Size: 770 bytes --]

_Functional Testing PASS_

Branch: tags/v21.11

592c7bf7148bec1a34db79370e968dd2d1f8f1dc --> functional testing pass

Test environment and result as below:

Ubuntu 20.04 ARM
Kernel: 4.15.0-132-generic
Compiler: gcc 7.5
NIC: Arm Intel Corporation Ethernet Converged Network Adapter XL710-QDA2 40000 Mbps
Target: x86_64-native-linuxapp-gcc
Fail/Total: 0/2


Ubuntu 20.04
Kernel: 4.15.0-generic
Compiler: gcc 7.4
NIC: Intel Corporation Ethernet Converged Network Adapter XL710-QDA2 40000 Mbps
Target: x86_64-native-linuxapp-gcc
Fail/Total: 0/2


To view detailed results, visit:
https://lab.dpdk.org/results/dashboard/tarballs/19820/

UNH-IOL DPDK Community Lab

To manage your email subscriptions, visit: 
https://lab.dpdk.org/results/dashboard/preferences/subscriptions/

^ permalink raw reply	[flat|nested] 83+ messages in thread

* |SUCCESS| [GIT MASTER] 592c7bf7148bec1a34db79370e968dd2d1f8f1dc
@ 2022-05-16  5:10 dpdklab
  0 siblings, 0 replies; 83+ messages in thread
From: dpdklab @ 2022-05-16  5:10 UTC (permalink / raw)
  To: Test Report
  Cc: dpdk-test-reports, Xueming Li, Christian Ehrhardt, Kevin Traynor,
	Luca Boccassi

[-- Attachment #1: Type: text/plain, Size: 583 bytes --]

_Functional Testing PASS_

Branch: tags/v21.11

592c7bf7148bec1a34db79370e968dd2d1f8f1dc --> functional testing pass

Test environment and result as below:

Ubuntu 20.04 ARM
Kernel: 4.15.0-132-generic
Compiler: gcc 7.5
NIC: Arm Intel Corporation Ethernet Converged Network Adapter XL710-QDA2 40000 Mbps
Target: x86_64-native-linuxapp-gcc
Fail/Total: 0/2


To view detailed results, visit:
https://lab.dpdk.org/results/dashboard/tarballs/19820/

UNH-IOL DPDK Community Lab

To manage your email subscriptions, visit: 
https://lab.dpdk.org/results/dashboard/preferences/subscriptions/

^ permalink raw reply	[flat|nested] 83+ messages in thread

* |SUCCESS| [GIT MASTER] 592c7bf7148bec1a34db79370e968dd2d1f8f1dc
@ 2022-05-15  7:18 dpdklab
  0 siblings, 0 replies; 83+ messages in thread
From: dpdklab @ 2022-05-15  7:18 UTC (permalink / raw)
  To: Test Report
  Cc: dpdk-test-reports, Xueming Li, Christian Ehrhardt, Kevin Traynor,
	Luca Boccassi

[-- Attachment #1: Type: text/plain, Size: 2226 bytes --]

_Testing PASS_

Branch: tags/v21.11

592c7bf7148bec1a34db79370e968dd2d1f8f1dc --> testing pass

Test environment and result as below:

+------------------+----------+
|   Environment    | abi_test |
+==================+==========+
| Ubuntu 18.04     | PASS     |
+------------------+----------+
| RHEL8            | PASS     |
+------------------+----------+
| Ubuntu 20.04     | PASS     |
+------------------+----------+
| RHEL 7           | PASS     |
+------------------+----------+
| CentOS Stream 8  | PASS     |
+------------------+----------+
| Fedora 31        | PASS     |
+------------------+----------+
| Arch Linux       | PASS     |
+------------------+----------+
| Fedora 32        | PASS     |
+------------------+----------+
| Fedora 34 clang  | PASS     |
+------------------+----------+
| Fedora 33        | PASS     |
+------------------+----------+
| Fedora 34        | PASS     |
+------------------+----------+
| openSUSE Leap 15 | PASS     |
+------------------+----------+


Ubuntu 18.04
	Kernel: 4.18.0-240.10.1.el8_3.x86_64
	Compiler: gcc 7.5.0-3ubuntu1~18.04

RHEL8
	Kernel: 4.18.0-240.10.1.el8_3.x86_64
	Compiler: gcc 8.3.1 20191121 (Red Hat 8.3.1-5)

Ubuntu 20.04
	Kernel: 4.18.0-240.10.1.el8_3.x86_64
	Compiler: gcc 9.3.0-17ubuntu1~20.04

RHEL 7
	Kernel: 4.18.0-240.10.1.el8_3.x86_64
	Compiler: gcc 4.8.5 20150623 (Red Hat 4.8.5-44)

CentOS Stream 8
	Kernel: 4.18.0-240.10.1.el8_3.x86_64
	Compiler: gcc 8.4.1 20200928

Fedora 31
	Kernel: 4.18.0-240.10.1.el8_3.x86_64
	Compiler: gcc 9.3.1

Arch Linux
	Kernel: 5.4.0-73-generic
	Compiler: gcc 11.1.0

Fedora 32
	Kernel: 4.18.0-240.10.1.el8_3.x86_64
	Compiler: gcc 10.2.1

Fedora 34 clang
	Kernel: 5.4.0-72-generic
	Compiler: clang 12.0.0 (Fedora 12.0.0-0.3.rc1.fc34)

Fedora 33
	Kernel: 5.4.0-72-generic
	Compiler: gcc 10.3.1 20210422 (Red Hat 10.3.1-1)

Fedora 34
	Kernel: 5.4.0-72-generic
	Compiler: gcc 11.1.1 20210428 (Red Hat 11.1.1-1)

openSUSE Leap 15
	Kernel: 4.18.0-240.10.1.el8_3.x86_64
	Compiler: gcc 7.5.0

To view detailed results, visit:
https://lab.dpdk.org/results/dashboard/tarballs/19811/

UNH-IOL DPDK Community Lab

To manage your email subscriptions, visit: 
https://lab.dpdk.org/results/dashboard/preferences/subscriptions/

^ permalink raw reply	[flat|nested] 83+ messages in thread

* |SUCCESS| [GIT MASTER] 592c7bf7148bec1a34db79370e968dd2d1f8f1dc
@ 2022-05-15  7:13 dpdklab
  0 siblings, 0 replies; 83+ messages in thread
From: dpdklab @ 2022-05-15  7:13 UTC (permalink / raw)
  To: Test Report
  Cc: dpdklab, Xueming Li, Christian Ehrhardt, Kevin Traynor, Luca Boccassi

[-- Attachment #1: Type: text/plain, Size: 1421 bytes --]

_Testing PASS_

Branch: tags/v21.11

592c7bf7148bec1a34db79370e968dd2d1f8f1dc --> testing pass

Test environment and result as below:

+------------------------------------+--------------------+
|            Environment             | dpdk_meson_compile |
+====================================+====================+
| Ubuntu 20.04 ARM Clang Native      | PASS               |
+------------------------------------+--------------------+
| Ubuntu 20.04 ARM GCC Native        | PASS               |
+------------------------------------+--------------------+
| Ubuntu 20.04 ARM GCC Cross Compile | PASS               |
+------------------------------------+--------------------+
| Ubuntu 20.04 ARM SVE               | PASS               |
+------------------------------------+--------------------+


Ubuntu 20.04 ARM Clang Native
	Kernel: 5.4.0-53-generic
	Compiler: clang 10.0.0-4ubuntu1

Ubuntu 20.04 ARM GCC Native
	Kernel: 5.4.0-53-generic
	Compiler: gcc 9.3

Ubuntu 20.04 ARM GCC Cross Compile
	Kernel: 5.4.0-72-generic
	Compiler: aarch64-linux-gnu-gcc (Ubuntu 9.3.0-17ubuntu1~20.04) 9.3.0

Ubuntu 20.04 ARM SVE
	Kernel: 5.4.0-80-generic
	Compiler: gcc 10.3.0 (Ubuntu 10.3.0-1ubuntu1~20.04)

To view detailed results, visit:
https://lab.dpdk.org/results/dashboard/tarballs/19811/

UNH-IOL DPDK Community Lab

To manage your email subscriptions, visit: 
https://lab.dpdk.org/results/dashboard/preferences/subscriptions/

^ permalink raw reply	[flat|nested] 83+ messages in thread

* |SUCCESS| [GIT MASTER] 592c7bf7148bec1a34db79370e968dd2d1f8f1dc
@ 2022-05-15  7:00 dpdklab
  0 siblings, 0 replies; 83+ messages in thread
From: dpdklab @ 2022-05-15  7:00 UTC (permalink / raw)
  To: Test Report
  Cc: dpdklab, Xueming Li, Christian Ehrhardt, Kevin Traynor, Luca Boccassi

[-- Attachment #1: Type: text/plain, Size: 2388 bytes --]

_Testing PASS_

Branch: tags/v21.11

592c7bf7148bec1a34db79370e968dd2d1f8f1dc --> testing pass

Test environment and result as below:

+------------------+----------------+
|   Environment    | dpdk_unit_test |
+==================+================+
| RHEL8            | PASS           |
+------------------+----------------+
| Arch Linux       | PASS           |
+------------------+----------------+
| openSUSE Leap 15 | PASS           |
+------------------+----------------+
| Fedora 31        | PASS           |
+------------------+----------------+
| CentOS Stream 8  | PASS           |
+------------------+----------------+
| Fedora 32        | PASS           |
+------------------+----------------+
| RHEL 7           | PASS           |
+------------------+----------------+
| Fedora 34 clang  | PASS           |
+------------------+----------------+
| Fedora 33        | PASS           |
+------------------+----------------+
| Ubuntu 20.04     | PASS           |
+------------------+----------------+
| Ubuntu 18.04     | PASS           |
+------------------+----------------+
| Fedora 34        | PASS           |
+------------------+----------------+


RHEL8
	Kernel: 4.18.0-240.10.1.el8_3.x86_64
	Compiler: gcc 8.3.1 20191121 (Red Hat 8.3.1-5)

Arch Linux
	Kernel: 5.4.0-73-generic
	Compiler: gcc 11.1.0

openSUSE Leap 15
	Kernel: 4.18.0-240.10.1.el8_3.x86_64
	Compiler: gcc 7.5.0

Fedora 31
	Kernel: 4.18.0-240.10.1.el8_3.x86_64
	Compiler: gcc 9.3.1

CentOS Stream 8
	Kernel: 4.18.0-240.10.1.el8_3.x86_64
	Compiler: gcc 8.4.1 20200928

Fedora 32
	Kernel: 4.18.0-240.10.1.el8_3.x86_64
	Compiler: gcc 10.2.1

RHEL 7
	Kernel: 4.18.0-240.10.1.el8_3.x86_64
	Compiler: gcc 4.8.5 20150623 (Red Hat 4.8.5-44)

Fedora 34 clang
	Kernel: 5.4.0-72-generic
	Compiler: clang 12.0.0 (Fedora 12.0.0-0.3.rc1.fc34)

Fedora 33
	Kernel: 5.4.0-72-generic
	Compiler: gcc 10.3.1 20210422 (Red Hat 10.3.1-1)

Ubuntu 20.04
	Kernel: 4.18.0-240.10.1.el8_3.x86_64
	Compiler: gcc 9.3.0-17ubuntu1~20.04

Ubuntu 18.04
	Kernel: 4.18.0-240.10.1.el8_3.x86_64
	Compiler: gcc 7.5.0-3ubuntu1~18.04

Fedora 34
	Kernel: 5.4.0-72-generic
	Compiler: gcc 11.1.1 20210428 (Red Hat 11.1.1-1)

To view detailed results, visit:
https://lab.dpdk.org/results/dashboard/tarballs/19811/

UNH-IOL DPDK Community Lab

To manage your email subscriptions, visit: 
https://lab.dpdk.org/results/dashboard/preferences/subscriptions/

^ permalink raw reply	[flat|nested] 83+ messages in thread

* |SUCCESS| [GIT MASTER] 592c7bf7148bec1a34db79370e968dd2d1f8f1dc
@ 2022-05-15  6:51 dpdklab
  0 siblings, 0 replies; 83+ messages in thread
From: dpdklab @ 2022-05-15  6:51 UTC (permalink / raw)
  To: Test Report
  Cc: dpdk-test-reports, Xueming Li, Christian Ehrhardt, Kevin Traynor,
	Luca Boccassi

[-- Attachment #1: Type: text/plain, Size: 3828 bytes --]

_Testing PASS_

Branch: tags/v21.11

592c7bf7148bec1a34db79370e968dd2d1f8f1dc --> testing pass

Test environment and result as below:

+---------------------+--------------------+----------------------+
|     Environment     | dpdk_meson_compile | dpdk_mingw64_compile |
+=====================+====================+======================+
| Windows Server 2019 | PASS               | PASS                 |
+---------------------+--------------------+----------------------+
| FreeBSD 13          | PASS               | SKIPPED              |
+---------------------+--------------------+----------------------+
| Ubuntu 18.04        | PASS               | SKIPPED              |
+---------------------+--------------------+----------------------+
| Fedora 31           | PASS               | SKIPPED              |
+---------------------+--------------------+----------------------+
| Arch Linux          | PASS               | SKIPPED              |
+---------------------+--------------------+----------------------+
| Fedora 34           | PASS               | SKIPPED              |
+---------------------+--------------------+----------------------+
| openSUSE Leap 15    | PASS               | SKIPPED              |
+---------------------+--------------------+----------------------+
| CentOS Stream 8     | PASS               | SKIPPED              |
+---------------------+--------------------+----------------------+
| Ubuntu 20.04        | PASS               | SKIPPED              |
+---------------------+--------------------+----------------------+
| Fedora 33           | PASS               | SKIPPED              |
+---------------------+--------------------+----------------------+
| RHEL 7              | PASS               | SKIPPED              |
+---------------------+--------------------+----------------------+
| RHEL8               | PASS               | SKIPPED              |
+---------------------+--------------------+----------------------+
| Fedora 34 clang     | PASS               | SKIPPED              |
+---------------------+--------------------+----------------------+
| Fedora 32           | PASS               | SKIPPED              |
+---------------------+--------------------+----------------------+
| Alpine              | PASS               | SKIPPED              |
+---------------------+--------------------+----------------------+


Windows Server 2019
	Kernel: 10.0
	Compiler: clang 14.0 and gcc 8.1.0 (MinGW)

FreeBSD 13
	Kernel: 13.0
	Compiler: clang 11.0.1

Ubuntu 18.04
	Kernel: 4.18.0-240.10.1.el8_3.x86_64
	Compiler: gcc 7.5.0-3ubuntu1~18.04

Fedora 31
	Kernel: 4.18.0-240.10.1.el8_3.x86_64
	Compiler: gcc 9.3.1

Arch Linux
	Kernel: 5.4.0-73-generic
	Compiler: gcc 11.1.0

Fedora 34
	Kernel: 5.4.0-72-generic
	Compiler: gcc 11.1.1 20210428 (Red Hat 11.1.1-1)

openSUSE Leap 15
	Kernel: 4.18.0-240.10.1.el8_3.x86_64
	Compiler: gcc 7.5.0

CentOS Stream 8
	Kernel: 4.18.0-240.10.1.el8_3.x86_64
	Compiler: gcc 8.4.1 20200928

Ubuntu 20.04
	Kernel: 4.18.0-240.10.1.el8_3.x86_64
	Compiler: gcc 9.3.0-17ubuntu1~20.04

Fedora 33
	Kernel: 5.4.0-72-generic
	Compiler: gcc 10.3.1 20210422 (Red Hat 10.3.1-1)

RHEL 7
	Kernel: 4.18.0-240.10.1.el8_3.x86_64
	Compiler: gcc 4.8.5 20150623 (Red Hat 4.8.5-44)

RHEL8
	Kernel: 4.18.0-240.10.1.el8_3.x86_64
	Compiler: gcc 8.3.1 20191121 (Red Hat 8.3.1-5)

Fedora 34 clang
	Kernel: 5.4.0-72-generic
	Compiler: clang 12.0.0 (Fedora 12.0.0-0.3.rc1.fc34)

Fedora 32
	Kernel: 4.18.0-240.10.1.el8_3.x86_64
	Compiler: gcc 10.2.1

Alpine
	Kernel: 5.4.0-73-generic
	Compiler: gcc (Alpine 10.3.1_git20210424) 10.3.1 20210424

To view detailed results, visit:
https://lab.dpdk.org/results/dashboard/tarballs/19811/

UNH-IOL DPDK Community Lab

To manage your email subscriptions, visit: 
https://lab.dpdk.org/results/dashboard/preferences/subscriptions/

^ permalink raw reply	[flat|nested] 83+ messages in thread

* |SUCCESS| [GIT MASTER] 592c7bf7148bec1a34db79370e968dd2d1f8f1dc
@ 2022-05-15  6:29 dpdklab
  0 siblings, 0 replies; 83+ messages in thread
From: dpdklab @ 2022-05-15  6:29 UTC (permalink / raw)
  To: Test Report
  Cc: dpdklab, Xueming Li, Christian Ehrhardt, Kevin Traynor, Luca Boccassi

[-- Attachment #1: Type: text/plain, Size: 1223 bytes --]

_Testing PASS_

Branch: tags/v21.11

592c7bf7148bec1a34db79370e968dd2d1f8f1dc --> testing pass

Test environment and result as below:

+-------------------------------+----------------+--------------+
|          Environment          | dpdk_unit_test | lpm_autotest |
+===============================+================+==============+
| Ubuntu 20.04 ARM Clang Native | PASS           | SKIPPED      |
+-------------------------------+----------------+--------------+
| Ubuntu 20.04 ARM GCC Native   | PASS           | SKIPPED      |
+-------------------------------+----------------+--------------+
| Ubuntu 20.04 ARM SVE          | SKIPPED        | PASS         |
+-------------------------------+----------------+--------------+


Ubuntu 20.04 ARM Clang Native
	Kernel: 5.4.0-53-generic
	Compiler: clang 10.0.0-4ubuntu1

Ubuntu 20.04 ARM GCC Native
	Kernel: 5.4.0-53-generic
	Compiler: gcc 9.3

Ubuntu 20.04 ARM SVE
	Kernel: 5.4.0-80-generic
	Compiler: gcc 10.3.0 (Ubuntu 10.3.0-1ubuntu1~20.04)

To view detailed results, visit:
https://lab.dpdk.org/results/dashboard/tarballs/19811/

UNH-IOL DPDK Community Lab

To manage your email subscriptions, visit: 
https://lab.dpdk.org/results/dashboard/preferences/subscriptions/

^ permalink raw reply	[flat|nested] 83+ messages in thread

* |SUCCESS| [GIT MASTER] 592c7bf7148bec1a34db79370e968dd2d1f8f1dc
@ 2022-05-15  5:41 dpdklab
  0 siblings, 0 replies; 83+ messages in thread
From: dpdklab @ 2022-05-15  5:41 UTC (permalink / raw)
  To: Test Report
  Cc: dpdk-test-reports, Xueming Li, Christian Ehrhardt, Kevin Traynor,
	Luca Boccassi

[-- Attachment #1: Type: text/plain, Size: 954 bytes --]

_Functional Testing PASS_

Branch: tags/v21.11

592c7bf7148bec1a34db79370e968dd2d1f8f1dc --> functional testing pass

Test environment and result as below:

Ubuntu 20.04 ARM
Kernel: 4.15.0-132-generic
Compiler: gcc 7.5
NIC: Arm Intel Corporation Ethernet Converged Network Adapter XL710-QDA2 40000 Mbps
Target: x86_64-native-linuxapp-gcc
Fail/Total: 0/2


Ubuntu 20.04
Kernel: 4.15.0-generic
Compiler: gcc 7.4
NIC: Intel Corporation Ethernet Converged Network Adapter XL710-QDA2 40000 Mbps
Target: x86_64-native-linuxapp-gcc
Fail/Total: 0/2


Ubuntu 20.04
Kernel: 4.15.0-generic
Compiler: gcc 7.4
NIC: Intel Corporation Ethernet Converged Network Adapter 82599ES 10000 Mbps
Target: x86_64-native-linuxapp-gcc
Fail/Total: 0/2


To view detailed results, visit:
https://lab.dpdk.org/results/dashboard/tarballs/19811/

UNH-IOL DPDK Community Lab

To manage your email subscriptions, visit: 
https://lab.dpdk.org/results/dashboard/preferences/subscriptions/

^ permalink raw reply	[flat|nested] 83+ messages in thread

* |SUCCESS| [GIT MASTER] 592c7bf7148bec1a34db79370e968dd2d1f8f1dc
@ 2022-05-15  5:33 dpdklab
  0 siblings, 0 replies; 83+ messages in thread
From: dpdklab @ 2022-05-15  5:33 UTC (permalink / raw)
  To: Test Report
  Cc: dpdk-test-reports, Xueming Li, Christian Ehrhardt, Kevin Traynor,
	Luca Boccassi

[-- Attachment #1: Type: text/plain, Size: 3083 bytes --]

_Performance Testing PASS_

Branch: tags/v21.11

592c7bf7148bec1a34db79370e968dd2d1f8f1dc --> performance testing pass

Test environment and result as below:

Ubuntu 20.04
Kernel: 4.15.0-generic
Compiler: gcc 7.4
NIC: Intel Corporation Ethernet Converged Network Adapter 82599ES 10000 Mbps
Target: x86_64-native-linuxapp-gcc
Fail/Total: 0/6

Detail performance results: 
+----------+-------------+---------+------------+------------------------------+
| num_cpus | num_threads | txd/rxd | frame_size |  throughput difference from  |
|          |             |         |            |           expected           |
+==========+=============+=========+============+==============================+
| 1        | 2           | 128     | 64         | 0.0%                         |
+----------+-------------+---------+------------+------------------------------+
| 1        | 2           | 512     | 64         | -0.2%                        |
+----------+-------------+---------+------------+------------------------------+
| 1        | 2           | 2048    | 64         | -0.1%                        |
+----------+-------------+---------+------------+------------------------------+
| 1        | 1           | 128     | 64         | 0.2%                         |
+----------+-------------+---------+------------+------------------------------+
| 1        | 1           | 512     | 64         | 0.5%                         |
+----------+-------------+---------+------------+------------------------------+
| 1        | 1           | 2048    | 64         | 0.1%                         |
+----------+-------------+---------+------------+------------------------------+

Ubuntu 20.04
Kernel: 4.15.0-generic
Compiler: gcc 7.4
NIC: Intel Corporation Ethernet Converged Network Adapter XL710-QDA2 40000 Mbps
Target: x86_64-native-linuxapp-gcc
Fail/Total: 0/4

Detail performance results: 
+----------+-------------+---------+------------+------------------------------+
| num_cpus | num_threads | txd/rxd | frame_size |  throughput difference from  |
|          |             |         |            |           expected           |
+==========+=============+=========+============+==============================+
| 1        | 2           | 512     | 64         | -0.1%                        |
+----------+-------------+---------+------------+------------------------------+
| 1        | 2           | 2048    | 64         | -2.5%                        |
+----------+-------------+---------+------------+------------------------------+
| 1        | 1           | 512     | 64         | 0.3%                         |
+----------+-------------+---------+------------+------------------------------+
| 1        | 1           | 2048    | 64         | 0.2%                         |
+----------+-------------+---------+------------+------------------------------+

To view detailed results, visit:
https://lab.dpdk.org/results/dashboard/tarballs/19811/

UNH-IOL DPDK Community Lab

To manage your email subscriptions, visit: 
https://lab.dpdk.org/results/dashboard/preferences/subscriptions/

^ permalink raw reply	[flat|nested] 83+ messages in thread

* |SUCCESS| [GIT MASTER] 592c7bf7148bec1a34db79370e968dd2d1f8f1dc
@ 2022-05-15  5:29 dpdklab
  0 siblings, 0 replies; 83+ messages in thread
From: dpdklab @ 2022-05-15  5:29 UTC (permalink / raw)
  To: Test Report
  Cc: dpdk-test-reports, Xueming Li, Christian Ehrhardt, Kevin Traynor,
	Luca Boccassi

[-- Attachment #1: Type: text/plain, Size: 1895 bytes --]

_Performance Testing PASS_

Branch: tags/v21.11

592c7bf7148bec1a34db79370e968dd2d1f8f1dc --> performance testing pass

Test environment and result as below:

Ubuntu 20.04
Kernel: 4.15.0-generic
Compiler: gcc 7.4
NIC: Intel Corporation Ethernet Converged Network Adapter 82599ES 10000 Mbps
Target: x86_64-native-linuxapp-gcc
Fail/Total: 0/6

Detail performance results: 
+----------+-------------+---------+------------+------------------------------+
| num_cpus | num_threads | txd/rxd | frame_size |  throughput difference from  |
|          |             |         |            |           expected           |
+==========+=============+=========+============+==============================+
| 1        | 2           | 128     | 64         | 0.0%                         |
+----------+-------------+---------+------------+------------------------------+
| 1        | 2           | 512     | 64         | -0.2%                        |
+----------+-------------+---------+------------+------------------------------+
| 1        | 2           | 2048    | 64         | -0.1%                        |
+----------+-------------+---------+------------+------------------------------+
| 1        | 1           | 128     | 64         | 0.2%                         |
+----------+-------------+---------+------------+------------------------------+
| 1        | 1           | 512     | 64         | 0.5%                         |
+----------+-------------+---------+------------+------------------------------+
| 1        | 1           | 2048    | 64         | 0.1%                         |
+----------+-------------+---------+------------+------------------------------+

To view detailed results, visit:
https://lab.dpdk.org/results/dashboard/tarballs/19811/

UNH-IOL DPDK Community Lab

To manage your email subscriptions, visit: 
https://lab.dpdk.org/results/dashboard/preferences/subscriptions/

^ permalink raw reply	[flat|nested] 83+ messages in thread

* |SUCCESS| [GIT MASTER] 592c7bf7148bec1a34db79370e968dd2d1f8f1dc
@ 2022-05-15  5:17 dpdklab
  0 siblings, 0 replies; 83+ messages in thread
From: dpdklab @ 2022-05-15  5:17 UTC (permalink / raw)
  To: Test Report
  Cc: dpdk-test-reports, Xueming Li, Christian Ehrhardt, Kevin Traynor,
	Luca Boccassi

[-- Attachment #1: Type: text/plain, Size: 770 bytes --]

_Functional Testing PASS_

Branch: tags/v21.11

592c7bf7148bec1a34db79370e968dd2d1f8f1dc --> functional testing pass

Test environment and result as below:

Ubuntu 20.04 ARM
Kernel: 4.15.0-132-generic
Compiler: gcc 7.5
NIC: Arm Intel Corporation Ethernet Converged Network Adapter XL710-QDA2 40000 Mbps
Target: x86_64-native-linuxapp-gcc
Fail/Total: 0/2


Ubuntu 20.04
Kernel: 4.15.0-generic
Compiler: gcc 7.4
NIC: Intel Corporation Ethernet Converged Network Adapter XL710-QDA2 40000 Mbps
Target: x86_64-native-linuxapp-gcc
Fail/Total: 0/2


To view detailed results, visit:
https://lab.dpdk.org/results/dashboard/tarballs/19811/

UNH-IOL DPDK Community Lab

To manage your email subscriptions, visit: 
https://lab.dpdk.org/results/dashboard/preferences/subscriptions/

^ permalink raw reply	[flat|nested] 83+ messages in thread

* |SUCCESS| [GIT MASTER] 592c7bf7148bec1a34db79370e968dd2d1f8f1dc
@ 2022-05-15  5:09 dpdklab
  0 siblings, 0 replies; 83+ messages in thread
From: dpdklab @ 2022-05-15  5:09 UTC (permalink / raw)
  To: Test Report
  Cc: dpdk-test-reports, Xueming Li, Christian Ehrhardt, Kevin Traynor,
	Luca Boccassi

[-- Attachment #1: Type: text/plain, Size: 583 bytes --]

_Functional Testing PASS_

Branch: tags/v21.11

592c7bf7148bec1a34db79370e968dd2d1f8f1dc --> functional testing pass

Test environment and result as below:

Ubuntu 20.04 ARM
Kernel: 4.15.0-132-generic
Compiler: gcc 7.5
NIC: Arm Intel Corporation Ethernet Converged Network Adapter XL710-QDA2 40000 Mbps
Target: x86_64-native-linuxapp-gcc
Fail/Total: 0/2


To view detailed results, visit:
https://lab.dpdk.org/results/dashboard/tarballs/19811/

UNH-IOL DPDK Community Lab

To manage your email subscriptions, visit: 
https://lab.dpdk.org/results/dashboard/preferences/subscriptions/

^ permalink raw reply	[flat|nested] 83+ messages in thread

* |SUCCESS| [GIT MASTER] 592c7bf7148bec1a34db79370e968dd2d1f8f1dc
@ 2022-05-14  7:14 dpdklab
  0 siblings, 0 replies; 83+ messages in thread
From: dpdklab @ 2022-05-14  7:14 UTC (permalink / raw)
  To: Test Report
  Cc: dpdk-test-reports, Xueming Li, Christian Ehrhardt, Kevin Traynor,
	Luca Boccassi

[-- Attachment #1: Type: text/plain, Size: 3828 bytes --]

_Testing PASS_

Branch: tags/v21.11

592c7bf7148bec1a34db79370e968dd2d1f8f1dc --> testing pass

Test environment and result as below:

+---------------------+--------------------+----------------------+
|     Environment     | dpdk_meson_compile | dpdk_mingw64_compile |
+=====================+====================+======================+
| Windows Server 2019 | PASS               | PASS                 |
+---------------------+--------------------+----------------------+
| FreeBSD 13          | PASS               | SKIPPED              |
+---------------------+--------------------+----------------------+
| Fedora 32           | PASS               | SKIPPED              |
+---------------------+--------------------+----------------------+
| RHEL8               | PASS               | SKIPPED              |
+---------------------+--------------------+----------------------+
| Fedora 31           | PASS               | SKIPPED              |
+---------------------+--------------------+----------------------+
| Fedora 34           | PASS               | SKIPPED              |
+---------------------+--------------------+----------------------+
| Fedora 33           | PASS               | SKIPPED              |
+---------------------+--------------------+----------------------+
| Arch Linux          | PASS               | SKIPPED              |
+---------------------+--------------------+----------------------+
| Ubuntu 18.04        | PASS               | SKIPPED              |
+---------------------+--------------------+----------------------+
| Alpine              | PASS               | SKIPPED              |
+---------------------+--------------------+----------------------+
| RHEL 7              | PASS               | SKIPPED              |
+---------------------+--------------------+----------------------+
| CentOS Stream 8     | PASS               | SKIPPED              |
+---------------------+--------------------+----------------------+
| openSUSE Leap 15    | PASS               | SKIPPED              |
+---------------------+--------------------+----------------------+
| Ubuntu 20.04        | PASS               | SKIPPED              |
+---------------------+--------------------+----------------------+
| Fedora 34 clang     | PASS               | SKIPPED              |
+---------------------+--------------------+----------------------+


Windows Server 2019
	Kernel: 10.0
	Compiler: clang 14.0 and gcc 8.1.0 (MinGW)

FreeBSD 13
	Kernel: 13.0
	Compiler: clang 11.0.1

Fedora 32
	Kernel: 4.18.0-240.10.1.el8_3.x86_64
	Compiler: gcc 10.2.1

RHEL8
	Kernel: 4.18.0-240.10.1.el8_3.x86_64
	Compiler: gcc 8.3.1 20191121 (Red Hat 8.3.1-5)

Fedora 31
	Kernel: 4.18.0-240.10.1.el8_3.x86_64
	Compiler: gcc 9.3.1

Fedora 34
	Kernel: 5.4.0-72-generic
	Compiler: gcc 11.1.1 20210428 (Red Hat 11.1.1-1)

Fedora 33
	Kernel: 5.4.0-72-generic
	Compiler: gcc 10.3.1 20210422 (Red Hat 10.3.1-1)

Arch Linux
	Kernel: 5.4.0-73-generic
	Compiler: gcc 11.1.0

Ubuntu 18.04
	Kernel: 4.18.0-240.10.1.el8_3.x86_64
	Compiler: gcc 7.5.0-3ubuntu1~18.04

Alpine
	Kernel: 5.4.0-73-generic
	Compiler: gcc (Alpine 10.3.1_git20210424) 10.3.1 20210424

RHEL 7
	Kernel: 4.18.0-240.10.1.el8_3.x86_64
	Compiler: gcc 4.8.5 20150623 (Red Hat 4.8.5-44)

CentOS Stream 8
	Kernel: 4.18.0-240.10.1.el8_3.x86_64
	Compiler: gcc 8.4.1 20200928

openSUSE Leap 15
	Kernel: 4.18.0-240.10.1.el8_3.x86_64
	Compiler: gcc 7.5.0

Ubuntu 20.04
	Kernel: 4.18.0-240.10.1.el8_3.x86_64
	Compiler: gcc 9.3.0-17ubuntu1~20.04

Fedora 34 clang
	Kernel: 5.4.0-72-generic
	Compiler: clang 12.0.0 (Fedora 12.0.0-0.3.rc1.fc34)

To view detailed results, visit:
https://lab.dpdk.org/results/dashboard/tarballs/19806/

UNH-IOL DPDK Community Lab

To manage your email subscriptions, visit: 
https://lab.dpdk.org/results/dashboard/preferences/subscriptions/

^ permalink raw reply	[flat|nested] 83+ messages in thread

* |SUCCESS| [GIT MASTER] 592c7bf7148bec1a34db79370e968dd2d1f8f1dc
@ 2022-05-14  6:59 dpdklab
  0 siblings, 0 replies; 83+ messages in thread
From: dpdklab @ 2022-05-14  6:59 UTC (permalink / raw)
  To: Test Report
  Cc: dpdklab, Xueming Li, Christian Ehrhardt, Kevin Traynor, Luca Boccassi

[-- Attachment #1: Type: text/plain, Size: 1421 bytes --]

_Testing PASS_

Branch: tags/v21.11

592c7bf7148bec1a34db79370e968dd2d1f8f1dc --> testing pass

Test environment and result as below:

+------------------------------------+--------------------+
|            Environment             | dpdk_meson_compile |
+====================================+====================+
| Ubuntu 20.04 ARM Clang Native      | PASS               |
+------------------------------------+--------------------+
| Ubuntu 20.04 ARM GCC Native        | PASS               |
+------------------------------------+--------------------+
| Ubuntu 20.04 ARM SVE               | PASS               |
+------------------------------------+--------------------+
| Ubuntu 20.04 ARM GCC Cross Compile | PASS               |
+------------------------------------+--------------------+


Ubuntu 20.04 ARM Clang Native
	Kernel: 5.4.0-53-generic
	Compiler: clang 10.0.0-4ubuntu1

Ubuntu 20.04 ARM GCC Native
	Kernel: 5.4.0-53-generic
	Compiler: gcc 9.3

Ubuntu 20.04 ARM SVE
	Kernel: 5.4.0-80-generic
	Compiler: gcc 10.3.0 (Ubuntu 10.3.0-1ubuntu1~20.04)

Ubuntu 20.04 ARM GCC Cross Compile
	Kernel: 5.4.0-72-generic
	Compiler: aarch64-linux-gnu-gcc (Ubuntu 9.3.0-17ubuntu1~20.04) 9.3.0

To view detailed results, visit:
https://lab.dpdk.org/results/dashboard/tarballs/19806/

UNH-IOL DPDK Community Lab

To manage your email subscriptions, visit: 
https://lab.dpdk.org/results/dashboard/preferences/subscriptions/

^ permalink raw reply	[flat|nested] 83+ messages in thread

* |SUCCESS| [GIT MASTER] 592c7bf7148bec1a34db79370e968dd2d1f8f1dc
@ 2022-05-14  6:58 dpdklab
  0 siblings, 0 replies; 83+ messages in thread
From: dpdklab @ 2022-05-14  6:58 UTC (permalink / raw)
  To: Test Report
  Cc: dpdk-test-reports, Xueming Li, Christian Ehrhardt, Kevin Traynor,
	Luca Boccassi

[-- Attachment #1: Type: text/plain, Size: 2388 bytes --]

_Testing PASS_

Branch: tags/v21.11

592c7bf7148bec1a34db79370e968dd2d1f8f1dc --> testing pass

Test environment and result as below:

+------------------+----------------+
|   Environment    | dpdk_unit_test |
+==================+================+
| Fedora 32        | PASS           |
+------------------+----------------+
| Fedora 31        | PASS           |
+------------------+----------------+
| Arch Linux       | PASS           |
+------------------+----------------+
| RHEL 7           | PASS           |
+------------------+----------------+
| Ubuntu 18.04     | PASS           |
+------------------+----------------+
| Fedora 33        | PASS           |
+------------------+----------------+
| Fedora 34 clang  | PASS           |
+------------------+----------------+
| CentOS Stream 8  | PASS           |
+------------------+----------------+
| Fedora 34        | PASS           |
+------------------+----------------+
| Ubuntu 20.04     | PASS           |
+------------------+----------------+
| RHEL8            | PASS           |
+------------------+----------------+
| openSUSE Leap 15 | PASS           |
+------------------+----------------+


Fedora 32
	Kernel: 4.18.0-240.10.1.el8_3.x86_64
	Compiler: gcc 10.2.1

Fedora 31
	Kernel: 4.18.0-240.10.1.el8_3.x86_64
	Compiler: gcc 9.3.1

Arch Linux
	Kernel: 5.4.0-73-generic
	Compiler: gcc 11.1.0

RHEL 7
	Kernel: 4.18.0-240.10.1.el8_3.x86_64
	Compiler: gcc 4.8.5 20150623 (Red Hat 4.8.5-44)

Ubuntu 18.04
	Kernel: 4.18.0-240.10.1.el8_3.x86_64
	Compiler: gcc 7.5.0-3ubuntu1~18.04

Fedora 33
	Kernel: 5.4.0-72-generic
	Compiler: gcc 10.3.1 20210422 (Red Hat 10.3.1-1)

Fedora 34 clang
	Kernel: 5.4.0-72-generic
	Compiler: clang 12.0.0 (Fedora 12.0.0-0.3.rc1.fc34)

CentOS Stream 8
	Kernel: 4.18.0-240.10.1.el8_3.x86_64
	Compiler: gcc 8.4.1 20200928

Fedora 34
	Kernel: 5.4.0-72-generic
	Compiler: gcc 11.1.1 20210428 (Red Hat 11.1.1-1)

Ubuntu 20.04
	Kernel: 4.18.0-240.10.1.el8_3.x86_64
	Compiler: gcc 9.3.0-17ubuntu1~20.04

RHEL8
	Kernel: 4.18.0-240.10.1.el8_3.x86_64
	Compiler: gcc 8.3.1 20191121 (Red Hat 8.3.1-5)

openSUSE Leap 15
	Kernel: 4.18.0-240.10.1.el8_3.x86_64
	Compiler: gcc 7.5.0

To view detailed results, visit:
https://lab.dpdk.org/results/dashboard/tarballs/19806/

UNH-IOL DPDK Community Lab

To manage your email subscriptions, visit: 
https://lab.dpdk.org/results/dashboard/preferences/subscriptions/

^ permalink raw reply	[flat|nested] 83+ messages in thread

* |SUCCESS| [GIT MASTER] 592c7bf7148bec1a34db79370e968dd2d1f8f1dc
@ 2022-05-14  6:54 dpdklab
  0 siblings, 0 replies; 83+ messages in thread
From: dpdklab @ 2022-05-14  6:54 UTC (permalink / raw)
  To: Test Report
  Cc: dpdklab, Xueming Li, Christian Ehrhardt, Kevin Traynor, Luca Boccassi

[-- Attachment #1: Type: text/plain, Size: 2226 bytes --]

_Testing PASS_

Branch: tags/v21.11

592c7bf7148bec1a34db79370e968dd2d1f8f1dc --> testing pass

Test environment and result as below:

+------------------+----------+
|   Environment    | abi_test |
+==================+==========+
| Fedora 31        | PASS     |
+------------------+----------+
| Fedora 32        | PASS     |
+------------------+----------+
| openSUSE Leap 15 | PASS     |
+------------------+----------+
| CentOS Stream 8  | PASS     |
+------------------+----------+
| Ubuntu 20.04     | PASS     |
+------------------+----------+
| RHEL8            | PASS     |
+------------------+----------+
| RHEL 7           | PASS     |
+------------------+----------+
| Arch Linux       | PASS     |
+------------------+----------+
| Fedora 33        | PASS     |
+------------------+----------+
| Fedora 34 clang  | PASS     |
+------------------+----------+
| Ubuntu 18.04     | PASS     |
+------------------+----------+
| Fedora 34        | PASS     |
+------------------+----------+


Fedora 31
	Kernel: 4.18.0-240.10.1.el8_3.x86_64
	Compiler: gcc 9.3.1

Fedora 32
	Kernel: 4.18.0-240.10.1.el8_3.x86_64
	Compiler: gcc 10.2.1

openSUSE Leap 15
	Kernel: 4.18.0-240.10.1.el8_3.x86_64
	Compiler: gcc 7.5.0

CentOS Stream 8
	Kernel: 4.18.0-240.10.1.el8_3.x86_64
	Compiler: gcc 8.4.1 20200928

Ubuntu 20.04
	Kernel: 4.18.0-240.10.1.el8_3.x86_64
	Compiler: gcc 9.3.0-17ubuntu1~20.04

RHEL8
	Kernel: 4.18.0-240.10.1.el8_3.x86_64
	Compiler: gcc 8.3.1 20191121 (Red Hat 8.3.1-5)

RHEL 7
	Kernel: 4.18.0-240.10.1.el8_3.x86_64
	Compiler: gcc 4.8.5 20150623 (Red Hat 4.8.5-44)

Arch Linux
	Kernel: 5.4.0-73-generic
	Compiler: gcc 11.1.0

Fedora 33
	Kernel: 5.4.0-72-generic
	Compiler: gcc 10.3.1 20210422 (Red Hat 10.3.1-1)

Fedora 34 clang
	Kernel: 5.4.0-72-generic
	Compiler: clang 12.0.0 (Fedora 12.0.0-0.3.rc1.fc34)

Ubuntu 18.04
	Kernel: 4.18.0-240.10.1.el8_3.x86_64
	Compiler: gcc 7.5.0-3ubuntu1~18.04

Fedora 34
	Kernel: 5.4.0-72-generic
	Compiler: gcc 11.1.1 20210428 (Red Hat 11.1.1-1)

To view detailed results, visit:
https://lab.dpdk.org/results/dashboard/tarballs/19806/

UNH-IOL DPDK Community Lab

To manage your email subscriptions, visit: 
https://lab.dpdk.org/results/dashboard/preferences/subscriptions/

^ permalink raw reply	[flat|nested] 83+ messages in thread

* |SUCCESS| [GIT MASTER] 592c7bf7148bec1a34db79370e968dd2d1f8f1dc
@ 2022-05-14  6:52 dpdklab
  0 siblings, 0 replies; 83+ messages in thread
From: dpdklab @ 2022-05-14  6:52 UTC (permalink / raw)
  To: Test Report
  Cc: dpdklab, Xueming Li, Christian Ehrhardt, Kevin Traynor, Luca Boccassi

[-- Attachment #1: Type: text/plain, Size: 1223 bytes --]

_Testing PASS_

Branch: tags/v21.11

592c7bf7148bec1a34db79370e968dd2d1f8f1dc --> testing pass

Test environment and result as below:

+-------------------------------+----------------+--------------+
|          Environment          | dpdk_unit_test | lpm_autotest |
+===============================+================+==============+
| Ubuntu 20.04 ARM Clang Native | PASS           | SKIPPED      |
+-------------------------------+----------------+--------------+
| Ubuntu 20.04 ARM GCC Native   | PASS           | SKIPPED      |
+-------------------------------+----------------+--------------+
| Ubuntu 20.04 ARM SVE          | SKIPPED        | PASS         |
+-------------------------------+----------------+--------------+


Ubuntu 20.04 ARM Clang Native
	Kernel: 5.4.0-53-generic
	Compiler: clang 10.0.0-4ubuntu1

Ubuntu 20.04 ARM GCC Native
	Kernel: 5.4.0-53-generic
	Compiler: gcc 9.3

Ubuntu 20.04 ARM SVE
	Kernel: 5.4.0-80-generic
	Compiler: gcc 10.3.0 (Ubuntu 10.3.0-1ubuntu1~20.04)

To view detailed results, visit:
https://lab.dpdk.org/results/dashboard/tarballs/19806/

UNH-IOL DPDK Community Lab

To manage your email subscriptions, visit: 
https://lab.dpdk.org/results/dashboard/preferences/subscriptions/

^ permalink raw reply	[flat|nested] 83+ messages in thread

* |SUCCESS| [GIT MASTER] 592c7bf7148bec1a34db79370e968dd2d1f8f1dc
@ 2022-05-14  5:41 dpdklab
  0 siblings, 0 replies; 83+ messages in thread
From: dpdklab @ 2022-05-14  5:41 UTC (permalink / raw)
  To: Test Report
  Cc: dpdk-test-reports, Xueming Li, Christian Ehrhardt, Kevin Traynor,
	Luca Boccassi

[-- Attachment #1: Type: text/plain, Size: 3083 bytes --]

_Performance Testing PASS_

Branch: tags/v21.11

592c7bf7148bec1a34db79370e968dd2d1f8f1dc --> performance testing pass

Test environment and result as below:

Ubuntu 20.04
Kernel: 4.15.0-generic
Compiler: gcc 7.4
NIC: Intel Corporation Ethernet Converged Network Adapter XL710-QDA2 40000 Mbps
Target: x86_64-native-linuxapp-gcc
Fail/Total: 0/4

Detail performance results: 
+----------+-------------+---------+------------+------------------------------+
| num_cpus | num_threads | txd/rxd | frame_size |  throughput difference from  |
|          |             |         |            |           expected           |
+==========+=============+=========+============+==============================+
| 1        | 2           | 512     | 64         | 1.6%                         |
+----------+-------------+---------+------------+------------------------------+
| 1        | 2           | 2048    | 64         | -0.3%                        |
+----------+-------------+---------+------------+------------------------------+
| 1        | 1           | 512     | 64         | 1.7%                         |
+----------+-------------+---------+------------+------------------------------+
| 1        | 1           | 2048    | 64         | 0.5%                         |
+----------+-------------+---------+------------+------------------------------+

Ubuntu 20.04
Kernel: 4.15.0-generic
Compiler: gcc 7.4
NIC: Intel Corporation Ethernet Converged Network Adapter 82599ES 10000 Mbps
Target: x86_64-native-linuxapp-gcc
Fail/Total: 0/6

Detail performance results: 
+----------+-------------+---------+------------+------------------------------+
| num_cpus | num_threads | txd/rxd | frame_size |  throughput difference from  |
|          |             |         |            |           expected           |
+==========+=============+=========+============+==============================+
| 1        | 2           | 128     | 64         | 0.1%                         |
+----------+-------------+---------+------------+------------------------------+
| 1        | 2           | 512     | 64         | -0.0%                        |
+----------+-------------+---------+------------+------------------------------+
| 1        | 2           | 2048    | 64         | 0.2%                         |
+----------+-------------+---------+------------+------------------------------+
| 1        | 1           | 128     | 64         | 0.2%                         |
+----------+-------------+---------+------------+------------------------------+
| 1        | 1           | 512     | 64         | -0.3%                        |
+----------+-------------+---------+------------+------------------------------+
| 1        | 1           | 2048    | 64         | 0.2%                         |
+----------+-------------+---------+------------+------------------------------+

To view detailed results, visit:
https://lab.dpdk.org/results/dashboard/tarballs/19806/

UNH-IOL DPDK Community Lab

To manage your email subscriptions, visit: 
https://lab.dpdk.org/results/dashboard/preferences/subscriptions/

^ permalink raw reply	[flat|nested] 83+ messages in thread

* |SUCCESS| [GIT MASTER] 592c7bf7148bec1a34db79370e968dd2d1f8f1dc
@ 2022-05-14  5:33 dpdklab
  0 siblings, 0 replies; 83+ messages in thread
From: dpdklab @ 2022-05-14  5:33 UTC (permalink / raw)
  To: Test Report
  Cc: dpdk-test-reports, Xueming Li, Christian Ehrhardt, Kevin Traynor,
	Luca Boccassi

[-- Attachment #1: Type: text/plain, Size: 1574 bytes --]

_Performance Testing PASS_

Branch: tags/v21.11

592c7bf7148bec1a34db79370e968dd2d1f8f1dc --> performance testing pass

Test environment and result as below:

Ubuntu 20.04
Kernel: 4.15.0-generic
Compiler: gcc 7.4
NIC: Intel Corporation Ethernet Converged Network Adapter XL710-QDA2 40000 Mbps
Target: x86_64-native-linuxapp-gcc
Fail/Total: 0/4

Detail performance results: 
+----------+-------------+---------+------------+------------------------------+
| num_cpus | num_threads | txd/rxd | frame_size |  throughput difference from  |
|          |             |         |            |           expected           |
+==========+=============+=========+============+==============================+
| 1        | 2           | 512     | 64         | 1.6%                         |
+----------+-------------+---------+------------+------------------------------+
| 1        | 2           | 2048    | 64         | -0.3%                        |
+----------+-------------+---------+------------+------------------------------+
| 1        | 1           | 512     | 64         | 1.7%                         |
+----------+-------------+---------+------------+------------------------------+
| 1        | 1           | 2048    | 64         | 0.5%                         |
+----------+-------------+---------+------------+------------------------------+

To view detailed results, visit:
https://lab.dpdk.org/results/dashboard/tarballs/19806/

UNH-IOL DPDK Community Lab

To manage your email subscriptions, visit: 
https://lab.dpdk.org/results/dashboard/preferences/subscriptions/

^ permalink raw reply	[flat|nested] 83+ messages in thread

* |SUCCESS| [GIT MASTER] 592c7bf7148bec1a34db79370e968dd2d1f8f1dc
@ 2022-05-14  5:21 dpdklab
  0 siblings, 0 replies; 83+ messages in thread
From: dpdklab @ 2022-05-14  5:21 UTC (permalink / raw)
  To: Test Report
  Cc: dpdk-test-reports, Xueming Li, Christian Ehrhardt, Kevin Traynor,
	Luca Boccassi

[-- Attachment #1: Type: text/plain, Size: 954 bytes --]

_Functional Testing PASS_

Branch: tags/v21.11

592c7bf7148bec1a34db79370e968dd2d1f8f1dc --> functional testing pass

Test environment and result as below:

Ubuntu 20.04 ARM
Kernel: 4.15.0-132-generic
Compiler: gcc 7.5
NIC: Arm Intel Corporation Ethernet Converged Network Adapter XL710-QDA2 40000 Mbps
Target: x86_64-native-linuxapp-gcc
Fail/Total: 0/2


Ubuntu 20.04
Kernel: 4.15.0-generic
Compiler: gcc 7.4
NIC: Intel Corporation Ethernet Converged Network Adapter XL710-QDA2 40000 Mbps
Target: x86_64-native-linuxapp-gcc
Fail/Total: 0/2


Ubuntu 20.04
Kernel: 4.15.0-generic
Compiler: gcc 7.4
NIC: Intel Corporation Ethernet Converged Network Adapter 82599ES 10000 Mbps
Target: x86_64-native-linuxapp-gcc
Fail/Total: 0/2


To view detailed results, visit:
https://lab.dpdk.org/results/dashboard/tarballs/19806/

UNH-IOL DPDK Community Lab

To manage your email subscriptions, visit: 
https://lab.dpdk.org/results/dashboard/preferences/subscriptions/

^ permalink raw reply	[flat|nested] 83+ messages in thread

* |SUCCESS| [GIT MASTER] 592c7bf7148bec1a34db79370e968dd2d1f8f1dc
@ 2022-05-14  5:17 dpdklab
  0 siblings, 0 replies; 83+ messages in thread
From: dpdklab @ 2022-05-14  5:17 UTC (permalink / raw)
  To: Test Report
  Cc: dpdk-test-reports, Xueming Li, Christian Ehrhardt, Kevin Traynor,
	Luca Boccassi

[-- Attachment #1: Type: text/plain, Size: 770 bytes --]

_Functional Testing PASS_

Branch: tags/v21.11

592c7bf7148bec1a34db79370e968dd2d1f8f1dc --> functional testing pass

Test environment and result as below:

Ubuntu 20.04 ARM
Kernel: 4.15.0-132-generic
Compiler: gcc 7.5
NIC: Arm Intel Corporation Ethernet Converged Network Adapter XL710-QDA2 40000 Mbps
Target: x86_64-native-linuxapp-gcc
Fail/Total: 0/2


Ubuntu 20.04
Kernel: 4.15.0-generic
Compiler: gcc 7.4
NIC: Intel Corporation Ethernet Converged Network Adapter XL710-QDA2 40000 Mbps
Target: x86_64-native-linuxapp-gcc
Fail/Total: 0/2


To view detailed results, visit:
https://lab.dpdk.org/results/dashboard/tarballs/19806/

UNH-IOL DPDK Community Lab

To manage your email subscriptions, visit: 
https://lab.dpdk.org/results/dashboard/preferences/subscriptions/

^ permalink raw reply	[flat|nested] 83+ messages in thread

* |SUCCESS| [GIT MASTER] 592c7bf7148bec1a34db79370e968dd2d1f8f1dc
@ 2022-05-14  5:08 dpdklab
  0 siblings, 0 replies; 83+ messages in thread
From: dpdklab @ 2022-05-14  5:08 UTC (permalink / raw)
  To: Test Report
  Cc: dpdk-test-reports, Xueming Li, Christian Ehrhardt, Kevin Traynor,
	Luca Boccassi

[-- Attachment #1: Type: text/plain, Size: 583 bytes --]

_Functional Testing PASS_

Branch: tags/v21.11

592c7bf7148bec1a34db79370e968dd2d1f8f1dc --> functional testing pass

Test environment and result as below:

Ubuntu 20.04 ARM
Kernel: 4.15.0-132-generic
Compiler: gcc 7.5
NIC: Arm Intel Corporation Ethernet Converged Network Adapter XL710-QDA2 40000 Mbps
Target: x86_64-native-linuxapp-gcc
Fail/Total: 0/2


To view detailed results, visit:
https://lab.dpdk.org/results/dashboard/tarballs/19806/

UNH-IOL DPDK Community Lab

To manage your email subscriptions, visit: 
https://lab.dpdk.org/results/dashboard/preferences/subscriptions/

^ permalink raw reply	[flat|nested] 83+ messages in thread

* |SUCCESS| [GIT MASTER] 592c7bf7148bec1a34db79370e968dd2d1f8f1dc
@ 2022-05-13 13:00 dpdklab
  0 siblings, 0 replies; 83+ messages in thread
From: dpdklab @ 2022-05-13 13:00 UTC (permalink / raw)
  To: Test Report
  Cc: dpdk-test-reports, Xueming Li, Christian Ehrhardt, Kevin Traynor,
	Luca Boccassi

[-- Attachment #1: Type: text/plain, Size: 3828 bytes --]

_Testing PASS_

Branch: tags/v21.11

592c7bf7148bec1a34db79370e968dd2d1f8f1dc --> testing pass

Test environment and result as below:

+---------------------+--------------------+----------------------+
|     Environment     | dpdk_meson_compile | dpdk_mingw64_compile |
+=====================+====================+======================+
| FreeBSD 13          | PASS               | SKIPPED              |
+---------------------+--------------------+----------------------+
| Windows Server 2019 | PASS               | PASS                 |
+---------------------+--------------------+----------------------+
| RHEL 7              | PASS               | SKIPPED              |
+---------------------+--------------------+----------------------+
| CentOS Stream 8     | PASS               | SKIPPED              |
+---------------------+--------------------+----------------------+
| openSUSE Leap 15    | PASS               | SKIPPED              |
+---------------------+--------------------+----------------------+
| RHEL8               | PASS               | SKIPPED              |
+---------------------+--------------------+----------------------+
| Ubuntu 18.04        | PASS               | SKIPPED              |
+---------------------+--------------------+----------------------+
| Fedora 33           | PASS               | SKIPPED              |
+---------------------+--------------------+----------------------+
| Fedora 32           | PASS               | SKIPPED              |
+---------------------+--------------------+----------------------+
| Fedora 34           | PASS               | SKIPPED              |
+---------------------+--------------------+----------------------+
| Arch Linux          | PASS               | SKIPPED              |
+---------------------+--------------------+----------------------+
| Ubuntu 20.04        | PASS               | SKIPPED              |
+---------------------+--------------------+----------------------+
| Fedora 34 clang     | PASS               | SKIPPED              |
+---------------------+--------------------+----------------------+
| Alpine              | PASS               | SKIPPED              |
+---------------------+--------------------+----------------------+
| Fedora 31           | PASS               | SKIPPED              |
+---------------------+--------------------+----------------------+


FreeBSD 13
	Kernel: 13.0
	Compiler: clang 11.0.1

Windows Server 2019
	Kernel: 10.0
	Compiler: clang 14.0 and gcc 8.1.0 (MinGW)

RHEL 7
	Kernel: 4.18.0-240.10.1.el8_3.x86_64
	Compiler: gcc 4.8.5 20150623 (Red Hat 4.8.5-44)

CentOS Stream 8
	Kernel: 4.18.0-240.10.1.el8_3.x86_64
	Compiler: gcc 8.4.1 20200928

openSUSE Leap 15
	Kernel: 4.18.0-240.10.1.el8_3.x86_64
	Compiler: gcc 7.5.0

RHEL8
	Kernel: 4.18.0-240.10.1.el8_3.x86_64
	Compiler: gcc 8.3.1 20191121 (Red Hat 8.3.1-5)

Ubuntu 18.04
	Kernel: 4.18.0-240.10.1.el8_3.x86_64
	Compiler: gcc 7.5.0-3ubuntu1~18.04

Fedora 33
	Kernel: 5.4.0-72-generic
	Compiler: gcc 10.3.1 20210422 (Red Hat 10.3.1-1)

Fedora 32
	Kernel: 4.18.0-240.10.1.el8_3.x86_64
	Compiler: gcc 10.2.1

Fedora 34
	Kernel: 5.4.0-72-generic
	Compiler: gcc 11.1.1 20210428 (Red Hat 11.1.1-1)

Arch Linux
	Kernel: 5.4.0-73-generic
	Compiler: gcc 11.1.0

Ubuntu 20.04
	Kernel: 4.18.0-240.10.1.el8_3.x86_64
	Compiler: gcc 9.3.0-17ubuntu1~20.04

Fedora 34 clang
	Kernel: 5.4.0-72-generic
	Compiler: clang 12.0.0 (Fedora 12.0.0-0.3.rc1.fc34)

Alpine
	Kernel: 5.4.0-73-generic
	Compiler: gcc (Alpine 10.3.1_git20210424) 10.3.1 20210424

Fedora 31
	Kernel: 4.18.0-240.10.1.el8_3.x86_64
	Compiler: gcc 9.3.1

To view detailed results, visit:
https://lab.dpdk.org/results/dashboard/tarballs/19798/

UNH-IOL DPDK Community Lab

To manage your email subscriptions, visit: 
https://lab.dpdk.org/results/dashboard/preferences/subscriptions/

^ permalink raw reply	[flat|nested] 83+ messages in thread

* |SUCCESS| [GIT MASTER] 592c7bf7148bec1a34db79370e968dd2d1f8f1dc
@ 2022-05-13  8:40 dpdklab
  0 siblings, 0 replies; 83+ messages in thread
From: dpdklab @ 2022-05-13  8:40 UTC (permalink / raw)
  To: Test Report
  Cc: dpdk-test-reports, Xueming Li, Christian Ehrhardt, Kevin Traynor,
	Luca Boccassi

[-- Attachment #1: Type: text/plain, Size: 2226 bytes --]

_Testing PASS_

Branch: tags/v21.11

592c7bf7148bec1a34db79370e968dd2d1f8f1dc --> testing pass

Test environment and result as below:

+------------------+----------+
|   Environment    | abi_test |
+==================+==========+
| Ubuntu 18.04     | PASS     |
+------------------+----------+
| RHEL 7           | PASS     |
+------------------+----------+
| openSUSE Leap 15 | PASS     |
+------------------+----------+
| Arch Linux       | PASS     |
+------------------+----------+
| RHEL8            | PASS     |
+------------------+----------+
| Fedora 32        | PASS     |
+------------------+----------+
| Ubuntu 20.04     | PASS     |
+------------------+----------+
| Fedora 33        | PASS     |
+------------------+----------+
| Fedora 34 clang  | PASS     |
+------------------+----------+
| Fedora 34        | PASS     |
+------------------+----------+
| CentOS Stream 8  | PASS     |
+------------------+----------+
| Fedora 31        | PASS     |
+------------------+----------+


Ubuntu 18.04
	Kernel: 4.18.0-240.10.1.el8_3.x86_64
	Compiler: gcc 7.5.0-3ubuntu1~18.04

RHEL 7
	Kernel: 4.18.0-240.10.1.el8_3.x86_64
	Compiler: gcc 4.8.5 20150623 (Red Hat 4.8.5-44)

openSUSE Leap 15
	Kernel: 4.18.0-240.10.1.el8_3.x86_64
	Compiler: gcc 7.5.0

Arch Linux
	Kernel: 5.4.0-73-generic
	Compiler: gcc 11.1.0

RHEL8
	Kernel: 4.18.0-240.10.1.el8_3.x86_64
	Compiler: gcc 8.3.1 20191121 (Red Hat 8.3.1-5)

Fedora 32
	Kernel: 4.18.0-240.10.1.el8_3.x86_64
	Compiler: gcc 10.2.1

Ubuntu 20.04
	Kernel: 4.18.0-240.10.1.el8_3.x86_64
	Compiler: gcc 9.3.0-17ubuntu1~20.04

Fedora 33
	Kernel: 5.4.0-72-generic
	Compiler: gcc 10.3.1 20210422 (Red Hat 10.3.1-1)

Fedora 34 clang
	Kernel: 5.4.0-72-generic
	Compiler: clang 12.0.0 (Fedora 12.0.0-0.3.rc1.fc34)

Fedora 34
	Kernel: 5.4.0-72-generic
	Compiler: gcc 11.1.1 20210428 (Red Hat 11.1.1-1)

CentOS Stream 8
	Kernel: 4.18.0-240.10.1.el8_3.x86_64
	Compiler: gcc 8.4.1 20200928

Fedora 31
	Kernel: 4.18.0-240.10.1.el8_3.x86_64
	Compiler: gcc 9.3.1

To view detailed results, visit:
https://lab.dpdk.org/results/dashboard/tarballs/19798/

UNH-IOL DPDK Community Lab

To manage your email subscriptions, visit: 
https://lab.dpdk.org/results/dashboard/preferences/subscriptions/

^ permalink raw reply	[flat|nested] 83+ messages in thread

* |SUCCESS| [GIT MASTER] 592c7bf7148bec1a34db79370e968dd2d1f8f1dc
@ 2022-05-13  8:06 dpdklab
  0 siblings, 0 replies; 83+ messages in thread
From: dpdklab @ 2022-05-13  8:06 UTC (permalink / raw)
  To: Test Report
  Cc: dpdklab, Xueming Li, Christian Ehrhardt, Kevin Traynor, Luca Boccassi

[-- Attachment #1: Type: text/plain, Size: 1421 bytes --]

_Testing PASS_

Branch: tags/v21.11

592c7bf7148bec1a34db79370e968dd2d1f8f1dc --> testing pass

Test environment and result as below:

+------------------------------------+--------------------+
|            Environment             | dpdk_meson_compile |
+====================================+====================+
| Ubuntu 20.04 ARM GCC Native        | PASS               |
+------------------------------------+--------------------+
| Ubuntu 20.04 ARM Clang Native      | PASS               |
+------------------------------------+--------------------+
| Ubuntu 20.04 ARM GCC Cross Compile | PASS               |
+------------------------------------+--------------------+
| Ubuntu 20.04 ARM SVE               | PASS               |
+------------------------------------+--------------------+


Ubuntu 20.04 ARM GCC Native
	Kernel: 5.4.0-53-generic
	Compiler: gcc 9.3

Ubuntu 20.04 ARM Clang Native
	Kernel: 5.4.0-53-generic
	Compiler: clang 10.0.0-4ubuntu1

Ubuntu 20.04 ARM GCC Cross Compile
	Kernel: 5.4.0-72-generic
	Compiler: aarch64-linux-gnu-gcc (Ubuntu 9.3.0-17ubuntu1~20.04) 9.3.0

Ubuntu 20.04 ARM SVE
	Kernel: 5.4.0-80-generic
	Compiler: gcc 10.3.0 (Ubuntu 10.3.0-1ubuntu1~20.04)

To view detailed results, visit:
https://lab.dpdk.org/results/dashboard/tarballs/19798/

UNH-IOL DPDK Community Lab

To manage your email subscriptions, visit: 
https://lab.dpdk.org/results/dashboard/preferences/subscriptions/

^ permalink raw reply	[flat|nested] 83+ messages in thread

* |SUCCESS| [GIT MASTER] 592c7bf7148bec1a34db79370e968dd2d1f8f1dc
@ 2022-05-13  6:46 dpdklab
  0 siblings, 0 replies; 83+ messages in thread
From: dpdklab @ 2022-05-13  6:46 UTC (permalink / raw)
  To: Test Report
  Cc: dpdklab, Xueming Li, Christian Ehrhardt, Kevin Traynor, Luca Boccassi

[-- Attachment #1: Type: text/plain, Size: 1223 bytes --]

_Testing PASS_

Branch: tags/v21.11

592c7bf7148bec1a34db79370e968dd2d1f8f1dc --> testing pass

Test environment and result as below:

+-------------------------------+----------------+--------------+
|          Environment          | dpdk_unit_test | lpm_autotest |
+===============================+================+==============+
| Ubuntu 20.04 ARM GCC Native   | PASS           | SKIPPED      |
+-------------------------------+----------------+--------------+
| Ubuntu 20.04 ARM Clang Native | PASS           | SKIPPED      |
+-------------------------------+----------------+--------------+
| Ubuntu 20.04 ARM SVE          | SKIPPED        | PASS         |
+-------------------------------+----------------+--------------+


Ubuntu 20.04 ARM GCC Native
	Kernel: 5.4.0-53-generic
	Compiler: gcc 9.3

Ubuntu 20.04 ARM Clang Native
	Kernel: 5.4.0-53-generic
	Compiler: clang 10.0.0-4ubuntu1

Ubuntu 20.04 ARM SVE
	Kernel: 5.4.0-80-generic
	Compiler: gcc 10.3.0 (Ubuntu 10.3.0-1ubuntu1~20.04)

To view detailed results, visit:
https://lab.dpdk.org/results/dashboard/tarballs/19798/

UNH-IOL DPDK Community Lab

To manage your email subscriptions, visit: 
https://lab.dpdk.org/results/dashboard/preferences/subscriptions/

^ permalink raw reply	[flat|nested] 83+ messages in thread

* |SUCCESS| [GIT MASTER] 592c7bf7148bec1a34db79370e968dd2d1f8f1dc
@ 2022-05-13  5:52 dpdklab
  0 siblings, 0 replies; 83+ messages in thread
From: dpdklab @ 2022-05-13  5:52 UTC (permalink / raw)
  To: Test Report
  Cc: dpdk-test-reports, Xueming Li, Christian Ehrhardt, Kevin Traynor,
	Luca Boccassi

[-- Attachment #1: Type: text/plain, Size: 954 bytes --]

_Functional Testing PASS_

Branch: tags/v21.11

592c7bf7148bec1a34db79370e968dd2d1f8f1dc --> functional testing pass

Test environment and result as below:

Ubuntu 20.04 ARM
Kernel: 4.15.0-132-generic
Compiler: gcc 7.5
NIC: Arm Intel Corporation Ethernet Converged Network Adapter XL710-QDA2 40000 Mbps
Target: x86_64-native-linuxapp-gcc
Fail/Total: 0/2


Ubuntu 20.04
Kernel: 4.15.0-generic
Compiler: gcc 7.4
NIC: Intel Corporation Ethernet Converged Network Adapter XL710-QDA2 40000 Mbps
Target: x86_64-native-linuxapp-gcc
Fail/Total: 0/2


Ubuntu 20.04
Kernel: 4.15.0-generic
Compiler: gcc 7.4
NIC: Intel Corporation Ethernet Converged Network Adapter 82599ES 10000 Mbps
Target: x86_64-native-linuxapp-gcc
Fail/Total: 0/2


To view detailed results, visit:
https://lab.dpdk.org/results/dashboard/tarballs/19798/

UNH-IOL DPDK Community Lab

To manage your email subscriptions, visit: 
https://lab.dpdk.org/results/dashboard/preferences/subscriptions/

^ permalink raw reply	[flat|nested] 83+ messages in thread

* |SUCCESS| [GIT MASTER] 592c7bf7148bec1a34db79370e968dd2d1f8f1dc
@ 2022-05-13  5:40 dpdklab
  0 siblings, 0 replies; 83+ messages in thread
From: dpdklab @ 2022-05-13  5:40 UTC (permalink / raw)
  To: Test Report
  Cc: dpdk-test-reports, Xueming Li, Christian Ehrhardt, Kevin Traynor,
	Luca Boccassi

[-- Attachment #1: Type: text/plain, Size: 770 bytes --]

_Functional Testing PASS_

Branch: tags/v21.11

592c7bf7148bec1a34db79370e968dd2d1f8f1dc --> functional testing pass

Test environment and result as below:

Ubuntu 20.04 ARM
Kernel: 4.15.0-132-generic
Compiler: gcc 7.5
NIC: Arm Intel Corporation Ethernet Converged Network Adapter XL710-QDA2 40000 Mbps
Target: x86_64-native-linuxapp-gcc
Fail/Total: 0/2


Ubuntu 20.04
Kernel: 4.15.0-generic
Compiler: gcc 7.4
NIC: Intel Corporation Ethernet Converged Network Adapter XL710-QDA2 40000 Mbps
Target: x86_64-native-linuxapp-gcc
Fail/Total: 0/2


To view detailed results, visit:
https://lab.dpdk.org/results/dashboard/tarballs/19798/

UNH-IOL DPDK Community Lab

To manage your email subscriptions, visit: 
https://lab.dpdk.org/results/dashboard/preferences/subscriptions/

^ permalink raw reply	[flat|nested] 83+ messages in thread

* |SUCCESS| [GIT MASTER] 592c7bf7148bec1a34db79370e968dd2d1f8f1dc
@ 2022-05-13  5:39 dpdklab
  0 siblings, 0 replies; 83+ messages in thread
From: dpdklab @ 2022-05-13  5:39 UTC (permalink / raw)
  To: Test Report
  Cc: dpdk-test-reports, Xueming Li, Christian Ehrhardt, Kevin Traynor,
	Luca Boccassi

[-- Attachment #1: Type: text/plain, Size: 3083 bytes --]

_Performance Testing PASS_

Branch: tags/v21.11

592c7bf7148bec1a34db79370e968dd2d1f8f1dc --> performance testing pass

Test environment and result as below:

Ubuntu 20.04
Kernel: 4.15.0-generic
Compiler: gcc 7.4
NIC: Intel Corporation Ethernet Converged Network Adapter XL710-QDA2 40000 Mbps
Target: x86_64-native-linuxapp-gcc
Fail/Total: 0/4

Detail performance results: 
+----------+-------------+---------+------------+------------------------------+
| num_cpus | num_threads | txd/rxd | frame_size |  throughput difference from  |
|          |             |         |            |           expected           |
+==========+=============+=========+============+==============================+
| 1        | 2           | 512     | 64         | -1.5%                        |
+----------+-------------+---------+------------+------------------------------+
| 1        | 2           | 2048    | 64         | 1.4%                         |
+----------+-------------+---------+------------+------------------------------+
| 1        | 1           | 512     | 64         | 0.8%                         |
+----------+-------------+---------+------------+------------------------------+
| 1        | 1           | 2048    | 64         | -0.8%                        |
+----------+-------------+---------+------------+------------------------------+

Ubuntu 20.04
Kernel: 4.15.0-generic
Compiler: gcc 7.4
NIC: Intel Corporation Ethernet Converged Network Adapter 82599ES 10000 Mbps
Target: x86_64-native-linuxapp-gcc
Fail/Total: 0/6

Detail performance results: 
+----------+-------------+---------+------------+------------------------------+
| num_cpus | num_threads | txd/rxd | frame_size |  throughput difference from  |
|          |             |         |            |           expected           |
+==========+=============+=========+============+==============================+
| 1        | 2           | 128     | 64         | 0.1%                         |
+----------+-------------+---------+------------+------------------------------+
| 1        | 2           | 512     | 64         | 0.2%                         |
+----------+-------------+---------+------------+------------------------------+
| 1        | 2           | 2048    | 64         | -0.1%                        |
+----------+-------------+---------+------------+------------------------------+
| 1        | 1           | 128     | 64         | 0.1%                         |
+----------+-------------+---------+------------+------------------------------+
| 1        | 1           | 512     | 64         | 0.1%                         |
+----------+-------------+---------+------------+------------------------------+
| 1        | 1           | 2048    | 64         | -0.2%                        |
+----------+-------------+---------+------------+------------------------------+

To view detailed results, visit:
https://lab.dpdk.org/results/dashboard/tarballs/19798/

UNH-IOL DPDK Community Lab

To manage your email subscriptions, visit: 
https://lab.dpdk.org/results/dashboard/preferences/subscriptions/

^ permalink raw reply	[flat|nested] 83+ messages in thread

* |SUCCESS| [GIT MASTER] 592c7bf7148bec1a34db79370e968dd2d1f8f1dc
@ 2022-05-13  5:28 dpdklab
  0 siblings, 0 replies; 83+ messages in thread
From: dpdklab @ 2022-05-13  5:28 UTC (permalink / raw)
  To: Test Report
  Cc: dpdk-test-reports, Xueming Li, Christian Ehrhardt, Kevin Traynor,
	Luca Boccassi

[-- Attachment #1: Type: text/plain, Size: 1574 bytes --]

_Performance Testing PASS_

Branch: tags/v21.11

592c7bf7148bec1a34db79370e968dd2d1f8f1dc --> performance testing pass

Test environment and result as below:

Ubuntu 20.04
Kernel: 4.15.0-generic
Compiler: gcc 7.4
NIC: Intel Corporation Ethernet Converged Network Adapter XL710-QDA2 40000 Mbps
Target: x86_64-native-linuxapp-gcc
Fail/Total: 0/4

Detail performance results: 
+----------+-------------+---------+------------+------------------------------+
| num_cpus | num_threads | txd/rxd | frame_size |  throughput difference from  |
|          |             |         |            |           expected           |
+==========+=============+=========+============+==============================+
| 1        | 2           | 512     | 64         | -1.5%                        |
+----------+-------------+---------+------------+------------------------------+
| 1        | 2           | 2048    | 64         | 1.4%                         |
+----------+-------------+---------+------------+------------------------------+
| 1        | 1           | 512     | 64         | 0.8%                         |
+----------+-------------+---------+------------+------------------------------+
| 1        | 1           | 2048    | 64         | -0.8%                        |
+----------+-------------+---------+------------+------------------------------+

To view detailed results, visit:
https://lab.dpdk.org/results/dashboard/tarballs/19798/

UNH-IOL DPDK Community Lab

To manage your email subscriptions, visit: 
https://lab.dpdk.org/results/dashboard/preferences/subscriptions/

^ permalink raw reply	[flat|nested] 83+ messages in thread

* |SUCCESS| [GIT MASTER] 592c7bf7148bec1a34db79370e968dd2d1f8f1dc
@ 2022-05-13  5:10 dpdklab
  0 siblings, 0 replies; 83+ messages in thread
From: dpdklab @ 2022-05-13  5:10 UTC (permalink / raw)
  To: Test Report
  Cc: dpdk-test-reports, Xueming Li, Christian Ehrhardt, Kevin Traynor,
	Luca Boccassi

[-- Attachment #1: Type: text/plain, Size: 583 bytes --]

_Functional Testing PASS_

Branch: tags/v21.11

592c7bf7148bec1a34db79370e968dd2d1f8f1dc --> functional testing pass

Test environment and result as below:

Ubuntu 20.04 ARM
Kernel: 4.15.0-132-generic
Compiler: gcc 7.5
NIC: Arm Intel Corporation Ethernet Converged Network Adapter XL710-QDA2 40000 Mbps
Target: x86_64-native-linuxapp-gcc
Fail/Total: 0/2


To view detailed results, visit:
https://lab.dpdk.org/results/dashboard/tarballs/19798/

UNH-IOL DPDK Community Lab

To manage your email subscriptions, visit: 
https://lab.dpdk.org/results/dashboard/preferences/subscriptions/

^ permalink raw reply	[flat|nested] 83+ messages in thread

* |SUCCESS| [GIT MASTER] 592c7bf7148bec1a34db79370e968dd2d1f8f1dc
@ 2022-05-12 22:32 dpdklab
  0 siblings, 0 replies; 83+ messages in thread
From: dpdklab @ 2022-05-12 22:32 UTC (permalink / raw)
  To: Test Report
  Cc: dpdk-test-reports, Xueming Li, Christian Ehrhardt, Kevin Traynor,
	Luca Boccassi

[-- Attachment #1: Type: text/plain, Size: 3828 bytes --]

_Testing PASS_

Branch: tags/v21.11

592c7bf7148bec1a34db79370e968dd2d1f8f1dc --> testing pass

Test environment and result as below:

+---------------------+--------------------+----------------------+
|     Environment     | dpdk_meson_compile | dpdk_mingw64_compile |
+=====================+====================+======================+
| FreeBSD 13          | PASS               | SKIPPED              |
+---------------------+--------------------+----------------------+
| Windows Server 2019 | PASS               | PASS                 |
+---------------------+--------------------+----------------------+
| Ubuntu 18.04        | PASS               | SKIPPED              |
+---------------------+--------------------+----------------------+
| openSUSE Leap 15    | PASS               | SKIPPED              |
+---------------------+--------------------+----------------------+
| CentOS Stream 8     | PASS               | SKIPPED              |
+---------------------+--------------------+----------------------+
| Fedora 31           | PASS               | SKIPPED              |
+---------------------+--------------------+----------------------+
| RHEL8               | PASS               | SKIPPED              |
+---------------------+--------------------+----------------------+
| Fedora 34           | PASS               | SKIPPED              |
+---------------------+--------------------+----------------------+
| Arch Linux          | PASS               | SKIPPED              |
+---------------------+--------------------+----------------------+
| Fedora 34 clang     | PASS               | SKIPPED              |
+---------------------+--------------------+----------------------+
| Alpine              | PASS               | SKIPPED              |
+---------------------+--------------------+----------------------+
| RHEL 7              | PASS               | SKIPPED              |
+---------------------+--------------------+----------------------+
| Ubuntu 20.04        | PASS               | SKIPPED              |
+---------------------+--------------------+----------------------+
| Fedora 33           | PASS               | SKIPPED              |
+---------------------+--------------------+----------------------+
| Fedora 32           | PASS               | SKIPPED              |
+---------------------+--------------------+----------------------+


FreeBSD 13
	Kernel: 13.0
	Compiler: clang 11.0.1

Windows Server 2019
	Kernel: 10.0
	Compiler: clang 14.0 and gcc 8.1.0 (MinGW)

Ubuntu 18.04
	Kernel: 4.18.0-240.10.1.el8_3.x86_64
	Compiler: gcc 7.5.0-3ubuntu1~18.04

openSUSE Leap 15
	Kernel: 4.18.0-240.10.1.el8_3.x86_64
	Compiler: gcc 7.5.0

CentOS Stream 8
	Kernel: 4.18.0-240.10.1.el8_3.x86_64
	Compiler: gcc 8.4.1 20200928

Fedora 31
	Kernel: 4.18.0-240.10.1.el8_3.x86_64
	Compiler: gcc 9.3.1

RHEL8
	Kernel: 4.18.0-240.10.1.el8_3.x86_64
	Compiler: gcc 8.3.1 20191121 (Red Hat 8.3.1-5)

Fedora 34
	Kernel: 5.4.0-72-generic
	Compiler: gcc 11.1.1 20210428 (Red Hat 11.1.1-1)

Arch Linux
	Kernel: 5.4.0-73-generic
	Compiler: gcc 11.1.0

Fedora 34 clang
	Kernel: 5.4.0-72-generic
	Compiler: clang 12.0.0 (Fedora 12.0.0-0.3.rc1.fc34)

Alpine
	Kernel: 5.4.0-73-generic
	Compiler: gcc (Alpine 10.3.1_git20210424) 10.3.1 20210424

RHEL 7
	Kernel: 4.18.0-240.10.1.el8_3.x86_64
	Compiler: gcc 4.8.5 20150623 (Red Hat 4.8.5-44)

Ubuntu 20.04
	Kernel: 4.18.0-240.10.1.el8_3.x86_64
	Compiler: gcc 9.3.0-17ubuntu1~20.04

Fedora 33
	Kernel: 5.4.0-72-generic
	Compiler: gcc 10.3.1 20210422 (Red Hat 10.3.1-1)

Fedora 32
	Kernel: 4.18.0-240.10.1.el8_3.x86_64
	Compiler: gcc 10.2.1

To view detailed results, visit:
https://lab.dpdk.org/results/dashboard/tarballs/19785/

UNH-IOL DPDK Community Lab

To manage your email subscriptions, visit: 
https://lab.dpdk.org/results/dashboard/preferences/subscriptions/

^ permalink raw reply	[flat|nested] 83+ messages in thread

* |SUCCESS| [GIT MASTER] 592c7bf7148bec1a34db79370e968dd2d1f8f1dc
@ 2022-05-12 18:04 dpdklab
  0 siblings, 0 replies; 83+ messages in thread
From: dpdklab @ 2022-05-12 18:04 UTC (permalink / raw)
  To: Test Report
  Cc: dpdklab, Xueming Li, Christian Ehrhardt, Kevin Traynor, Luca Boccassi

[-- Attachment #1: Type: text/plain, Size: 2226 bytes --]

_Testing PASS_

Branch: tags/v21.11

592c7bf7148bec1a34db79370e968dd2d1f8f1dc --> testing pass

Test environment and result as below:

+------------------+----------+
|   Environment    | abi_test |
+==================+==========+
| Ubuntu 18.04     | PASS     |
+------------------+----------+
| openSUSE Leap 15 | PASS     |
+------------------+----------+
| Fedora 32        | PASS     |
+------------------+----------+
| Arch Linux       | PASS     |
+------------------+----------+
| Ubuntu 20.04     | PASS     |
+------------------+----------+
| Fedora 34        | PASS     |
+------------------+----------+
| Fedora 34 clang  | PASS     |
+------------------+----------+
| Fedora 31        | PASS     |
+------------------+----------+
| Fedora 33        | PASS     |
+------------------+----------+
| CentOS Stream 8  | PASS     |
+------------------+----------+
| RHEL 7           | PASS     |
+------------------+----------+
| RHEL8            | PASS     |
+------------------+----------+


Ubuntu 18.04
	Kernel: 4.18.0-240.10.1.el8_3.x86_64
	Compiler: gcc 7.5.0-3ubuntu1~18.04

openSUSE Leap 15
	Kernel: 4.18.0-240.10.1.el8_3.x86_64
	Compiler: gcc 7.5.0

Fedora 32
	Kernel: 4.18.0-240.10.1.el8_3.x86_64
	Compiler: gcc 10.2.1

Arch Linux
	Kernel: 5.4.0-73-generic
	Compiler: gcc 11.1.0

Ubuntu 20.04
	Kernel: 4.18.0-240.10.1.el8_3.x86_64
	Compiler: gcc 9.3.0-17ubuntu1~20.04

Fedora 34
	Kernel: 5.4.0-72-generic
	Compiler: gcc 11.1.1 20210428 (Red Hat 11.1.1-1)

Fedora 34 clang
	Kernel: 5.4.0-72-generic
	Compiler: clang 12.0.0 (Fedora 12.0.0-0.3.rc1.fc34)

Fedora 31
	Kernel: 4.18.0-240.10.1.el8_3.x86_64
	Compiler: gcc 9.3.1

Fedora 33
	Kernel: 5.4.0-72-generic
	Compiler: gcc 10.3.1 20210422 (Red Hat 10.3.1-1)

CentOS Stream 8
	Kernel: 4.18.0-240.10.1.el8_3.x86_64
	Compiler: gcc 8.4.1 20200928

RHEL 7
	Kernel: 4.18.0-240.10.1.el8_3.x86_64
	Compiler: gcc 4.8.5 20150623 (Red Hat 4.8.5-44)

RHEL8
	Kernel: 4.18.0-240.10.1.el8_3.x86_64
	Compiler: gcc 8.3.1 20191121 (Red Hat 8.3.1-5)

To view detailed results, visit:
https://lab.dpdk.org/results/dashboard/tarballs/19785/

UNH-IOL DPDK Community Lab

To manage your email subscriptions, visit: 
https://lab.dpdk.org/results/dashboard/preferences/subscriptions/

^ permalink raw reply	[flat|nested] 83+ messages in thread

* |SUCCESS| [GIT MASTER] 592c7bf7148bec1a34db79370e968dd2d1f8f1dc
@ 2022-05-12  9:27 dpdklab
  0 siblings, 0 replies; 83+ messages in thread
From: dpdklab @ 2022-05-12  9:27 UTC (permalink / raw)
  To: Test Report
  Cc: dpdk-test-reports, Xueming Li, Christian Ehrhardt, Kevin Traynor,
	Luca Boccassi

[-- Attachment #1: Type: text/plain, Size: 2388 bytes --]

_Testing PASS_

Branch: tags/v21.11

592c7bf7148bec1a34db79370e968dd2d1f8f1dc --> testing pass

Test environment and result as below:

+------------------+----------------+
|   Environment    | dpdk_unit_test |
+==================+================+
| Arch Linux       | PASS           |
+------------------+----------------+
| Ubuntu 18.04     | PASS           |
+------------------+----------------+
| Fedora 31        | PASS           |
+------------------+----------------+
| CentOS Stream 8  | PASS           |
+------------------+----------------+
| RHEL 7           | PASS           |
+------------------+----------------+
| Fedora 34        | PASS           |
+------------------+----------------+
| Fedora 32        | PASS           |
+------------------+----------------+
| Fedora 33        | PASS           |
+------------------+----------------+
| Fedora 34 clang  | PASS           |
+------------------+----------------+
| Ubuntu 20.04     | PASS           |
+------------------+----------------+
| RHEL8            | PASS           |
+------------------+----------------+
| openSUSE Leap 15 | PASS           |
+------------------+----------------+


Arch Linux
	Kernel: 5.4.0-73-generic
	Compiler: gcc 11.1.0

Ubuntu 18.04
	Kernel: 4.18.0-240.10.1.el8_3.x86_64
	Compiler: gcc 7.5.0-3ubuntu1~18.04

Fedora 31
	Kernel: 4.18.0-240.10.1.el8_3.x86_64
	Compiler: gcc 9.3.1

CentOS Stream 8
	Kernel: 4.18.0-240.10.1.el8_3.x86_64
	Compiler: gcc 8.4.1 20200928

RHEL 7
	Kernel: 4.18.0-240.10.1.el8_3.x86_64
	Compiler: gcc 4.8.5 20150623 (Red Hat 4.8.5-44)

Fedora 34
	Kernel: 5.4.0-72-generic
	Compiler: gcc 11.1.1 20210428 (Red Hat 11.1.1-1)

Fedora 32
	Kernel: 4.18.0-240.10.1.el8_3.x86_64
	Compiler: gcc 10.2.1

Fedora 33
	Kernel: 5.4.0-72-generic
	Compiler: gcc 10.3.1 20210422 (Red Hat 10.3.1-1)

Fedora 34 clang
	Kernel: 5.4.0-72-generic
	Compiler: clang 12.0.0 (Fedora 12.0.0-0.3.rc1.fc34)

Ubuntu 20.04
	Kernel: 4.18.0-240.10.1.el8_3.x86_64
	Compiler: gcc 9.3.0-17ubuntu1~20.04

RHEL8
	Kernel: 4.18.0-240.10.1.el8_3.x86_64
	Compiler: gcc 8.3.1 20191121 (Red Hat 8.3.1-5)

openSUSE Leap 15
	Kernel: 4.18.0-240.10.1.el8_3.x86_64
	Compiler: gcc 7.5.0

To view detailed results, visit:
https://lab.dpdk.org/results/dashboard/tarballs/19785/

UNH-IOL DPDK Community Lab

To manage your email subscriptions, visit: 
https://lab.dpdk.org/results/dashboard/preferences/subscriptions/

^ permalink raw reply	[flat|nested] 83+ messages in thread

* |SUCCESS| [GIT MASTER] 592c7bf7148bec1a34db79370e968dd2d1f8f1dc
@ 2022-05-12  7:41 dpdklab
  0 siblings, 0 replies; 83+ messages in thread
From: dpdklab @ 2022-05-12  7:41 UTC (permalink / raw)
  To: Test Report
  Cc: dpdklab, Xueming Li, Christian Ehrhardt, Kevin Traynor, Luca Boccassi

[-- Attachment #1: Type: text/plain, Size: 1421 bytes --]

_Testing PASS_

Branch: tags/v21.11

592c7bf7148bec1a34db79370e968dd2d1f8f1dc --> testing pass

Test environment and result as below:

+------------------------------------+--------------------+
|            Environment             | dpdk_meson_compile |
+====================================+====================+
| Ubuntu 20.04 ARM GCC Native        | PASS               |
+------------------------------------+--------------------+
| Ubuntu 20.04 ARM Clang Native      | PASS               |
+------------------------------------+--------------------+
| Ubuntu 20.04 ARM GCC Cross Compile | PASS               |
+------------------------------------+--------------------+
| Ubuntu 20.04 ARM SVE               | PASS               |
+------------------------------------+--------------------+


Ubuntu 20.04 ARM GCC Native
	Kernel: 5.4.0-53-generic
	Compiler: gcc 9.3

Ubuntu 20.04 ARM Clang Native
	Kernel: 5.4.0-53-generic
	Compiler: clang 10.0.0-4ubuntu1

Ubuntu 20.04 ARM GCC Cross Compile
	Kernel: 5.4.0-72-generic
	Compiler: aarch64-linux-gnu-gcc (Ubuntu 9.3.0-17ubuntu1~20.04) 9.3.0

Ubuntu 20.04 ARM SVE
	Kernel: 5.4.0-80-generic
	Compiler: gcc 10.3.0 (Ubuntu 10.3.0-1ubuntu1~20.04)

To view detailed results, visit:
https://lab.dpdk.org/results/dashboard/tarballs/19785/

UNH-IOL DPDK Community Lab

To manage your email subscriptions, visit: 
https://lab.dpdk.org/results/dashboard/preferences/subscriptions/

^ permalink raw reply	[flat|nested] 83+ messages in thread

* |SUCCESS| [GIT MASTER] 592c7bf7148bec1a34db79370e968dd2d1f8f1dc
@ 2022-05-12  7:18 dpdklab
  0 siblings, 0 replies; 83+ messages in thread
From: dpdklab @ 2022-05-12  7:18 UTC (permalink / raw)
  To: Test Report
  Cc: dpdklab, Xueming Li, Christian Ehrhardt, Kevin Traynor, Luca Boccassi

[-- Attachment #1: Type: text/plain, Size: 1223 bytes --]

_Testing PASS_

Branch: tags/v21.11

592c7bf7148bec1a34db79370e968dd2d1f8f1dc --> testing pass

Test environment and result as below:

+-------------------------------+----------------+--------------+
|          Environment          | dpdk_unit_test | lpm_autotest |
+===============================+================+==============+
| Ubuntu 20.04 ARM GCC Native   | PASS           | SKIPPED      |
+-------------------------------+----------------+--------------+
| Ubuntu 20.04 ARM Clang Native | PASS           | SKIPPED      |
+-------------------------------+----------------+--------------+
| Ubuntu 20.04 ARM SVE          | SKIPPED        | PASS         |
+-------------------------------+----------------+--------------+


Ubuntu 20.04 ARM GCC Native
	Kernel: 5.4.0-53-generic
	Compiler: gcc 9.3

Ubuntu 20.04 ARM Clang Native
	Kernel: 5.4.0-53-generic
	Compiler: clang 10.0.0-4ubuntu1

Ubuntu 20.04 ARM SVE
	Kernel: 5.4.0-80-generic
	Compiler: gcc 10.3.0 (Ubuntu 10.3.0-1ubuntu1~20.04)

To view detailed results, visit:
https://lab.dpdk.org/results/dashboard/tarballs/19785/

UNH-IOL DPDK Community Lab

To manage your email subscriptions, visit: 
https://lab.dpdk.org/results/dashboard/preferences/subscriptions/

^ permalink raw reply	[flat|nested] 83+ messages in thread

* |SUCCESS| [GIT MASTER] 592c7bf7148bec1a34db79370e968dd2d1f8f1dc
@ 2022-05-12  5:48 dpdklab
  0 siblings, 0 replies; 83+ messages in thread
From: dpdklab @ 2022-05-12  5:48 UTC (permalink / raw)
  To: Test Report
  Cc: dpdk-test-reports, Xueming Li, Christian Ehrhardt, Kevin Traynor,
	Luca Boccassi

[-- Attachment #1: Type: text/plain, Size: 954 bytes --]

_Functional Testing PASS_

Branch: tags/v21.11

592c7bf7148bec1a34db79370e968dd2d1f8f1dc --> functional testing pass

Test environment and result as below:

Ubuntu 20.04 ARM
Kernel: 4.15.0-132-generic
Compiler: gcc 7.5
NIC: Arm Intel Corporation Ethernet Converged Network Adapter XL710-QDA2 40000 Mbps
Target: x86_64-native-linuxapp-gcc
Fail/Total: 0/2


Ubuntu 20.04
Kernel: 4.15.0-generic
Compiler: gcc 7.4
NIC: Intel Corporation Ethernet Converged Network Adapter XL710-QDA2 40000 Mbps
Target: x86_64-native-linuxapp-gcc
Fail/Total: 0/2


Ubuntu 20.04
Kernel: 4.15.0-generic
Compiler: gcc 7.4
NIC: Intel Corporation Ethernet Converged Network Adapter 82599ES 10000 Mbps
Target: x86_64-native-linuxapp-gcc
Fail/Total: 0/2


To view detailed results, visit:
https://lab.dpdk.org/results/dashboard/tarballs/19785/

UNH-IOL DPDK Community Lab

To manage your email subscriptions, visit: 
https://lab.dpdk.org/results/dashboard/preferences/subscriptions/

^ permalink raw reply	[flat|nested] 83+ messages in thread

* |SUCCESS| [GIT MASTER] 592c7bf7148bec1a34db79370e968dd2d1f8f1dc
@ 2022-05-12  5:40 dpdklab
  0 siblings, 0 replies; 83+ messages in thread
From: dpdklab @ 2022-05-12  5:40 UTC (permalink / raw)
  To: Test Report
  Cc: dpdk-test-reports, Xueming Li, Christian Ehrhardt, Kevin Traynor,
	Luca Boccassi

[-- Attachment #1: Type: text/plain, Size: 3083 bytes --]

_Performance Testing PASS_

Branch: tags/v21.11

592c7bf7148bec1a34db79370e968dd2d1f8f1dc --> performance testing pass

Test environment and result as below:

Ubuntu 20.04
Kernel: 4.15.0-generic
Compiler: gcc 7.4
NIC: Intel Corporation Ethernet Converged Network Adapter 82599ES 10000 Mbps
Target: x86_64-native-linuxapp-gcc
Fail/Total: 0/6

Detail performance results: 
+----------+-------------+---------+------------+------------------------------+
| num_cpus | num_threads | txd/rxd | frame_size |  throughput difference from  |
|          |             |         |            |           expected           |
+==========+=============+=========+============+==============================+
| 1        | 2           | 128     | 64         | -0.2%                        |
+----------+-------------+---------+------------+------------------------------+
| 1        | 2           | 512     | 64         | -0.1%                        |
+----------+-------------+---------+------------+------------------------------+
| 1        | 2           | 2048    | 64         | -0.1%                        |
+----------+-------------+---------+------------+------------------------------+
| 1        | 1           | 128     | 64         | -0.4%                        |
+----------+-------------+---------+------------+------------------------------+
| 1        | 1           | 512     | 64         | 0.1%                         |
+----------+-------------+---------+------------+------------------------------+
| 1        | 1           | 2048    | 64         | -0.0%                        |
+----------+-------------+---------+------------+------------------------------+

Ubuntu 20.04
Kernel: 4.15.0-generic
Compiler: gcc 7.4
NIC: Intel Corporation Ethernet Converged Network Adapter XL710-QDA2 40000 Mbps
Target: x86_64-native-linuxapp-gcc
Fail/Total: 0/4

Detail performance results: 
+----------+-------------+---------+------------+------------------------------+
| num_cpus | num_threads | txd/rxd | frame_size |  throughput difference from  |
|          |             |         |            |           expected           |
+==========+=============+=========+============+==============================+
| 1        | 2           | 512     | 64         | 1.6%                         |
+----------+-------------+---------+------------+------------------------------+
| 1        | 2           | 2048    | 64         | -1.5%                        |
+----------+-------------+---------+------------+------------------------------+
| 1        | 1           | 512     | 64         | 1.4%                         |
+----------+-------------+---------+------------+------------------------------+
| 1        | 1           | 2048    | 64         | 0.7%                         |
+----------+-------------+---------+------------+------------------------------+

To view detailed results, visit:
https://lab.dpdk.org/results/dashboard/tarballs/19785/

UNH-IOL DPDK Community Lab

To manage your email subscriptions, visit: 
https://lab.dpdk.org/results/dashboard/preferences/subscriptions/

^ permalink raw reply	[flat|nested] 83+ messages in thread

* |SUCCESS| [GIT MASTER] 592c7bf7148bec1a34db79370e968dd2d1f8f1dc
@ 2022-05-12  5:36 dpdklab
  0 siblings, 0 replies; 83+ messages in thread
From: dpdklab @ 2022-05-12  5:36 UTC (permalink / raw)
  To: Test Report
  Cc: dpdk-test-reports, Xueming Li, Christian Ehrhardt, Kevin Traynor,
	Luca Boccassi

[-- Attachment #1: Type: text/plain, Size: 1895 bytes --]

_Performance Testing PASS_

Branch: tags/v21.11

592c7bf7148bec1a34db79370e968dd2d1f8f1dc --> performance testing pass

Test environment and result as below:

Ubuntu 20.04
Kernel: 4.15.0-generic
Compiler: gcc 7.4
NIC: Intel Corporation Ethernet Converged Network Adapter 82599ES 10000 Mbps
Target: x86_64-native-linuxapp-gcc
Fail/Total: 0/6

Detail performance results: 
+----------+-------------+---------+------------+------------------------------+
| num_cpus | num_threads | txd/rxd | frame_size |  throughput difference from  |
|          |             |         |            |           expected           |
+==========+=============+=========+============+==============================+
| 1        | 2           | 128     | 64         | -0.2%                        |
+----------+-------------+---------+------------+------------------------------+
| 1        | 2           | 512     | 64         | -0.1%                        |
+----------+-------------+---------+------------+------------------------------+
| 1        | 2           | 2048    | 64         | -0.1%                        |
+----------+-------------+---------+------------+------------------------------+
| 1        | 1           | 128     | 64         | -0.4%                        |
+----------+-------------+---------+------------+------------------------------+
| 1        | 1           | 512     | 64         | 0.1%                         |
+----------+-------------+---------+------------+------------------------------+
| 1        | 1           | 2048    | 64         | -0.0%                        |
+----------+-------------+---------+------------+------------------------------+

To view detailed results, visit:
https://lab.dpdk.org/results/dashboard/tarballs/19785/

UNH-IOL DPDK Community Lab

To manage your email subscriptions, visit: 
https://lab.dpdk.org/results/dashboard/preferences/subscriptions/

^ permalink raw reply	[flat|nested] 83+ messages in thread

* |SUCCESS| [GIT MASTER] 592c7bf7148bec1a34db79370e968dd2d1f8f1dc
@ 2022-05-12  5:24 dpdklab
  0 siblings, 0 replies; 83+ messages in thread
From: dpdklab @ 2022-05-12  5:24 UTC (permalink / raw)
  To: Test Report
  Cc: dpdk-test-reports, Xueming Li, Christian Ehrhardt, Kevin Traynor,
	Luca Boccassi

[-- Attachment #1: Type: text/plain, Size: 770 bytes --]

_Functional Testing PASS_

Branch: tags/v21.11

592c7bf7148bec1a34db79370e968dd2d1f8f1dc --> functional testing pass

Test environment and result as below:

Ubuntu 20.04 ARM
Kernel: 4.15.0-132-generic
Compiler: gcc 7.5
NIC: Arm Intel Corporation Ethernet Converged Network Adapter XL710-QDA2 40000 Mbps
Target: x86_64-native-linuxapp-gcc
Fail/Total: 0/2


Ubuntu 20.04
Kernel: 4.15.0-generic
Compiler: gcc 7.4
NIC: Intel Corporation Ethernet Converged Network Adapter XL710-QDA2 40000 Mbps
Target: x86_64-native-linuxapp-gcc
Fail/Total: 0/2


To view detailed results, visit:
https://lab.dpdk.org/results/dashboard/tarballs/19785/

UNH-IOL DPDK Community Lab

To manage your email subscriptions, visit: 
https://lab.dpdk.org/results/dashboard/preferences/subscriptions/

^ permalink raw reply	[flat|nested] 83+ messages in thread

* |SUCCESS| [GIT MASTER] 592c7bf7148bec1a34db79370e968dd2d1f8f1dc
@ 2022-05-12  5:15 dpdklab
  0 siblings, 0 replies; 83+ messages in thread
From: dpdklab @ 2022-05-12  5:15 UTC (permalink / raw)
  To: Test Report
  Cc: dpdk-test-reports, Xueming Li, Christian Ehrhardt, Kevin Traynor,
	Luca Boccassi

[-- Attachment #1: Type: text/plain, Size: 583 bytes --]

_Functional Testing PASS_

Branch: tags/v21.11

592c7bf7148bec1a34db79370e968dd2d1f8f1dc --> functional testing pass

Test environment and result as below:

Ubuntu 20.04 ARM
Kernel: 4.15.0-132-generic
Compiler: gcc 7.5
NIC: Arm Intel Corporation Ethernet Converged Network Adapter XL710-QDA2 40000 Mbps
Target: x86_64-native-linuxapp-gcc
Fail/Total: 0/2


To view detailed results, visit:
https://lab.dpdk.org/results/dashboard/tarballs/19785/

UNH-IOL DPDK Community Lab

To manage your email subscriptions, visit: 
https://lab.dpdk.org/results/dashboard/preferences/subscriptions/

^ permalink raw reply	[flat|nested] 83+ messages in thread

* |SUCCESS| [GIT MASTER] 592c7bf7148bec1a34db79370e968dd2d1f8f1dc
@ 2022-05-12  5:14 dpdklab
  0 siblings, 0 replies; 83+ messages in thread
From: dpdklab @ 2022-05-12  5:14 UTC (permalink / raw)
  To: Ali Alnubani, Test Report
  Cc: dpdk-test-reports, Xueming Li, Christian Ehrhardt, Kevin Traynor,
	Luca Boccassi

[-- Attachment #1: Type: text/plain, Size: 1855 bytes --]

_Performance Testing PASS_

Branch: tags/v21.11

592c7bf7148bec1a34db79370e968dd2d1f8f1dc --> performance testing pass

Test environment and result as below:

Ubuntu 20.04
Kernel: 4.15.0-generic
Compiler: gcc 7.4
NIC: Mellanox ConnectX-5 100000 Mbps
Target: x86_64-native-linuxapp-gcc
Fail/Total: 0/6

Detail performance results: 
+------------+---------+----------+-------------+------------------------------+
| frame_size | txd/rxd | num_cpus | num_threads |  throughput difference from  |
|            |         |          |             |           expected           |
+============+=========+==========+=============+==============================+
| 64         | 256     | 1        | 1           | 0.1%                         |
+------------+---------+----------+-------------+------------------------------+
| 128        | 256     | 1        | 1           | -0.1%                        |
+------------+---------+----------+-------------+------------------------------+
| 1024       | 256     | 1        | 1           | 0.2%                         |
+------------+---------+----------+-------------+------------------------------+
| 256        | 256     | 1        | 1           | -0.1%                        |
+------------+---------+----------+-------------+------------------------------+
| 1518       | 256     | 1        | 1           | -0.2%                        |
+------------+---------+----------+-------------+------------------------------+
| 512        | 256     | 1        | 1           | 0.1%                         |
+------------+---------+----------+-------------+------------------------------+

To view detailed results, visit:
https://lab.dpdk.org/results/dashboard/tarballs/19785/

UNH-IOL DPDK Community Lab

To manage your email subscriptions, visit: 
https://lab.dpdk.org/results/dashboard/preferences/subscriptions/

^ permalink raw reply	[flat|nested] 83+ messages in thread

* |SUCCESS| [GIT MASTER] 592c7bf7148bec1a34db79370e968dd2d1f8f1dc
@ 2022-05-11 12:56 dpdklab
  0 siblings, 0 replies; 83+ messages in thread
From: dpdklab @ 2022-05-11 12:56 UTC (permalink / raw)
  To: Test Report
  Cc: dpdk-test-reports, Xueming Li, Christian Ehrhardt, Kevin Traynor,
	Luca Boccassi

[-- Attachment #1: Type: text/plain, Size: 3828 bytes --]

_Testing PASS_

Branch: tags/v21.11

592c7bf7148bec1a34db79370e968dd2d1f8f1dc --> testing pass

Test environment and result as below:

+---------------------+--------------------+----------------------+
|     Environment     | dpdk_meson_compile | dpdk_mingw64_compile |
+=====================+====================+======================+
| Windows Server 2019 | PASS               | PASS                 |
+---------------------+--------------------+----------------------+
| FreeBSD 13          | PASS               | SKIPPED              |
+---------------------+--------------------+----------------------+
| Ubuntu 18.04        | PASS               | SKIPPED              |
+---------------------+--------------------+----------------------+
| openSUSE Leap 15    | PASS               | SKIPPED              |
+---------------------+--------------------+----------------------+
| CentOS Stream 8     | PASS               | SKIPPED              |
+---------------------+--------------------+----------------------+
| Fedora 31           | PASS               | SKIPPED              |
+---------------------+--------------------+----------------------+
| Fedora 32           | PASS               | SKIPPED              |
+---------------------+--------------------+----------------------+
| Ubuntu 20.04        | PASS               | SKIPPED              |
+---------------------+--------------------+----------------------+
| RHEL 7              | PASS               | SKIPPED              |
+---------------------+--------------------+----------------------+
| RHEL8               | PASS               | SKIPPED              |
+---------------------+--------------------+----------------------+
| Fedora 33           | PASS               | SKIPPED              |
+---------------------+--------------------+----------------------+
| Alpine              | PASS               | SKIPPED              |
+---------------------+--------------------+----------------------+
| Fedora 34 clang     | PASS               | SKIPPED              |
+---------------------+--------------------+----------------------+
| Arch Linux          | PASS               | SKIPPED              |
+---------------------+--------------------+----------------------+
| Fedora 34           | PASS               | SKIPPED              |
+---------------------+--------------------+----------------------+


Windows Server 2019
	Kernel: 10.0
	Compiler: clang 14.0 and gcc 8.1.0 (MinGW)

FreeBSD 13
	Kernel: 13.0
	Compiler: clang 11.0.1

Ubuntu 18.04
	Kernel: 4.18.0-240.10.1.el8_3.x86_64
	Compiler: gcc 7.5.0-3ubuntu1~18.04

openSUSE Leap 15
	Kernel: 4.18.0-240.10.1.el8_3.x86_64
	Compiler: gcc 7.5.0

CentOS Stream 8
	Kernel: 4.18.0-240.10.1.el8_3.x86_64
	Compiler: gcc 8.4.1 20200928

Fedora 31
	Kernel: 4.18.0-240.10.1.el8_3.x86_64
	Compiler: gcc 9.3.1

Fedora 32
	Kernel: 4.18.0-240.10.1.el8_3.x86_64
	Compiler: gcc 10.2.1

Ubuntu 20.04
	Kernel: 4.18.0-240.10.1.el8_3.x86_64
	Compiler: gcc 9.3.0-17ubuntu1~20.04

RHEL 7
	Kernel: 4.18.0-240.10.1.el8_3.x86_64
	Compiler: gcc 4.8.5 20150623 (Red Hat 4.8.5-44)

RHEL8
	Kernel: 4.18.0-240.10.1.el8_3.x86_64
	Compiler: gcc 8.3.1 20191121 (Red Hat 8.3.1-5)

Fedora 33
	Kernel: 5.4.0-72-generic
	Compiler: gcc 10.3.1 20210422 (Red Hat 10.3.1-1)

Alpine
	Kernel: 5.4.0-73-generic
	Compiler: gcc (Alpine 10.3.1_git20210424) 10.3.1 20210424

Fedora 34 clang
	Kernel: 5.4.0-72-generic
	Compiler: clang 12.0.0 (Fedora 12.0.0-0.3.rc1.fc34)

Arch Linux
	Kernel: 5.4.0-73-generic
	Compiler: gcc 11.1.0

Fedora 34
	Kernel: 5.4.0-72-generic
	Compiler: gcc 11.1.1 20210428 (Red Hat 11.1.1-1)

To view detailed results, visit:
https://lab.dpdk.org/results/dashboard/tarballs/19763/

UNH-IOL DPDK Community Lab

To manage your email subscriptions, visit: 
https://lab.dpdk.org/results/dashboard/preferences/subscriptions/

^ permalink raw reply	[flat|nested] 83+ messages in thread

* |SUCCESS| [GIT MASTER] 592c7bf7148bec1a34db79370e968dd2d1f8f1dc
@ 2022-05-11 12:17 dpdklab
  0 siblings, 0 replies; 83+ messages in thread
From: dpdklab @ 2022-05-11 12:17 UTC (permalink / raw)
  To: Test Report
  Cc: dpdk-test-reports, Xueming Li, Christian Ehrhardt, Kevin Traynor,
	Luca Boccassi

[-- Attachment #1: Type: text/plain, Size: 2226 bytes --]

_Testing PASS_

Branch: tags/v21.11

592c7bf7148bec1a34db79370e968dd2d1f8f1dc --> testing pass

Test environment and result as below:

+------------------+----------+
|   Environment    | abi_test |
+==================+==========+
| Ubuntu 18.04     | PASS     |
+------------------+----------+
| RHEL 7           | PASS     |
+------------------+----------+
| Fedora 34 clang  | PASS     |
+------------------+----------+
| Arch Linux       | PASS     |
+------------------+----------+
| RHEL8            | PASS     |
+------------------+----------+
| CentOS Stream 8  | PASS     |
+------------------+----------+
| openSUSE Leap 15 | PASS     |
+------------------+----------+
| Fedora 34        | PASS     |
+------------------+----------+
| Fedora 33        | PASS     |
+------------------+----------+
| Ubuntu 20.04     | PASS     |
+------------------+----------+
| Fedora 32        | PASS     |
+------------------+----------+
| Fedora 31        | PASS     |
+------------------+----------+


Ubuntu 18.04
	Kernel: 4.18.0-240.10.1.el8_3.x86_64
	Compiler: gcc 7.5.0-3ubuntu1~18.04

RHEL 7
	Kernel: 4.18.0-240.10.1.el8_3.x86_64
	Compiler: gcc 4.8.5 20150623 (Red Hat 4.8.5-44)

Fedora 34 clang
	Kernel: 5.4.0-72-generic
	Compiler: clang 12.0.0 (Fedora 12.0.0-0.3.rc1.fc34)

Arch Linux
	Kernel: 5.4.0-73-generic
	Compiler: gcc 11.1.0

RHEL8
	Kernel: 4.18.0-240.10.1.el8_3.x86_64
	Compiler: gcc 8.3.1 20191121 (Red Hat 8.3.1-5)

CentOS Stream 8
	Kernel: 4.18.0-240.10.1.el8_3.x86_64
	Compiler: gcc 8.4.1 20200928

openSUSE Leap 15
	Kernel: 4.18.0-240.10.1.el8_3.x86_64
	Compiler: gcc 7.5.0

Fedora 34
	Kernel: 5.4.0-72-generic
	Compiler: gcc 11.1.1 20210428 (Red Hat 11.1.1-1)

Fedora 33
	Kernel: 5.4.0-72-generic
	Compiler: gcc 10.3.1 20210422 (Red Hat 10.3.1-1)

Ubuntu 20.04
	Kernel: 4.18.0-240.10.1.el8_3.x86_64
	Compiler: gcc 9.3.0-17ubuntu1~20.04

Fedora 32
	Kernel: 4.18.0-240.10.1.el8_3.x86_64
	Compiler: gcc 10.2.1

Fedora 31
	Kernel: 4.18.0-240.10.1.el8_3.x86_64
	Compiler: gcc 9.3.1

To view detailed results, visit:
https://lab.dpdk.org/results/dashboard/tarballs/19763/

UNH-IOL DPDK Community Lab

To manage your email subscriptions, visit: 
https://lab.dpdk.org/results/dashboard/preferences/subscriptions/

^ permalink raw reply	[flat|nested] 83+ messages in thread

* |SUCCESS| [GIT MASTER] 592c7bf7148bec1a34db79370e968dd2d1f8f1dc
@ 2022-05-11  9:47 dpdklab
  0 siblings, 0 replies; 83+ messages in thread
From: dpdklab @ 2022-05-11  9:47 UTC (permalink / raw)
  To: Test Report
  Cc: dpdklab, Xueming Li, Christian Ehrhardt, Kevin Traynor, Luca Boccassi

[-- Attachment #1: Type: text/plain, Size: 2388 bytes --]

_Testing PASS_

Branch: tags/v21.11

592c7bf7148bec1a34db79370e968dd2d1f8f1dc --> testing pass

Test environment and result as below:

+------------------+----------------+
|   Environment    | dpdk_unit_test |
+==================+================+
| Fedora 33        | PASS           |
+------------------+----------------+
| RHEL 7           | PASS           |
+------------------+----------------+
| Fedora 31        | PASS           |
+------------------+----------------+
| CentOS Stream 8  | PASS           |
+------------------+----------------+
| openSUSE Leap 15 | PASS           |
+------------------+----------------+
| RHEL8            | PASS           |
+------------------+----------------+
| Ubuntu 20.04     | PASS           |
+------------------+----------------+
| Ubuntu 18.04     | PASS           |
+------------------+----------------+
| Fedora 34 clang  | PASS           |
+------------------+----------------+
| Fedora 34        | PASS           |
+------------------+----------------+
| Arch Linux       | PASS           |
+------------------+----------------+
| Fedora 32        | PASS           |
+------------------+----------------+


Fedora 33
	Kernel: 5.4.0-72-generic
	Compiler: gcc 10.3.1 20210422 (Red Hat 10.3.1-1)

RHEL 7
	Kernel: 4.18.0-240.10.1.el8_3.x86_64
	Compiler: gcc 4.8.5 20150623 (Red Hat 4.8.5-44)

Fedora 31
	Kernel: 4.18.0-240.10.1.el8_3.x86_64
	Compiler: gcc 9.3.1

CentOS Stream 8
	Kernel: 4.18.0-240.10.1.el8_3.x86_64
	Compiler: gcc 8.4.1 20200928

openSUSE Leap 15
	Kernel: 4.18.0-240.10.1.el8_3.x86_64
	Compiler: gcc 7.5.0

RHEL8
	Kernel: 4.18.0-240.10.1.el8_3.x86_64
	Compiler: gcc 8.3.1 20191121 (Red Hat 8.3.1-5)

Ubuntu 20.04
	Kernel: 4.18.0-240.10.1.el8_3.x86_64
	Compiler: gcc 9.3.0-17ubuntu1~20.04

Ubuntu 18.04
	Kernel: 4.18.0-240.10.1.el8_3.x86_64
	Compiler: gcc 7.5.0-3ubuntu1~18.04

Fedora 34 clang
	Kernel: 5.4.0-72-generic
	Compiler: clang 12.0.0 (Fedora 12.0.0-0.3.rc1.fc34)

Fedora 34
	Kernel: 5.4.0-72-generic
	Compiler: gcc 11.1.1 20210428 (Red Hat 11.1.1-1)

Arch Linux
	Kernel: 5.4.0-73-generic
	Compiler: gcc 11.1.0

Fedora 32
	Kernel: 4.18.0-240.10.1.el8_3.x86_64
	Compiler: gcc 10.2.1

To view detailed results, visit:
https://lab.dpdk.org/results/dashboard/tarballs/19763/

UNH-IOL DPDK Community Lab

To manage your email subscriptions, visit: 
https://lab.dpdk.org/results/dashboard/preferences/subscriptions/

^ permalink raw reply	[flat|nested] 83+ messages in thread

* |SUCCESS| [GIT MASTER] 592c7bf7148bec1a34db79370e968dd2d1f8f1dc
@ 2022-05-11  8:02 dpdklab
  0 siblings, 0 replies; 83+ messages in thread
From: dpdklab @ 2022-05-11  8:02 UTC (permalink / raw)
  To: Test Report
  Cc: dpdklab, Xueming Li, Christian Ehrhardt, Kevin Traynor, Luca Boccassi

[-- Attachment #1: Type: text/plain, Size: 1421 bytes --]

_Testing PASS_

Branch: tags/v21.11

592c7bf7148bec1a34db79370e968dd2d1f8f1dc --> testing pass

Test environment and result as below:

+------------------------------------+--------------------+
|            Environment             | dpdk_meson_compile |
+====================================+====================+
| Ubuntu 20.04 ARM Clang Native      | PASS               |
+------------------------------------+--------------------+
| Ubuntu 20.04 ARM GCC Native        | PASS               |
+------------------------------------+--------------------+
| Ubuntu 20.04 ARM GCC Cross Compile | PASS               |
+------------------------------------+--------------------+
| Ubuntu 20.04 ARM SVE               | PASS               |
+------------------------------------+--------------------+


Ubuntu 20.04 ARM Clang Native
	Kernel: 5.4.0-53-generic
	Compiler: clang 10.0.0-4ubuntu1

Ubuntu 20.04 ARM GCC Native
	Kernel: 5.4.0-53-generic
	Compiler: gcc 9.3

Ubuntu 20.04 ARM GCC Cross Compile
	Kernel: 5.4.0-72-generic
	Compiler: aarch64-linux-gnu-gcc (Ubuntu 9.3.0-17ubuntu1~20.04) 9.3.0

Ubuntu 20.04 ARM SVE
	Kernel: 5.4.0-80-generic
	Compiler: gcc 10.3.0 (Ubuntu 10.3.0-1ubuntu1~20.04)

To view detailed results, visit:
https://lab.dpdk.org/results/dashboard/tarballs/19763/

UNH-IOL DPDK Community Lab

To manage your email subscriptions, visit: 
https://lab.dpdk.org/results/dashboard/preferences/subscriptions/

^ permalink raw reply	[flat|nested] 83+ messages in thread

* |SUCCESS| [GIT MASTER] 592c7bf7148bec1a34db79370e968dd2d1f8f1dc
@ 2022-05-11  7:57 dpdklab
  0 siblings, 0 replies; 83+ messages in thread
From: dpdklab @ 2022-05-11  7:57 UTC (permalink / raw)
  To: Test Report
  Cc: dpdk-test-reports, Xueming Li, Christian Ehrhardt, Kevin Traynor,
	Luca Boccassi

[-- Attachment #1: Type: text/plain, Size: 3828 bytes --]

_Testing PASS_

Branch: tags/v21.11

592c7bf7148bec1a34db79370e968dd2d1f8f1dc --> testing pass

Test environment and result as below:

+---------------------+--------------------+----------------------+
|     Environment     | dpdk_meson_compile | dpdk_mingw64_compile |
+=====================+====================+======================+
| Windows Server 2019 | PASS               | PASS                 |
+---------------------+--------------------+----------------------+
| FreeBSD 13          | PASS               | SKIPPED              |
+---------------------+--------------------+----------------------+
| Ubuntu 18.04        | PASS               | SKIPPED              |
+---------------------+--------------------+----------------------+
| Fedora 32           | PASS               | SKIPPED              |
+---------------------+--------------------+----------------------+
| RHEL 7              | PASS               | SKIPPED              |
+---------------------+--------------------+----------------------+
| Arch Linux          | PASS               | SKIPPED              |
+---------------------+--------------------+----------------------+
| Ubuntu 20.04        | PASS               | SKIPPED              |
+---------------------+--------------------+----------------------+
| Fedora 34           | PASS               | SKIPPED              |
+---------------------+--------------------+----------------------+
| Fedora 33           | PASS               | SKIPPED              |
+---------------------+--------------------+----------------------+
| Fedora 31           | PASS               | SKIPPED              |
+---------------------+--------------------+----------------------+
| CentOS Stream 8     | PASS               | SKIPPED              |
+---------------------+--------------------+----------------------+
| openSUSE Leap 15    | PASS               | SKIPPED              |
+---------------------+--------------------+----------------------+
| RHEL8               | PASS               | SKIPPED              |
+---------------------+--------------------+----------------------+
| Alpine              | PASS               | SKIPPED              |
+---------------------+--------------------+----------------------+
| Fedora 34 clang     | PASS               | SKIPPED              |
+---------------------+--------------------+----------------------+


Windows Server 2019
	Kernel: 10.0
	Compiler: clang 14.0 and gcc 8.1.0 (MinGW)

FreeBSD 13
	Kernel: 13.0
	Compiler: clang 11.0.1

Ubuntu 18.04
	Kernel: 4.18.0-240.10.1.el8_3.x86_64
	Compiler: gcc 7.5.0-3ubuntu1~18.04

Fedora 32
	Kernel: 4.18.0-240.10.1.el8_3.x86_64
	Compiler: gcc 10.2.1

RHEL 7
	Kernel: 4.18.0-240.10.1.el8_3.x86_64
	Compiler: gcc 4.8.5 20150623 (Red Hat 4.8.5-44)

Arch Linux
	Kernel: 5.4.0-73-generic
	Compiler: gcc 11.1.0

Ubuntu 20.04
	Kernel: 4.18.0-240.10.1.el8_3.x86_64
	Compiler: gcc 9.3.0-17ubuntu1~20.04

Fedora 34
	Kernel: 5.4.0-72-generic
	Compiler: gcc 11.1.1 20210428 (Red Hat 11.1.1-1)

Fedora 33
	Kernel: 5.4.0-72-generic
	Compiler: gcc 10.3.1 20210422 (Red Hat 10.3.1-1)

Fedora 31
	Kernel: 4.18.0-240.10.1.el8_3.x86_64
	Compiler: gcc 9.3.1

CentOS Stream 8
	Kernel: 4.18.0-240.10.1.el8_3.x86_64
	Compiler: gcc 8.4.1 20200928

openSUSE Leap 15
	Kernel: 4.18.0-240.10.1.el8_3.x86_64
	Compiler: gcc 7.5.0

RHEL8
	Kernel: 4.18.0-240.10.1.el8_3.x86_64
	Compiler: gcc 8.3.1 20191121 (Red Hat 8.3.1-5)

Alpine
	Kernel: 5.4.0-73-generic
	Compiler: gcc (Alpine 10.3.1_git20210424) 10.3.1 20210424

Fedora 34 clang
	Kernel: 5.4.0-72-generic
	Compiler: clang 12.0.0 (Fedora 12.0.0-0.3.rc1.fc34)

To view detailed results, visit:
https://lab.dpdk.org/results/dashboard/tarballs/19760/

UNH-IOL DPDK Community Lab

To manage your email subscriptions, visit: 
https://lab.dpdk.org/results/dashboard/preferences/subscriptions/

^ permalink raw reply	[flat|nested] 83+ messages in thread

* |SUCCESS| [GIT MASTER] 592c7bf7148bec1a34db79370e968dd2d1f8f1dc
@ 2022-05-11  7:47 dpdklab
  0 siblings, 0 replies; 83+ messages in thread
From: dpdklab @ 2022-05-11  7:47 UTC (permalink / raw)
  To: Test Report
  Cc: dpdklab, Xueming Li, Christian Ehrhardt, Kevin Traynor, Luca Boccassi

[-- Attachment #1: Type: text/plain, Size: 2226 bytes --]

_Testing PASS_

Branch: tags/v21.11

592c7bf7148bec1a34db79370e968dd2d1f8f1dc --> testing pass

Test environment and result as below:

+------------------+----------+
|   Environment    | abi_test |
+==================+==========+
| RHEL 7           | PASS     |
+------------------+----------+
| Ubuntu 20.04     | PASS     |
+------------------+----------+
| Fedora 32        | PASS     |
+------------------+----------+
| CentOS Stream 8  | PASS     |
+------------------+----------+
| Ubuntu 18.04     | PASS     |
+------------------+----------+
| Arch Linux       | PASS     |
+------------------+----------+
| Fedora 34 clang  | PASS     |
+------------------+----------+
| openSUSE Leap 15 | PASS     |
+------------------+----------+
| Fedora 34        | PASS     |
+------------------+----------+
| RHEL8            | PASS     |
+------------------+----------+
| Fedora 31        | PASS     |
+------------------+----------+
| Fedora 33        | PASS     |
+------------------+----------+


RHEL 7
	Kernel: 4.18.0-240.10.1.el8_3.x86_64
	Compiler: gcc 4.8.5 20150623 (Red Hat 4.8.5-44)

Ubuntu 20.04
	Kernel: 4.18.0-240.10.1.el8_3.x86_64
	Compiler: gcc 9.3.0-17ubuntu1~20.04

Fedora 32
	Kernel: 4.18.0-240.10.1.el8_3.x86_64
	Compiler: gcc 10.2.1

CentOS Stream 8
	Kernel: 4.18.0-240.10.1.el8_3.x86_64
	Compiler: gcc 8.4.1 20200928

Ubuntu 18.04
	Kernel: 4.18.0-240.10.1.el8_3.x86_64
	Compiler: gcc 7.5.0-3ubuntu1~18.04

Arch Linux
	Kernel: 5.4.0-73-generic
	Compiler: gcc 11.1.0

Fedora 34 clang
	Kernel: 5.4.0-72-generic
	Compiler: clang 12.0.0 (Fedora 12.0.0-0.3.rc1.fc34)

openSUSE Leap 15
	Kernel: 4.18.0-240.10.1.el8_3.x86_64
	Compiler: gcc 7.5.0

Fedora 34
	Kernel: 5.4.0-72-generic
	Compiler: gcc 11.1.1 20210428 (Red Hat 11.1.1-1)

RHEL8
	Kernel: 4.18.0-240.10.1.el8_3.x86_64
	Compiler: gcc 8.3.1 20191121 (Red Hat 8.3.1-5)

Fedora 31
	Kernel: 4.18.0-240.10.1.el8_3.x86_64
	Compiler: gcc 9.3.1

Fedora 33
	Kernel: 5.4.0-72-generic
	Compiler: gcc 10.3.1 20210422 (Red Hat 10.3.1-1)

To view detailed results, visit:
https://lab.dpdk.org/results/dashboard/tarballs/19760/

UNH-IOL DPDK Community Lab

To manage your email subscriptions, visit: 
https://lab.dpdk.org/results/dashboard/preferences/subscriptions/

^ permalink raw reply	[flat|nested] 83+ messages in thread

* |SUCCESS| [GIT MASTER] 592c7bf7148bec1a34db79370e968dd2d1f8f1dc
@ 2022-05-11  6:44 dpdklab
  0 siblings, 0 replies; 83+ messages in thread
From: dpdklab @ 2022-05-11  6:44 UTC (permalink / raw)
  To: Test Report
  Cc: dpdklab, Xueming Li, Christian Ehrhardt, Kevin Traynor, Luca Boccassi

[-- Attachment #1: Type: text/plain, Size: 1421 bytes --]

_Testing PASS_

Branch: tags/v21.11

592c7bf7148bec1a34db79370e968dd2d1f8f1dc --> testing pass

Test environment and result as below:

+------------------------------------+--------------------+
|            Environment             | dpdk_meson_compile |
+====================================+====================+
| Ubuntu 20.04 ARM GCC Native        | PASS               |
+------------------------------------+--------------------+
| Ubuntu 20.04 ARM Clang Native      | PASS               |
+------------------------------------+--------------------+
| Ubuntu 20.04 ARM GCC Cross Compile | PASS               |
+------------------------------------+--------------------+
| Ubuntu 20.04 ARM SVE               | PASS               |
+------------------------------------+--------------------+


Ubuntu 20.04 ARM GCC Native
	Kernel: 5.4.0-53-generic
	Compiler: gcc 9.3

Ubuntu 20.04 ARM Clang Native
	Kernel: 5.4.0-53-generic
	Compiler: clang 10.0.0-4ubuntu1

Ubuntu 20.04 ARM GCC Cross Compile
	Kernel: 5.4.0-72-generic
	Compiler: aarch64-linux-gnu-gcc (Ubuntu 9.3.0-17ubuntu1~20.04) 9.3.0

Ubuntu 20.04 ARM SVE
	Kernel: 5.4.0-80-generic
	Compiler: gcc 10.3.0 (Ubuntu 10.3.0-1ubuntu1~20.04)

To view detailed results, visit:
https://lab.dpdk.org/results/dashboard/tarballs/19760/

UNH-IOL DPDK Community Lab

To manage your email subscriptions, visit: 
https://lab.dpdk.org/results/dashboard/preferences/subscriptions/

^ permalink raw reply	[flat|nested] 83+ messages in thread

* |SUCCESS| [GIT MASTER] 592c7bf7148bec1a34db79370e968dd2d1f8f1dc
@ 2022-05-11  6:12 dpdklab
  0 siblings, 0 replies; 83+ messages in thread
From: dpdklab @ 2022-05-11  6:12 UTC (permalink / raw)
  To: Test Report
  Cc: dpdklab, Xueming Li, Christian Ehrhardt, Kevin Traynor, Luca Boccassi

[-- Attachment #1: Type: text/plain, Size: 1223 bytes --]

_Testing PASS_

Branch: tags/v21.11

592c7bf7148bec1a34db79370e968dd2d1f8f1dc --> testing pass

Test environment and result as below:

+-------------------------------+----------------+--------------+
|          Environment          | dpdk_unit_test | lpm_autotest |
+===============================+================+==============+
| Ubuntu 20.04 ARM GCC Native   | PASS           | SKIPPED      |
+-------------------------------+----------------+--------------+
| Ubuntu 20.04 ARM Clang Native | PASS           | SKIPPED      |
+-------------------------------+----------------+--------------+
| Ubuntu 20.04 ARM SVE          | SKIPPED        | PASS         |
+-------------------------------+----------------+--------------+


Ubuntu 20.04 ARM GCC Native
	Kernel: 5.4.0-53-generic
	Compiler: gcc 9.3

Ubuntu 20.04 ARM Clang Native
	Kernel: 5.4.0-53-generic
	Compiler: clang 10.0.0-4ubuntu1

Ubuntu 20.04 ARM SVE
	Kernel: 5.4.0-80-generic
	Compiler: gcc 10.3.0 (Ubuntu 10.3.0-1ubuntu1~20.04)

To view detailed results, visit:
https://lab.dpdk.org/results/dashboard/tarballs/19763/

UNH-IOL DPDK Community Lab

To manage your email subscriptions, visit: 
https://lab.dpdk.org/results/dashboard/preferences/subscriptions/

^ permalink raw reply	[flat|nested] 83+ messages in thread

* |SUCCESS| [GIT MASTER] 592c7bf7148bec1a34db79370e968dd2d1f8f1dc
@ 2022-05-11  5:54 dpdklab
  0 siblings, 0 replies; 83+ messages in thread
From: dpdklab @ 2022-05-11  5:54 UTC (permalink / raw)
  To: Test Report
  Cc: dpdklab, Xueming Li, Christian Ehrhardt, Kevin Traynor, Luca Boccassi

[-- Attachment #1: Type: text/plain, Size: 2388 bytes --]

_Testing PASS_

Branch: tags/v21.11

592c7bf7148bec1a34db79370e968dd2d1f8f1dc --> testing pass

Test environment and result as below:

+------------------+----------------+
|   Environment    | dpdk_unit_test |
+==================+================+
| Ubuntu 18.04     | PASS           |
+------------------+----------------+
| Arch Linux       | PASS           |
+------------------+----------------+
| RHEL 7           | PASS           |
+------------------+----------------+
| openSUSE Leap 15 | PASS           |
+------------------+----------------+
| CentOS Stream 8  | PASS           |
+------------------+----------------+
| Fedora 31        | PASS           |
+------------------+----------------+
| Fedora 32        | PASS           |
+------------------+----------------+
| Ubuntu 20.04     | PASS           |
+------------------+----------------+
| RHEL8            | PASS           |
+------------------+----------------+
| Fedora 34        | PASS           |
+------------------+----------------+
| Fedora 33        | PASS           |
+------------------+----------------+
| Fedora 34 clang  | PASS           |
+------------------+----------------+


Ubuntu 18.04
	Kernel: 4.18.0-240.10.1.el8_3.x86_64
	Compiler: gcc 7.5.0-3ubuntu1~18.04

Arch Linux
	Kernel: 5.4.0-73-generic
	Compiler: gcc 11.1.0

RHEL 7
	Kernel: 4.18.0-240.10.1.el8_3.x86_64
	Compiler: gcc 4.8.5 20150623 (Red Hat 4.8.5-44)

openSUSE Leap 15
	Kernel: 4.18.0-240.10.1.el8_3.x86_64
	Compiler: gcc 7.5.0

CentOS Stream 8
	Kernel: 4.18.0-240.10.1.el8_3.x86_64
	Compiler: gcc 8.4.1 20200928

Fedora 31
	Kernel: 4.18.0-240.10.1.el8_3.x86_64
	Compiler: gcc 9.3.1

Fedora 32
	Kernel: 4.18.0-240.10.1.el8_3.x86_64
	Compiler: gcc 10.2.1

Ubuntu 20.04
	Kernel: 4.18.0-240.10.1.el8_3.x86_64
	Compiler: gcc 9.3.0-17ubuntu1~20.04

RHEL8
	Kernel: 4.18.0-240.10.1.el8_3.x86_64
	Compiler: gcc 8.3.1 20191121 (Red Hat 8.3.1-5)

Fedora 34
	Kernel: 5.4.0-72-generic
	Compiler: gcc 11.1.1 20210428 (Red Hat 11.1.1-1)

Fedora 33
	Kernel: 5.4.0-72-generic
	Compiler: gcc 10.3.1 20210422 (Red Hat 10.3.1-1)

Fedora 34 clang
	Kernel: 5.4.0-72-generic
	Compiler: clang 12.0.0 (Fedora 12.0.0-0.3.rc1.fc34)

To view detailed results, visit:
https://lab.dpdk.org/results/dashboard/tarballs/19760/

UNH-IOL DPDK Community Lab

To manage your email subscriptions, visit: 
https://lab.dpdk.org/results/dashboard/preferences/subscriptions/

^ permalink raw reply	[flat|nested] 83+ messages in thread

* |SUCCESS| [GIT MASTER] 592c7bf7148bec1a34db79370e968dd2d1f8f1dc
@ 2022-05-11  5:42 dpdklab
  0 siblings, 0 replies; 83+ messages in thread
From: dpdklab @ 2022-05-11  5:42 UTC (permalink / raw)
  To: Test Report
  Cc: dpdk-test-reports, Xueming Li, Christian Ehrhardt, Kevin Traynor,
	Luca Boccassi

[-- Attachment #1: Type: text/plain, Size: 3083 bytes --]

_Performance Testing PASS_

Branch: tags/v21.11

592c7bf7148bec1a34db79370e968dd2d1f8f1dc --> performance testing pass

Test environment and result as below:

Ubuntu 20.04
Kernel: 4.15.0-generic
Compiler: gcc 7.4
NIC: Intel Corporation Ethernet Converged Network Adapter XL710-QDA2 40000 Mbps
Target: x86_64-native-linuxapp-gcc
Fail/Total: 0/4

Detail performance results: 
+----------+-------------+---------+------------+------------------------------+
| num_cpus | num_threads | txd/rxd | frame_size |  throughput difference from  |
|          |             |         |            |           expected           |
+==========+=============+=========+============+==============================+
| 1        | 2           | 512     | 64         | -1.7%                        |
+----------+-------------+---------+------------+------------------------------+
| 1        | 2           | 2048    | 64         | 3.5%                         |
+----------+-------------+---------+------------+------------------------------+
| 1        | 1           | 512     | 64         | -2.1%                        |
+----------+-------------+---------+------------+------------------------------+
| 1        | 1           | 2048    | 64         | 0.0%                         |
+----------+-------------+---------+------------+------------------------------+

Ubuntu 20.04
Kernel: 4.15.0-generic
Compiler: gcc 7.4
NIC: Intel Corporation Ethernet Converged Network Adapter 82599ES 10000 Mbps
Target: x86_64-native-linuxapp-gcc
Fail/Total: 0/6

Detail performance results: 
+----------+-------------+---------+------------+------------------------------+
| num_cpus | num_threads | txd/rxd | frame_size |  throughput difference from  |
|          |             |         |            |           expected           |
+==========+=============+=========+============+==============================+
| 1        | 2           | 128     | 64         | -0.1%                        |
+----------+-------------+---------+------------+------------------------------+
| 1        | 2           | 512     | 64         | 0.1%                         |
+----------+-------------+---------+------------+------------------------------+
| 1        | 2           | 2048    | 64         | 0.2%                         |
+----------+-------------+---------+------------+------------------------------+
| 1        | 1           | 128     | 64         | -0.1%                        |
+----------+-------------+---------+------------+------------------------------+
| 1        | 1           | 512     | 64         | -0.1%                        |
+----------+-------------+---------+------------+------------------------------+
| 1        | 1           | 2048    | 64         | 0.2%                         |
+----------+-------------+---------+------------+------------------------------+

To view detailed results, visit:
https://lab.dpdk.org/results/dashboard/tarballs/19763/

UNH-IOL DPDK Community Lab

To manage your email subscriptions, visit: 
https://lab.dpdk.org/results/dashboard/preferences/subscriptions/

^ permalink raw reply	[flat|nested] 83+ messages in thread

* |SUCCESS| [GIT MASTER] 592c7bf7148bec1a34db79370e968dd2d1f8f1dc
@ 2022-05-11  5:34 dpdklab
  0 siblings, 0 replies; 83+ messages in thread
From: dpdklab @ 2022-05-11  5:34 UTC (permalink / raw)
  To: Test Report
  Cc: dpdk-test-reports, Xueming Li, Christian Ehrhardt, Kevin Traynor,
	Luca Boccassi

[-- Attachment #1: Type: text/plain, Size: 1574 bytes --]

_Performance Testing PASS_

Branch: tags/v21.11

592c7bf7148bec1a34db79370e968dd2d1f8f1dc --> performance testing pass

Test environment and result as below:

Ubuntu 20.04
Kernel: 4.15.0-generic
Compiler: gcc 7.4
NIC: Intel Corporation Ethernet Converged Network Adapter XL710-QDA2 40000 Mbps
Target: x86_64-native-linuxapp-gcc
Fail/Total: 0/4

Detail performance results: 
+----------+-------------+---------+------------+------------------------------+
| num_cpus | num_threads | txd/rxd | frame_size |  throughput difference from  |
|          |             |         |            |           expected           |
+==========+=============+=========+============+==============================+
| 1        | 2           | 512     | 64         | -1.7%                        |
+----------+-------------+---------+------------+------------------------------+
| 1        | 2           | 2048    | 64         | 3.5%                         |
+----------+-------------+---------+------------+------------------------------+
| 1        | 1           | 512     | 64         | -2.1%                        |
+----------+-------------+---------+------------+------------------------------+
| 1        | 1           | 2048    | 64         | 0.0%                         |
+----------+-------------+---------+------------+------------------------------+

To view detailed results, visit:
https://lab.dpdk.org/results/dashboard/tarballs/19763/

UNH-IOL DPDK Community Lab

To manage your email subscriptions, visit: 
https://lab.dpdk.org/results/dashboard/preferences/subscriptions/

^ permalink raw reply	[flat|nested] 83+ messages in thread

* |SUCCESS| [GIT MASTER] 592c7bf7148bec1a34db79370e968dd2d1f8f1dc
@ 2022-05-11  5:22 dpdklab
  0 siblings, 0 replies; 83+ messages in thread
From: dpdklab @ 2022-05-11  5:22 UTC (permalink / raw)
  To: Test Report
  Cc: dpdk-test-reports, Xueming Li, Christian Ehrhardt, Kevin Traynor,
	Luca Boccassi

[-- Attachment #1: Type: text/plain, Size: 954 bytes --]

_Functional Testing PASS_

Branch: tags/v21.11

592c7bf7148bec1a34db79370e968dd2d1f8f1dc --> functional testing pass

Test environment and result as below:

Ubuntu 20.04 ARM
Kernel: 4.15.0-132-generic
Compiler: gcc 7.5
NIC: Arm Intel Corporation Ethernet Converged Network Adapter XL710-QDA2 40000 Mbps
Target: x86_64-native-linuxapp-gcc
Fail/Total: 0/2


Ubuntu 20.04
Kernel: 4.15.0-generic
Compiler: gcc 7.4
NIC: Intel Corporation Ethernet Converged Network Adapter XL710-QDA2 40000 Mbps
Target: x86_64-native-linuxapp-gcc
Fail/Total: 0/2


Ubuntu 20.04
Kernel: 4.15.0-generic
Compiler: gcc 7.4
NIC: Intel Corporation Ethernet Converged Network Adapter 82599ES 10000 Mbps
Target: x86_64-native-linuxapp-gcc
Fail/Total: 0/2


To view detailed results, visit:
https://lab.dpdk.org/results/dashboard/tarballs/19763/

UNH-IOL DPDK Community Lab

To manage your email subscriptions, visit: 
https://lab.dpdk.org/results/dashboard/preferences/subscriptions/

^ permalink raw reply	[flat|nested] 83+ messages in thread

* |SUCCESS| [GIT MASTER] 592c7bf7148bec1a34db79370e968dd2d1f8f1dc
@ 2022-05-11  5:17 dpdklab
  0 siblings, 0 replies; 83+ messages in thread
From: dpdklab @ 2022-05-11  5:17 UTC (permalink / raw)
  To: Test Report
  Cc: dpdk-test-reports, Xueming Li, Christian Ehrhardt, Kevin Traynor,
	Luca Boccassi

[-- Attachment #1: Type: text/plain, Size: 770 bytes --]

_Functional Testing PASS_

Branch: tags/v21.11

592c7bf7148bec1a34db79370e968dd2d1f8f1dc --> functional testing pass

Test environment and result as below:

Ubuntu 20.04 ARM
Kernel: 4.15.0-132-generic
Compiler: gcc 7.5
NIC: Arm Intel Corporation Ethernet Converged Network Adapter XL710-QDA2 40000 Mbps
Target: x86_64-native-linuxapp-gcc
Fail/Total: 0/2


Ubuntu 20.04
Kernel: 4.15.0-generic
Compiler: gcc 7.4
NIC: Intel Corporation Ethernet Converged Network Adapter XL710-QDA2 40000 Mbps
Target: x86_64-native-linuxapp-gcc
Fail/Total: 0/2


To view detailed results, visit:
https://lab.dpdk.org/results/dashboard/tarballs/19763/

UNH-IOL DPDK Community Lab

To manage your email subscriptions, visit: 
https://lab.dpdk.org/results/dashboard/preferences/subscriptions/

^ permalink raw reply	[flat|nested] 83+ messages in thread

* |SUCCESS| [GIT MASTER] 592c7bf7148bec1a34db79370e968dd2d1f8f1dc
@ 2022-05-11  5:11 dpdklab
  0 siblings, 0 replies; 83+ messages in thread
From: dpdklab @ 2022-05-11  5:11 UTC (permalink / raw)
  To: Test Report
  Cc: dpdk-test-reports, Xueming Li, Christian Ehrhardt, Kevin Traynor,
	Luca Boccassi

[-- Attachment #1: Type: text/plain, Size: 583 bytes --]

_Functional Testing PASS_

Branch: tags/v21.11

592c7bf7148bec1a34db79370e968dd2d1f8f1dc --> functional testing pass

Test environment and result as below:

Ubuntu 20.04 ARM
Kernel: 4.15.0-132-generic
Compiler: gcc 7.5
NIC: Arm Intel Corporation Ethernet Converged Network Adapter XL710-QDA2 40000 Mbps
Target: x86_64-native-linuxapp-gcc
Fail/Total: 0/2


To view detailed results, visit:
https://lab.dpdk.org/results/dashboard/tarballs/19763/

UNH-IOL DPDK Community Lab

To manage your email subscriptions, visit: 
https://lab.dpdk.org/results/dashboard/preferences/subscriptions/

^ permalink raw reply	[flat|nested] 83+ messages in thread

* |SUCCESS| [GIT MASTER] 592c7bf7148bec1a34db79370e968dd2d1f8f1dc
@ 2022-05-11  5:08 dpdklab
  0 siblings, 0 replies; 83+ messages in thread
From: dpdklab @ 2022-05-11  5:08 UTC (permalink / raw)
  To: Ali Alnubani, Test Report
  Cc: dpdk-test-reports, Xueming Li, Christian Ehrhardt, Kevin Traynor,
	Luca Boccassi

[-- Attachment #1: Type: text/plain, Size: 1855 bytes --]

_Performance Testing PASS_

Branch: tags/v21.11

592c7bf7148bec1a34db79370e968dd2d1f8f1dc --> performance testing pass

Test environment and result as below:

Ubuntu 20.04
Kernel: 4.15.0-generic
Compiler: gcc 7.4
NIC: Mellanox ConnectX-5 100000 Mbps
Target: x86_64-native-linuxapp-gcc
Fail/Total: 0/6

Detail performance results: 
+------------+---------+----------+-------------+------------------------------+
| frame_size | txd/rxd | num_cpus | num_threads |  throughput difference from  |
|            |         |          |             |           expected           |
+============+=========+==========+=============+==============================+
| 64         | 256     | 1        | 1           | -0.1%                        |
+------------+---------+----------+-------------+------------------------------+
| 128        | 256     | 1        | 1           | 0.1%                         |
+------------+---------+----------+-------------+------------------------------+
| 1024       | 256     | 1        | 1           | -0.2%                        |
+------------+---------+----------+-------------+------------------------------+
| 256        | 256     | 1        | 1           | 0.1%                         |
+------------+---------+----------+-------------+------------------------------+
| 1518       | 256     | 1        | 1           | 0.2%                         |
+------------+---------+----------+-------------+------------------------------+
| 512        | 256     | 1        | 1           | 0.4%                         |
+------------+---------+----------+-------------+------------------------------+

To view detailed results, visit:
https://lab.dpdk.org/results/dashboard/tarballs/19763/

UNH-IOL DPDK Community Lab

To manage your email subscriptions, visit: 
https://lab.dpdk.org/results/dashboard/preferences/subscriptions/

^ permalink raw reply	[flat|nested] 83+ messages in thread

* |SUCCESS| [GIT MASTER] 592c7bf7148bec1a34db79370e968dd2d1f8f1dc
@ 2022-05-11  4:11 dpdklab
  0 siblings, 0 replies; 83+ messages in thread
From: dpdklab @ 2022-05-11  4:11 UTC (permalink / raw)
  To: Test Report
  Cc: dpdklab, Xueming Li, Christian Ehrhardt, Kevin Traynor, Luca Boccassi

[-- Attachment #1: Type: text/plain, Size: 1223 bytes --]

_Testing PASS_

Branch: tags/v21.11

592c7bf7148bec1a34db79370e968dd2d1f8f1dc --> testing pass

Test environment and result as below:

+-------------------------------+----------------+--------------+
|          Environment          | dpdk_unit_test | lpm_autotest |
+===============================+================+==============+
| Ubuntu 20.04 ARM Clang Native | PASS           | SKIPPED      |
+-------------------------------+----------------+--------------+
| Ubuntu 20.04 ARM GCC Native   | PASS           | SKIPPED      |
+-------------------------------+----------------+--------------+
| Ubuntu 20.04 ARM SVE          | SKIPPED        | PASS         |
+-------------------------------+----------------+--------------+


Ubuntu 20.04 ARM Clang Native
	Kernel: 5.4.0-53-generic
	Compiler: clang 10.0.0-4ubuntu1

Ubuntu 20.04 ARM GCC Native
	Kernel: 5.4.0-53-generic
	Compiler: gcc 9.3

Ubuntu 20.04 ARM SVE
	Kernel: 5.4.0-80-generic
	Compiler: gcc 10.3.0 (Ubuntu 10.3.0-1ubuntu1~20.04)

To view detailed results, visit:
https://lab.dpdk.org/results/dashboard/tarballs/19760/

UNH-IOL DPDK Community Lab

To manage your email subscriptions, visit: 
https://lab.dpdk.org/results/dashboard/preferences/subscriptions/

^ permalink raw reply	[flat|nested] 83+ messages in thread

* |SUCCESS| [GIT MASTER] 592c7bf7148bec1a34db79370e968dd2d1f8f1dc
@ 2022-05-11  3:59 dpdklab
  0 siblings, 0 replies; 83+ messages in thread
From: dpdklab @ 2022-05-11  3:59 UTC (permalink / raw)
  To: Test Report
  Cc: dpdk-test-reports, Xueming Li, Christian Ehrhardt, Kevin Traynor,
	Luca Boccassi

[-- Attachment #1: Type: text/plain, Size: 3083 bytes --]

_Performance Testing PASS_

Branch: tags/v21.11

592c7bf7148bec1a34db79370e968dd2d1f8f1dc --> performance testing pass

Test environment and result as below:

Ubuntu 20.04
Kernel: 4.15.0-generic
Compiler: gcc 7.4
NIC: Intel Corporation Ethernet Converged Network Adapter XL710-QDA2 40000 Mbps
Target: x86_64-native-linuxapp-gcc
Fail/Total: 0/4

Detail performance results: 
+----------+-------------+---------+------------+------------------------------+
| num_cpus | num_threads | txd/rxd | frame_size |  throughput difference from  |
|          |             |         |            |           expected           |
+==========+=============+=========+============+==============================+
| 1        | 2           | 512     | 64         | 0.1%                         |
+----------+-------------+---------+------------+------------------------------+
| 1        | 2           | 2048    | 64         | 0.2%                         |
+----------+-------------+---------+------------+------------------------------+
| 1        | 1           | 512     | 64         | -1.1%                        |
+----------+-------------+---------+------------+------------------------------+
| 1        | 1           | 2048    | 64         | -0.3%                        |
+----------+-------------+---------+------------+------------------------------+

Ubuntu 20.04
Kernel: 4.15.0-generic
Compiler: gcc 7.4
NIC: Intel Corporation Ethernet Converged Network Adapter 82599ES 10000 Mbps
Target: x86_64-native-linuxapp-gcc
Fail/Total: 0/6

Detail performance results: 
+----------+-------------+---------+------------+------------------------------+
| num_cpus | num_threads | txd/rxd | frame_size |  throughput difference from  |
|          |             |         |            |           expected           |
+==========+=============+=========+============+==============================+
| 1        | 2           | 128     | 64         | 0.1%                         |
+----------+-------------+---------+------------+------------------------------+
| 1        | 2           | 512     | 64         | -0.2%                        |
+----------+-------------+---------+------------+------------------------------+
| 1        | 2           | 2048    | 64         | 0.0%                         |
+----------+-------------+---------+------------+------------------------------+
| 1        | 1           | 128     | 64         | 0.1%                         |
+----------+-------------+---------+------------+------------------------------+
| 1        | 1           | 512     | 64         | 0.0%                         |
+----------+-------------+---------+------------+------------------------------+
| 1        | 1           | 2048    | 64         | -0.0%                        |
+----------+-------------+---------+------------+------------------------------+

To view detailed results, visit:
https://lab.dpdk.org/results/dashboard/tarballs/19760/

UNH-IOL DPDK Community Lab

To manage your email subscriptions, visit: 
https://lab.dpdk.org/results/dashboard/preferences/subscriptions/

^ permalink raw reply	[flat|nested] 83+ messages in thread

* |SUCCESS| [GIT MASTER] 592c7bf7148bec1a34db79370e968dd2d1f8f1dc
@ 2022-05-11  3:47 dpdklab
  0 siblings, 0 replies; 83+ messages in thread
From: dpdklab @ 2022-05-11  3:47 UTC (permalink / raw)
  To: Test Report
  Cc: dpdk-test-reports, Xueming Li, Christian Ehrhardt, Kevin Traynor,
	Luca Boccassi

[-- Attachment #1: Type: text/plain, Size: 1574 bytes --]

_Performance Testing PASS_

Branch: tags/v21.11

592c7bf7148bec1a34db79370e968dd2d1f8f1dc --> performance testing pass

Test environment and result as below:

Ubuntu 20.04
Kernel: 4.15.0-generic
Compiler: gcc 7.4
NIC: Intel Corporation Ethernet Converged Network Adapter XL710-QDA2 40000 Mbps
Target: x86_64-native-linuxapp-gcc
Fail/Total: 0/4

Detail performance results: 
+----------+-------------+---------+------------+------------------------------+
| num_cpus | num_threads | txd/rxd | frame_size |  throughput difference from  |
|          |             |         |            |           expected           |
+==========+=============+=========+============+==============================+
| 1        | 2           | 512     | 64         | 0.1%                         |
+----------+-------------+---------+------------+------------------------------+
| 1        | 2           | 2048    | 64         | 0.2%                         |
+----------+-------------+---------+------------+------------------------------+
| 1        | 1           | 512     | 64         | -1.1%                        |
+----------+-------------+---------+------------+------------------------------+
| 1        | 1           | 2048    | 64         | -0.3%                        |
+----------+-------------+---------+------------+------------------------------+

To view detailed results, visit:
https://lab.dpdk.org/results/dashboard/tarballs/19760/

UNH-IOL DPDK Community Lab

To manage your email subscriptions, visit: 
https://lab.dpdk.org/results/dashboard/preferences/subscriptions/

^ permalink raw reply	[flat|nested] 83+ messages in thread

* |SUCCESS| [GIT MASTER] 592c7bf7148bec1a34db79370e968dd2d1f8f1dc
@ 2022-05-11  3:40 dpdklab
  0 siblings, 0 replies; 83+ messages in thread
From: dpdklab @ 2022-05-11  3:40 UTC (permalink / raw)
  To: Test Report
  Cc: dpdk-test-reports, Xueming Li, Christian Ehrhardt, Kevin Traynor,
	Luca Boccassi

[-- Attachment #1: Type: text/plain, Size: 954 bytes --]

_Functional Testing PASS_

Branch: tags/v21.11

592c7bf7148bec1a34db79370e968dd2d1f8f1dc --> functional testing pass

Test environment and result as below:

Ubuntu 20.04 ARM
Kernel: 4.15.0-132-generic
Compiler: gcc 7.5
NIC: Arm Intel Corporation Ethernet Converged Network Adapter XL710-QDA2 40000 Mbps
Target: x86_64-native-linuxapp-gcc
Fail/Total: 0/2


Ubuntu 20.04
Kernel: 4.15.0-generic
Compiler: gcc 7.4
NIC: Intel Corporation Ethernet Converged Network Adapter XL710-QDA2 40000 Mbps
Target: x86_64-native-linuxapp-gcc
Fail/Total: 0/2


Ubuntu 20.04
Kernel: 4.15.0-generic
Compiler: gcc 7.4
NIC: Intel Corporation Ethernet Converged Network Adapter 82599ES 10000 Mbps
Target: x86_64-native-linuxapp-gcc
Fail/Total: 0/2


To view detailed results, visit:
https://lab.dpdk.org/results/dashboard/tarballs/19760/

UNH-IOL DPDK Community Lab

To manage your email subscriptions, visit: 
https://lab.dpdk.org/results/dashboard/preferences/subscriptions/

^ permalink raw reply	[flat|nested] 83+ messages in thread

* |SUCCESS| [GIT MASTER] 592c7bf7148bec1a34db79370e968dd2d1f8f1dc
@ 2022-05-11  3:31 dpdklab
  0 siblings, 0 replies; 83+ messages in thread
From: dpdklab @ 2022-05-11  3:31 UTC (permalink / raw)
  To: Test Report
  Cc: dpdk-test-reports, Xueming Li, Christian Ehrhardt, Kevin Traynor,
	Luca Boccassi

[-- Attachment #1: Type: text/plain, Size: 770 bytes --]

_Functional Testing PASS_

Branch: tags/v21.11

592c7bf7148bec1a34db79370e968dd2d1f8f1dc --> functional testing pass

Test environment and result as below:

Ubuntu 20.04 ARM
Kernel: 4.15.0-132-generic
Compiler: gcc 7.5
NIC: Arm Intel Corporation Ethernet Converged Network Adapter XL710-QDA2 40000 Mbps
Target: x86_64-native-linuxapp-gcc
Fail/Total: 0/2


Ubuntu 20.04
Kernel: 4.15.0-generic
Compiler: gcc 7.4
NIC: Intel Corporation Ethernet Converged Network Adapter XL710-QDA2 40000 Mbps
Target: x86_64-native-linuxapp-gcc
Fail/Total: 0/2


To view detailed results, visit:
https://lab.dpdk.org/results/dashboard/tarballs/19760/

UNH-IOL DPDK Community Lab

To manage your email subscriptions, visit: 
https://lab.dpdk.org/results/dashboard/preferences/subscriptions/

^ permalink raw reply	[flat|nested] 83+ messages in thread

* |SUCCESS| [GIT MASTER] 592c7bf7148bec1a34db79370e968dd2d1f8f1dc
@ 2022-05-11  3:14 dpdklab
  0 siblings, 0 replies; 83+ messages in thread
From: dpdklab @ 2022-05-11  3:14 UTC (permalink / raw)
  To: Ali Alnubani, Test Report
  Cc: dpdk-test-reports, Xueming Li, Christian Ehrhardt, Kevin Traynor,
	Luca Boccassi

[-- Attachment #1: Type: text/plain, Size: 1855 bytes --]

_Performance Testing PASS_

Branch: tags/v21.11

592c7bf7148bec1a34db79370e968dd2d1f8f1dc --> performance testing pass

Test environment and result as below:

Ubuntu 20.04
Kernel: 4.15.0-generic
Compiler: gcc 7.4
NIC: Mellanox ConnectX-5 100000 Mbps
Target: x86_64-native-linuxapp-gcc
Fail/Total: 0/6

Detail performance results: 
+------------+---------+----------+-------------+------------------------------+
| frame_size | txd/rxd | num_cpus | num_threads |  throughput difference from  |
|            |         |          |             |           expected           |
+============+=========+==========+=============+==============================+
| 64         | 256     | 1        | 1           | -0.1%                        |
+------------+---------+----------+-------------+------------------------------+
| 128        | 256     | 1        | 1           | 0.2%                         |
+------------+---------+----------+-------------+------------------------------+
| 1024       | 256     | 1        | 1           | 0.1%                         |
+------------+---------+----------+-------------+------------------------------+
| 256        | 256     | 1        | 1           | -0.0%                        |
+------------+---------+----------+-------------+------------------------------+
| 1518       | 256     | 1        | 1           | -0.3%                        |
+------------+---------+----------+-------------+------------------------------+
| 512        | 256     | 1        | 1           | -0.2%                        |
+------------+---------+----------+-------------+------------------------------+

To view detailed results, visit:
https://lab.dpdk.org/results/dashboard/tarballs/19760/

UNH-IOL DPDK Community Lab

To manage your email subscriptions, visit: 
https://lab.dpdk.org/results/dashboard/preferences/subscriptions/

^ permalink raw reply	[flat|nested] 83+ messages in thread

* |SUCCESS| [GIT MASTER] 592c7bf7148bec1a34db79370e968dd2d1f8f1dc
@ 2022-05-11  3:03 dpdklab
  0 siblings, 0 replies; 83+ messages in thread
From: dpdklab @ 2022-05-11  3:03 UTC (permalink / raw)
  To: Test Report
  Cc: dpdk-test-reports, Xueming Li, Christian Ehrhardt, Kevin Traynor,
	Luca Boccassi

[-- Attachment #1: Type: text/plain, Size: 583 bytes --]

_Functional Testing PASS_

Branch: tags/v21.11

592c7bf7148bec1a34db79370e968dd2d1f8f1dc --> functional testing pass

Test environment and result as below:

Ubuntu 20.04 ARM
Kernel: 4.15.0-132-generic
Compiler: gcc 7.5
NIC: Arm Intel Corporation Ethernet Converged Network Adapter XL710-QDA2 40000 Mbps
Target: x86_64-native-linuxapp-gcc
Fail/Total: 0/2


To view detailed results, visit:
https://lab.dpdk.org/results/dashboard/tarballs/19760/

UNH-IOL DPDK Community Lab

To manage your email subscriptions, visit: 
https://lab.dpdk.org/results/dashboard/preferences/subscriptions/

^ permalink raw reply	[flat|nested] 83+ messages in thread

end of thread, other threads:[~2022-05-17  9:51 UTC | newest]

Thread overview: 83+ messages (download: mbox.gz / follow: Atom feed)
-- links below jump to the message on this page --
2022-05-13  8:53 |SUCCESS| [GIT MASTER] 592c7bf7148bec1a34db79370e968dd2d1f8f1dc dpdklab
  -- strict thread matches above, loose matches on Subject: below --
2022-05-17  9:51 dpdklab
2022-05-17  8:55 dpdklab
2022-05-17  8:51 dpdklab
2022-05-17  8:21 dpdklab
2022-05-17  5:58 dpdklab
2022-05-17  5:43 dpdklab
2022-05-17  5:40 dpdklab
2022-05-17  5:38 dpdklab
2022-05-17  5:26 dpdklab
2022-05-17  4:55 dpdklab
2022-05-16  7:43 dpdklab
2022-05-16  7:18 dpdklab
2022-05-16  7:06 dpdklab
2022-05-16  7:01 dpdklab
2022-05-16  6:55 dpdklab
2022-05-16  5:41 dpdklab
2022-05-16  5:34 dpdklab
2022-05-16  5:29 dpdklab
2022-05-16  5:18 dpdklab
2022-05-16  5:10 dpdklab
2022-05-15  7:18 dpdklab
2022-05-15  7:13 dpdklab
2022-05-15  7:00 dpdklab
2022-05-15  6:51 dpdklab
2022-05-15  6:29 dpdklab
2022-05-15  5:41 dpdklab
2022-05-15  5:33 dpdklab
2022-05-15  5:29 dpdklab
2022-05-15  5:17 dpdklab
2022-05-15  5:09 dpdklab
2022-05-14  7:14 dpdklab
2022-05-14  6:59 dpdklab
2022-05-14  6:58 dpdklab
2022-05-14  6:54 dpdklab
2022-05-14  6:52 dpdklab
2022-05-14  5:41 dpdklab
2022-05-14  5:33 dpdklab
2022-05-14  5:21 dpdklab
2022-05-14  5:17 dpdklab
2022-05-14  5:08 dpdklab
2022-05-13 13:00 dpdklab
2022-05-13  8:40 dpdklab
2022-05-13  8:06 dpdklab
2022-05-13  6:46 dpdklab
2022-05-13  5:52 dpdklab
2022-05-13  5:40 dpdklab
2022-05-13  5:39 dpdklab
2022-05-13  5:28 dpdklab
2022-05-13  5:10 dpdklab
2022-05-12 22:32 dpdklab
2022-05-12 18:04 dpdklab
2022-05-12  9:27 dpdklab
2022-05-12  7:41 dpdklab
2022-05-12  7:18 dpdklab
2022-05-12  5:48 dpdklab
2022-05-12  5:40 dpdklab
2022-05-12  5:36 dpdklab
2022-05-12  5:24 dpdklab
2022-05-12  5:15 dpdklab
2022-05-12  5:14 dpdklab
2022-05-11 12:56 dpdklab
2022-05-11 12:17 dpdklab
2022-05-11  9:47 dpdklab
2022-05-11  8:02 dpdklab
2022-05-11  7:57 dpdklab
2022-05-11  7:47 dpdklab
2022-05-11  6:44 dpdklab
2022-05-11  6:12 dpdklab
2022-05-11  5:54 dpdklab
2022-05-11  5:42 dpdklab
2022-05-11  5:34 dpdklab
2022-05-11  5:22 dpdklab
2022-05-11  5:17 dpdklab
2022-05-11  5:11 dpdklab
2022-05-11  5:08 dpdklab
2022-05-11  4:11 dpdklab
2022-05-11  3:59 dpdklab
2022-05-11  3:47 dpdklab
2022-05-11  3:40 dpdklab
2022-05-11  3:31 dpdklab
2022-05-11  3:14 dpdklab
2022-05-11  3:03 dpdklab

automatic DPDK test reports

This inbox may be cloned and mirrored by anyone:

	git clone --mirror http://inbox.dpdk.org/test-report/0 test-report/git/0.git

	# If you have public-inbox 1.1+ installed, you may
	# initialize and index your mirror using the following commands:
	public-inbox-init -V2 test-report test-report/ http://inbox.dpdk.org/test-report \
		test-report@dpdk.org
	public-inbox-index test-report

Example config snippet for mirrors.
Newsgroup available over NNTP:
	nntp://inbox.dpdk.org/inbox.dpdk.test-report


AGPL code for this site: git clone https://public-inbox.org/public-inbox.git