From: dpdklab@iol.unh.edu To: Test Report <test-report@dpdk.org> Cc: dpdklab@iol.unh.edu, David Marchand <david.marchand@redhat.com>, Thomas Monjalon <thomas@monjalon.net> Subject: |SUCCESS| pw111135 [PATCH] [v2] eal: allow worker lcore stacks to be allocated from hugepage memory Date: Fri, 13 May 2022 21:11:33 +0000 (UTC) Message-ID: <20220513211133.74B7D6008C@dpdk-ubuntu.dpdklab.iol.unh.edu> (raw) [-- Attachment #1: Type: text/plain, Size: 2602 bytes --] Test-Label: iol-x86_64-unit-testing Test-Status: SUCCESS http://dpdk.org/patch/111135 _Testing PASS_ Submitter: Don Wallwork <donw@xsightlabs.com> Date: Friday, May 13 2022 17:58:22 DPDK git baseline: Repo:dpdk Branch: master CommitID:c0c305ee9e0e7c9feca6412266a778f330d20c19 111135 --> testing pass Test environment and result as below: +------------------+----------------+ | Environment | dpdk_unit_test | +==================+================+ | Ubuntu 18.04 | PASS | +------------------+----------------+ | Fedora 32 | PASS | +------------------+----------------+ | RHEL8 | PASS | +------------------+----------------+ | openSUSE Leap 15 | PASS | +------------------+----------------+ | Arch Linux | PASS | +------------------+----------------+ | RHEL 7 | PASS | +------------------+----------------+ | Fedora 34 | PASS | +------------------+----------------+ | CentOS Stream 8 | PASS | +------------------+----------------+ | Fedora 31 | PASS | +------------------+----------------+ | Ubuntu 20.04 | PASS | +------------------+----------------+ | Fedora 33 | PASS | +------------------+----------------+ | Fedora 34 clang | PASS | +------------------+----------------+ Ubuntu 18.04 Kernel: 4.18.0-240.10.1.el8_3.x86_64 Compiler: gcc 7.5.0-3ubuntu1~18.04 Fedora 32 Kernel: 4.18.0-240.10.1.el8_3.x86_64 Compiler: gcc 10.2.1 RHEL8 Kernel: 4.18.0-240.10.1.el8_3.x86_64 Compiler: gcc 8.3.1 20191121 (Red Hat 8.3.1-5) openSUSE Leap 15 Kernel: 4.18.0-240.10.1.el8_3.x86_64 Compiler: gcc 7.5.0 Arch Linux Kernel: 5.4.0-73-generic Compiler: gcc 11.1.0 RHEL 7 Kernel: 4.18.0-240.10.1.el8_3.x86_64 Compiler: gcc 4.8.5 20150623 (Red Hat 4.8.5-44) Fedora 34 Kernel: 5.4.0-72-generic Compiler: gcc 11.1.1 20210428 (Red Hat 11.1.1-1) CentOS Stream 8 Kernel: 4.18.0-240.10.1.el8_3.x86_64 Compiler: gcc 8.4.1 20200928 Fedora 31 Kernel: 4.18.0-240.10.1.el8_3.x86_64 Compiler: gcc 9.3.1 Ubuntu 20.04 Kernel: 4.18.0-240.10.1.el8_3.x86_64 Compiler: gcc 9.3.0-17ubuntu1~20.04 Fedora 33 Kernel: 5.4.0-72-generic Compiler: gcc 10.3.1 20210422 (Red Hat 10.3.1-1) Fedora 34 clang Kernel: 5.4.0-72-generic Compiler: clang 12.0.0 (Fedora 12.0.0-0.3.rc1.fc34) To view detailed results, visit: https://lab.dpdk.org/results/dashboard/patchsets/22110/ UNH-IOL DPDK Community Lab To manage your email subscriptions, visit: https://lab.dpdk.org/results/dashboard/preferences/subscriptions/
next reply other threads:[~2022-05-13 21:11 UTC|newest] Thread overview: 10+ messages / expand[flat|nested] mbox.gz Atom feed top 2022-05-13 21:11 dpdklab [this message] -- strict thread matches above, loose matches on Subject: below -- 2022-05-13 20:46 dpdklab 2022-05-13 20:30 dpdklab 2022-05-13 20:04 dpdklab 2022-05-13 19:17 dpdklab 2022-05-13 19:10 dpdklab 2022-05-13 19:03 dpdklab 2022-05-13 18:57 dpdklab 2022-05-13 18:39 dpdklab [not found] <20220513175822.69905-1-donw@xsightlabs.com> 2022-05-13 17:59 ` |SUCCESS| pw111135 [PATCH v2] " checkpatch
Reply instructions: You may reply publicly to this message via plain-text email using any one of the following methods: * Save the following mbox file, import it into your mail client, and reply-to-all from there: mbox Avoid top-posting and favor interleaved quoting: https://en.wikipedia.org/wiki/Posting_style#Interleaved_style * Reply using the --to, --cc, and --in-reply-to switches of git-send-email(1): git send-email \ --in-reply-to=20220513211133.74B7D6008C@dpdk-ubuntu.dpdklab.iol.unh.edu \ --to=dpdklab@iol.unh.edu \ --cc=david.marchand@redhat.com \ --cc=test-report@dpdk.org \ --cc=thomas@monjalon.net \ /path/to/YOUR_REPLY https://kernel.org/pub/software/scm/git/docs/git-send-email.html * If your mail client supports setting the In-Reply-To header via mailto: links, try the mailto: link
automatic DPDK test reports This inbox may be cloned and mirrored by anyone: git clone --mirror http://inbox.dpdk.org/test-report/0 test-report/git/0.git # If you have public-inbox 1.1+ installed, you may # initialize and index your mirror using the following commands: public-inbox-init -V2 test-report test-report/ http://inbox.dpdk.org/test-report \ test-report@dpdk.org public-inbox-index test-report Example config snippet for mirrors. Newsgroup available over NNTP: nntp://inbox.dpdk.org/inbox.dpdk.test-report AGPL code for this site: git clone https://public-inbox.org/public-inbox.git