[-- Attachment #1: Type: text/plain, Size: 809 bytes --] Test-Label: iol-intel-Functional Test-Status: SUCCESS http://dpdk.org/patch/111262 _Functional Testing PASS_ Submitter: Alexander Kozyrev <akozyrev@nvidia.com> Date: Wednesday, May 18 2022 04:34:59 DPDK git baseline: Repo:dpdk Branch: master CommitID:18ca4a4ec73a2e28df45a10543b7cdd45f2801dd 111259-111262 --> functional testing pass Test environment and result as below: Ubuntu 20.04 ARM Kernel: 4.15.0-132-generic Compiler: gcc 7.5 NIC: Arm Intel Corporation Ethernet Converged Network Adapter XL710-QDA2 40000 Mbps Target: x86_64-native-linuxapp-gcc Fail/Total: 0/2 To view detailed results, visit: https://lab.dpdk.org/results/dashboard/patchsets/22155/ UNH-IOL DPDK Community Lab To manage your email subscriptions, visit: https://lab.dpdk.org/results/dashboard/preferences/subscriptions/
[-- Attachment #1: Type: text/plain, Size: 996 bytes --] Test-Label: iol-intel-Functional Test-Status: SUCCESS http://dpdk.org/patch/111262 _Functional Testing PASS_ Submitter: Alexander Kozyrev <akozyrev@nvidia.com> Date: Wednesday, May 18 2022 04:34:59 DPDK git baseline: Repo:dpdk Branch: master CommitID:18ca4a4ec73a2e28df45a10543b7cdd45f2801dd 111259-111262 --> functional testing pass Test environment and result as below: Ubuntu 20.04 ARM Kernel: 4.15.0-132-generic Compiler: gcc 7.5 NIC: Arm Intel Corporation Ethernet Converged Network Adapter XL710-QDA2 40000 Mbps Target: x86_64-native-linuxapp-gcc Fail/Total: 0/2 Ubuntu 20.04 Kernel: 4.15.0-generic Compiler: gcc 7.4 NIC: Intel Corporation Ethernet Converged Network Adapter XL710-QDA2 40000 Mbps Target: x86_64-native-linuxapp-gcc Fail/Total: 0/2 To view detailed results, visit: https://lab.dpdk.org/results/dashboard/patchsets/22155/ UNH-IOL DPDK Community Lab To manage your email subscriptions, visit: https://lab.dpdk.org/results/dashboard/preferences/subscriptions/
[-- Attachment #1: Type: text/plain, Size: 1180 bytes --] Test-Label: iol-intel-Functional Test-Status: SUCCESS http://dpdk.org/patch/111262 _Functional Testing PASS_ Submitter: Alexander Kozyrev <akozyrev@nvidia.com> Date: Wednesday, May 18 2022 04:34:59 DPDK git baseline: Repo:dpdk Branch: master CommitID:18ca4a4ec73a2e28df45a10543b7cdd45f2801dd 111259-111262 --> functional testing pass Test environment and result as below: Ubuntu 20.04 ARM Kernel: 4.15.0-132-generic Compiler: gcc 7.5 NIC: Arm Intel Corporation Ethernet Converged Network Adapter XL710-QDA2 40000 Mbps Target: x86_64-native-linuxapp-gcc Fail/Total: 0/2 Ubuntu 20.04 Kernel: 4.15.0-generic Compiler: gcc 7.4 NIC: Intel Corporation Ethernet Converged Network Adapter XL710-QDA2 40000 Mbps Target: x86_64-native-linuxapp-gcc Fail/Total: 0/2 Ubuntu 20.04 Kernel: 4.15.0-generic Compiler: gcc 7.4 NIC: Intel Corporation Ethernet Converged Network Adapter 82599ES 10000 Mbps Target: x86_64-native-linuxapp-gcc Fail/Total: 0/2 To view detailed results, visit: https://lab.dpdk.org/results/dashboard/patchsets/22155/ UNH-IOL DPDK Community Lab To manage your email subscriptions, visit: https://lab.dpdk.org/results/dashboard/preferences/subscriptions/
[-- Attachment #1: Type: text/plain, Size: 1801 bytes --] Test-Label: iol-intel-Performance Test-Status: SUCCESS http://dpdk.org/patch/111262 _Performance Testing PASS_ Submitter: Alexander Kozyrev <akozyrev@nvidia.com> Date: Wednesday, May 18 2022 04:34:59 DPDK git baseline: Repo:dpdk Branch: master CommitID:18ca4a4ec73a2e28df45a10543b7cdd45f2801dd 111259-111262 --> performance testing pass Test environment and result as below: Ubuntu 20.04 Kernel: 4.15.0-generic Compiler: gcc 7.4 NIC: Intel Corporation Ethernet Converged Network Adapter XL710-QDA2 40000 Mbps Target: x86_64-native-linuxapp-gcc Fail/Total: 0/4 Detail performance results: +----------+-------------+---------+------------+------------------------------+ | num_cpus | num_threads | txd/rxd | frame_size | throughput difference from | | | | | | expected | +==========+=============+=========+============+==============================+ | 1 | 2 | 512 | 64 | 0.6% | +----------+-------------+---------+------------+------------------------------+ | 1 | 2 | 2048 | 64 | -1.1% | +----------+-------------+---------+------------+------------------------------+ | 1 | 1 | 512 | 64 | 2.1% | +----------+-------------+---------+------------+------------------------------+ | 1 | 1 | 2048 | 64 | -0.8% | +----------+-------------+---------+------------+------------------------------+ To view detailed results, visit: https://lab.dpdk.org/results/dashboard/patchsets/22155/ UNH-IOL DPDK Community Lab To manage your email subscriptions, visit: https://lab.dpdk.org/results/dashboard/preferences/subscriptions/
[-- Attachment #1: Type: text/plain, Size: 3310 bytes --] Test-Label: iol-intel-Performance Test-Status: SUCCESS http://dpdk.org/patch/111262 _Performance Testing PASS_ Submitter: Alexander Kozyrev <akozyrev@nvidia.com> Date: Wednesday, May 18 2022 04:34:59 DPDK git baseline: Repo:dpdk Branch: master CommitID:18ca4a4ec73a2e28df45a10543b7cdd45f2801dd 111259-111262 --> performance testing pass Test environment and result as below: Ubuntu 20.04 Kernel: 4.15.0-generic Compiler: gcc 7.4 NIC: Intel Corporation Ethernet Converged Network Adapter XL710-QDA2 40000 Mbps Target: x86_64-native-linuxapp-gcc Fail/Total: 0/4 Detail performance results: +----------+-------------+---------+------------+------------------------------+ | num_cpus | num_threads | txd/rxd | frame_size | throughput difference from | | | | | | expected | +==========+=============+=========+============+==============================+ | 1 | 2 | 512 | 64 | 0.6% | +----------+-------------+---------+------------+------------------------------+ | 1 | 2 | 2048 | 64 | -1.1% | +----------+-------------+---------+------------+------------------------------+ | 1 | 1 | 512 | 64 | 2.1% | +----------+-------------+---------+------------+------------------------------+ | 1 | 1 | 2048 | 64 | -0.8% | +----------+-------------+---------+------------+------------------------------+ Ubuntu 20.04 Kernel: 4.15.0-generic Compiler: gcc 7.4 NIC: Intel Corporation Ethernet Converged Network Adapter 82599ES 10000 Mbps Target: x86_64-native-linuxapp-gcc Fail/Total: 0/6 Detail performance results: +----------+-------------+---------+------------+------------------------------+ | num_cpus | num_threads | txd/rxd | frame_size | throughput difference from | | | | | | expected | +==========+=============+=========+============+==============================+ | 1 | 2 | 128 | 64 | 0.0% | +----------+-------------+---------+------------+------------------------------+ | 1 | 2 | 512 | 64 | -0.0% | +----------+-------------+---------+------------+------------------------------+ | 1 | 2 | 2048 | 64 | 0.2% | +----------+-------------+---------+------------+------------------------------+ | 1 | 1 | 128 | 64 | 0.3% | +----------+-------------+---------+------------+------------------------------+ | 1 | 1 | 512 | 64 | 0.3% | +----------+-------------+---------+------------+------------------------------+ | 1 | 1 | 2048 | 64 | 0.0% | +----------+-------------+---------+------------+------------------------------+ To view detailed results, visit: https://lab.dpdk.org/results/dashboard/patchsets/22155/ UNH-IOL DPDK Community Lab To manage your email subscriptions, visit: https://lab.dpdk.org/results/dashboard/preferences/subscriptions/
[-- Attachment #1: Type: text/plain, Size: 1453 bytes --] Test-Label: iol-aarch64-unit-testing Test-Status: SUCCESS http://dpdk.org/patch/111262 _Testing PASS_ Submitter: Alexander Kozyrev <akozyrev@nvidia.com> Date: Wednesday, May 18 2022 04:34:59 DPDK git baseline: Repo:dpdk Branch: master CommitID:18ca4a4ec73a2e28df45a10543b7cdd45f2801dd 111259-111262 --> testing pass Test environment and result as below: +-------------------------------+----------------+--------------+ | Environment | dpdk_unit_test | lpm_autotest | +===============================+================+==============+ | Ubuntu 20.04 ARM GCC Native | PASS | SKIPPED | +-------------------------------+----------------+--------------+ | Ubuntu 20.04 ARM Clang Native | PASS | SKIPPED | +-------------------------------+----------------+--------------+ | Ubuntu 20.04 ARM SVE | SKIPPED | PASS | +-------------------------------+----------------+--------------+ Ubuntu 20.04 ARM GCC Native Kernel: 5.4.0-53-generic Compiler: gcc 9.3 Ubuntu 20.04 ARM Clang Native Kernel: 5.4.0-53-generic Compiler: clang 10.0.0-4ubuntu1 Ubuntu 20.04 ARM SVE Kernel: 5.4.0-80-generic Compiler: gcc 10.3.0 (Ubuntu 10.3.0-1ubuntu1~20.04) To view detailed results, visit: https://lab.dpdk.org/results/dashboard/patchsets/22155/ UNH-IOL DPDK Community Lab To manage your email subscriptions, visit: https://lab.dpdk.org/results/dashboard/preferences/subscriptions/
[-- Attachment #1: Type: text/plain, Size: 2146 bytes --] Test-Label: iol-aarch64-compile-testing Test-Status: SUCCESS http://dpdk.org/patch/111262 _Testing PASS_ Submitter: Alexander Kozyrev <akozyrev@nvidia.com> Date: Wednesday, May 18 2022 04:34:59 DPDK git baseline: Repo:dpdk Branch: master CommitID:18ca4a4ec73a2e28df45a10543b7cdd45f2801dd 111259-111262 --> testing pass Test environment and result as below: +----------------------------------------+--------------------+ | Environment | dpdk_meson_compile | +========================================+====================+ | Ubuntu 20.04 ARM GCC Native | PASS | +----------------------------------------+--------------------+ | Ubuntu 20.04 ARM Clang Native | PASS | +----------------------------------------+--------------------+ | Ubuntu 20.04 aarch32 GCC Cross Compile | PASS | +----------------------------------------+--------------------+ | Ubuntu 20.04 ARM Clang Cross Compile | PASS | +----------------------------------------+--------------------+ | Ubuntu 20.04 ARM SVE | PASS | +----------------------------------------+--------------------+ | Ubuntu 20.04 ARM GCC Cross Compile | PASS | +----------------------------------------+--------------------+ Ubuntu 20.04 ARM GCC Native Kernel: 5.4.0-53-generic Compiler: gcc 9.3 Ubuntu 20.04 ARM Clang Native Kernel: 5.4.0-53-generic Compiler: clang 10.0.0-4ubuntu1 Ubuntu 20.04 aarch32 GCC Cross Compile Kernel: 5.4.0-72-generic Compiler: gcc 9.3.0 Ubuntu 20.04 ARM Clang Cross Compile Kernel: 5.4.0-72-generic Compiler: clang version 10.0.0-4ubuntu1 Ubuntu 20.04 ARM SVE Kernel: 5.4.0-80-generic Compiler: gcc 10.3.0 (Ubuntu 10.3.0-1ubuntu1~20.04) Ubuntu 20.04 ARM GCC Cross Compile Kernel: 5.4.0-72-generic Compiler: aarch64-linux-gnu-gcc (Ubuntu 9.3.0-17ubuntu1~20.04) 9.3.0 To view detailed results, visit: https://lab.dpdk.org/results/dashboard/patchsets/22155/ UNH-IOL DPDK Community Lab To manage your email subscriptions, visit: https://lab.dpdk.org/results/dashboard/preferences/subscriptions/
[-- Attachment #1: Type: text/plain, Size: 2447 bytes --] Test-Label: iol-abi-testing Test-Status: SUCCESS http://dpdk.org/patch/111262 _Testing PASS_ Submitter: Alexander Kozyrev <akozyrev@nvidia.com> Date: Wednesday, May 18 2022 04:34:59 DPDK git baseline: Repo:dpdk Branch: master CommitID:18ca4a4ec73a2e28df45a10543b7cdd45f2801dd 111259-111262 --> testing pass Test environment and result as below: +------------------+----------+ | Environment | abi_test | +==================+==========+ | Ubuntu 18.04 | PASS | +------------------+----------+ | RHEL 7 | PASS | +------------------+----------+ | RHEL8 | PASS | +------------------+----------+ | Ubuntu 20.04 | PASS | +------------------+----------+ | Fedora 32 | PASS | +------------------+----------+ | Fedora 31 | PASS | +------------------+----------+ | openSUSE Leap 15 | PASS | +------------------+----------+ | Arch Linux | PASS | +------------------+----------+ | Fedora 34 | PASS | +------------------+----------+ | Fedora 33 | PASS | +------------------+----------+ | Fedora 34 clang | PASS | +------------------+----------+ | CentOS Stream 8 | PASS | +------------------+----------+ Ubuntu 18.04 Kernel: 4.18.0-240.10.1.el8_3.x86_64 Compiler: gcc 7.5.0-3ubuntu1~18.04 RHEL 7 Kernel: 4.18.0-240.10.1.el8_3.x86_64 Compiler: gcc 4.8.5 20150623 (Red Hat 4.8.5-44) RHEL8 Kernel: 4.18.0-240.10.1.el8_3.x86_64 Compiler: gcc 8.3.1 20191121 (Red Hat 8.3.1-5) Ubuntu 20.04 Kernel: 4.18.0-240.10.1.el8_3.x86_64 Compiler: gcc 9.3.0-17ubuntu1~20.04 Fedora 32 Kernel: 4.18.0-240.10.1.el8_3.x86_64 Compiler: gcc 10.2.1 Fedora 31 Kernel: 4.18.0-240.10.1.el8_3.x86_64 Compiler: gcc 9.3.1 openSUSE Leap 15 Kernel: 4.18.0-240.10.1.el8_3.x86_64 Compiler: gcc 7.5.0 Arch Linux Kernel: 5.4.0-73-generic Compiler: gcc 11.1.0 Fedora 34 Kernel: 5.4.0-72-generic Compiler: gcc 11.1.1 20210428 (Red Hat 11.1.1-1) Fedora 33 Kernel: 5.4.0-72-generic Compiler: gcc 10.3.1 20210422 (Red Hat 10.3.1-1) Fedora 34 clang Kernel: 5.4.0-72-generic Compiler: clang 12.0.0 (Fedora 12.0.0-0.3.rc1.fc34) CentOS Stream 8 Kernel: 4.18.0-240.10.1.el8_3.x86_64 Compiler: gcc 8.4.1 20200928 To view detailed results, visit: https://lab.dpdk.org/results/dashboard/patchsets/22155/ UNH-IOL DPDK Community Lab To manage your email subscriptions, visit: https://lab.dpdk.org/results/dashboard/preferences/subscriptions/
[-- Attachment #1: Type: text/plain, Size: 2617 bytes --] Test-Label: iol-x86_64-unit-testing Test-Status: SUCCESS http://dpdk.org/patch/111262 _Testing PASS_ Submitter: Alexander Kozyrev <akozyrev@nvidia.com> Date: Wednesday, May 18 2022 04:34:59 DPDK git baseline: Repo:dpdk Branch: master CommitID:18ca4a4ec73a2e28df45a10543b7cdd45f2801dd 111259-111262 --> testing pass Test environment and result as below: +------------------+----------------+ | Environment | dpdk_unit_test | +==================+================+ | Arch Linux | PASS | +------------------+----------------+ | Ubuntu 18.04 | PASS | +------------------+----------------+ | CentOS Stream 8 | PASS | +------------------+----------------+ | Fedora 32 | PASS | +------------------+----------------+ | RHEL 7 | PASS | +------------------+----------------+ | openSUSE Leap 15 | PASS | +------------------+----------------+ | Fedora 34 clang | PASS | +------------------+----------------+ | Fedora 31 | PASS | +------------------+----------------+ | Fedora 33 | PASS | +------------------+----------------+ | RHEL8 | PASS | +------------------+----------------+ | Ubuntu 20.04 | PASS | +------------------+----------------+ | Fedora 34 | PASS | +------------------+----------------+ Arch Linux Kernel: 5.4.0-73-generic Compiler: gcc 11.1.0 Ubuntu 18.04 Kernel: 4.18.0-240.10.1.el8_3.x86_64 Compiler: gcc 7.5.0-3ubuntu1~18.04 CentOS Stream 8 Kernel: 4.18.0-240.10.1.el8_3.x86_64 Compiler: gcc 8.4.1 20200928 Fedora 32 Kernel: 4.18.0-240.10.1.el8_3.x86_64 Compiler: gcc 10.2.1 RHEL 7 Kernel: 4.18.0-240.10.1.el8_3.x86_64 Compiler: gcc 4.8.5 20150623 (Red Hat 4.8.5-44) openSUSE Leap 15 Kernel: 4.18.0-240.10.1.el8_3.x86_64 Compiler: gcc 7.5.0 Fedora 34 clang Kernel: 5.4.0-72-generic Compiler: clang 12.0.0 (Fedora 12.0.0-0.3.rc1.fc34) Fedora 31 Kernel: 4.18.0-240.10.1.el8_3.x86_64 Compiler: gcc 9.3.1 Fedora 33 Kernel: 5.4.0-72-generic Compiler: gcc 10.3.1 20210422 (Red Hat 10.3.1-1) RHEL8 Kernel: 4.18.0-240.10.1.el8_3.x86_64 Compiler: gcc 8.3.1 20191121 (Red Hat 8.3.1-5) Ubuntu 20.04 Kernel: 4.18.0-240.10.1.el8_3.x86_64 Compiler: gcc 9.3.0-17ubuntu1~20.04 Fedora 34 Kernel: 5.4.0-72-generic Compiler: gcc 11.1.1 20210428 (Red Hat 11.1.1-1) To view detailed results, visit: https://lab.dpdk.org/results/dashboard/patchsets/22155/ UNH-IOL DPDK Community Lab To manage your email subscriptions, visit: https://lab.dpdk.org/results/dashboard/preferences/subscriptions/
[-- Attachment #1: Type: text/plain, Size: 4060 bytes --] Test-Label: iol-x86_64-compile-testing Test-Status: SUCCESS http://dpdk.org/patch/111262 _Testing PASS_ Submitter: Alexander Kozyrev <akozyrev@nvidia.com> Date: Wednesday, May 18 2022 04:34:59 DPDK git baseline: Repo:dpdk Branch: master CommitID:18ca4a4ec73a2e28df45a10543b7cdd45f2801dd 111259-111262 --> testing pass Test environment and result as below: +---------------------+--------------------+----------------------+ | Environment | dpdk_meson_compile | dpdk_mingw64_compile | +=====================+====================+======================+ | Windows Server 2019 | PASS | PASS | +---------------------+--------------------+----------------------+ | FreeBSD 13 | PASS | SKIPPED | +---------------------+--------------------+----------------------+ | RHEL8 | PASS | SKIPPED | +---------------------+--------------------+----------------------+ | Ubuntu 18.04 | PASS | SKIPPED | +---------------------+--------------------+----------------------+ | RHEL 7 | PASS | SKIPPED | +---------------------+--------------------+----------------------+ | Fedora 31 | PASS | SKIPPED | +---------------------+--------------------+----------------------+ | openSUSE Leap 15 | PASS | SKIPPED | +---------------------+--------------------+----------------------+ | Arch Linux | PASS | SKIPPED | +---------------------+--------------------+----------------------+ | Fedora 32 | PASS | SKIPPED | +---------------------+--------------------+----------------------+ | CentOS Stream 8 | PASS | SKIPPED | +---------------------+--------------------+----------------------+ | Ubuntu 20.04 | PASS | SKIPPED | +---------------------+--------------------+----------------------+ | Fedora 34 clang | PASS | SKIPPED | +---------------------+--------------------+----------------------+ | Fedora 34 | PASS | SKIPPED | +---------------------+--------------------+----------------------+ | Fedora 33 | PASS | SKIPPED | +---------------------+--------------------+----------------------+ | Alpine | PASS | SKIPPED | +---------------------+--------------------+----------------------+ Windows Server 2019 Kernel: 10.0 Compiler: clang 14.0 and gcc 8.1.0 (MinGW) FreeBSD 13 Kernel: 13.0 Compiler: clang 11.0.1 RHEL8 Kernel: 4.18.0-240.10.1.el8_3.x86_64 Compiler: gcc 8.3.1 20191121 (Red Hat 8.3.1-5) Ubuntu 18.04 Kernel: 4.18.0-240.10.1.el8_3.x86_64 Compiler: gcc 7.5.0-3ubuntu1~18.04 RHEL 7 Kernel: 4.18.0-240.10.1.el8_3.x86_64 Compiler: gcc 4.8.5 20150623 (Red Hat 4.8.5-44) Fedora 31 Kernel: 4.18.0-240.10.1.el8_3.x86_64 Compiler: gcc 9.3.1 openSUSE Leap 15 Kernel: 4.18.0-240.10.1.el8_3.x86_64 Compiler: gcc 7.5.0 Arch Linux Kernel: 5.4.0-73-generic Compiler: gcc 11.1.0 Fedora 32 Kernel: 4.18.0-240.10.1.el8_3.x86_64 Compiler: gcc 10.2.1 CentOS Stream 8 Kernel: 4.18.0-240.10.1.el8_3.x86_64 Compiler: gcc 8.4.1 20200928 Ubuntu 20.04 Kernel: 4.18.0-240.10.1.el8_3.x86_64 Compiler: gcc 9.3.0-17ubuntu1~20.04 Fedora 34 clang Kernel: 5.4.0-72-generic Compiler: clang 12.0.0 (Fedora 12.0.0-0.3.rc1.fc34) Fedora 34 Kernel: 5.4.0-72-generic Compiler: gcc 11.1.1 20210428 (Red Hat 11.1.1-1) Fedora 33 Kernel: 5.4.0-72-generic Compiler: gcc 10.3.1 20210422 (Red Hat 10.3.1-1) Alpine Kernel: 5.4.0-73-generic Compiler: gcc (Alpine 10.3.1_git20210424) 10.3.1 20210424 To view detailed results, visit: https://lab.dpdk.org/results/dashboard/patchsets/22155/ UNH-IOL DPDK Community Lab To manage your email subscriptions, visit: https://lab.dpdk.org/results/dashboard/preferences/subscriptions/