[-- Attachment #1: Type: text/plain, Size: 789 bytes --] Test-Label: iol-intel-Functional Test-Status: SUCCESS http://dpdk.org/patch/112585 _Functional Testing PASS_ Submitter: Wei Huang <wei.huang@intel.com> Date: Thursday, June 09 2022 02:44:10 DPDK git baseline: Repo:dpdk Branch: master CommitID:1ab4156e7d57858fca1db448ac7a0792e1d527b6 112581-112585 --> functional testing pass Test environment and result as below: Ubuntu 20.04 Kernel: 4.15.0-generic Compiler: gcc 7.4 NIC: Intel Corporation Ethernet Converged Network Adapter XL710-QDA2 40000 Mbps Target: x86_64-native-linuxapp-gcc Fail/Total: 0/2 To view detailed results, visit: https://lab.dpdk.org/results/dashboard/patchsets/22517/ UNH-IOL DPDK Community Lab To manage your email subscriptions, visit: https://lab.dpdk.org/results/dashboard/preferences/subscriptions/
[-- Attachment #1: Type: text/plain, Size: 2077 bytes --] Test-Label: iol-mellanox-Performance Test-Status: SUCCESS http://dpdk.org/patch/112585 _Performance Testing PASS_ Submitter: Wei Huang <wei.huang@intel.com> Date: Thursday, June 09 2022 02:44:10 DPDK git baseline: Repo:dpdk Branch: master CommitID:1ab4156e7d57858fca1db448ac7a0792e1d527b6 112581-112585 --> performance testing pass Test environment and result as below: Ubuntu 20.04 Kernel: 4.15.0-generic Compiler: gcc 7.4 NIC: Mellanox ConnectX-5 100000 Mbps Target: x86_64-native-linuxapp-gcc Fail/Total: 0/6 Detail performance results: +------------+---------+----------+-------------+------------------------------+ | frame_size | txd/rxd | num_cpus | num_threads | throughput difference from | | | | | | expected | +============+=========+==========+=============+==============================+ | 64 | 256 | 1 | 1 | 0.1% | +------------+---------+----------+-------------+------------------------------+ | 128 | 256 | 1 | 1 | -0.2% | +------------+---------+----------+-------------+------------------------------+ | 1024 | 256 | 1 | 1 | 0.1% | +------------+---------+----------+-------------+------------------------------+ | 256 | 256 | 1 | 1 | 0.3% | +------------+---------+----------+-------------+------------------------------+ | 1518 | 256 | 1 | 1 | -0.0% | +------------+---------+----------+-------------+------------------------------+ | 512 | 256 | 1 | 1 | -0.1% | +------------+---------+----------+-------------+------------------------------+ To view detailed results, visit: https://lab.dpdk.org/results/dashboard/patchsets/22517/ UNH-IOL DPDK Community Lab To manage your email subscriptions, visit: https://lab.dpdk.org/results/dashboard/preferences/subscriptions/
[-- Attachment #1: Type: text/plain, Size: 2114 bytes --] Test-Label: iol-intel-Performance Test-Status: SUCCESS http://dpdk.org/patch/112585 _Performance Testing PASS_ Submitter: Wei Huang <wei.huang@intel.com> Date: Thursday, June 09 2022 02:44:10 DPDK git baseline: Repo:dpdk Branch: master CommitID:1ab4156e7d57858fca1db448ac7a0792e1d527b6 112581-112585 --> performance testing pass Test environment and result as below: Ubuntu 20.04 Kernel: 4.15.0-generic Compiler: gcc 7.4 NIC: Intel Corporation Ethernet Converged Network Adapter 82599ES 10000 Mbps Target: x86_64-native-linuxapp-gcc Fail/Total: 0/6 Detail performance results: +----------+-------------+---------+------------+------------------------------+ | num_cpus | num_threads | txd/rxd | frame_size | throughput difference from | | | | | | expected | +==========+=============+=========+============+==============================+ | 1 | 2 | 128 | 64 | -0.0% | +----------+-------------+---------+------------+------------------------------+ | 1 | 2 | 512 | 64 | 0.1% | +----------+-------------+---------+------------+------------------------------+ | 1 | 2 | 2048 | 64 | -0.0% | +----------+-------------+---------+------------+------------------------------+ | 1 | 1 | 128 | 64 | -0.6% | +----------+-------------+---------+------------+------------------------------+ | 1 | 1 | 512 | 64 | 0.1% | +----------+-------------+---------+------------+------------------------------+ | 1 | 1 | 2048 | 64 | -0.1% | +----------+-------------+---------+------------+------------------------------+ To view detailed results, visit: https://lab.dpdk.org/results/dashboard/patchsets/22517/ UNH-IOL DPDK Community Lab To manage your email subscriptions, visit: https://lab.dpdk.org/results/dashboard/preferences/subscriptions/
[-- Attachment #1: Type: text/plain, Size: 3302 bytes --] Test-Label: iol-intel-Performance Test-Status: SUCCESS http://dpdk.org/patch/112585 _Performance Testing PASS_ Submitter: Wei Huang <wei.huang@intel.com> Date: Thursday, June 09 2022 02:44:10 DPDK git baseline: Repo:dpdk Branch: master CommitID:1ab4156e7d57858fca1db448ac7a0792e1d527b6 112581-112585 --> performance testing pass Test environment and result as below: Ubuntu 20.04 Kernel: 4.15.0-generic Compiler: gcc 7.4 NIC: Intel Corporation Ethernet Converged Network Adapter 82599ES 10000 Mbps Target: x86_64-native-linuxapp-gcc Fail/Total: 0/6 Detail performance results: +----------+-------------+---------+------------+------------------------------+ | num_cpus | num_threads | txd/rxd | frame_size | throughput difference from | | | | | | expected | +==========+=============+=========+============+==============================+ | 1 | 2 | 128 | 64 | -0.0% | +----------+-------------+---------+------------+------------------------------+ | 1 | 2 | 512 | 64 | 0.1% | +----------+-------------+---------+------------+------------------------------+ | 1 | 2 | 2048 | 64 | -0.0% | +----------+-------------+---------+------------+------------------------------+ | 1 | 1 | 128 | 64 | -0.6% | +----------+-------------+---------+------------+------------------------------+ | 1 | 1 | 512 | 64 | 0.1% | +----------+-------------+---------+------------+------------------------------+ | 1 | 1 | 2048 | 64 | -0.1% | +----------+-------------+---------+------------+------------------------------+ Ubuntu 20.04 Kernel: 4.15.0-generic Compiler: gcc 7.4 NIC: Intel Corporation Ethernet Converged Network Adapter XL710-QDA2 40000 Mbps Target: x86_64-native-linuxapp-gcc Fail/Total: 0/4 Detail performance results: +----------+-------------+---------+------------+------------------------------+ | num_cpus | num_threads | txd/rxd | frame_size | throughput difference from | | | | | | expected | +==========+=============+=========+============+==============================+ | 1 | 2 | 512 | 64 | -0.2% | +----------+-------------+---------+------------+------------------------------+ | 1 | 2 | 2048 | 64 | 1.3% | +----------+-------------+---------+------------+------------------------------+ | 1 | 1 | 512 | 64 | 0.3% | +----------+-------------+---------+------------+------------------------------+ | 1 | 1 | 2048 | 64 | -0.3% | +----------+-------------+---------+------------+------------------------------+ To view detailed results, visit: https://lab.dpdk.org/results/dashboard/patchsets/22517/ UNH-IOL DPDK Community Lab To manage your email subscriptions, visit: https://lab.dpdk.org/results/dashboard/preferences/subscriptions/
[-- Attachment #1: Type: text/plain, Size: 973 bytes --] Test-Label: iol-intel-Functional Test-Status: SUCCESS http://dpdk.org/patch/112585 _Functional Testing PASS_ Submitter: Wei Huang <wei.huang@intel.com> Date: Thursday, June 09 2022 02:44:10 DPDK git baseline: Repo:dpdk Branch: master CommitID:1ab4156e7d57858fca1db448ac7a0792e1d527b6 112581-112585 --> functional testing pass Test environment and result as below: Ubuntu 20.04 Kernel: 4.15.0-generic Compiler: gcc 7.4 NIC: Intel Corporation Ethernet Converged Network Adapter XL710-QDA2 40000 Mbps Target: x86_64-native-linuxapp-gcc Fail/Total: 0/2 Ubuntu 20.04 Kernel: 4.15.0-generic Compiler: gcc 7.4 NIC: Intel Corporation Ethernet Converged Network Adapter 82599ES 10000 Mbps Target: x86_64-native-linuxapp-gcc Fail/Total: 0/2 To view detailed results, visit: https://lab.dpdk.org/results/dashboard/patchsets/22517/ UNH-IOL DPDK Community Lab To manage your email subscriptions, visit: https://lab.dpdk.org/results/dashboard/preferences/subscriptions/
[-- Attachment #1: Type: text/plain, Size: 3823 bytes --] Test-Label: iol-x86_64-compile-testing Test-Status: SUCCESS http://dpdk.org/patch/112585 _Testing PASS_ Submitter: Wei Huang <wei.huang@intel.com> Date: Thursday, June 09 2022 02:44:10 DPDK git baseline: Repo:dpdk Branch: master CommitID:1ab4156e7d57858fca1db448ac7a0792e1d527b6 112581-112585 --> testing pass Test environment and result as below: +---------------------+--------------------+----------------------+ | Environment | dpdk_meson_compile | dpdk_mingw64_compile | +=====================+====================+======================+ | Windows Server 2019 | PASS | PASS | +---------------------+--------------------+----------------------+ | FreeBSD 13 | PASS | SKIPPED | +---------------------+--------------------+----------------------+ | Fedora 32 | PASS | SKIPPED | +---------------------+--------------------+----------------------+ | openSUSE Leap 15 | PASS | SKIPPED | +---------------------+--------------------+----------------------+ | Arch Linux | PASS | SKIPPED | +---------------------+--------------------+----------------------+ | Fedora 34 | PASS | SKIPPED | +---------------------+--------------------+----------------------+ | Fedora 33 | PASS | SKIPPED | +---------------------+--------------------+----------------------+ | Ubuntu 18.04 | PASS | SKIPPED | +---------------------+--------------------+----------------------+ | Fedora 31 | PASS | SKIPPED | +---------------------+--------------------+----------------------+ | RHEL 7 | PASS | SKIPPED | +---------------------+--------------------+----------------------+ | CentOS Stream 8 | PASS | SKIPPED | +---------------------+--------------------+----------------------+ | Ubuntu 20.04 | PASS | SKIPPED | +---------------------+--------------------+----------------------+ | RHEL8 | PASS | SKIPPED | +---------------------+--------------------+----------------------+ | Fedora 34 clang | PASS | SKIPPED | +---------------------+--------------------+----------------------+ Windows Server 2019 Kernel: 10.0 Compiler: clang 14.0 and gcc 8.1.0 (MinGW) FreeBSD 13 Kernel: 13.0 Compiler: clang 11.0.1 Fedora 32 Kernel: 4.18.0-240.10.1.el8_3.x86_64 Compiler: gcc 10.2.1 openSUSE Leap 15 Kernel: 4.18.0-240.10.1.el8_3.x86_64 Compiler: gcc 7.5.0 Arch Linux Kernel: 5.4.0-73-generic Compiler: gcc 11.1.0 Fedora 34 Kernel: 5.4.0-72-generic Compiler: gcc 11.1.1 20210428 (Red Hat 11.1.1-1) Fedora 33 Kernel: 5.4.0-72-generic Compiler: gcc 10.3.1 20210422 (Red Hat 10.3.1-1) Ubuntu 18.04 Kernel: 4.18.0-240.10.1.el8_3.x86_64 Compiler: gcc 7.5.0-3ubuntu1~18.04 Fedora 31 Kernel: 4.18.0-240.10.1.el8_3.x86_64 Compiler: gcc 9.3.1 RHEL 7 Kernel: 4.18.0-240.10.1.el8_3.x86_64 Compiler: gcc 4.8.5 20150623 (Red Hat 4.8.5-44) CentOS Stream 8 Kernel: 4.18.0-240.10.1.el8_3.x86_64 Compiler: gcc 8.4.1 20200928 Ubuntu 20.04 Kernel: 4.18.0-240.10.1.el8_3.x86_64 Compiler: gcc 9.3.0-17ubuntu1~20.04 RHEL8 Kernel: 4.18.0-240.10.1.el8_3.x86_64 Compiler: gcc 8.3.1 20191121 (Red Hat 8.3.1-5) Fedora 34 clang Kernel: 5.4.0-72-generic Compiler: clang 12.0.0 (Fedora 12.0.0-0.3.rc1.fc34) To view detailed results, visit: https://lab.dpdk.org/results/dashboard/patchsets/22517/ UNH-IOL DPDK Community Lab To manage your email subscriptions, visit: https://lab.dpdk.org/results/dashboard/preferences/subscriptions/
[-- Attachment #1: Type: text/plain, Size: 2851 bytes --] Test-Label: iol-x86_64-unit-testing Test-Status: SUCCESS http://dpdk.org/patch/112585 _Testing PASS_ Submitter: Wei Huang <wei.huang@intel.com> Date: Thursday, June 09 2022 02:44:10 DPDK git baseline: Repo:dpdk Branch: master CommitID:1ab4156e7d57858fca1db448ac7a0792e1d527b6 112581-112585 --> testing pass Test environment and result as below: +---------------------+----------------+ | Environment | dpdk_unit_test | +=====================+================+ | Windows Server 2019 | PASS | +---------------------+----------------+ | Arch Linux | PASS | +---------------------+----------------+ | RHEL 7 | PASS | +---------------------+----------------+ | RHEL8 | PASS | +---------------------+----------------+ | Fedora 31 | PASS | +---------------------+----------------+ | Fedora 32 | PASS | +---------------------+----------------+ | CentOS Stream 8 | PASS | +---------------------+----------------+ | Ubuntu 18.04 | PASS | +---------------------+----------------+ | Ubuntu 20.04 | PASS | +---------------------+----------------+ | openSUSE Leap 15 | PASS | +---------------------+----------------+ | Fedora 33 | PASS | +---------------------+----------------+ | Fedora 34 | PASS | +---------------------+----------------+ | Fedora 34 clang | PASS | +---------------------+----------------+ Windows Server 2019 Kernel: 10.0 Compiler: clang 14.0 and gcc 8.1.0 (MinGW) Arch Linux Kernel: 5.4.0-73-generic Compiler: gcc 11.1.0 RHEL 7 Kernel: 4.18.0-240.10.1.el8_3.x86_64 Compiler: gcc 4.8.5 20150623 (Red Hat 4.8.5-44) RHEL8 Kernel: 4.18.0-240.10.1.el8_3.x86_64 Compiler: gcc 8.3.1 20191121 (Red Hat 8.3.1-5) Fedora 31 Kernel: 4.18.0-240.10.1.el8_3.x86_64 Compiler: gcc 9.3.1 Fedora 32 Kernel: 4.18.0-240.10.1.el8_3.x86_64 Compiler: gcc 10.2.1 CentOS Stream 8 Kernel: 4.18.0-240.10.1.el8_3.x86_64 Compiler: gcc 8.4.1 20200928 Ubuntu 18.04 Kernel: 4.18.0-240.10.1.el8_3.x86_64 Compiler: gcc 7.5.0-3ubuntu1~18.04 Ubuntu 20.04 Kernel: 4.18.0-240.10.1.el8_3.x86_64 Compiler: gcc 9.3.0-17ubuntu1~20.04 openSUSE Leap 15 Kernel: 4.18.0-240.10.1.el8_3.x86_64 Compiler: gcc 7.5.0 Fedora 33 Kernel: 5.4.0-72-generic Compiler: gcc 10.3.1 20210422 (Red Hat 10.3.1-1) Fedora 34 Kernel: 5.4.0-72-generic Compiler: gcc 11.1.1 20210428 (Red Hat 11.1.1-1) Fedora 34 clang Kernel: 5.4.0-72-generic Compiler: clang 12.0.0 (Fedora 12.0.0-0.3.rc1.fc34) To view detailed results, visit: https://lab.dpdk.org/results/dashboard/patchsets/22517/ UNH-IOL DPDK Community Lab To manage your email subscriptions, visit: https://lab.dpdk.org/results/dashboard/preferences/subscriptions/