* |SUCCESS| pw114674 [PATCH] ring: compilation fix with GCC-12
@ 2022-08-05 20:19 dpdklab
0 siblings, 0 replies; 10+ messages in thread
From: dpdklab @ 2022-08-05 20:19 UTC (permalink / raw)
To: Test Report; +Cc: dpdklab, David Marchand, Thomas Monjalon
[-- Attachment #1: Type: text/plain, Size: 1453 bytes --]
Test-Label: iol-aarch64-unit-testing
Test-Status: SUCCESS
http://dpdk.org/patch/114674
_Testing PASS_
Submitter: Amit Prakash Shukla <amitprakashs@marvell.com>
Date: Friday, August 05 2022 09:03:48
DPDK git baseline: Repo:dpdk
Branch: master
CommitID:72206323a5dd3182b13f61b25a64abdddfee595c
114674 --> testing pass
Test environment and result as below:
+-------------------------------+----------------+--------------+
| Environment | dpdk_unit_test | lpm_autotest |
+===============================+================+==============+
| Ubuntu 20.04 ARM GCC Native | PASS | SKIPPED |
+-------------------------------+----------------+--------------+
| Ubuntu 20.04 ARM Clang Native | PASS | SKIPPED |
+-------------------------------+----------------+--------------+
| Ubuntu 20.04 ARM SVE | SKIPPED | PASS |
+-------------------------------+----------------+--------------+
Ubuntu 20.04 ARM GCC Native
Kernel: 5.4.0-53-generic
Compiler: gcc 9.3
Ubuntu 20.04 ARM Clang Native
Kernel: 5.4.0-53-generic
Compiler: clang 10.0.0-4ubuntu1
Ubuntu 20.04 ARM SVE
Kernel: 5.4.0-80-generic
Compiler: gcc 10.3.0 (Ubuntu 10.3.0-1ubuntu1~20.04)
To view detailed results, visit:
https://lab.dpdk.org/results/dashboard/patchsets/23154/
UNH-IOL DPDK Community Lab
To manage your email subscriptions, visit:
https://lab.dpdk.org/results/dashboard/preferences/subscriptions/
^ permalink raw reply [flat|nested] 10+ messages in thread
* |SUCCESS| pw114674 [PATCH] ring: compilation fix with GCC-12
@ 2022-08-05 20:32 dpdklab
0 siblings, 0 replies; 10+ messages in thread
From: dpdklab @ 2022-08-05 20:32 UTC (permalink / raw)
To: Test Report; +Cc: dpdk-test-reports, David Marchand, Thomas Monjalon
[-- Attachment #1: Type: text/plain, Size: 1180 bytes --]
Test-Label: iol-intel-Functional
Test-Status: SUCCESS
http://dpdk.org/patch/114674
_Functional Testing PASS_
Submitter: Amit Prakash Shukla <amitprakashs@marvell.com>
Date: Friday, August 05 2022 09:03:48
DPDK git baseline: Repo:dpdk
Branch: master
CommitID:72206323a5dd3182b13f61b25a64abdddfee595c
114674 --> functional testing pass
Test environment and result as below:
Ubuntu 20.04 ARM
Kernel: 4.15.0-132-generic
Compiler: gcc 7.5
NIC: Arm Intel Corporation Ethernet Converged Network Adapter XL710-QDA2 40000 Mbps
Target: x86_64-native-linuxapp-gcc
Fail/Total: 0/2
Ubuntu 20.04
Kernel: 4.15.0-generic
Compiler: gcc 7.4
NIC: Intel Corporation Ethernet Converged Network Adapter XL710-QDA2 40000 Mbps
Target: x86_64-native-linuxapp-gcc
Fail/Total: 0/2
Ubuntu 20.04
Kernel: 4.15.0-generic
Compiler: gcc 7.4
NIC: Intel Corporation Ethernet Converged Network Adapter 82599ES 10000 Mbps
Target: x86_64-native-linuxapp-gcc
Fail/Total: 0/2
To view detailed results, visit:
https://lab.dpdk.org/results/dashboard/patchsets/23154/
UNH-IOL DPDK Community Lab
To manage your email subscriptions, visit:
https://lab.dpdk.org/results/dashboard/preferences/subscriptions/
^ permalink raw reply [flat|nested] 10+ messages in thread
* |SUCCESS| pw114674 [PATCH] ring: compilation fix with GCC-12
@ 2022-08-05 20:29 dpdklab
0 siblings, 0 replies; 10+ messages in thread
From: dpdklab @ 2022-08-05 20:29 UTC (permalink / raw)
To: Test Report; +Cc: dpdklab, David Marchand, Thomas Monjalon
[-- Attachment #1: Type: text/plain, Size: 2146 bytes --]
Test-Label: iol-aarch64-compile-testing
Test-Status: SUCCESS
http://dpdk.org/patch/114674
_Testing PASS_
Submitter: Amit Prakash Shukla <amitprakashs@marvell.com>
Date: Friday, August 05 2022 09:03:48
DPDK git baseline: Repo:dpdk
Branch: master
CommitID:72206323a5dd3182b13f61b25a64abdddfee595c
114674 --> testing pass
Test environment and result as below:
+----------------------------------------+--------------------+
| Environment | dpdk_meson_compile |
+========================================+====================+
| Ubuntu 20.04 ARM GCC Native | PASS |
+----------------------------------------+--------------------+
| Ubuntu 20.04 ARM Clang Native | PASS |
+----------------------------------------+--------------------+
| Ubuntu 20.04 aarch32 GCC Cross Compile | PASS |
+----------------------------------------+--------------------+
| Ubuntu 20.04 ARM SVE | PASS |
+----------------------------------------+--------------------+
| Ubuntu 20.04 ARM Clang Cross Compile | PASS |
+----------------------------------------+--------------------+
| Ubuntu 20.04 ARM GCC Cross Compile | PASS |
+----------------------------------------+--------------------+
Ubuntu 20.04 ARM GCC Native
Kernel: 5.4.0-53-generic
Compiler: gcc 9.3
Ubuntu 20.04 ARM Clang Native
Kernel: 5.4.0-53-generic
Compiler: clang 10.0.0-4ubuntu1
Ubuntu 20.04 aarch32 GCC Cross Compile
Kernel: 5.4.0-72-generic
Compiler: gcc 9.3.0
Ubuntu 20.04 ARM SVE
Kernel: 5.4.0-80-generic
Compiler: gcc 10.3.0 (Ubuntu 10.3.0-1ubuntu1~20.04)
Ubuntu 20.04 ARM Clang Cross Compile
Kernel: 5.4.0-72-generic
Compiler: clang version 10.0.0-4ubuntu1
Ubuntu 20.04 ARM GCC Cross Compile
Kernel: 5.4.0-72-generic
Compiler: aarch64-linux-gnu-gcc (Ubuntu 9.3.0-17ubuntu1~20.04) 9.3.0
To view detailed results, visit:
https://lab.dpdk.org/results/dashboard/patchsets/23154/
UNH-IOL DPDK Community Lab
To manage your email subscriptions, visit:
https://lab.dpdk.org/results/dashboard/preferences/subscriptions/
^ permalink raw reply [flat|nested] 10+ messages in thread
* |SUCCESS| pw114674 [PATCH] ring: compilation fix with GCC-12
@ 2022-08-05 20:25 dpdklab
0 siblings, 0 replies; 10+ messages in thread
From: dpdklab @ 2022-08-05 20:25 UTC (permalink / raw)
To: Test Report; +Cc: dpdk-test-reports, David Marchand, Thomas Monjalon
[-- Attachment #1: Type: text/plain, Size: 3310 bytes --]
Test-Label: iol-intel-Performance
Test-Status: SUCCESS
http://dpdk.org/patch/114674
_Performance Testing PASS_
Submitter: Amit Prakash Shukla <amitprakashs@marvell.com>
Date: Friday, August 05 2022 09:03:48
DPDK git baseline: Repo:dpdk
Branch: master
CommitID:72206323a5dd3182b13f61b25a64abdddfee595c
114674 --> performance testing pass
Test environment and result as below:
Ubuntu 20.04
Kernel: 4.15.0-generic
Compiler: gcc 7.4
NIC: Intel Corporation Ethernet Converged Network Adapter XL710-QDA2 40000 Mbps
Target: x86_64-native-linuxapp-gcc
Fail/Total: 0/4
Detail performance results:
+----------+-------------+---------+------------+------------------------------+
| num_cpus | num_threads | txd/rxd | frame_size | throughput difference from |
| | | | | expected |
+==========+=============+=========+============+==============================+
| 1 | 2 | 512 | 64 | 0.7% |
+----------+-------------+---------+------------+------------------------------+
| 1 | 2 | 2048 | 64 | 1.5% |
+----------+-------------+---------+------------+------------------------------+
| 1 | 1 | 512 | 64 | 2.2% |
+----------+-------------+---------+------------+------------------------------+
| 1 | 1 | 2048 | 64 | 0.0% |
+----------+-------------+---------+------------+------------------------------+
Ubuntu 20.04
Kernel: 4.15.0-generic
Compiler: gcc 7.4
NIC: Intel Corporation Ethernet Converged Network Adapter 82599ES 10000 Mbps
Target: x86_64-native-linuxapp-gcc
Fail/Total: 0/6
Detail performance results:
+----------+-------------+---------+------------+------------------------------+
| num_cpus | num_threads | txd/rxd | frame_size | throughput difference from |
| | | | | expected |
+==========+=============+=========+============+==============================+
| 1 | 2 | 128 | 64 | -0.3% |
+----------+-------------+---------+------------+------------------------------+
| 1 | 2 | 512 | 64 | 0.1% |
+----------+-------------+---------+------------+------------------------------+
| 1 | 2 | 2048 | 64 | -0.1% |
+----------+-------------+---------+------------+------------------------------+
| 1 | 1 | 128 | 64 | 0.7% |
+----------+-------------+---------+------------+------------------------------+
| 1 | 1 | 512 | 64 | -0.1% |
+----------+-------------+---------+------------+------------------------------+
| 1 | 1 | 2048 | 64 | 0.3% |
+----------+-------------+---------+------------+------------------------------+
To view detailed results, visit:
https://lab.dpdk.org/results/dashboard/patchsets/23154/
UNH-IOL DPDK Community Lab
To manage your email subscriptions, visit:
https://lab.dpdk.org/results/dashboard/preferences/subscriptions/
^ permalink raw reply [flat|nested] 10+ messages in thread
* |SUCCESS| pw114674 [PATCH] ring: compilation fix with GCC-12
@ 2022-08-05 20:24 dpdklab
0 siblings, 0 replies; 10+ messages in thread
From: dpdklab @ 2022-08-05 20:24 UTC (permalink / raw)
To: Test Report; +Cc: dpdk-test-reports, David Marchand, Thomas Monjalon
[-- Attachment #1: Type: text/plain, Size: 1801 bytes --]
Test-Label: iol-intel-Performance
Test-Status: SUCCESS
http://dpdk.org/patch/114674
_Performance Testing PASS_
Submitter: Amit Prakash Shukla <amitprakashs@marvell.com>
Date: Friday, August 05 2022 09:03:48
DPDK git baseline: Repo:dpdk
Branch: master
CommitID:72206323a5dd3182b13f61b25a64abdddfee595c
114674 --> performance testing pass
Test environment and result as below:
Ubuntu 20.04
Kernel: 4.15.0-generic
Compiler: gcc 7.4
NIC: Intel Corporation Ethernet Converged Network Adapter XL710-QDA2 40000 Mbps
Target: x86_64-native-linuxapp-gcc
Fail/Total: 0/4
Detail performance results:
+----------+-------------+---------+------------+------------------------------+
| num_cpus | num_threads | txd/rxd | frame_size | throughput difference from |
| | | | | expected |
+==========+=============+=========+============+==============================+
| 1 | 2 | 512 | 64 | 0.7% |
+----------+-------------+---------+------------+------------------------------+
| 1 | 2 | 2048 | 64 | 1.5% |
+----------+-------------+---------+------------+------------------------------+
| 1 | 1 | 512 | 64 | 2.2% |
+----------+-------------+---------+------------+------------------------------+
| 1 | 1 | 2048 | 64 | 0.0% |
+----------+-------------+---------+------------+------------------------------+
To view detailed results, visit:
https://lab.dpdk.org/results/dashboard/patchsets/23154/
UNH-IOL DPDK Community Lab
To manage your email subscriptions, visit:
https://lab.dpdk.org/results/dashboard/preferences/subscriptions/
^ permalink raw reply [flat|nested] 10+ messages in thread
* |SUCCESS| pw114674 [PATCH] ring: compilation fix with GCC-12
@ 2022-08-05 20:06 dpdklab
0 siblings, 0 replies; 10+ messages in thread
From: dpdklab @ 2022-08-05 20:06 UTC (permalink / raw)
To: Test Report; +Cc: dpdk-test-reports, David Marchand, Thomas Monjalon
[-- Attachment #1: Type: text/plain, Size: 996 bytes --]
Test-Label: iol-intel-Functional
Test-Status: SUCCESS
http://dpdk.org/patch/114674
_Functional Testing PASS_
Submitter: Amit Prakash Shukla <amitprakashs@marvell.com>
Date: Friday, August 05 2022 09:03:48
DPDK git baseline: Repo:dpdk
Branch: master
CommitID:72206323a5dd3182b13f61b25a64abdddfee595c
114674 --> functional testing pass
Test environment and result as below:
Ubuntu 20.04 ARM
Kernel: 4.15.0-132-generic
Compiler: gcc 7.5
NIC: Arm Intel Corporation Ethernet Converged Network Adapter XL710-QDA2 40000 Mbps
Target: x86_64-native-linuxapp-gcc
Fail/Total: 0/2
Ubuntu 20.04
Kernel: 4.15.0-generic
Compiler: gcc 7.4
NIC: Intel Corporation Ethernet Converged Network Adapter XL710-QDA2 40000 Mbps
Target: x86_64-native-linuxapp-gcc
Fail/Total: 0/2
To view detailed results, visit:
https://lab.dpdk.org/results/dashboard/patchsets/23154/
UNH-IOL DPDK Community Lab
To manage your email subscriptions, visit:
https://lab.dpdk.org/results/dashboard/preferences/subscriptions/
^ permalink raw reply [flat|nested] 10+ messages in thread
* |SUCCESS| pw114674 [PATCH] ring: compilation fix with GCC-12
@ 2022-08-05 20:06 dpdklab
0 siblings, 0 replies; 10+ messages in thread
From: dpdklab @ 2022-08-05 20:06 UTC (permalink / raw)
To: Ali Alnubani, Test Report
Cc: dpdk-test-reports, David Marchand, Thomas Monjalon
[-- Attachment #1: Type: text/plain, Size: 2085 bytes --]
Test-Label: iol-mellanox-Performance
Test-Status: SUCCESS
http://dpdk.org/patch/114674
_Performance Testing PASS_
Submitter: Amit Prakash Shukla <amitprakashs@marvell.com>
Date: Friday, August 05 2022 09:03:48
DPDK git baseline: Repo:dpdk
Branch: master
CommitID:72206323a5dd3182b13f61b25a64abdddfee595c
114674 --> performance testing pass
Test environment and result as below:
Ubuntu 20.04
Kernel: 4.15.0-generic
Compiler: gcc 7.4
NIC: Mellanox ConnectX-5 100000 Mbps
Target: x86_64-native-linuxapp-gcc
Fail/Total: 0/6
Detail performance results:
+------------+---------+----------+-------------+------------------------------+
| frame_size | txd/rxd | num_cpus | num_threads | throughput difference from |
| | | | | expected |
+============+=========+==========+=============+==============================+
| 64 | 256 | 1 | 1 | -0.2% |
+------------+---------+----------+-------------+------------------------------+
| 128 | 256 | 1 | 1 | 0.3% |
+------------+---------+----------+-------------+------------------------------+
| 1024 | 256 | 1 | 1 | -0.0% |
+------------+---------+----------+-------------+------------------------------+
| 256 | 256 | 1 | 1 | 0.1% |
+------------+---------+----------+-------------+------------------------------+
| 1518 | 256 | 1 | 1 | 0.1% |
+------------+---------+----------+-------------+------------------------------+
| 512 | 256 | 1 | 1 | 0.2% |
+------------+---------+----------+-------------+------------------------------+
To view detailed results, visit:
https://lab.dpdk.org/results/dashboard/patchsets/23154/
UNH-IOL DPDK Community Lab
To manage your email subscriptions, visit:
https://lab.dpdk.org/results/dashboard/preferences/subscriptions/
^ permalink raw reply [flat|nested] 10+ messages in thread
* |SUCCESS| pw114674 [PATCH] ring: compilation fix with GCC-12
@ 2022-08-05 20:02 dpdklab
0 siblings, 0 replies; 10+ messages in thread
From: dpdklab @ 2022-08-05 20:02 UTC (permalink / raw)
To: Test Report; +Cc: dpdk-test-reports, David Marchand, Thomas Monjalon
[-- Attachment #1: Type: text/plain, Size: 809 bytes --]
Test-Label: iol-intel-Functional
Test-Status: SUCCESS
http://dpdk.org/patch/114674
_Functional Testing PASS_
Submitter: Amit Prakash Shukla <amitprakashs@marvell.com>
Date: Friday, August 05 2022 09:03:48
DPDK git baseline: Repo:dpdk
Branch: master
CommitID:72206323a5dd3182b13f61b25a64abdddfee595c
114674 --> functional testing pass
Test environment and result as below:
Ubuntu 20.04 ARM
Kernel: 4.15.0-132-generic
Compiler: gcc 7.5
NIC: Arm Intel Corporation Ethernet Converged Network Adapter XL710-QDA2 40000 Mbps
Target: x86_64-native-linuxapp-gcc
Fail/Total: 0/2
To view detailed results, visit:
https://lab.dpdk.org/results/dashboard/patchsets/23154/
UNH-IOL DPDK Community Lab
To manage your email subscriptions, visit:
https://lab.dpdk.org/results/dashboard/preferences/subscriptions/
^ permalink raw reply [flat|nested] 10+ messages in thread
* |SUCCESS| pw114674 [PATCH] ring: compilation fix with GCC-12
[not found] <20220805090348.1947658-1-amitprakashs@marvell.com>
2022-08-05 9:05 ` checkpatch
@ 2022-08-05 10:19 ` 0-day Robot
1 sibling, 0 replies; 10+ messages in thread
From: 0-day Robot @ 2022-08-05 10:19 UTC (permalink / raw)
To: test-report; +Cc: robot
From: robot@bytheb.org
Test-Label: github-robot: build
Test-Status: SUCCESS
http://patchwork.dpdk.org/patch/114674/
_github build: passed_
Build URL: https://github.com/ovsrobot/dpdk/actions/runs/2802604254
^ permalink raw reply [flat|nested] 10+ messages in thread
* |SUCCESS| pw114674 [PATCH] ring: compilation fix with GCC-12
[not found] <20220805090348.1947658-1-amitprakashs@marvell.com>
@ 2022-08-05 9:05 ` checkpatch
2022-08-05 10:19 ` 0-day Robot
1 sibling, 0 replies; 10+ messages in thread
From: checkpatch @ 2022-08-05 9:05 UTC (permalink / raw)
To: test-report
Test-Label: checkpatch
Test-Status: SUCCESS
http://dpdk.org/patch/114674
_coding style OK_
^ permalink raw reply [flat|nested] 10+ messages in thread
end of thread, other threads:[~2022-08-05 20:32 UTC | newest]
Thread overview: 10+ messages (download: mbox.gz / follow: Atom feed)
-- links below jump to the message on this page --
2022-08-05 20:19 |SUCCESS| pw114674 [PATCH] ring: compilation fix with GCC-12 dpdklab
-- strict thread matches above, loose matches on Subject: below --
2022-08-05 20:32 dpdklab
2022-08-05 20:29 dpdklab
2022-08-05 20:25 dpdklab
2022-08-05 20:24 dpdklab
2022-08-05 20:06 dpdklab
2022-08-05 20:06 dpdklab
2022-08-05 20:02 dpdklab
[not found] <20220805090348.1947658-1-amitprakashs@marvell.com>
2022-08-05 9:05 ` checkpatch
2022-08-05 10:19 ` 0-day Robot
This is a public inbox, see mirroring instructions
for how to clone and mirror all data and code used for this inbox;
as well as URLs for NNTP newsgroup(s).