[-- Attachment #1: Type: text/plain, Size: 583 bytes --] _Functional Testing PASS_ Branch: tags/v21.11 a561d44985d3900d505abb6dd23fa861c5e9eab7 --> functional testing pass Test environment and result as below: Ubuntu 20.04 ARM Kernel: 4.15.0-132-generic Compiler: gcc 7.5 NIC: Arm Intel Corporation Ethernet Converged Network Adapter XL710-QDA2 40000 Mbps Target: x86_64-native-linuxapp-gcc Fail/Total: 0/2 To view detailed results, visit: https://lab.dpdk.org/results/dashboard/tarballs/20992/ UNH-IOL DPDK Community Lab To manage your email subscriptions, visit: https://lab.dpdk.org/results/dashboard/preferences/subscriptions/
[-- Attachment #1: Type: text/plain, Size: 1855 bytes --] _Performance Testing PASS_ Branch: tags/v21.11 a561d44985d3900d505abb6dd23fa861c5e9eab7 --> performance testing pass Test environment and result as below: Ubuntu 20.04 Kernel: 4.15.0-generic Compiler: gcc 7.4 NIC: Mellanox ConnectX-5 100000 Mbps Target: x86_64-native-linuxapp-gcc Fail/Total: 0/6 Detail performance results: +------------+---------+----------+-------------+------------------------------+ | frame_size | txd/rxd | num_cpus | num_threads | throughput difference from | | | | | | expected | +============+=========+==========+=============+==============================+ | 64 | 256 | 1 | 1 | -0.1% | +------------+---------+----------+-------------+------------------------------+ | 128 | 256 | 1 | 1 | -0.6% | +------------+---------+----------+-------------+------------------------------+ | 1024 | 256 | 1 | 1 | 0.1% | +------------+---------+----------+-------------+------------------------------+ | 256 | 256 | 1 | 1 | 0.0% | +------------+---------+----------+-------------+------------------------------+ | 1518 | 256 | 1 | 1 | -0.2% | +------------+---------+----------+-------------+------------------------------+ | 512 | 256 | 1 | 1 | 0.1% | +------------+---------+----------+-------------+------------------------------+ To view detailed results, visit: https://lab.dpdk.org/results/dashboard/tarballs/20992/ UNH-IOL DPDK Community Lab To manage your email subscriptions, visit: https://lab.dpdk.org/results/dashboard/preferences/subscriptions/
[-- Attachment #1: Type: text/plain, Size: 1574 bytes --] _Performance Testing PASS_ Branch: tags/v21.11 a561d44985d3900d505abb6dd23fa861c5e9eab7 --> performance testing pass Test environment and result as below: Ubuntu 20.04 Kernel: 4.15.0-generic Compiler: gcc 7.4 NIC: Intel Corporation Ethernet Converged Network Adapter XL710-QDA2 40000 Mbps Target: x86_64-native-linuxapp-gcc Fail/Total: 0/4 Detail performance results: +----------+-------------+---------+------------+------------------------------+ | num_cpus | num_threads | txd/rxd | frame_size | throughput difference from | | | | | | expected | +==========+=============+=========+============+==============================+ | 1 | 2 | 512 | 64 | 0.7% | +----------+-------------+---------+------------+------------------------------+ | 1 | 2 | 2048 | 64 | -1.4% | +----------+-------------+---------+------------+------------------------------+ | 1 | 1 | 512 | 64 | 2.3% | +----------+-------------+---------+------------+------------------------------+ | 1 | 1 | 2048 | 64 | -0.2% | +----------+-------------+---------+------------+------------------------------+ To view detailed results, visit: https://lab.dpdk.org/results/dashboard/tarballs/20992/ UNH-IOL DPDK Community Lab To manage your email subscriptions, visit: https://lab.dpdk.org/results/dashboard/preferences/subscriptions/
[-- Attachment #1: Type: text/plain, Size: 3083 bytes --] _Performance Testing PASS_ Branch: tags/v21.11 a561d44985d3900d505abb6dd23fa861c5e9eab7 --> performance testing pass Test environment and result as below: Ubuntu 20.04 Kernel: 4.15.0-generic Compiler: gcc 7.4 NIC: Intel Corporation Ethernet Converged Network Adapter XL710-QDA2 40000 Mbps Target: x86_64-native-linuxapp-gcc Fail/Total: 0/4 Detail performance results: +----------+-------------+---------+------------+------------------------------+ | num_cpus | num_threads | txd/rxd | frame_size | throughput difference from | | | | | | expected | +==========+=============+=========+============+==============================+ | 1 | 2 | 512 | 64 | 0.7% | +----------+-------------+---------+------------+------------------------------+ | 1 | 2 | 2048 | 64 | -1.4% | +----------+-------------+---------+------------+------------------------------+ | 1 | 1 | 512 | 64 | 2.3% | +----------+-------------+---------+------------+------------------------------+ | 1 | 1 | 2048 | 64 | -0.2% | +----------+-------------+---------+------------+------------------------------+ Ubuntu 20.04 Kernel: 4.15.0-generic Compiler: gcc 7.4 NIC: Intel Corporation Ethernet Converged Network Adapter 82599ES 10000 Mbps Target: x86_64-native-linuxapp-gcc Fail/Total: 0/6 Detail performance results: +----------+-------------+---------+------------+------------------------------+ | num_cpus | num_threads | txd/rxd | frame_size | throughput difference from | | | | | | expected | +==========+=============+=========+============+==============================+ | 1 | 2 | 128 | 64 | 0.3% | +----------+-------------+---------+------------+------------------------------+ | 1 | 2 | 512 | 64 | 0.0% | +----------+-------------+---------+------------+------------------------------+ | 1 | 2 | 2048 | 64 | -0.3% | +----------+-------------+---------+------------+------------------------------+ | 1 | 1 | 128 | 64 | 0.4% | +----------+-------------+---------+------------+------------------------------+ | 1 | 1 | 512 | 64 | 0.5% | +----------+-------------+---------+------------+------------------------------+ | 1 | 1 | 2048 | 64 | 0.1% | +----------+-------------+---------+------------+------------------------------+ To view detailed results, visit: https://lab.dpdk.org/results/dashboard/tarballs/20992/ UNH-IOL DPDK Community Lab To manage your email subscriptions, visit: https://lab.dpdk.org/results/dashboard/preferences/subscriptions/
[-- Attachment #1: Type: text/plain, Size: 770 bytes --] _Functional Testing PASS_ Branch: tags/v21.11 a561d44985d3900d505abb6dd23fa861c5e9eab7 --> functional testing pass Test environment and result as below: Ubuntu 20.04 ARM Kernel: 4.15.0-132-generic Compiler: gcc 7.5 NIC: Arm Intel Corporation Ethernet Converged Network Adapter XL710-QDA2 40000 Mbps Target: x86_64-native-linuxapp-gcc Fail/Total: 0/2 Ubuntu 20.04 Kernel: 4.15.0-generic Compiler: gcc 7.4 NIC: Intel Corporation Ethernet Converged Network Adapter XL710-QDA2 40000 Mbps Target: x86_64-native-linuxapp-gcc Fail/Total: 0/2 To view detailed results, visit: https://lab.dpdk.org/results/dashboard/tarballs/20992/ UNH-IOL DPDK Community Lab To manage your email subscriptions, visit: https://lab.dpdk.org/results/dashboard/preferences/subscriptions/
[-- Attachment #1: Type: text/plain, Size: 954 bytes --] _Functional Testing PASS_ Branch: tags/v21.11 a561d44985d3900d505abb6dd23fa861c5e9eab7 --> functional testing pass Test environment and result as below: Ubuntu 20.04 ARM Kernel: 4.15.0-132-generic Compiler: gcc 7.5 NIC: Arm Intel Corporation Ethernet Converged Network Adapter XL710-QDA2 40000 Mbps Target: x86_64-native-linuxapp-gcc Fail/Total: 0/2 Ubuntu 20.04 Kernel: 4.15.0-generic Compiler: gcc 7.4 NIC: Intel Corporation Ethernet Converged Network Adapter XL710-QDA2 40000 Mbps Target: x86_64-native-linuxapp-gcc Fail/Total: 0/2 Ubuntu 20.04 Kernel: 4.15.0-generic Compiler: gcc 7.4 NIC: Intel Corporation Ethernet Converged Network Adapter 82599ES 10000 Mbps Target: x86_64-native-linuxapp-gcc Fail/Total: 0/2 To view detailed results, visit: https://lab.dpdk.org/results/dashboard/tarballs/20992/ UNH-IOL DPDK Community Lab To manage your email subscriptions, visit: https://lab.dpdk.org/results/dashboard/preferences/subscriptions/
[-- Attachment #1: Type: text/plain, Size: 1223 bytes --] _Testing PASS_ Branch: tags/v21.11 a561d44985d3900d505abb6dd23fa861c5e9eab7 --> testing pass Test environment and result as below: +-------------------------------+----------------+--------------+ | Environment | dpdk_unit_test | lpm_autotest | +===============================+================+==============+ | Ubuntu 20.04 ARM GCC Native | PASS | SKIPPED | +-------------------------------+----------------+--------------+ | Ubuntu 20.04 ARM Clang Native | PASS | SKIPPED | +-------------------------------+----------------+--------------+ | Ubuntu 20.04 ARM SVE | SKIPPED | PASS | +-------------------------------+----------------+--------------+ Ubuntu 20.04 ARM GCC Native Kernel: 5.4.0-53-generic Compiler: gcc 9.3 Ubuntu 20.04 ARM Clang Native Kernel: 5.4.0-53-generic Compiler: clang 10.0.0-4ubuntu1 Ubuntu 20.04 ARM SVE Kernel: 5.4.0-80-generic Compiler: gcc 10.3.0 (Ubuntu 10.3.0-1ubuntu1~20.04) To view detailed results, visit: https://lab.dpdk.org/results/dashboard/tarballs/20992/ UNH-IOL DPDK Community Lab To manage your email subscriptions, visit: https://lab.dpdk.org/results/dashboard/preferences/subscriptions/
[-- Attachment #1: Type: text/plain, Size: 1421 bytes --] _Testing PASS_ Branch: tags/v21.11 a561d44985d3900d505abb6dd23fa861c5e9eab7 --> testing pass Test environment and result as below: +------------------------------------+--------------------+ | Environment | dpdk_meson_compile | +====================================+====================+ | Ubuntu 20.04 ARM GCC Native | PASS | +------------------------------------+--------------------+ | Ubuntu 20.04 ARM Clang Native | PASS | +------------------------------------+--------------------+ | Ubuntu 20.04 ARM GCC Cross Compile | PASS | +------------------------------------+--------------------+ | Ubuntu 20.04 ARM SVE | PASS | +------------------------------------+--------------------+ Ubuntu 20.04 ARM GCC Native Kernel: 5.4.0-53-generic Compiler: gcc 9.3 Ubuntu 20.04 ARM Clang Native Kernel: 5.4.0-53-generic Compiler: clang 10.0.0-4ubuntu1 Ubuntu 20.04 ARM GCC Cross Compile Kernel: 5.4.0-72-generic Compiler: aarch64-linux-gnu-gcc (Ubuntu 9.3.0-17ubuntu1~20.04) 9.3.0 Ubuntu 20.04 ARM SVE Kernel: 5.4.0-80-generic Compiler: gcc 10.3.0 (Ubuntu 10.3.0-1ubuntu1~20.04) To view detailed results, visit: https://lab.dpdk.org/results/dashboard/tarballs/20992/ UNH-IOL DPDK Community Lab To manage your email subscriptions, visit: https://lab.dpdk.org/results/dashboard/preferences/subscriptions/
[-- Attachment #1: Type: text/plain, Size: 1855 bytes --] _Performance Testing PASS_ Branch: tags/v21.11 a561d44985d3900d505abb6dd23fa861c5e9eab7 --> performance testing pass Test environment and result as below: Ubuntu 20.04 Kernel: 4.15.0-generic Compiler: gcc 7.4 NIC: Mellanox ConnectX-5 100000 Mbps Target: x86_64-native-linuxapp-gcc Fail/Total: 0/6 Detail performance results: +------------+---------+----------+-------------+------------------------------+ | frame_size | txd/rxd | num_cpus | num_threads | throughput difference from | | | | | | expected | +============+=========+==========+=============+==============================+ | 64 | 256 | 1 | 1 | -0.0% | +------------+---------+----------+-------------+------------------------------+ | 128 | 256 | 1 | 1 | 0.6% | +------------+---------+----------+-------------+------------------------------+ | 1024 | 256 | 1 | 1 | -0.1% | +------------+---------+----------+-------------+------------------------------+ | 256 | 256 | 1 | 1 | 0.1% | +------------+---------+----------+-------------+------------------------------+ | 1518 | 256 | 1 | 1 | 0.1% | +------------+---------+----------+-------------+------------------------------+ | 512 | 256 | 1 | 1 | 0.3% | +------------+---------+----------+-------------+------------------------------+ To view detailed results, visit: https://lab.dpdk.org/results/dashboard/tarballs/20994/ UNH-IOL DPDK Community Lab To manage your email subscriptions, visit: https://lab.dpdk.org/results/dashboard/preferences/subscriptions/
[-- Attachment #1: Type: text/plain, Size: 583 bytes --] _Functional Testing PASS_ Branch: tags/v21.11 a561d44985d3900d505abb6dd23fa861c5e9eab7 --> functional testing pass Test environment and result as below: Ubuntu 20.04 ARM Kernel: 4.15.0-132-generic Compiler: gcc 7.5 NIC: Arm Intel Corporation Ethernet Converged Network Adapter XL710-QDA2 40000 Mbps Target: x86_64-native-linuxapp-gcc Fail/Total: 0/2 To view detailed results, visit: https://lab.dpdk.org/results/dashboard/tarballs/20994/ UNH-IOL DPDK Community Lab To manage your email subscriptions, visit: https://lab.dpdk.org/results/dashboard/preferences/subscriptions/
[-- Attachment #1: Type: text/plain, Size: 770 bytes --] _Functional Testing PASS_ Branch: tags/v21.11 a561d44985d3900d505abb6dd23fa861c5e9eab7 --> functional testing pass Test environment and result as below: Ubuntu 20.04 ARM Kernel: 4.15.0-132-generic Compiler: gcc 7.5 NIC: Arm Intel Corporation Ethernet Converged Network Adapter XL710-QDA2 40000 Mbps Target: x86_64-native-linuxapp-gcc Fail/Total: 0/2 Ubuntu 20.04 Kernel: 4.15.0-generic Compiler: gcc 7.4 NIC: Intel Corporation Ethernet Converged Network Adapter XL710-QDA2 40000 Mbps Target: x86_64-native-linuxapp-gcc Fail/Total: 0/2 To view detailed results, visit: https://lab.dpdk.org/results/dashboard/tarballs/20994/ UNH-IOL DPDK Community Lab To manage your email subscriptions, visit: https://lab.dpdk.org/results/dashboard/preferences/subscriptions/
[-- Attachment #1: Type: text/plain, Size: 1895 bytes --] _Performance Testing PASS_ Branch: tags/v21.11 a561d44985d3900d505abb6dd23fa861c5e9eab7 --> performance testing pass Test environment and result as below: Ubuntu 20.04 Kernel: 4.15.0-generic Compiler: gcc 7.4 NIC: Intel Corporation Ethernet Converged Network Adapter 82599ES 10000 Mbps Target: x86_64-native-linuxapp-gcc Fail/Total: 0/6 Detail performance results: +----------+-------------+---------+------------+------------------------------+ | num_cpus | num_threads | txd/rxd | frame_size | throughput difference from | | | | | | expected | +==========+=============+=========+============+==============================+ | 1 | 2 | 128 | 64 | -0.1% | +----------+-------------+---------+------------+------------------------------+ | 1 | 2 | 512 | 64 | 0.0% | +----------+-------------+---------+------------+------------------------------+ | 1 | 2 | 2048 | 64 | -0.1% | +----------+-------------+---------+------------+------------------------------+ | 1 | 1 | 128 | 64 | 0.1% | +----------+-------------+---------+------------+------------------------------+ | 1 | 1 | 512 | 64 | -0.2% | +----------+-------------+---------+------------+------------------------------+ | 1 | 1 | 2048 | 64 | 0.3% | +----------+-------------+---------+------------+------------------------------+ To view detailed results, visit: https://lab.dpdk.org/results/dashboard/tarballs/20994/ UNH-IOL DPDK Community Lab To manage your email subscriptions, visit: https://lab.dpdk.org/results/dashboard/preferences/subscriptions/
[-- Attachment #1: Type: text/plain, Size: 3083 bytes --] _Performance Testing PASS_ Branch: tags/v21.11 a561d44985d3900d505abb6dd23fa861c5e9eab7 --> performance testing pass Test environment and result as below: Ubuntu 20.04 Kernel: 4.15.0-generic Compiler: gcc 7.4 NIC: Intel Corporation Ethernet Converged Network Adapter 82599ES 10000 Mbps Target: x86_64-native-linuxapp-gcc Fail/Total: 0/6 Detail performance results: +----------+-------------+---------+------------+------------------------------+ | num_cpus | num_threads | txd/rxd | frame_size | throughput difference from | | | | | | expected | +==========+=============+=========+============+==============================+ | 1 | 2 | 128 | 64 | -0.1% | +----------+-------------+---------+------------+------------------------------+ | 1 | 2 | 512 | 64 | 0.0% | +----------+-------------+---------+------------+------------------------------+ | 1 | 2 | 2048 | 64 | -0.1% | +----------+-------------+---------+------------+------------------------------+ | 1 | 1 | 128 | 64 | 0.1% | +----------+-------------+---------+------------+------------------------------+ | 1 | 1 | 512 | 64 | -0.2% | +----------+-------------+---------+------------+------------------------------+ | 1 | 1 | 2048 | 64 | 0.3% | +----------+-------------+---------+------------+------------------------------+ Ubuntu 20.04 Kernel: 4.15.0-generic Compiler: gcc 7.4 NIC: Intel Corporation Ethernet Converged Network Adapter XL710-QDA2 40000 Mbps Target: x86_64-native-linuxapp-gcc Fail/Total: 0/4 Detail performance results: +----------+-------------+---------+------------+------------------------------+ | num_cpus | num_threads | txd/rxd | frame_size | throughput difference from | | | | | | expected | +==========+=============+=========+============+==============================+ | 1 | 2 | 512 | 64 | -0.3% | +----------+-------------+---------+------------+------------------------------+ | 1 | 2 | 2048 | 64 | -1.1% | +----------+-------------+---------+------------+------------------------------+ | 1 | 1 | 512 | 64 | -0.1% | +----------+-------------+---------+------------+------------------------------+ | 1 | 1 | 2048 | 64 | 0.1% | +----------+-------------+---------+------------+------------------------------+ To view detailed results, visit: https://lab.dpdk.org/results/dashboard/tarballs/20994/ UNH-IOL DPDK Community Lab To manage your email subscriptions, visit: https://lab.dpdk.org/results/dashboard/preferences/subscriptions/
[-- Attachment #1: Type: text/plain, Size: 954 bytes --] _Functional Testing PASS_ Branch: tags/v21.11 a561d44985d3900d505abb6dd23fa861c5e9eab7 --> functional testing pass Test environment and result as below: Ubuntu 20.04 ARM Kernel: 4.15.0-132-generic Compiler: gcc 7.5 NIC: Arm Intel Corporation Ethernet Converged Network Adapter XL710-QDA2 40000 Mbps Target: x86_64-native-linuxapp-gcc Fail/Total: 0/2 Ubuntu 20.04 Kernel: 4.15.0-generic Compiler: gcc 7.4 NIC: Intel Corporation Ethernet Converged Network Adapter XL710-QDA2 40000 Mbps Target: x86_64-native-linuxapp-gcc Fail/Total: 0/2 Ubuntu 20.04 Kernel: 4.15.0-generic Compiler: gcc 7.4 NIC: Intel Corporation Ethernet Converged Network Adapter 82599ES 10000 Mbps Target: x86_64-native-linuxapp-gcc Fail/Total: 0/2 To view detailed results, visit: https://lab.dpdk.org/results/dashboard/tarballs/20994/ UNH-IOL DPDK Community Lab To manage your email subscriptions, visit: https://lab.dpdk.org/results/dashboard/preferences/subscriptions/
[-- Attachment #1: Type: text/plain, Size: 1223 bytes --] _Testing PASS_ Branch: tags/v21.11 a561d44985d3900d505abb6dd23fa861c5e9eab7 --> testing pass Test environment and result as below: +-------------------------------+----------------+--------------+ | Environment | dpdk_unit_test | lpm_autotest | +===============================+================+==============+ | Ubuntu 20.04 ARM Clang Native | PASS | SKIPPED | +-------------------------------+----------------+--------------+ | Ubuntu 20.04 ARM GCC Native | PASS | SKIPPED | +-------------------------------+----------------+--------------+ | Ubuntu 20.04 ARM SVE | SKIPPED | PASS | +-------------------------------+----------------+--------------+ Ubuntu 20.04 ARM Clang Native Kernel: 5.4.0-53-generic Compiler: clang 10.0.0-4ubuntu1 Ubuntu 20.04 ARM GCC Native Kernel: 5.4.0-53-generic Compiler: gcc 9.3 Ubuntu 20.04 ARM SVE Kernel: 5.4.0-80-generic Compiler: gcc 10.3.0 (Ubuntu 10.3.0-1ubuntu1~20.04) To view detailed results, visit: https://lab.dpdk.org/results/dashboard/tarballs/20994/ UNH-IOL DPDK Community Lab To manage your email subscriptions, visit: https://lab.dpdk.org/results/dashboard/preferences/subscriptions/
[-- Attachment #1: Type: text/plain, Size: 1421 bytes --] _Testing PASS_ Branch: tags/v21.11 a561d44985d3900d505abb6dd23fa861c5e9eab7 --> testing pass Test environment and result as below: +------------------------------------+--------------------+ | Environment | dpdk_meson_compile | +====================================+====================+ | Ubuntu 20.04 ARM GCC Native | PASS | +------------------------------------+--------------------+ | Ubuntu 20.04 ARM Clang Native | PASS | +------------------------------------+--------------------+ | Ubuntu 20.04 ARM SVE | PASS | +------------------------------------+--------------------+ | Ubuntu 20.04 ARM GCC Cross Compile | PASS | +------------------------------------+--------------------+ Ubuntu 20.04 ARM GCC Native Kernel: 5.4.0-53-generic Compiler: gcc 9.3 Ubuntu 20.04 ARM Clang Native Kernel: 5.4.0-53-generic Compiler: clang 10.0.0-4ubuntu1 Ubuntu 20.04 ARM SVE Kernel: 5.4.0-80-generic Compiler: gcc 10.3.0 (Ubuntu 10.3.0-1ubuntu1~20.04) Ubuntu 20.04 ARM GCC Cross Compile Kernel: 5.4.0-72-generic Compiler: aarch64-linux-gnu-gcc (Ubuntu 9.3.0-17ubuntu1~20.04) 9.3.0 To view detailed results, visit: https://lab.dpdk.org/results/dashboard/tarballs/20994/ UNH-IOL DPDK Community Lab To manage your email subscriptions, visit: https://lab.dpdk.org/results/dashboard/preferences/subscriptions/
[-- Attachment #1: Type: text/plain, Size: 1855 bytes --] _Performance Testing PASS_ Branch: tags/v21.11 a561d44985d3900d505abb6dd23fa861c5e9eab7 --> performance testing pass Test environment and result as below: Ubuntu 20.04 Kernel: 4.15.0-generic Compiler: gcc 7.4 NIC: Mellanox ConnectX-5 100000 Mbps Target: x86_64-native-linuxapp-gcc Fail/Total: 0/6 Detail performance results: +------------+---------+----------+-------------+------------------------------+ | frame_size | txd/rxd | num_cpus | num_threads | throughput difference from | | | | | | expected | +============+=========+==========+=============+==============================+ | 64 | 256 | 1 | 1 | -0.0% | +------------+---------+----------+-------------+------------------------------+ | 128 | 256 | 1 | 1 | 0.0% | +------------+---------+----------+-------------+------------------------------+ | 1024 | 256 | 1 | 1 | -0.0% | +------------+---------+----------+-------------+------------------------------+ | 256 | 256 | 1 | 1 | -0.2% | +------------+---------+----------+-------------+------------------------------+ | 1518 | 256 | 1 | 1 | 0.1% | +------------+---------+----------+-------------+------------------------------+ | 512 | 256 | 1 | 1 | -0.2% | +------------+---------+----------+-------------+------------------------------+ To view detailed results, visit: https://lab.dpdk.org/results/dashboard/tarballs/20997/ UNH-IOL DPDK Community Lab To manage your email subscriptions, visit: https://lab.dpdk.org/results/dashboard/preferences/subscriptions/
[-- Attachment #1: Type: text/plain, Size: 583 bytes --] _Functional Testing PASS_ Branch: tags/v21.11 a561d44985d3900d505abb6dd23fa861c5e9eab7 --> functional testing pass Test environment and result as below: Ubuntu 20.04 ARM Kernel: 4.15.0-132-generic Compiler: gcc 7.5 NIC: Arm Intel Corporation Ethernet Converged Network Adapter XL710-QDA2 40000 Mbps Target: x86_64-native-linuxapp-gcc Fail/Total: 0/2 To view detailed results, visit: https://lab.dpdk.org/results/dashboard/tarballs/20997/ UNH-IOL DPDK Community Lab To manage your email subscriptions, visit: https://lab.dpdk.org/results/dashboard/preferences/subscriptions/
[-- Attachment #1: Type: text/plain, Size: 1574 bytes --] _Performance Testing PASS_ Branch: tags/v21.11 a561d44985d3900d505abb6dd23fa861c5e9eab7 --> performance testing pass Test environment and result as below: Ubuntu 20.04 Kernel: 4.15.0-generic Compiler: gcc 7.4 NIC: Intel Corporation Ethernet Converged Network Adapter XL710-QDA2 40000 Mbps Target: x86_64-native-linuxapp-gcc Fail/Total: 0/4 Detail performance results: +----------+-------------+---------+------------+------------------------------+ | num_cpus | num_threads | txd/rxd | frame_size | throughput difference from | | | | | | expected | +==========+=============+=========+============+==============================+ | 1 | 2 | 512 | 64 | 0.2% | +----------+-------------+---------+------------+------------------------------+ | 1 | 2 | 2048 | 64 | 1.3% | +----------+-------------+---------+------------+------------------------------+ | 1 | 1 | 512 | 64 | -2.4% | +----------+-------------+---------+------------+------------------------------+ | 1 | 1 | 2048 | 64 | -0.1% | +----------+-------------+---------+------------+------------------------------+ To view detailed results, visit: https://lab.dpdk.org/results/dashboard/tarballs/20997/ UNH-IOL DPDK Community Lab To manage your email subscriptions, visit: https://lab.dpdk.org/results/dashboard/preferences/subscriptions/
[-- Attachment #1: Type: text/plain, Size: 767 bytes --] _Functional Testing PASS_ Branch: tags/v21.11 a561d44985d3900d505abb6dd23fa861c5e9eab7 --> functional testing pass Test environment and result as below: Ubuntu 20.04 ARM Kernel: 4.15.0-132-generic Compiler: gcc 7.5 NIC: Arm Intel Corporation Ethernet Converged Network Adapter XL710-QDA2 40000 Mbps Target: x86_64-native-linuxapp-gcc Fail/Total: 0/2 Ubuntu 20.04 Kernel: 4.15.0-generic Compiler: gcc 7.4 NIC: Intel Corporation Ethernet Converged Network Adapter 82599ES 10000 Mbps Target: x86_64-native-linuxapp-gcc Fail/Total: 0/2 To view detailed results, visit: https://lab.dpdk.org/results/dashboard/tarballs/20997/ UNH-IOL DPDK Community Lab To manage your email subscriptions, visit: https://lab.dpdk.org/results/dashboard/preferences/subscriptions/
[-- Attachment #1: Type: text/plain, Size: 954 bytes --] _Functional Testing PASS_ Branch: tags/v21.11 a561d44985d3900d505abb6dd23fa861c5e9eab7 --> functional testing pass Test environment and result as below: Ubuntu 20.04 ARM Kernel: 4.15.0-132-generic Compiler: gcc 7.5 NIC: Arm Intel Corporation Ethernet Converged Network Adapter XL710-QDA2 40000 Mbps Target: x86_64-native-linuxapp-gcc Fail/Total: 0/2 Ubuntu 20.04 Kernel: 4.15.0-generic Compiler: gcc 7.4 NIC: Intel Corporation Ethernet Converged Network Adapter 82599ES 10000 Mbps Target: x86_64-native-linuxapp-gcc Fail/Total: 0/2 Ubuntu 20.04 Kernel: 4.15.0-generic Compiler: gcc 7.4 NIC: Intel Corporation Ethernet Converged Network Adapter XL710-QDA2 40000 Mbps Target: x86_64-native-linuxapp-gcc Fail/Total: 0/2 To view detailed results, visit: https://lab.dpdk.org/results/dashboard/tarballs/20997/ UNH-IOL DPDK Community Lab To manage your email subscriptions, visit: https://lab.dpdk.org/results/dashboard/preferences/subscriptions/
[-- Attachment #1: Type: text/plain, Size: 3182 bytes --] _Testing PASS_ Branch: tags/v21.11 a561d44985d3900d505abb6dd23fa861c5e9eab7 --> testing pass Test environment and result as below: +---------------------+--------------------+----------------------+ | Environment | dpdk_meson_compile | dpdk_mingw64_compile | +=====================+====================+======================+ | FreeBSD 13 | PASS | SKIPPED | +---------------------+--------------------+----------------------+ | Windows Server 2019 | PASS | PASS | +---------------------+--------------------+----------------------+ | Fedora 32 | PASS | SKIPPED | +---------------------+--------------------+----------------------+ | Ubuntu 20.04 | PASS | SKIPPED | +---------------------+--------------------+----------------------+ | RHEL8 | PASS | SKIPPED | +---------------------+--------------------+----------------------+ | RHEL 7 | PASS | SKIPPED | +---------------------+--------------------+----------------------+ | openSUSE Leap 15 | PASS | SKIPPED | +---------------------+--------------------+----------------------+ | Fedora 34 | PASS | SKIPPED | +---------------------+--------------------+----------------------+ | Fedora 31 | PASS | SKIPPED | +---------------------+--------------------+----------------------+ | Fedora 33 | PASS | SKIPPED | +---------------------+--------------------+----------------------+ | Ubuntu 18.04 | PASS | SKIPPED | +---------------------+--------------------+----------------------+ | Fedora 34 clang | PASS | SKIPPED | +---------------------+--------------------+----------------------+ FreeBSD 13 Kernel: 13.0 Compiler: clang 11.0.1 Windows Server 2019 Kernel: 10.0 Compiler: clang 14.0 and gcc 8.1.0 (MinGW) Fedora 32 Kernel: 4.18.0-240.10.1.el8_3.x86_64 Compiler: gcc 10.2.1 Ubuntu 20.04 Kernel: 4.18.0-240.10.1.el8_3.x86_64 Compiler: gcc 9.3.0-17ubuntu1~20.04 RHEL8 Kernel: 4.18.0-240.10.1.el8_3.x86_64 Compiler: gcc 8.3.1 20191121 (Red Hat 8.3.1-5) RHEL 7 Kernel: 4.18.0-240.10.1.el8_3.x86_64 Compiler: gcc 4.8.5 20150623 (Red Hat 4.8.5-44) openSUSE Leap 15 Kernel: 4.18.0-240.10.1.el8_3.x86_64 Compiler: gcc 7.5.0 Fedora 34 Kernel: 5.4.0-72-generic Compiler: gcc 11.1.1 20210428 (Red Hat 11.1.1-1) Fedora 31 Kernel: 4.18.0-240.10.1.el8_3.x86_64 Compiler: gcc 9.3.1 Fedora 33 Kernel: 5.4.0-72-generic Compiler: gcc 10.3.1 20210422 (Red Hat 10.3.1-1) Ubuntu 18.04 Kernel: 4.18.0-240.10.1.el8_3.x86_64 Compiler: gcc 7.5.0-3ubuntu1~18.04 Fedora 34 clang Kernel: 5.4.0-72-generic Compiler: clang 12.0.0 (Fedora 12.0.0-0.3.rc1.fc34) To view detailed results, visit: https://lab.dpdk.org/results/dashboard/tarballs/20997/ UNH-IOL DPDK Community Lab To manage your email subscriptions, visit: https://lab.dpdk.org/results/dashboard/preferences/subscriptions/
[-- Attachment #1: Type: text/plain, Size: 3083 bytes --] _Performance Testing PASS_ Branch: tags/v21.11 a561d44985d3900d505abb6dd23fa861c5e9eab7 --> performance testing pass Test environment and result as below: Ubuntu 20.04 Kernel: 4.15.0-generic Compiler: gcc 7.4 NIC: Intel Corporation Ethernet Converged Network Adapter XL710-QDA2 40000 Mbps Target: x86_64-native-linuxapp-gcc Fail/Total: 0/4 Detail performance results: +----------+-------------+---------+------------+------------------------------+ | num_cpus | num_threads | txd/rxd | frame_size | throughput difference from | | | | | | expected | +==========+=============+=========+============+==============================+ | 1 | 2 | 512 | 64 | 0.2% | +----------+-------------+---------+------------+------------------------------+ | 1 | 2 | 2048 | 64 | 1.3% | +----------+-------------+---------+------------+------------------------------+ | 1 | 1 | 512 | 64 | -2.4% | +----------+-------------+---------+------------+------------------------------+ | 1 | 1 | 2048 | 64 | -0.1% | +----------+-------------+---------+------------+------------------------------+ Ubuntu 20.04 Kernel: 4.15.0-generic Compiler: gcc 7.4 NIC: Intel Corporation Ethernet Converged Network Adapter 82599ES 10000 Mbps Target: x86_64-native-linuxapp-gcc Fail/Total: 0/6 Detail performance results: +----------+-------------+---------+------------+------------------------------+ | num_cpus | num_threads | txd/rxd | frame_size | throughput difference from | | | | | | expected | +==========+=============+=========+============+==============================+ | 1 | 2 | 128 | 64 | -0.0% | +----------+-------------+---------+------------+------------------------------+ | 1 | 2 | 512 | 64 | -0.1% | +----------+-------------+---------+------------+------------------------------+ | 1 | 2 | 2048 | 64 | 0.2% | +----------+-------------+---------+------------+------------------------------+ | 1 | 1 | 128 | 64 | -0.6% | +----------+-------------+---------+------------+------------------------------+ | 1 | 1 | 512 | 64 | 0.3% | +----------+-------------+---------+------------+------------------------------+ | 1 | 1 | 2048 | 64 | -0.2% | +----------+-------------+---------+------------+------------------------------+ To view detailed results, visit: https://lab.dpdk.org/results/dashboard/tarballs/20997/ UNH-IOL DPDK Community Lab To manage your email subscriptions, visit: https://lab.dpdk.org/results/dashboard/preferences/subscriptions/
[-- Attachment #1: Type: text/plain, Size: 1223 bytes --] _Testing PASS_ Branch: tags/v21.11 a561d44985d3900d505abb6dd23fa861c5e9eab7 --> testing pass Test environment and result as below: +-------------------------------+----------------+--------------+ | Environment | dpdk_unit_test | lpm_autotest | +===============================+================+==============+ | Ubuntu 20.04 ARM Clang Native | PASS | SKIPPED | +-------------------------------+----------------+--------------+ | Ubuntu 20.04 ARM GCC Native | PASS | SKIPPED | +-------------------------------+----------------+--------------+ | Ubuntu 20.04 ARM SVE | SKIPPED | PASS | +-------------------------------+----------------+--------------+ Ubuntu 20.04 ARM Clang Native Kernel: 5.4.0-53-generic Compiler: clang 10.0.0-4ubuntu1 Ubuntu 20.04 ARM GCC Native Kernel: 5.4.0-53-generic Compiler: gcc 9.3 Ubuntu 20.04 ARM SVE Kernel: 5.4.0-80-generic Compiler: gcc 10.3.0 (Ubuntu 10.3.0-1ubuntu1~20.04) To view detailed results, visit: https://lab.dpdk.org/results/dashboard/tarballs/20997/ UNH-IOL DPDK Community Lab To manage your email subscriptions, visit: https://lab.dpdk.org/results/dashboard/preferences/subscriptions/
[-- Attachment #1: Type: text/plain, Size: 1421 bytes --] _Testing PASS_ Branch: tags/v21.11 a561d44985d3900d505abb6dd23fa861c5e9eab7 --> testing pass Test environment and result as below: +------------------------------------+--------------------+ | Environment | dpdk_meson_compile | +====================================+====================+ | Ubuntu 20.04 ARM GCC Cross Compile | PASS | +------------------------------------+--------------------+ | Ubuntu 20.04 ARM Clang Native | PASS | +------------------------------------+--------------------+ | Ubuntu 20.04 ARM GCC Native | PASS | +------------------------------------+--------------------+ | Ubuntu 20.04 ARM SVE | PASS | +------------------------------------+--------------------+ Ubuntu 20.04 ARM GCC Cross Compile Kernel: 5.4.0-72-generic Compiler: aarch64-linux-gnu-gcc (Ubuntu 9.3.0-17ubuntu1~20.04) 9.3.0 Ubuntu 20.04 ARM Clang Native Kernel: 5.4.0-53-generic Compiler: clang 10.0.0-4ubuntu1 Ubuntu 20.04 ARM GCC Native Kernel: 5.4.0-53-generic Compiler: gcc 9.3 Ubuntu 20.04 ARM SVE Kernel: 5.4.0-80-generic Compiler: gcc 10.3.0 (Ubuntu 10.3.0-1ubuntu1~20.04) To view detailed results, visit: https://lab.dpdk.org/results/dashboard/tarballs/20997/ UNH-IOL DPDK Community Lab To manage your email subscriptions, visit: https://lab.dpdk.org/results/dashboard/preferences/subscriptions/
[-- Attachment #1: Type: text/plain, Size: 2321 bytes --] _Testing PASS_ Branch: tags/v21.11 a561d44985d3900d505abb6dd23fa861c5e9eab7 --> testing pass Test environment and result as below: +---------------------+----------------+ | Environment | dpdk_unit_test | +=====================+================+ | Windows Server 2019 | PASS | +---------------------+----------------+ | Ubuntu 20.04 | PASS | +---------------------+----------------+ | Fedora 32 | PASS | +---------------------+----------------+ | Fedora 34 | PASS | +---------------------+----------------+ | RHEL8 | PASS | +---------------------+----------------+ | Ubuntu 18.04 | PASS | +---------------------+----------------+ | Fedora 33 | PASS | +---------------------+----------------+ | openSUSE Leap 15 | PASS | +---------------------+----------------+ | Fedora 34 clang | PASS | +---------------------+----------------+ | Fedora 31 | PASS | +---------------------+----------------+ | RHEL 7 | PASS | +---------------------+----------------+ Windows Server 2019 Kernel: 10.0 Compiler: clang 14.0 and gcc 8.1.0 (MinGW) Ubuntu 20.04 Kernel: 4.18.0-240.10.1.el8_3.x86_64 Compiler: gcc 9.3.0-17ubuntu1~20.04 Fedora 32 Kernel: 4.18.0-240.10.1.el8_3.x86_64 Compiler: gcc 10.2.1 Fedora 34 Kernel: 5.4.0-72-generic Compiler: gcc 11.1.1 20210428 (Red Hat 11.1.1-1) RHEL8 Kernel: 4.18.0-240.10.1.el8_3.x86_64 Compiler: gcc 8.3.1 20191121 (Red Hat 8.3.1-5) Ubuntu 18.04 Kernel: 4.18.0-240.10.1.el8_3.x86_64 Compiler: gcc 7.5.0-3ubuntu1~18.04 Fedora 33 Kernel: 5.4.0-72-generic Compiler: gcc 10.3.1 20210422 (Red Hat 10.3.1-1) openSUSE Leap 15 Kernel: 4.18.0-240.10.1.el8_3.x86_64 Compiler: gcc 7.5.0 Fedora 34 clang Kernel: 5.4.0-72-generic Compiler: clang 12.0.0 (Fedora 12.0.0-0.3.rc1.fc34) Fedora 31 Kernel: 4.18.0-240.10.1.el8_3.x86_64 Compiler: gcc 9.3.1 RHEL 7 Kernel: 4.18.0-240.10.1.el8_3.x86_64 Compiler: gcc 4.8.5 20150623 (Red Hat 4.8.5-44) To view detailed results, visit: https://lab.dpdk.org/results/dashboard/tarballs/20997/ UNH-IOL DPDK Community Lab To manage your email subscriptions, visit: https://lab.dpdk.org/results/dashboard/preferences/subscriptions/
[-- Attachment #1: Type: text/plain, Size: 1855 bytes --] _Performance Testing PASS_ Branch: tags/v21.11 a561d44985d3900d505abb6dd23fa861c5e9eab7 --> performance testing pass Test environment and result as below: Ubuntu 20.04 Kernel: 4.15.0-generic Compiler: gcc 7.4 NIC: Mellanox ConnectX-5 100000 Mbps Target: x86_64-native-linuxapp-gcc Fail/Total: 0/6 Detail performance results: +------------+---------+----------+-------------+------------------------------+ | frame_size | txd/rxd | num_cpus | num_threads | throughput difference from | | | | | | expected | +============+=========+==========+=============+==============================+ | 64 | 256 | 1 | 1 | 0.0% | +------------+---------+----------+-------------+------------------------------+ | 128 | 256 | 1 | 1 | -0.2% | +------------+---------+----------+-------------+------------------------------+ | 1024 | 256 | 1 | 1 | 0.0% | +------------+---------+----------+-------------+------------------------------+ | 256 | 256 | 1 | 1 | 0.1% | +------------+---------+----------+-------------+------------------------------+ | 1518 | 256 | 1 | 1 | -0.2% | +------------+---------+----------+-------------+------------------------------+ | 512 | 256 | 1 | 1 | 0.3% | +------------+---------+----------+-------------+------------------------------+ To view detailed results, visit: https://lab.dpdk.org/results/dashboard/tarballs/20999/ UNH-IOL DPDK Community Lab To manage your email subscriptions, visit: https://lab.dpdk.org/results/dashboard/preferences/subscriptions/
[-- Attachment #1: Type: text/plain, Size: 583 bytes --] _Functional Testing PASS_ Branch: tags/v21.11 a561d44985d3900d505abb6dd23fa861c5e9eab7 --> functional testing pass Test environment and result as below: Ubuntu 20.04 ARM Kernel: 4.15.0-132-generic Compiler: gcc 7.5 NIC: Arm Intel Corporation Ethernet Converged Network Adapter XL710-QDA2 40000 Mbps Target: x86_64-native-linuxapp-gcc Fail/Total: 0/2 To view detailed results, visit: https://lab.dpdk.org/results/dashboard/tarballs/20999/ UNH-IOL DPDK Community Lab To manage your email subscriptions, visit: https://lab.dpdk.org/results/dashboard/preferences/subscriptions/
[-- Attachment #1: Type: text/plain, Size: 770 bytes --] _Functional Testing PASS_ Branch: tags/v21.11 a561d44985d3900d505abb6dd23fa861c5e9eab7 --> functional testing pass Test environment and result as below: Ubuntu 20.04 ARM Kernel: 4.15.0-132-generic Compiler: gcc 7.5 NIC: Arm Intel Corporation Ethernet Converged Network Adapter XL710-QDA2 40000 Mbps Target: x86_64-native-linuxapp-gcc Fail/Total: 0/2 Ubuntu 20.04 Kernel: 4.15.0-generic Compiler: gcc 7.4 NIC: Intel Corporation Ethernet Converged Network Adapter XL710-QDA2 40000 Mbps Target: x86_64-native-linuxapp-gcc Fail/Total: 0/2 To view detailed results, visit: https://lab.dpdk.org/results/dashboard/tarballs/20999/ UNH-IOL DPDK Community Lab To manage your email subscriptions, visit: https://lab.dpdk.org/results/dashboard/preferences/subscriptions/
[-- Attachment #1: Type: text/plain, Size: 954 bytes --] _Functional Testing PASS_ Branch: tags/v21.11 a561d44985d3900d505abb6dd23fa861c5e9eab7 --> functional testing pass Test environment and result as below: Ubuntu 20.04 ARM Kernel: 4.15.0-132-generic Compiler: gcc 7.5 NIC: Arm Intel Corporation Ethernet Converged Network Adapter XL710-QDA2 40000 Mbps Target: x86_64-native-linuxapp-gcc Fail/Total: 0/2 Ubuntu 20.04 Kernel: 4.15.0-generic Compiler: gcc 7.4 NIC: Intel Corporation Ethernet Converged Network Adapter XL710-QDA2 40000 Mbps Target: x86_64-native-linuxapp-gcc Fail/Total: 0/2 Ubuntu 20.04 Kernel: 4.15.0-generic Compiler: gcc 7.4 NIC: Intel Corporation Ethernet Converged Network Adapter 82599ES 10000 Mbps Target: x86_64-native-linuxapp-gcc Fail/Total: 0/2 To view detailed results, visit: https://lab.dpdk.org/results/dashboard/tarballs/20999/ UNH-IOL DPDK Community Lab To manage your email subscriptions, visit: https://lab.dpdk.org/results/dashboard/preferences/subscriptions/
[-- Attachment #1: Type: text/plain, Size: 2321 bytes --] _Testing PASS_ Branch: tags/v21.11 a561d44985d3900d505abb6dd23fa861c5e9eab7 --> testing pass Test environment and result as below: +---------------------+----------------+ | Environment | dpdk_unit_test | +=====================+================+ | Windows Server 2019 | PASS | +---------------------+----------------+ | RHEL 7 | PASS | +---------------------+----------------+ | Fedora 34 | PASS | +---------------------+----------------+ | Ubuntu 18.04 | PASS | +---------------------+----------------+ | Fedora 31 | PASS | +---------------------+----------------+ | Ubuntu 20.04 | PASS | +---------------------+----------------+ | openSUSE Leap 15 | PASS | +---------------------+----------------+ | Fedora 32 | PASS | +---------------------+----------------+ | RHEL8 | PASS | +---------------------+----------------+ | Fedora 34 clang | PASS | +---------------------+----------------+ | Fedora 33 | PASS | +---------------------+----------------+ Windows Server 2019 Kernel: 10.0 Compiler: clang 14.0 and gcc 8.1.0 (MinGW) RHEL 7 Kernel: 4.18.0-240.10.1.el8_3.x86_64 Compiler: gcc 4.8.5 20150623 (Red Hat 4.8.5-44) Fedora 34 Kernel: 5.4.0-72-generic Compiler: gcc 11.1.1 20210428 (Red Hat 11.1.1-1) Ubuntu 18.04 Kernel: 4.18.0-240.10.1.el8_3.x86_64 Compiler: gcc 7.5.0-3ubuntu1~18.04 Fedora 31 Kernel: 4.18.0-240.10.1.el8_3.x86_64 Compiler: gcc 9.3.1 Ubuntu 20.04 Kernel: 4.18.0-240.10.1.el8_3.x86_64 Compiler: gcc 9.3.0-17ubuntu1~20.04 openSUSE Leap 15 Kernel: 4.18.0-240.10.1.el8_3.x86_64 Compiler: gcc 7.5.0 Fedora 32 Kernel: 4.18.0-240.10.1.el8_3.x86_64 Compiler: gcc 10.2.1 RHEL8 Kernel: 4.18.0-240.10.1.el8_3.x86_64 Compiler: gcc 8.3.1 20191121 (Red Hat 8.3.1-5) Fedora 34 clang Kernel: 5.4.0-72-generic Compiler: clang 12.0.0 (Fedora 12.0.0-0.3.rc1.fc34) Fedora 33 Kernel: 5.4.0-72-generic Compiler: gcc 10.3.1 20210422 (Red Hat 10.3.1-1) To view detailed results, visit: https://lab.dpdk.org/results/dashboard/tarballs/20999/ UNH-IOL DPDK Community Lab To manage your email subscriptions, visit: https://lab.dpdk.org/results/dashboard/preferences/subscriptions/
[-- Attachment #1: Type: text/plain, Size: 1421 bytes --] _Testing PASS_ Branch: tags/v21.11 a561d44985d3900d505abb6dd23fa861c5e9eab7 --> testing pass Test environment and result as below: +------------------------------------+--------------------+ | Environment | dpdk_meson_compile | +====================================+====================+ | Ubuntu 20.04 ARM GCC Cross Compile | PASS | +------------------------------------+--------------------+ | Ubuntu 20.04 ARM SVE | PASS | +------------------------------------+--------------------+ | Ubuntu 20.04 ARM GCC Native | PASS | +------------------------------------+--------------------+ | Ubuntu 20.04 ARM Clang Native | PASS | +------------------------------------+--------------------+ Ubuntu 20.04 ARM GCC Cross Compile Kernel: 5.4.0-72-generic Compiler: aarch64-linux-gnu-gcc (Ubuntu 9.3.0-17ubuntu1~20.04) 9.3.0 Ubuntu 20.04 ARM SVE Kernel: 5.4.0-80-generic Compiler: gcc 10.3.0 (Ubuntu 10.3.0-1ubuntu1~20.04) Ubuntu 20.04 ARM GCC Native Kernel: 5.4.0-53-generic Compiler: gcc 9.3 Ubuntu 20.04 ARM Clang Native Kernel: 5.4.0-53-generic Compiler: clang 10.0.0-4ubuntu1 To view detailed results, visit: https://lab.dpdk.org/results/dashboard/tarballs/20999/ UNH-IOL DPDK Community Lab To manage your email subscriptions, visit: https://lab.dpdk.org/results/dashboard/preferences/subscriptions/
[-- Attachment #1: Type: text/plain, Size: 3182 bytes --] _Testing PASS_ Branch: tags/v21.11 a561d44985d3900d505abb6dd23fa861c5e9eab7 --> testing pass Test environment and result as below: +---------------------+--------------------+----------------------+ | Environment | dpdk_meson_compile | dpdk_mingw64_compile | +=====================+====================+======================+ | Windows Server 2019 | PASS | PASS | +---------------------+--------------------+----------------------+ | FreeBSD 13 | PASS | SKIPPED | +---------------------+--------------------+----------------------+ | openSUSE Leap 15 | PASS | SKIPPED | +---------------------+--------------------+----------------------+ | Ubuntu 18.04 | PASS | SKIPPED | +---------------------+--------------------+----------------------+ | Fedora 31 | PASS | SKIPPED | +---------------------+--------------------+----------------------+ | RHEL 7 | PASS | SKIPPED | +---------------------+--------------------+----------------------+ | Ubuntu 20.04 | PASS | SKIPPED | +---------------------+--------------------+----------------------+ | Fedora 33 | PASS | SKIPPED | +---------------------+--------------------+----------------------+ | Fedora 32 | PASS | SKIPPED | +---------------------+--------------------+----------------------+ | RHEL8 | PASS | SKIPPED | +---------------------+--------------------+----------------------+ | Fedora 34 | PASS | SKIPPED | +---------------------+--------------------+----------------------+ | Fedora 34 clang | PASS | SKIPPED | +---------------------+--------------------+----------------------+ Windows Server 2019 Kernel: 10.0 Compiler: clang 14.0 and gcc 8.1.0 (MinGW) FreeBSD 13 Kernel: 13.0 Compiler: clang 11.0.1 openSUSE Leap 15 Kernel: 4.18.0-240.10.1.el8_3.x86_64 Compiler: gcc 7.5.0 Ubuntu 18.04 Kernel: 4.18.0-240.10.1.el8_3.x86_64 Compiler: gcc 7.5.0-3ubuntu1~18.04 Fedora 31 Kernel: 4.18.0-240.10.1.el8_3.x86_64 Compiler: gcc 9.3.1 RHEL 7 Kernel: 4.18.0-240.10.1.el8_3.x86_64 Compiler: gcc 4.8.5 20150623 (Red Hat 4.8.5-44) Ubuntu 20.04 Kernel: 4.18.0-240.10.1.el8_3.x86_64 Compiler: gcc 9.3.0-17ubuntu1~20.04 Fedora 33 Kernel: 5.4.0-72-generic Compiler: gcc 10.3.1 20210422 (Red Hat 10.3.1-1) Fedora 32 Kernel: 4.18.0-240.10.1.el8_3.x86_64 Compiler: gcc 10.2.1 RHEL8 Kernel: 4.18.0-240.10.1.el8_3.x86_64 Compiler: gcc 8.3.1 20191121 (Red Hat 8.3.1-5) Fedora 34 Kernel: 5.4.0-72-generic Compiler: gcc 11.1.1 20210428 (Red Hat 11.1.1-1) Fedora 34 clang Kernel: 5.4.0-72-generic Compiler: clang 12.0.0 (Fedora 12.0.0-0.3.rc1.fc34) To view detailed results, visit: https://lab.dpdk.org/results/dashboard/tarballs/20999/ UNH-IOL DPDK Community Lab To manage your email subscriptions, visit: https://lab.dpdk.org/results/dashboard/preferences/subscriptions/
[-- Attachment #1: Type: text/plain, Size: 1574 bytes --] _Performance Testing PASS_ Branch: tags/v21.11 a561d44985d3900d505abb6dd23fa861c5e9eab7 --> performance testing pass Test environment and result as below: Ubuntu 20.04 Kernel: 4.15.0-generic Compiler: gcc 7.4 NIC: Intel Corporation Ethernet Converged Network Adapter XL710-QDA2 40000 Mbps Target: x86_64-native-linuxapp-gcc Fail/Total: 0/4 Detail performance results: +----------+-------------+---------+------------+------------------------------+ | num_cpus | num_threads | txd/rxd | frame_size | throughput difference from | | | | | | expected | +==========+=============+=========+============+==============================+ | 1 | 2 | 512 | 64 | 0.1% | +----------+-------------+---------+------------+------------------------------+ | 1 | 2 | 2048 | 64 | 2.6% | +----------+-------------+---------+------------+------------------------------+ | 1 | 1 | 512 | 64 | 0.4% | +----------+-------------+---------+------------+------------------------------+ | 1 | 1 | 2048 | 64 | 0.7% | +----------+-------------+---------+------------+------------------------------+ To view detailed results, visit: https://lab.dpdk.org/results/dashboard/tarballs/20999/ UNH-IOL DPDK Community Lab To manage your email subscriptions, visit: https://lab.dpdk.org/results/dashboard/preferences/subscriptions/
[-- Attachment #1: Type: text/plain, Size: 1223 bytes --] _Testing PASS_ Branch: tags/v21.11 a561d44985d3900d505abb6dd23fa861c5e9eab7 --> testing pass Test environment and result as below: +-------------------------------+--------------+----------------+ | Environment | lpm_autotest | dpdk_unit_test | +===============================+==============+================+ | Ubuntu 20.04 ARM SVE | PASS | SKIPPED | +-------------------------------+--------------+----------------+ | Ubuntu 20.04 ARM GCC Native | SKIPPED | PASS | +-------------------------------+--------------+----------------+ | Ubuntu 20.04 ARM Clang Native | SKIPPED | PASS | +-------------------------------+--------------+----------------+ Ubuntu 20.04 ARM SVE Kernel: 5.4.0-80-generic Compiler: gcc 10.3.0 (Ubuntu 10.3.0-1ubuntu1~20.04) Ubuntu 20.04 ARM GCC Native Kernel: 5.4.0-53-generic Compiler: gcc 9.3 Ubuntu 20.04 ARM Clang Native Kernel: 5.4.0-53-generic Compiler: clang 10.0.0-4ubuntu1 To view detailed results, visit: https://lab.dpdk.org/results/dashboard/tarballs/20999/ UNH-IOL DPDK Community Lab To manage your email subscriptions, visit: https://lab.dpdk.org/results/dashboard/preferences/subscriptions/
[-- Attachment #1: Type: text/plain, Size: 3083 bytes --] _Performance Testing PASS_ Branch: tags/v21.11 a561d44985d3900d505abb6dd23fa861c5e9eab7 --> performance testing pass Test environment and result as below: Ubuntu 20.04 Kernel: 4.15.0-generic Compiler: gcc 7.4 NIC: Intel Corporation Ethernet Converged Network Adapter XL710-QDA2 40000 Mbps Target: x86_64-native-linuxapp-gcc Fail/Total: 0/4 Detail performance results: +----------+-------------+---------+------------+------------------------------+ | num_cpus | num_threads | txd/rxd | frame_size | throughput difference from | | | | | | expected | +==========+=============+=========+============+==============================+ | 1 | 2 | 512 | 64 | 0.1% | +----------+-------------+---------+------------+------------------------------+ | 1 | 2 | 2048 | 64 | 2.6% | +----------+-------------+---------+------------+------------------------------+ | 1 | 1 | 512 | 64 | 0.4% | +----------+-------------+---------+------------+------------------------------+ | 1 | 1 | 2048 | 64 | 0.7% | +----------+-------------+---------+------------+------------------------------+ Ubuntu 20.04 Kernel: 4.15.0-generic Compiler: gcc 7.4 NIC: Intel Corporation Ethernet Converged Network Adapter 82599ES 10000 Mbps Target: x86_64-native-linuxapp-gcc Fail/Total: 0/6 Detail performance results: +----------+-------------+---------+------------+------------------------------+ | num_cpus | num_threads | txd/rxd | frame_size | throughput difference from | | | | | | expected | +==========+=============+=========+============+==============================+ | 1 | 2 | 128 | 64 | 0.1% | +----------+-------------+---------+------------+------------------------------+ | 1 | 2 | 512 | 64 | -0.0% | +----------+-------------+---------+------------+------------------------------+ | 1 | 2 | 2048 | 64 | -0.2% | +----------+-------------+---------+------------+------------------------------+ | 1 | 1 | 128 | 64 | 0.4% | +----------+-------------+---------+------------+------------------------------+ | 1 | 1 | 512 | 64 | -0.2% | +----------+-------------+---------+------------+------------------------------+ | 1 | 1 | 2048 | 64 | -0.2% | +----------+-------------+---------+------------+------------------------------+ To view detailed results, visit: https://lab.dpdk.org/results/dashboard/tarballs/20999/ UNH-IOL DPDK Community Lab To manage your email subscriptions, visit: https://lab.dpdk.org/results/dashboard/preferences/subscriptions/
[-- Attachment #1: Type: text/plain, Size: 1855 bytes --] _Performance Testing PASS_ Branch: tags/v21.11 a561d44985d3900d505abb6dd23fa861c5e9eab7 --> performance testing pass Test environment and result as below: Ubuntu 20.04 Kernel: 4.15.0-generic Compiler: gcc 7.4 NIC: Mellanox ConnectX-5 100000 Mbps Target: x86_64-native-linuxapp-gcc Fail/Total: 0/6 Detail performance results: +------------+---------+----------+-------------+------------------------------+ | frame_size | txd/rxd | num_cpus | num_threads | throughput difference from | | | | | | expected | +============+=========+==========+=============+==============================+ | 64 | 256 | 1 | 1 | -0.1% | +------------+---------+----------+-------------+------------------------------+ | 128 | 256 | 1 | 1 | 0.2% | +------------+---------+----------+-------------+------------------------------+ | 1024 | 256 | 1 | 1 | -0.1% | +------------+---------+----------+-------------+------------------------------+ | 256 | 256 | 1 | 1 | -0.1% | +------------+---------+----------+-------------+------------------------------+ | 1518 | 256 | 1 | 1 | 0.1% | +------------+---------+----------+-------------+------------------------------+ | 512 | 256 | 1 | 1 | -0.4% | +------------+---------+----------+-------------+------------------------------+ To view detailed results, visit: https://lab.dpdk.org/results/dashboard/tarballs/21001/ UNH-IOL DPDK Community Lab To manage your email subscriptions, visit: https://lab.dpdk.org/results/dashboard/preferences/subscriptions/
[-- Attachment #1: Type: text/plain, Size: 583 bytes --] _Functional Testing PASS_ Branch: tags/v21.11 a561d44985d3900d505abb6dd23fa861c5e9eab7 --> functional testing pass Test environment and result as below: Ubuntu 20.04 ARM Kernel: 4.15.0-132-generic Compiler: gcc 7.5 NIC: Arm Intel Corporation Ethernet Converged Network Adapter XL710-QDA2 40000 Mbps Target: x86_64-native-linuxapp-gcc Fail/Total: 0/2 To view detailed results, visit: https://lab.dpdk.org/results/dashboard/tarballs/21001/ UNH-IOL DPDK Community Lab To manage your email subscriptions, visit: https://lab.dpdk.org/results/dashboard/preferences/subscriptions/
[-- Attachment #1: Type: text/plain, Size: 2321 bytes --] _Testing PASS_ Branch: tags/v21.11 a561d44985d3900d505abb6dd23fa861c5e9eab7 --> testing pass Test environment and result as below: +---------------------+----------------+ | Environment | dpdk_unit_test | +=====================+================+ | Windows Server 2019 | PASS | +---------------------+----------------+ | Ubuntu 18.04 | PASS | +---------------------+----------------+ | Fedora 31 | PASS | +---------------------+----------------+ | RHEL 7 | PASS | +---------------------+----------------+ | Fedora 32 | PASS | +---------------------+----------------+ | Fedora 34 | PASS | +---------------------+----------------+ | Fedora 33 | PASS | +---------------------+----------------+ | Ubuntu 20.04 | PASS | +---------------------+----------------+ | RHEL8 | PASS | +---------------------+----------------+ | Fedora 34 clang | PASS | +---------------------+----------------+ | openSUSE Leap 15 | PASS | +---------------------+----------------+ Windows Server 2019 Kernel: 10.0 Compiler: clang 14.0 and gcc 8.1.0 (MinGW) Ubuntu 18.04 Kernel: 4.18.0-240.10.1.el8_3.x86_64 Compiler: gcc 7.5.0-3ubuntu1~18.04 Fedora 31 Kernel: 4.18.0-240.10.1.el8_3.x86_64 Compiler: gcc 9.3.1 RHEL 7 Kernel: 4.18.0-240.10.1.el8_3.x86_64 Compiler: gcc 4.8.5 20150623 (Red Hat 4.8.5-44) Fedora 32 Kernel: 4.18.0-240.10.1.el8_3.x86_64 Compiler: gcc 10.2.1 Fedora 34 Kernel: 5.4.0-72-generic Compiler: gcc 11.1.1 20210428 (Red Hat 11.1.1-1) Fedora 33 Kernel: 5.4.0-72-generic Compiler: gcc 10.3.1 20210422 (Red Hat 10.3.1-1) Ubuntu 20.04 Kernel: 4.18.0-240.10.1.el8_3.x86_64 Compiler: gcc 9.3.0-17ubuntu1~20.04 RHEL8 Kernel: 4.18.0-240.10.1.el8_3.x86_64 Compiler: gcc 8.3.1 20191121 (Red Hat 8.3.1-5) Fedora 34 clang Kernel: 5.4.0-72-generic Compiler: clang 12.0.0 (Fedora 12.0.0-0.3.rc1.fc34) openSUSE Leap 15 Kernel: 4.18.0-240.10.1.el8_3.x86_64 Compiler: gcc 7.5.0 To view detailed results, visit: https://lab.dpdk.org/results/dashboard/tarballs/21001/ UNH-IOL DPDK Community Lab To manage your email subscriptions, visit: https://lab.dpdk.org/results/dashboard/preferences/subscriptions/
[-- Attachment #1: Type: text/plain, Size: 1574 bytes --] _Performance Testing PASS_ Branch: tags/v21.11 a561d44985d3900d505abb6dd23fa861c5e9eab7 --> performance testing pass Test environment and result as below: Ubuntu 20.04 Kernel: 4.15.0-generic Compiler: gcc 7.4 NIC: Intel Corporation Ethernet Converged Network Adapter XL710-QDA2 40000 Mbps Target: x86_64-native-linuxapp-gcc Fail/Total: 0/4 Detail performance results: +----------+-------------+---------+------------+------------------------------+ | num_cpus | num_threads | txd/rxd | frame_size | throughput difference from | | | | | | expected | +==========+=============+=========+============+==============================+ | 1 | 2 | 512 | 64 | -0.2% | +----------+-------------+---------+------------+------------------------------+ | 1 | 2 | 2048 | 64 | -4.3% | +----------+-------------+---------+------------+------------------------------+ | 1 | 1 | 512 | 64 | -2.5% | +----------+-------------+---------+------------+------------------------------+ | 1 | 1 | 2048 | 64 | 0.2% | +----------+-------------+---------+------------+------------------------------+ To view detailed results, visit: https://lab.dpdk.org/results/dashboard/tarballs/21001/ UNH-IOL DPDK Community Lab To manage your email subscriptions, visit: https://lab.dpdk.org/results/dashboard/preferences/subscriptions/
[-- Attachment #1: Type: text/plain, Size: 3182 bytes --] _Testing PASS_ Branch: tags/v21.11 a561d44985d3900d505abb6dd23fa861c5e9eab7 --> testing pass Test environment and result as below: +---------------------+--------------------+----------------------+ | Environment | dpdk_meson_compile | dpdk_mingw64_compile | +=====================+====================+======================+ | Windows Server 2019 | PASS | PASS | +---------------------+--------------------+----------------------+ | FreeBSD 13 | PASS | SKIPPED | +---------------------+--------------------+----------------------+ | openSUSE Leap 15 | PASS | SKIPPED | +---------------------+--------------------+----------------------+ | RHEL 7 | PASS | SKIPPED | +---------------------+--------------------+----------------------+ | Ubuntu 20.04 | PASS | SKIPPED | +---------------------+--------------------+----------------------+ | Fedora 31 | PASS | SKIPPED | +---------------------+--------------------+----------------------+ | Ubuntu 18.04 | PASS | SKIPPED | +---------------------+--------------------+----------------------+ | Fedora 34 | PASS | SKIPPED | +---------------------+--------------------+----------------------+ | Fedora 33 | PASS | SKIPPED | +---------------------+--------------------+----------------------+ | Fedora 32 | PASS | SKIPPED | +---------------------+--------------------+----------------------+ | RHEL8 | PASS | SKIPPED | +---------------------+--------------------+----------------------+ | Fedora 34 clang | PASS | SKIPPED | +---------------------+--------------------+----------------------+ Windows Server 2019 Kernel: 10.0 Compiler: clang 14.0 and gcc 8.1.0 (MinGW) FreeBSD 13 Kernel: 13.0 Compiler: clang 11.0.1 openSUSE Leap 15 Kernel: 4.18.0-240.10.1.el8_3.x86_64 Compiler: gcc 7.5.0 RHEL 7 Kernel: 4.18.0-240.10.1.el8_3.x86_64 Compiler: gcc 4.8.5 20150623 (Red Hat 4.8.5-44) Ubuntu 20.04 Kernel: 4.18.0-240.10.1.el8_3.x86_64 Compiler: gcc 9.3.0-17ubuntu1~20.04 Fedora 31 Kernel: 4.18.0-240.10.1.el8_3.x86_64 Compiler: gcc 9.3.1 Ubuntu 18.04 Kernel: 4.18.0-240.10.1.el8_3.x86_64 Compiler: gcc 7.5.0-3ubuntu1~18.04 Fedora 34 Kernel: 5.4.0-72-generic Compiler: gcc 11.1.1 20210428 (Red Hat 11.1.1-1) Fedora 33 Kernel: 5.4.0-72-generic Compiler: gcc 10.3.1 20210422 (Red Hat 10.3.1-1) Fedora 32 Kernel: 4.18.0-240.10.1.el8_3.x86_64 Compiler: gcc 10.2.1 RHEL8 Kernel: 4.18.0-240.10.1.el8_3.x86_64 Compiler: gcc 8.3.1 20191121 (Red Hat 8.3.1-5) Fedora 34 clang Kernel: 5.4.0-72-generic Compiler: clang 12.0.0 (Fedora 12.0.0-0.3.rc1.fc34) To view detailed results, visit: https://lab.dpdk.org/results/dashboard/tarballs/21001/ UNH-IOL DPDK Community Lab To manage your email subscriptions, visit: https://lab.dpdk.org/results/dashboard/preferences/subscriptions/
[-- Attachment #1: Type: text/plain, Size: 3083 bytes --] _Performance Testing PASS_ Branch: tags/v21.11 a561d44985d3900d505abb6dd23fa861c5e9eab7 --> performance testing pass Test environment and result as below: Ubuntu 20.04 Kernel: 4.15.0-generic Compiler: gcc 7.4 NIC: Intel Corporation Ethernet Converged Network Adapter XL710-QDA2 40000 Mbps Target: x86_64-native-linuxapp-gcc Fail/Total: 0/4 Detail performance results: +----------+-------------+---------+------------+------------------------------+ | num_cpus | num_threads | txd/rxd | frame_size | throughput difference from | | | | | | expected | +==========+=============+=========+============+==============================+ | 1 | 2 | 512 | 64 | -0.2% | +----------+-------------+---------+------------+------------------------------+ | 1 | 2 | 2048 | 64 | -4.3% | +----------+-------------+---------+------------+------------------------------+ | 1 | 1 | 512 | 64 | -2.5% | +----------+-------------+---------+------------+------------------------------+ | 1 | 1 | 2048 | 64 | 0.2% | +----------+-------------+---------+------------+------------------------------+ Ubuntu 20.04 Kernel: 4.15.0-generic Compiler: gcc 7.4 NIC: Intel Corporation Ethernet Converged Network Adapter 82599ES 10000 Mbps Target: x86_64-native-linuxapp-gcc Fail/Total: 0/6 Detail performance results: +----------+-------------+---------+------------+------------------------------+ | num_cpus | num_threads | txd/rxd | frame_size | throughput difference from | | | | | | expected | +==========+=============+=========+============+==============================+ | 1 | 2 | 128 | 64 | -0.1% | +----------+-------------+---------+------------+------------------------------+ | 1 | 2 | 512 | 64 | 0.1% | +----------+-------------+---------+------------+------------------------------+ | 1 | 2 | 2048 | 64 | -0.0% | +----------+-------------+---------+------------+------------------------------+ | 1 | 1 | 128 | 64 | -0.2% | +----------+-------------+---------+------------+------------------------------+ | 1 | 1 | 512 | 64 | -0.0% | +----------+-------------+---------+------------+------------------------------+ | 1 | 1 | 2048 | 64 | 0.2% | +----------+-------------+---------+------------+------------------------------+ To view detailed results, visit: https://lab.dpdk.org/results/dashboard/tarballs/21001/ UNH-IOL DPDK Community Lab To manage your email subscriptions, visit: https://lab.dpdk.org/results/dashboard/preferences/subscriptions/
[-- Attachment #1: Type: text/plain, Size: 770 bytes --] _Functional Testing PASS_ Branch: tags/v21.11 a561d44985d3900d505abb6dd23fa861c5e9eab7 --> functional testing pass Test environment and result as below: Ubuntu 20.04 ARM Kernel: 4.15.0-132-generic Compiler: gcc 7.5 NIC: Arm Intel Corporation Ethernet Converged Network Adapter XL710-QDA2 40000 Mbps Target: x86_64-native-linuxapp-gcc Fail/Total: 0/2 Ubuntu 20.04 Kernel: 4.15.0-generic Compiler: gcc 7.4 NIC: Intel Corporation Ethernet Converged Network Adapter XL710-QDA2 40000 Mbps Target: x86_64-native-linuxapp-gcc Fail/Total: 0/2 To view detailed results, visit: https://lab.dpdk.org/results/dashboard/tarballs/21001/ UNH-IOL DPDK Community Lab To manage your email subscriptions, visit: https://lab.dpdk.org/results/dashboard/preferences/subscriptions/
[-- Attachment #1: Type: text/plain, Size: 1223 bytes --] _Testing PASS_ Branch: tags/v21.11 a561d44985d3900d505abb6dd23fa861c5e9eab7 --> testing pass Test environment and result as below: +-------------------------------+--------------+----------------+ | Environment | lpm_autotest | dpdk_unit_test | +===============================+==============+================+ | Ubuntu 20.04 ARM SVE | PASS | SKIPPED | +-------------------------------+--------------+----------------+ | Ubuntu 20.04 ARM GCC Native | SKIPPED | PASS | +-------------------------------+--------------+----------------+ | Ubuntu 20.04 ARM Clang Native | SKIPPED | PASS | +-------------------------------+--------------+----------------+ Ubuntu 20.04 ARM SVE Kernel: 5.4.0-80-generic Compiler: gcc 10.3.0 (Ubuntu 10.3.0-1ubuntu1~20.04) Ubuntu 20.04 ARM GCC Native Kernel: 5.4.0-53-generic Compiler: gcc 9.3 Ubuntu 20.04 ARM Clang Native Kernel: 5.4.0-53-generic Compiler: clang 10.0.0-4ubuntu1 To view detailed results, visit: https://lab.dpdk.org/results/dashboard/tarballs/21001/ UNH-IOL DPDK Community Lab To manage your email subscriptions, visit: https://lab.dpdk.org/results/dashboard/preferences/subscriptions/
[-- Attachment #1: Type: text/plain, Size: 954 bytes --] _Functional Testing PASS_ Branch: tags/v21.11 a561d44985d3900d505abb6dd23fa861c5e9eab7 --> functional testing pass Test environment and result as below: Ubuntu 20.04 ARM Kernel: 4.15.0-132-generic Compiler: gcc 7.5 NIC: Arm Intel Corporation Ethernet Converged Network Adapter XL710-QDA2 40000 Mbps Target: x86_64-native-linuxapp-gcc Fail/Total: 0/2 Ubuntu 20.04 Kernel: 4.15.0-generic Compiler: gcc 7.4 NIC: Intel Corporation Ethernet Converged Network Adapter XL710-QDA2 40000 Mbps Target: x86_64-native-linuxapp-gcc Fail/Total: 0/2 Ubuntu 20.04 Kernel: 4.15.0-generic Compiler: gcc 7.4 NIC: Intel Corporation Ethernet Converged Network Adapter 82599ES 10000 Mbps Target: x86_64-native-linuxapp-gcc Fail/Total: 0/2 To view detailed results, visit: https://lab.dpdk.org/results/dashboard/tarballs/21001/ UNH-IOL DPDK Community Lab To manage your email subscriptions, visit: https://lab.dpdk.org/results/dashboard/preferences/subscriptions/
[-- Attachment #1: Type: text/plain, Size: 1421 bytes --] _Testing PASS_ Branch: tags/v21.11 a561d44985d3900d505abb6dd23fa861c5e9eab7 --> testing pass Test environment and result as below: +------------------------------------+--------------------+ | Environment | dpdk_meson_compile | +====================================+====================+ | Ubuntu 20.04 ARM GCC Cross Compile | PASS | +------------------------------------+--------------------+ | Ubuntu 20.04 ARM GCC Native | PASS | +------------------------------------+--------------------+ | Ubuntu 20.04 ARM Clang Native | PASS | +------------------------------------+--------------------+ | Ubuntu 20.04 ARM SVE | PASS | +------------------------------------+--------------------+ Ubuntu 20.04 ARM GCC Cross Compile Kernel: 5.4.0-72-generic Compiler: aarch64-linux-gnu-gcc (Ubuntu 9.3.0-17ubuntu1~20.04) 9.3.0 Ubuntu 20.04 ARM GCC Native Kernel: 5.4.0-53-generic Compiler: gcc 9.3 Ubuntu 20.04 ARM Clang Native Kernel: 5.4.0-53-generic Compiler: clang 10.0.0-4ubuntu1 Ubuntu 20.04 ARM SVE Kernel: 5.4.0-80-generic Compiler: gcc 10.3.0 (Ubuntu 10.3.0-1ubuntu1~20.04) To view detailed results, visit: https://lab.dpdk.org/results/dashboard/tarballs/21001/ UNH-IOL DPDK Community Lab To manage your email subscriptions, visit: https://lab.dpdk.org/results/dashboard/preferences/subscriptions/
[-- Attachment #1: Type: text/plain, Size: 571 bytes --] _Functional Testing PASS_ Branch: tags/v21.11 a561d44985d3900d505abb6dd23fa861c5e9eab7 --> functional testing pass Test environment and result as below: Ubuntu 20.04 Kernel: 4.15.0-generic Compiler: gcc 7.4 NIC: Intel Corporation Ethernet Converged Network Adapter XL710-QDA2 40000 Mbps Target: x86_64-native-linuxapp-gcc Fail/Total: 0/2 To view detailed results, visit: https://lab.dpdk.org/results/dashboard/tarballs/21046/ UNH-IOL DPDK Community Lab To manage your email subscriptions, visit: https://lab.dpdk.org/results/dashboard/preferences/subscriptions/
[-- Attachment #1: Type: text/plain, Size: 1855 bytes --] _Performance Testing PASS_ Branch: tags/v21.11 a561d44985d3900d505abb6dd23fa861c5e9eab7 --> performance testing pass Test environment and result as below: Ubuntu 20.04 Kernel: 4.15.0-generic Compiler: gcc 7.4 NIC: Mellanox ConnectX-5 100000 Mbps Target: x86_64-native-linuxapp-gcc Fail/Total: 0/6 Detail performance results: +------------+---------+----------+-------------+------------------------------+ | frame_size | txd/rxd | num_cpus | num_threads | throughput difference from | | | | | | expected | +============+=========+==========+=============+==============================+ | 64 | 256 | 1 | 1 | 0.2% | +------------+---------+----------+-------------+------------------------------+ | 128 | 256 | 1 | 1 | -0.3% | +------------+---------+----------+-------------+------------------------------+ | 1024 | 256 | 1 | 1 | -0.1% | +------------+---------+----------+-------------+------------------------------+ | 256 | 256 | 1 | 1 | 0.2% | +------------+---------+----------+-------------+------------------------------+ | 1518 | 256 | 1 | 1 | 0.1% | +------------+---------+----------+-------------+------------------------------+ | 512 | 256 | 1 | 1 | -0.2% | +------------+---------+----------+-------------+------------------------------+ To view detailed results, visit: https://lab.dpdk.org/results/dashboard/tarballs/21046/ UNH-IOL DPDK Community Lab To manage your email subscriptions, visit: https://lab.dpdk.org/results/dashboard/preferences/subscriptions/
[-- Attachment #1: Type: text/plain, Size: 770 bytes --] _Functional Testing PASS_ Branch: tags/v21.11 a561d44985d3900d505abb6dd23fa861c5e9eab7 --> functional testing pass Test environment and result as below: Ubuntu 20.04 Kernel: 4.15.0-generic Compiler: gcc 7.4 NIC: Intel Corporation Ethernet Converged Network Adapter XL710-QDA2 40000 Mbps Target: x86_64-native-linuxapp-gcc Fail/Total: 0/2 Ubuntu 20.04 ARM Kernel: 4.15.0-132-generic Compiler: gcc 7.5 NIC: Arm Intel Corporation Ethernet Converged Network Adapter XL710-QDA2 40000 Mbps Target: x86_64-native-linuxapp-gcc Fail/Total: 0/2 To view detailed results, visit: https://lab.dpdk.org/results/dashboard/tarballs/21046/ UNH-IOL DPDK Community Lab To manage your email subscriptions, visit: https://lab.dpdk.org/results/dashboard/preferences/subscriptions/
[-- Attachment #1: Type: text/plain, Size: 1574 bytes --] _Performance Testing PASS_ Branch: tags/v21.11 a561d44985d3900d505abb6dd23fa861c5e9eab7 --> performance testing pass Test environment and result as below: Ubuntu 20.04 Kernel: 4.15.0-generic Compiler: gcc 7.4 NIC: Intel Corporation Ethernet Converged Network Adapter XL710-QDA2 40000 Mbps Target: x86_64-native-linuxapp-gcc Fail/Total: 0/4 Detail performance results: +----------+-------------+---------+------------+------------------------------+ | num_cpus | num_threads | txd/rxd | frame_size | throughput difference from | | | | | | expected | +==========+=============+=========+============+==============================+ | 1 | 2 | 512 | 64 | -1.6% | +----------+-------------+---------+------------+------------------------------+ | 1 | 2 | 2048 | 64 | 2.5% | +----------+-------------+---------+------------+------------------------------+ | 1 | 1 | 512 | 64 | 3.2% | +----------+-------------+---------+------------+------------------------------+ | 1 | 1 | 2048 | 64 | -0.6% | +----------+-------------+---------+------------+------------------------------+ To view detailed results, visit: https://lab.dpdk.org/results/dashboard/tarballs/21046/ UNH-IOL DPDK Community Lab To manage your email subscriptions, visit: https://lab.dpdk.org/results/dashboard/preferences/subscriptions/
[-- Attachment #1: Type: text/plain, Size: 2321 bytes --] _Testing PASS_ Branch: tags/v21.11 a561d44985d3900d505abb6dd23fa861c5e9eab7 --> testing pass Test environment and result as below: +---------------------+----------------+ | Environment | dpdk_unit_test | +=====================+================+ | Windows Server 2019 | PASS | +---------------------+----------------+ | openSUSE Leap 15 | PASS | +---------------------+----------------+ | Ubuntu 18.04 | PASS | +---------------------+----------------+ | RHEL 7 | PASS | +---------------------+----------------+ | Fedora 31 | PASS | +---------------------+----------------+ | Ubuntu 20.04 | PASS | +---------------------+----------------+ | Fedora 32 | PASS | +---------------------+----------------+ | Fedora 34 | PASS | +---------------------+----------------+ | Fedora 33 | PASS | +---------------------+----------------+ | RHEL8 | PASS | +---------------------+----------------+ | Fedora 34 clang | PASS | +---------------------+----------------+ Windows Server 2019 Kernel: 10.0 Compiler: clang 14.0 and gcc 8.1.0 (MinGW) openSUSE Leap 15 Kernel: 4.18.0-240.10.1.el8_3.x86_64 Compiler: gcc 7.5.0 Ubuntu 18.04 Kernel: 4.18.0-240.10.1.el8_3.x86_64 Compiler: gcc 7.5.0-3ubuntu1~18.04 RHEL 7 Kernel: 4.18.0-240.10.1.el8_3.x86_64 Compiler: gcc 4.8.5 20150623 (Red Hat 4.8.5-44) Fedora 31 Kernel: 4.18.0-240.10.1.el8_3.x86_64 Compiler: gcc 9.3.1 Ubuntu 20.04 Kernel: 4.18.0-240.10.1.el8_3.x86_64 Compiler: gcc 9.3.0-17ubuntu1~20.04 Fedora 32 Kernel: 4.18.0-240.10.1.el8_3.x86_64 Compiler: gcc 10.2.1 Fedora 34 Kernel: 5.4.0-72-generic Compiler: gcc 11.1.1 20210428 (Red Hat 11.1.1-1) Fedora 33 Kernel: 5.4.0-72-generic Compiler: gcc 10.3.1 20210422 (Red Hat 10.3.1-1) RHEL8 Kernel: 4.18.0-240.10.1.el8_3.x86_64 Compiler: gcc 8.3.1 20191121 (Red Hat 8.3.1-5) Fedora 34 clang Kernel: 5.4.0-72-generic Compiler: clang 12.0.0 (Fedora 12.0.0-0.3.rc1.fc34) To view detailed results, visit: https://lab.dpdk.org/results/dashboard/tarballs/21046/ UNH-IOL DPDK Community Lab To manage your email subscriptions, visit: https://lab.dpdk.org/results/dashboard/preferences/subscriptions/
[-- Attachment #1: Type: text/plain, Size: 1223 bytes --] _Testing PASS_ Branch: tags/v21.11 a561d44985d3900d505abb6dd23fa861c5e9eab7 --> testing pass Test environment and result as below: +-------------------------------+----------------+--------------+ | Environment | dpdk_unit_test | lpm_autotest | +===============================+================+==============+ | Ubuntu 20.04 ARM Clang Native | PASS | SKIPPED | +-------------------------------+----------------+--------------+ | Ubuntu 20.04 ARM GCC Native | PASS | SKIPPED | +-------------------------------+----------------+--------------+ | Ubuntu 20.04 ARM SVE | SKIPPED | PASS | +-------------------------------+----------------+--------------+ Ubuntu 20.04 ARM Clang Native Kernel: 5.4.0-53-generic Compiler: clang 10.0.0-4ubuntu1 Ubuntu 20.04 ARM GCC Native Kernel: 5.4.0-53-generic Compiler: gcc 9.3 Ubuntu 20.04 ARM SVE Kernel: 5.4.0-80-generic Compiler: gcc 10.3.0 (Ubuntu 10.3.0-1ubuntu1~20.04) To view detailed results, visit: https://lab.dpdk.org/results/dashboard/tarballs/21046/ UNH-IOL DPDK Community Lab To manage your email subscriptions, visit: https://lab.dpdk.org/results/dashboard/preferences/subscriptions/
[-- Attachment #1: Type: text/plain, Size: 3182 bytes --] _Testing PASS_ Branch: tags/v21.11 a561d44985d3900d505abb6dd23fa861c5e9eab7 --> testing pass Test environment and result as below: +---------------------+--------------------+----------------------+ | Environment | dpdk_meson_compile | dpdk_mingw64_compile | +=====================+====================+======================+ | FreeBSD 13 | PASS | SKIPPED | +---------------------+--------------------+----------------------+ | Windows Server 2019 | PASS | PASS | +---------------------+--------------------+----------------------+ | openSUSE Leap 15 | PASS | SKIPPED | +---------------------+--------------------+----------------------+ | Ubuntu 20.04 | PASS | SKIPPED | +---------------------+--------------------+----------------------+ | Fedora 32 | PASS | SKIPPED | +---------------------+--------------------+----------------------+ | Fedora 33 | PASS | SKIPPED | +---------------------+--------------------+----------------------+ | Ubuntu 18.04 | PASS | SKIPPED | +---------------------+--------------------+----------------------+ | Fedora 31 | PASS | SKIPPED | +---------------------+--------------------+----------------------+ | RHEL 7 | PASS | SKIPPED | +---------------------+--------------------+----------------------+ | RHEL8 | PASS | SKIPPED | +---------------------+--------------------+----------------------+ | Fedora 34 | PASS | SKIPPED | +---------------------+--------------------+----------------------+ | Fedora 34 clang | PASS | SKIPPED | +---------------------+--------------------+----------------------+ FreeBSD 13 Kernel: 13.0 Compiler: clang 11.0.1 Windows Server 2019 Kernel: 10.0 Compiler: clang 14.0 and gcc 8.1.0 (MinGW) openSUSE Leap 15 Kernel: 4.18.0-240.10.1.el8_3.x86_64 Compiler: gcc 7.5.0 Ubuntu 20.04 Kernel: 4.18.0-240.10.1.el8_3.x86_64 Compiler: gcc 9.3.0-17ubuntu1~20.04 Fedora 32 Kernel: 4.18.0-240.10.1.el8_3.x86_64 Compiler: gcc 10.2.1 Fedora 33 Kernel: 5.4.0-72-generic Compiler: gcc 10.3.1 20210422 (Red Hat 10.3.1-1) Ubuntu 18.04 Kernel: 4.18.0-240.10.1.el8_3.x86_64 Compiler: gcc 7.5.0-3ubuntu1~18.04 Fedora 31 Kernel: 4.18.0-240.10.1.el8_3.x86_64 Compiler: gcc 9.3.1 RHEL 7 Kernel: 4.18.0-240.10.1.el8_3.x86_64 Compiler: gcc 4.8.5 20150623 (Red Hat 4.8.5-44) RHEL8 Kernel: 4.18.0-240.10.1.el8_3.x86_64 Compiler: gcc 8.3.1 20191121 (Red Hat 8.3.1-5) Fedora 34 Kernel: 5.4.0-72-generic Compiler: gcc 11.1.1 20210428 (Red Hat 11.1.1-1) Fedora 34 clang Kernel: 5.4.0-72-generic Compiler: clang 12.0.0 (Fedora 12.0.0-0.3.rc1.fc34) To view detailed results, visit: https://lab.dpdk.org/results/dashboard/tarballs/21046/ UNH-IOL DPDK Community Lab To manage your email subscriptions, visit: https://lab.dpdk.org/results/dashboard/preferences/subscriptions/
[-- Attachment #1: Type: text/plain, Size: 1421 bytes --] _Testing PASS_ Branch: tags/v21.11 a561d44985d3900d505abb6dd23fa861c5e9eab7 --> testing pass Test environment and result as below: +------------------------------------+--------------------+ | Environment | dpdk_meson_compile | +====================================+====================+ | Ubuntu 20.04 ARM Clang Native | PASS | +------------------------------------+--------------------+ | Ubuntu 20.04 ARM GCC Native | PASS | +------------------------------------+--------------------+ | Ubuntu 20.04 ARM GCC Cross Compile | PASS | +------------------------------------+--------------------+ | Ubuntu 20.04 ARM SVE | PASS | +------------------------------------+--------------------+ Ubuntu 20.04 ARM Clang Native Kernel: 5.4.0-53-generic Compiler: clang 10.0.0-4ubuntu1 Ubuntu 20.04 ARM GCC Native Kernel: 5.4.0-53-generic Compiler: gcc 9.3 Ubuntu 20.04 ARM GCC Cross Compile Kernel: 5.4.0-72-generic Compiler: aarch64-linux-gnu-gcc (Ubuntu 9.3.0-17ubuntu1~20.04) 9.3.0 Ubuntu 20.04 ARM SVE Kernel: 5.4.0-80-generic Compiler: gcc 10.3.0 (Ubuntu 10.3.0-1ubuntu1~20.04) To view detailed results, visit: https://lab.dpdk.org/results/dashboard/tarballs/21046/ UNH-IOL DPDK Community Lab To manage your email subscriptions, visit: https://lab.dpdk.org/results/dashboard/preferences/subscriptions/
[-- Attachment #1: Type: text/plain, Size: 954 bytes --] _Functional Testing PASS_ Branch: tags/v21.11 a561d44985d3900d505abb6dd23fa861c5e9eab7 --> functional testing pass Test environment and result as below: Ubuntu 20.04 Kernel: 4.15.0-generic Compiler: gcc 7.4 NIC: Intel Corporation Ethernet Converged Network Adapter XL710-QDA2 40000 Mbps Target: x86_64-native-linuxapp-gcc Fail/Total: 0/2 Ubuntu 20.04 Kernel: 4.15.0-generic Compiler: gcc 7.4 NIC: Intel Corporation Ethernet Converged Network Adapter 82599ES 10000 Mbps Target: x86_64-native-linuxapp-gcc Fail/Total: 0/2 Ubuntu 20.04 ARM Kernel: 4.15.0-132-generic Compiler: gcc 7.5 NIC: Arm Intel Corporation Ethernet Converged Network Adapter XL710-QDA2 40000 Mbps Target: x86_64-native-linuxapp-gcc Fail/Total: 0/2 To view detailed results, visit: https://lab.dpdk.org/results/dashboard/tarballs/21046/ UNH-IOL DPDK Community Lab To manage your email subscriptions, visit: https://lab.dpdk.org/results/dashboard/preferences/subscriptions/
[-- Attachment #1: Type: text/plain, Size: 3083 bytes --] _Performance Testing PASS_ Branch: tags/v21.11 a561d44985d3900d505abb6dd23fa861c5e9eab7 --> performance testing pass Test environment and result as below: Ubuntu 20.04 Kernel: 4.15.0-generic Compiler: gcc 7.4 NIC: Intel Corporation Ethernet Converged Network Adapter XL710-QDA2 40000 Mbps Target: x86_64-native-linuxapp-gcc Fail/Total: 0/4 Detail performance results: +----------+-------------+---------+------------+------------------------------+ | num_cpus | num_threads | txd/rxd | frame_size | throughput difference from | | | | | | expected | +==========+=============+=========+============+==============================+ | 1 | 2 | 512 | 64 | -1.6% | +----------+-------------+---------+------------+------------------------------+ | 1 | 2 | 2048 | 64 | 2.5% | +----------+-------------+---------+------------+------------------------------+ | 1 | 1 | 512 | 64 | 3.2% | +----------+-------------+---------+------------+------------------------------+ | 1 | 1 | 2048 | 64 | -0.6% | +----------+-------------+---------+------------+------------------------------+ Ubuntu 20.04 Kernel: 4.15.0-generic Compiler: gcc 7.4 NIC: Intel Corporation Ethernet Converged Network Adapter 82599ES 10000 Mbps Target: x86_64-native-linuxapp-gcc Fail/Total: 0/6 Detail performance results: +----------+-------------+---------+------------+------------------------------+ | num_cpus | num_threads | txd/rxd | frame_size | throughput difference from | | | | | | expected | +==========+=============+=========+============+==============================+ | 1 | 2 | 128 | 64 | 0.1% | +----------+-------------+---------+------------+------------------------------+ | 1 | 2 | 512 | 64 | -0.0% | +----------+-------------+---------+------------+------------------------------+ | 1 | 2 | 2048 | 64 | -0.1% | +----------+-------------+---------+------------+------------------------------+ | 1 | 1 | 128 | 64 | 0.1% | +----------+-------------+---------+------------+------------------------------+ | 1 | 1 | 512 | 64 | 0.1% | +----------+-------------+---------+------------+------------------------------+ | 1 | 1 | 2048 | 64 | 0.1% | +----------+-------------+---------+------------+------------------------------+ To view detailed results, visit: https://lab.dpdk.org/results/dashboard/tarballs/21046/ UNH-IOL DPDK Community Lab To manage your email subscriptions, visit: https://lab.dpdk.org/results/dashboard/preferences/subscriptions/
[-- Attachment #1: Type: text/plain, Size: 568 bytes --] _Functional Testing PASS_ Branch: tags/v21.11 a561d44985d3900d505abb6dd23fa861c5e9eab7 --> functional testing pass Test environment and result as below: Ubuntu 20.04 Kernel: 4.15.0-generic Compiler: gcc 7.4 NIC: Intel Corporation Ethernet Converged Network Adapter 82599ES 10000 Mbps Target: x86_64-native-linuxapp-gcc Fail/Total: 0/2 To view detailed results, visit: https://lab.dpdk.org/results/dashboard/tarballs/21049/ UNH-IOL DPDK Community Lab To manage your email subscriptions, visit: https://lab.dpdk.org/results/dashboard/preferences/subscriptions/
[-- Attachment #1: Type: text/plain, Size: 1855 bytes --] _Performance Testing PASS_ Branch: tags/v21.11 a561d44985d3900d505abb6dd23fa861c5e9eab7 --> performance testing pass Test environment and result as below: Ubuntu 20.04 Kernel: 4.15.0-generic Compiler: gcc 7.4 NIC: Mellanox ConnectX-5 100000 Mbps Target: x86_64-native-linuxapp-gcc Fail/Total: 0/6 Detail performance results: +------------+---------+----------+-------------+------------------------------+ | frame_size | txd/rxd | num_cpus | num_threads | throughput difference from | | | | | | expected | +============+=========+==========+=============+==============================+ | 64 | 256 | 1 | 1 | 0.1% | +------------+---------+----------+-------------+------------------------------+ | 128 | 256 | 1 | 1 | 0.2% | +------------+---------+----------+-------------+------------------------------+ | 1024 | 256 | 1 | 1 | 0.0% | +------------+---------+----------+-------------+------------------------------+ | 256 | 256 | 1 | 1 | -0.0% | +------------+---------+----------+-------------+------------------------------+ | 1518 | 256 | 1 | 1 | -0.2% | +------------+---------+----------+-------------+------------------------------+ | 512 | 256 | 1 | 1 | 0.6% | +------------+---------+----------+-------------+------------------------------+ To view detailed results, visit: https://lab.dpdk.org/results/dashboard/tarballs/21049/ UNH-IOL DPDK Community Lab To manage your email subscriptions, visit: https://lab.dpdk.org/results/dashboard/preferences/subscriptions/
[-- Attachment #1: Type: text/plain, Size: 1574 bytes --] _Performance Testing PASS_ Branch: tags/v21.11 a561d44985d3900d505abb6dd23fa861c5e9eab7 --> performance testing pass Test environment and result as below: Ubuntu 20.04 Kernel: 4.15.0-generic Compiler: gcc 7.4 NIC: Intel Corporation Ethernet Converged Network Adapter XL710-QDA2 40000 Mbps Target: x86_64-native-linuxapp-gcc Fail/Total: 0/4 Detail performance results: +----------+-------------+---------+------------+------------------------------+ | num_cpus | num_threads | txd/rxd | frame_size | throughput difference from | | | | | | expected | +==========+=============+=========+============+==============================+ | 1 | 2 | 512 | 64 | 1.3% | +----------+-------------+---------+------------+------------------------------+ | 1 | 2 | 2048 | 64 | 0.0% | +----------+-------------+---------+------------+------------------------------+ | 1 | 1 | 512 | 64 | -1.6% | +----------+-------------+---------+------------+------------------------------+ | 1 | 1 | 2048 | 64 | -0.4% | +----------+-------------+---------+------------+------------------------------+ To view detailed results, visit: https://lab.dpdk.org/results/dashboard/tarballs/21049/ UNH-IOL DPDK Community Lab To manage your email subscriptions, visit: https://lab.dpdk.org/results/dashboard/preferences/subscriptions/
[-- Attachment #1: Type: text/plain, Size: 767 bytes --] _Functional Testing PASS_ Branch: tags/v21.11 a561d44985d3900d505abb6dd23fa861c5e9eab7 --> functional testing pass Test environment and result as below: Ubuntu 20.04 Kernel: 4.15.0-generic Compiler: gcc 7.4 NIC: Intel Corporation Ethernet Converged Network Adapter 82599ES 10000 Mbps Target: x86_64-native-linuxapp-gcc Fail/Total: 0/2 Ubuntu 20.04 ARM Kernel: 4.15.0-132-generic Compiler: gcc 7.5 NIC: Arm Intel Corporation Ethernet Converged Network Adapter XL710-QDA2 40000 Mbps Target: x86_64-native-linuxapp-gcc Fail/Total: 0/2 To view detailed results, visit: https://lab.dpdk.org/results/dashboard/tarballs/21049/ UNH-IOL DPDK Community Lab To manage your email subscriptions, visit: https://lab.dpdk.org/results/dashboard/preferences/subscriptions/
[-- Attachment #1: Type: text/plain, Size: 954 bytes --] _Functional Testing PASS_ Branch: tags/v21.11 a561d44985d3900d505abb6dd23fa861c5e9eab7 --> functional testing pass Test environment and result as below: Ubuntu 20.04 Kernel: 4.15.0-generic Compiler: gcc 7.4 NIC: Intel Corporation Ethernet Converged Network Adapter 82599ES 10000 Mbps Target: x86_64-native-linuxapp-gcc Fail/Total: 0/2 Ubuntu 20.04 Kernel: 4.15.0-generic Compiler: gcc 7.4 NIC: Intel Corporation Ethernet Converged Network Adapter XL710-QDA2 40000 Mbps Target: x86_64-native-linuxapp-gcc Fail/Total: 0/2 Ubuntu 20.04 ARM Kernel: 4.15.0-132-generic Compiler: gcc 7.5 NIC: Arm Intel Corporation Ethernet Converged Network Adapter XL710-QDA2 40000 Mbps Target: x86_64-native-linuxapp-gcc Fail/Total: 0/2 To view detailed results, visit: https://lab.dpdk.org/results/dashboard/tarballs/21049/ UNH-IOL DPDK Community Lab To manage your email subscriptions, visit: https://lab.dpdk.org/results/dashboard/preferences/subscriptions/
[-- Attachment #1: Type: text/plain, Size: 3083 bytes --] _Performance Testing PASS_ Branch: tags/v21.11 a561d44985d3900d505abb6dd23fa861c5e9eab7 --> performance testing pass Test environment and result as below: Ubuntu 20.04 Kernel: 4.15.0-generic Compiler: gcc 7.4 NIC: Intel Corporation Ethernet Converged Network Adapter XL710-QDA2 40000 Mbps Target: x86_64-native-linuxapp-gcc Fail/Total: 0/4 Detail performance results: +----------+-------------+---------+------------+------------------------------+ | num_cpus | num_threads | txd/rxd | frame_size | throughput difference from | | | | | | expected | +==========+=============+=========+============+==============================+ | 1 | 2 | 512 | 64 | 1.3% | +----------+-------------+---------+------------+------------------------------+ | 1 | 2 | 2048 | 64 | 0.0% | +----------+-------------+---------+------------+------------------------------+ | 1 | 1 | 512 | 64 | -1.6% | +----------+-------------+---------+------------+------------------------------+ | 1 | 1 | 2048 | 64 | -0.4% | +----------+-------------+---------+------------+------------------------------+ Ubuntu 20.04 Kernel: 4.15.0-generic Compiler: gcc 7.4 NIC: Intel Corporation Ethernet Converged Network Adapter 82599ES 10000 Mbps Target: x86_64-native-linuxapp-gcc Fail/Total: 0/6 Detail performance results: +----------+-------------+---------+------------+------------------------------+ | num_cpus | num_threads | txd/rxd | frame_size | throughput difference from | | | | | | expected | +==========+=============+=========+============+==============================+ | 1 | 2 | 128 | 64 | -0.2% | +----------+-------------+---------+------------+------------------------------+ | 1 | 2 | 512 | 64 | -0.0% | +----------+-------------+---------+------------+------------------------------+ | 1 | 2 | 2048 | 64 | 0.4% | +----------+-------------+---------+------------+------------------------------+ | 1 | 1 | 128 | 64 | 0.1% | +----------+-------------+---------+------------+------------------------------+ | 1 | 1 | 512 | 64 | 0.1% | +----------+-------------+---------+------------+------------------------------+ | 1 | 1 | 2048 | 64 | -0.0% | +----------+-------------+---------+------------+------------------------------+ To view detailed results, visit: https://lab.dpdk.org/results/dashboard/tarballs/21049/ UNH-IOL DPDK Community Lab To manage your email subscriptions, visit: https://lab.dpdk.org/results/dashboard/preferences/subscriptions/
[-- Attachment #1: Type: text/plain, Size: 2321 bytes --] _Testing PASS_ Branch: tags/v21.11 a561d44985d3900d505abb6dd23fa861c5e9eab7 --> testing pass Test environment and result as below: +---------------------+----------------+ | Environment | dpdk_unit_test | +=====================+================+ | Windows Server 2019 | PASS | +---------------------+----------------+ | Fedora 31 | PASS | +---------------------+----------------+ | Fedora 34 | PASS | +---------------------+----------------+ | Fedora 33 | PASS | +---------------------+----------------+ | RHEL8 | PASS | +---------------------+----------------+ | RHEL 7 | PASS | +---------------------+----------------+ | Ubuntu 18.04 | PASS | +---------------------+----------------+ | Ubuntu 20.04 | PASS | +---------------------+----------------+ | openSUSE Leap 15 | PASS | +---------------------+----------------+ | Fedora 32 | PASS | +---------------------+----------------+ | Fedora 34 clang | PASS | +---------------------+----------------+ Windows Server 2019 Kernel: 10.0 Compiler: clang 14.0 and gcc 8.1.0 (MinGW) Fedora 31 Kernel: 4.18.0-240.10.1.el8_3.x86_64 Compiler: gcc 9.3.1 Fedora 34 Kernel: 5.4.0-72-generic Compiler: gcc 11.1.1 20210428 (Red Hat 11.1.1-1) Fedora 33 Kernel: 5.4.0-72-generic Compiler: gcc 10.3.1 20210422 (Red Hat 10.3.1-1) RHEL8 Kernel: 4.18.0-240.10.1.el8_3.x86_64 Compiler: gcc 8.3.1 20191121 (Red Hat 8.3.1-5) RHEL 7 Kernel: 4.18.0-240.10.1.el8_3.x86_64 Compiler: gcc 4.8.5 20150623 (Red Hat 4.8.5-44) Ubuntu 18.04 Kernel: 4.18.0-240.10.1.el8_3.x86_64 Compiler: gcc 7.5.0-3ubuntu1~18.04 Ubuntu 20.04 Kernel: 4.18.0-240.10.1.el8_3.x86_64 Compiler: gcc 9.3.0-17ubuntu1~20.04 openSUSE Leap 15 Kernel: 4.18.0-240.10.1.el8_3.x86_64 Compiler: gcc 7.5.0 Fedora 32 Kernel: 4.18.0-240.10.1.el8_3.x86_64 Compiler: gcc 10.2.1 Fedora 34 clang Kernel: 5.4.0-72-generic Compiler: clang 12.0.0 (Fedora 12.0.0-0.3.rc1.fc34) To view detailed results, visit: https://lab.dpdk.org/results/dashboard/tarballs/21049/ UNH-IOL DPDK Community Lab To manage your email subscriptions, visit: https://lab.dpdk.org/results/dashboard/preferences/subscriptions/
[-- Attachment #1: Type: text/plain, Size: 1223 bytes --] _Testing PASS_ Branch: tags/v21.11 a561d44985d3900d505abb6dd23fa861c5e9eab7 --> testing pass Test environment and result as below: +-------------------------------+----------------+--------------+ | Environment | dpdk_unit_test | lpm_autotest | +===============================+================+==============+ | Ubuntu 20.04 ARM GCC Native | PASS | SKIPPED | +-------------------------------+----------------+--------------+ | Ubuntu 20.04 ARM Clang Native | PASS | SKIPPED | +-------------------------------+----------------+--------------+ | Ubuntu 20.04 ARM SVE | SKIPPED | PASS | +-------------------------------+----------------+--------------+ Ubuntu 20.04 ARM GCC Native Kernel: 5.4.0-53-generic Compiler: gcc 9.3 Ubuntu 20.04 ARM Clang Native Kernel: 5.4.0-53-generic Compiler: clang 10.0.0-4ubuntu1 Ubuntu 20.04 ARM SVE Kernel: 5.4.0-80-generic Compiler: gcc 10.3.0 (Ubuntu 10.3.0-1ubuntu1~20.04) To view detailed results, visit: https://lab.dpdk.org/results/dashboard/tarballs/21049/ UNH-IOL DPDK Community Lab To manage your email subscriptions, visit: https://lab.dpdk.org/results/dashboard/preferences/subscriptions/
[-- Attachment #1: Type: text/plain, Size: 3182 bytes --] _Testing PASS_ Branch: tags/v21.11 a561d44985d3900d505abb6dd23fa861c5e9eab7 --> testing pass Test environment and result as below: +---------------------+--------------------+----------------------+ | Environment | dpdk_meson_compile | dpdk_mingw64_compile | +=====================+====================+======================+ | FreeBSD 13 | PASS | SKIPPED | +---------------------+--------------------+----------------------+ | Windows Server 2019 | PASS | PASS | +---------------------+--------------------+----------------------+ | openSUSE Leap 15 | PASS | SKIPPED | +---------------------+--------------------+----------------------+ | Fedora 31 | PASS | SKIPPED | +---------------------+--------------------+----------------------+ | RHEL8 | PASS | SKIPPED | +---------------------+--------------------+----------------------+ | Fedora 32 | PASS | SKIPPED | +---------------------+--------------------+----------------------+ | Fedora 33 | PASS | SKIPPED | +---------------------+--------------------+----------------------+ | Ubuntu 18.04 | PASS | SKIPPED | +---------------------+--------------------+----------------------+ | RHEL 7 | PASS | SKIPPED | +---------------------+--------------------+----------------------+ | Fedora 34 clang | PASS | SKIPPED | +---------------------+--------------------+----------------------+ | Ubuntu 20.04 | PASS | SKIPPED | +---------------------+--------------------+----------------------+ | Fedora 34 | PASS | SKIPPED | +---------------------+--------------------+----------------------+ FreeBSD 13 Kernel: 13.0 Compiler: clang 11.0.1 Windows Server 2019 Kernel: 10.0 Compiler: clang 14.0 and gcc 8.1.0 (MinGW) openSUSE Leap 15 Kernel: 4.18.0-240.10.1.el8_3.x86_64 Compiler: gcc 7.5.0 Fedora 31 Kernel: 4.18.0-240.10.1.el8_3.x86_64 Compiler: gcc 9.3.1 RHEL8 Kernel: 4.18.0-240.10.1.el8_3.x86_64 Compiler: gcc 8.3.1 20191121 (Red Hat 8.3.1-5) Fedora 32 Kernel: 4.18.0-240.10.1.el8_3.x86_64 Compiler: gcc 10.2.1 Fedora 33 Kernel: 5.4.0-72-generic Compiler: gcc 10.3.1 20210422 (Red Hat 10.3.1-1) Ubuntu 18.04 Kernel: 4.18.0-240.10.1.el8_3.x86_64 Compiler: gcc 7.5.0-3ubuntu1~18.04 RHEL 7 Kernel: 4.18.0-240.10.1.el8_3.x86_64 Compiler: gcc 4.8.5 20150623 (Red Hat 4.8.5-44) Fedora 34 clang Kernel: 5.4.0-72-generic Compiler: clang 12.0.0 (Fedora 12.0.0-0.3.rc1.fc34) Ubuntu 20.04 Kernel: 4.18.0-240.10.1.el8_3.x86_64 Compiler: gcc 9.3.0-17ubuntu1~20.04 Fedora 34 Kernel: 5.4.0-72-generic Compiler: gcc 11.1.1 20210428 (Red Hat 11.1.1-1) To view detailed results, visit: https://lab.dpdk.org/results/dashboard/tarballs/21049/ UNH-IOL DPDK Community Lab To manage your email subscriptions, visit: https://lab.dpdk.org/results/dashboard/preferences/subscriptions/
[-- Attachment #1: Type: text/plain, Size: 1421 bytes --] _Testing PASS_ Branch: tags/v21.11 a561d44985d3900d505abb6dd23fa861c5e9eab7 --> testing pass Test environment and result as below: +------------------------------------+--------------------+ | Environment | dpdk_meson_compile | +====================================+====================+ | Ubuntu 20.04 ARM GCC Native | PASS | +------------------------------------+--------------------+ | Ubuntu 20.04 ARM Clang Native | PASS | +------------------------------------+--------------------+ | Ubuntu 20.04 ARM GCC Cross Compile | PASS | +------------------------------------+--------------------+ | Ubuntu 20.04 ARM SVE | PASS | +------------------------------------+--------------------+ Ubuntu 20.04 ARM GCC Native Kernel: 5.4.0-53-generic Compiler: gcc 9.3 Ubuntu 20.04 ARM Clang Native Kernel: 5.4.0-53-generic Compiler: clang 10.0.0-4ubuntu1 Ubuntu 20.04 ARM GCC Cross Compile Kernel: 5.4.0-72-generic Compiler: aarch64-linux-gnu-gcc (Ubuntu 9.3.0-17ubuntu1~20.04) 9.3.0 Ubuntu 20.04 ARM SVE Kernel: 5.4.0-80-generic Compiler: gcc 10.3.0 (Ubuntu 10.3.0-1ubuntu1~20.04) To view detailed results, visit: https://lab.dpdk.org/results/dashboard/tarballs/21049/ UNH-IOL DPDK Community Lab To manage your email subscriptions, visit: https://lab.dpdk.org/results/dashboard/preferences/subscriptions/