* |SUCCESS| pw119182-119184 [PATCH] [v4, 3/3] ethdev: add structure for indirect AGE update
@ 2022-10-26 23:18 dpdklab
0 siblings, 0 replies; 9+ messages in thread
From: dpdklab @ 2022-10-26 23:18 UTC (permalink / raw)
To: Test Report; +Cc: dpdk-test-reports, David Marchand, Thomas Monjalon
[-- Attachment #1: Type: text/plain, Size: 3310 bytes --]
Test-Label: iol-intel-Performance
Test-Status: SUCCESS
http://dpdk.org/patch/119184
_Performance Testing PASS_
Submitter: Michael Baum <michaelba@nvidia.com>
Date: Wednesday, October 26 2022 21:49:43
DPDK git baseline: Repo:dpdk
Branch: master
CommitID:e6b42038e859407af3c8eb0d7d588570622f687a
119182-119184 --> performance testing pass
Test environment and result as below:
Ubuntu 20.04
Kernel: 4.15.0-generic
Compiler: gcc 7.4
NIC: Intel Corporation Ethernet Converged Network Adapter XL710-QDA2 40000 Mbps
Target: x86_64-native-linuxapp-gcc
Fail/Total: 0/4
Detail performance results:
+----------+-------------+---------+------------+------------------------------+
| num_cpus | num_threads | txd/rxd | frame_size | throughput difference from |
| | | | | expected |
+==========+=============+=========+============+==============================+
| 1 | 2 | 512 | 64 | -0.6% |
+----------+-------------+---------+------------+------------------------------+
| 1 | 2 | 2048 | 64 | -0.1% |
+----------+-------------+---------+------------+------------------------------+
| 1 | 1 | 512 | 64 | 2.9% |
+----------+-------------+---------+------------+------------------------------+
| 1 | 1 | 2048 | 64 | -0.1% |
+----------+-------------+---------+------------+------------------------------+
Ubuntu 20.04
Kernel: 4.15.0-generic
Compiler: gcc 7.4
NIC: Intel Corporation Ethernet Converged Network Adapter 82599ES 10000 Mbps
Target: x86_64-native-linuxapp-gcc
Fail/Total: 0/6
Detail performance results:
+----------+-------------+---------+------------+------------------------------+
| num_cpus | num_threads | txd/rxd | frame_size | throughput difference from |
| | | | | expected |
+==========+=============+=========+============+==============================+
| 1 | 2 | 128 | 64 | 0.2% |
+----------+-------------+---------+------------+------------------------------+
| 1 | 2 | 512 | 64 | -0.1% |
+----------+-------------+---------+------------+------------------------------+
| 1 | 2 | 2048 | 64 | -0.1% |
+----------+-------------+---------+------------+------------------------------+
| 1 | 1 | 128 | 64 | 0.4% |
+----------+-------------+---------+------------+------------------------------+
| 1 | 1 | 512 | 64 | 1.1% |
+----------+-------------+---------+------------+------------------------------+
| 1 | 1 | 2048 | 64 | 0.2% |
+----------+-------------+---------+------------+------------------------------+
To view detailed results, visit:
https://lab.dpdk.org/results/dashboard/patchsets/24210/
UNH-IOL DPDK Community Lab
To manage your email subscriptions, visit:
https://lab.dpdk.org/results/dashboard/preferences/subscriptions/
^ permalink raw reply [flat|nested] 9+ messages in thread
* |SUCCESS| pw119182-119184 [PATCH] [v4, 3/3] ethdev: add structure for indirect AGE update
@ 2022-10-26 23:25 dpdklab
0 siblings, 0 replies; 9+ messages in thread
From: dpdklab @ 2022-10-26 23:25 UTC (permalink / raw)
To: Test Report; +Cc: dpdk-test-reports, David Marchand, Thomas Monjalon
[-- Attachment #1: Type: text/plain, Size: 1180 bytes --]
Test-Label: iol-intel-Functional
Test-Status: SUCCESS
http://dpdk.org/patch/119184
_Functional Testing PASS_
Submitter: Michael Baum <michaelba@nvidia.com>
Date: Wednesday, October 26 2022 21:49:43
DPDK git baseline: Repo:dpdk
Branch: master
CommitID:e6b42038e859407af3c8eb0d7d588570622f687a
119182-119184 --> functional testing pass
Test environment and result as below:
Ubuntu 20.04 ARM
Kernel: 4.15.0-132-generic
Compiler: gcc 7.5
NIC: Arm Intel Corporation Ethernet Converged Network Adapter XL710-QDA2 40000 Mbps
Target: x86_64-native-linuxapp-gcc
Fail/Total: 0/2
Ubuntu 20.04
Kernel: 4.15.0-generic
Compiler: gcc 7.4
NIC: Intel Corporation Ethernet Converged Network Adapter XL710-QDA2 40000 Mbps
Target: x86_64-native-linuxapp-gcc
Fail/Total: 0/2
Ubuntu 20.04
Kernel: 4.15.0-generic
Compiler: gcc 7.4
NIC: Intel Corporation Ethernet Converged Network Adapter 82599ES 10000 Mbps
Target: x86_64-native-linuxapp-gcc
Fail/Total: 0/2
To view detailed results, visit:
https://lab.dpdk.org/results/dashboard/patchsets/24210/
UNH-IOL DPDK Community Lab
To manage your email subscriptions, visit:
https://lab.dpdk.org/results/dashboard/preferences/subscriptions/
^ permalink raw reply [flat|nested] 9+ messages in thread
* |SUCCESS| pw119182-119184 [PATCH] [v4, 3/3] ethdev: add structure for indirect AGE update
@ 2022-10-26 22:55 dpdklab
0 siblings, 0 replies; 9+ messages in thread
From: dpdklab @ 2022-10-26 22:55 UTC (permalink / raw)
To: Test Report; +Cc: dpdk-test-reports, David Marchand, Thomas Monjalon
[-- Attachment #1: Type: text/plain, Size: 996 bytes --]
Test-Label: iol-intel-Functional
Test-Status: SUCCESS
http://dpdk.org/patch/119184
_Functional Testing PASS_
Submitter: Michael Baum <michaelba@nvidia.com>
Date: Wednesday, October 26 2022 21:49:43
DPDK git baseline: Repo:dpdk
Branch: master
CommitID:e6b42038e859407af3c8eb0d7d588570622f687a
119182-119184 --> functional testing pass
Test environment and result as below:
Ubuntu 20.04 ARM
Kernel: 4.15.0-132-generic
Compiler: gcc 7.5
NIC: Arm Intel Corporation Ethernet Converged Network Adapter XL710-QDA2 40000 Mbps
Target: x86_64-native-linuxapp-gcc
Fail/Total: 0/2
Ubuntu 20.04
Kernel: 4.15.0-generic
Compiler: gcc 7.4
NIC: Intel Corporation Ethernet Converged Network Adapter XL710-QDA2 40000 Mbps
Target: x86_64-native-linuxapp-gcc
Fail/Total: 0/2
To view detailed results, visit:
https://lab.dpdk.org/results/dashboard/patchsets/24210/
UNH-IOL DPDK Community Lab
To manage your email subscriptions, visit:
https://lab.dpdk.org/results/dashboard/preferences/subscriptions/
^ permalink raw reply [flat|nested] 9+ messages in thread
* |SUCCESS| pw119182-119184 [PATCH] [v4, 3/3] ethdev: add structure for indirect AGE update
@ 2022-10-26 22:48 dpdklab
0 siblings, 0 replies; 9+ messages in thread
From: dpdklab @ 2022-10-26 22:48 UTC (permalink / raw)
To: Test Report; +Cc: dpdk-test-reports, David Marchand, Thomas Monjalon
[-- Attachment #1: Type: text/plain, Size: 1801 bytes --]
Test-Label: iol-intel-Performance
Test-Status: SUCCESS
http://dpdk.org/patch/119184
_Performance Testing PASS_
Submitter: Michael Baum <michaelba@nvidia.com>
Date: Wednesday, October 26 2022 21:49:43
DPDK git baseline: Repo:dpdk
Branch: master
CommitID:e6b42038e859407af3c8eb0d7d588570622f687a
119182-119184 --> performance testing pass
Test environment and result as below:
Ubuntu 20.04
Kernel: 4.15.0-generic
Compiler: gcc 7.4
NIC: Intel Corporation Ethernet Converged Network Adapter XL710-QDA2 40000 Mbps
Target: x86_64-native-linuxapp-gcc
Fail/Total: 0/4
Detail performance results:
+----------+-------------+---------+------------+------------------------------+
| num_cpus | num_threads | txd/rxd | frame_size | throughput difference from |
| | | | | expected |
+==========+=============+=========+============+==============================+
| 1 | 2 | 512 | 64 | -0.6% |
+----------+-------------+---------+------------+------------------------------+
| 1 | 2 | 2048 | 64 | -0.1% |
+----------+-------------+---------+------------+------------------------------+
| 1 | 1 | 512 | 64 | 2.9% |
+----------+-------------+---------+------------+------------------------------+
| 1 | 1 | 2048 | 64 | -0.1% |
+----------+-------------+---------+------------+------------------------------+
To view detailed results, visit:
https://lab.dpdk.org/results/dashboard/patchsets/24210/
UNH-IOL DPDK Community Lab
To manage your email subscriptions, visit:
https://lab.dpdk.org/results/dashboard/preferences/subscriptions/
^ permalink raw reply [flat|nested] 9+ messages in thread
* |SUCCESS| pw119182-119184 [PATCH] [v4, 3/3] ethdev: add structure for indirect AGE update
@ 2022-10-26 22:34 dpdklab
0 siblings, 0 replies; 9+ messages in thread
From: dpdklab @ 2022-10-26 22:34 UTC (permalink / raw)
To: Test Report; +Cc: dpdklab, David Marchand, Thomas Monjalon
[-- Attachment #1: Type: text/plain, Size: 1115 bytes --]
Test-Label: iol-aarch64-unit-testing
Test-Status: SUCCESS
http://dpdk.org/patch/119184
_Testing PASS_
Submitter: Michael Baum <michaelba@nvidia.com>
Date: Wednesday, October 26 2022 21:49:43
DPDK git baseline: Repo:dpdk
Branch: master
CommitID:e6b42038e859407af3c8eb0d7d588570622f687a
119182-119184 --> testing pass
Test environment and result as below:
+-------------------------------+----------------+
| Environment | dpdk_unit_test |
+===============================+================+
| Ubuntu 20.04 ARM GCC Native | PASS |
+-------------------------------+----------------+
| Ubuntu 20.04 ARM Clang Native | PASS |
+-------------------------------+----------------+
Ubuntu 20.04 ARM GCC Native
Kernel: 5.4.0-53-generic
Compiler: gcc 9.3
Ubuntu 20.04 ARM Clang Native
Kernel: 5.4.0-53-generic
Compiler: clang 10.0.0-4ubuntu1
To view detailed results, visit:
https://lab.dpdk.org/results/dashboard/patchsets/24210/
UNH-IOL DPDK Community Lab
To manage your email subscriptions, visit:
https://lab.dpdk.org/results/dashboard/preferences/subscriptions/
^ permalink raw reply [flat|nested] 9+ messages in thread
* |SUCCESS| pw119182-119184 [PATCH] [v4, 3/3] ethdev: add structure for indirect AGE update
@ 2022-10-26 22:25 dpdklab
0 siblings, 0 replies; 9+ messages in thread
From: dpdklab @ 2022-10-26 22:25 UTC (permalink / raw)
To: Ali Alnubani, Test Report
Cc: dpdk-test-reports, David Marchand, Thomas Monjalon
[-- Attachment #1: Type: text/plain, Size: 2085 bytes --]
Test-Label: iol-mellanox-Performance
Test-Status: SUCCESS
http://dpdk.org/patch/119184
_Performance Testing PASS_
Submitter: Michael Baum <michaelba@nvidia.com>
Date: Wednesday, October 26 2022 21:49:43
DPDK git baseline: Repo:dpdk
Branch: master
CommitID:e6b42038e859407af3c8eb0d7d588570622f687a
119182-119184 --> performance testing pass
Test environment and result as below:
Ubuntu 20.04
Kernel: 4.15.0-generic
Compiler: gcc 7.4
NIC: Mellanox ConnectX-5 100000 Mbps
Target: x86_64-native-linuxapp-gcc
Fail/Total: 0/6
Detail performance results:
+------------+---------+----------+-------------+------------------------------+
| frame_size | txd/rxd | num_cpus | num_threads | throughput difference from |
| | | | | expected |
+============+=========+==========+=============+==============================+
| 64 | 256 | 1 | 1 | 0.1% |
+------------+---------+----------+-------------+------------------------------+
| 128 | 256 | 1 | 1 | 0.3% |
+------------+---------+----------+-------------+------------------------------+
| 1024 | 256 | 1 | 1 | 0.1% |
+------------+---------+----------+-------------+------------------------------+
| 256 | 256 | 1 | 1 | -0.1% |
+------------+---------+----------+-------------+------------------------------+
| 1518 | 256 | 1 | 1 | -0.2% |
+------------+---------+----------+-------------+------------------------------+
| 512 | 256 | 1 | 1 | 0.1% |
+------------+---------+----------+-------------+------------------------------+
To view detailed results, visit:
https://lab.dpdk.org/results/dashboard/patchsets/24210/
UNH-IOL DPDK Community Lab
To manage your email subscriptions, visit:
https://lab.dpdk.org/results/dashboard/preferences/subscriptions/
^ permalink raw reply [flat|nested] 9+ messages in thread
* |SUCCESS| pw119182-119184 [PATCH] [v4, 3/3] ethdev: add structure for indirect AGE update
@ 2022-10-26 22:23 dpdklab
0 siblings, 0 replies; 9+ messages in thread
From: dpdklab @ 2022-10-26 22:23 UTC (permalink / raw)
To: Test Report; +Cc: dpdk-test-reports, David Marchand, Thomas Monjalon
[-- Attachment #1: Type: text/plain, Size: 809 bytes --]
Test-Label: iol-intel-Functional
Test-Status: SUCCESS
http://dpdk.org/patch/119184
_Functional Testing PASS_
Submitter: Michael Baum <michaelba@nvidia.com>
Date: Wednesday, October 26 2022 21:49:43
DPDK git baseline: Repo:dpdk
Branch: master
CommitID:e6b42038e859407af3c8eb0d7d588570622f687a
119182-119184 --> functional testing pass
Test environment and result as below:
Ubuntu 20.04 ARM
Kernel: 4.15.0-132-generic
Compiler: gcc 7.5
NIC: Arm Intel Corporation Ethernet Converged Network Adapter XL710-QDA2 40000 Mbps
Target: x86_64-native-linuxapp-gcc
Fail/Total: 0/2
To view detailed results, visit:
https://lab.dpdk.org/results/dashboard/patchsets/24210/
UNH-IOL DPDK Community Lab
To manage your email subscriptions, visit:
https://lab.dpdk.org/results/dashboard/preferences/subscriptions/
^ permalink raw reply [flat|nested] 9+ messages in thread
* |SUCCESS| pw119182-119184 [PATCH] [v4, 3/3] ethdev: add structure for indirect AGE update
@ 2022-10-26 22:22 dpdklab
0 siblings, 0 replies; 9+ messages in thread
From: dpdklab @ 2022-10-26 22:22 UTC (permalink / raw)
To: Test Report; +Cc: dpdklab, David Marchand, Thomas Monjalon
[-- Attachment #1: Type: text/plain, Size: 1146 bytes --]
Test-Label: iol-aarch64-compile-testing
Test-Status: SUCCESS
http://dpdk.org/patch/119184
_Testing PASS_
Submitter: Michael Baum <michaelba@nvidia.com>
Date: Wednesday, October 26 2022 21:49:43
DPDK git baseline: Repo:dpdk
Branch: master
CommitID:e6b42038e859407af3c8eb0d7d588570622f687a
119182-119184 --> testing pass
Test environment and result as below:
+-------------------------------+--------------------+
| Environment | dpdk_meson_compile |
+===============================+====================+
| Ubuntu 20.04 ARM GCC Native | PASS |
+-------------------------------+--------------------+
| Ubuntu 20.04 ARM Clang Native | PASS |
+-------------------------------+--------------------+
Ubuntu 20.04 ARM GCC Native
Kernel: 5.4.0-53-generic
Compiler: gcc 9.3
Ubuntu 20.04 ARM Clang Native
Kernel: 5.4.0-53-generic
Compiler: clang 10.0.0-4ubuntu1
To view detailed results, visit:
https://lab.dpdk.org/results/dashboard/patchsets/24210/
UNH-IOL DPDK Community Lab
To manage your email subscriptions, visit:
https://lab.dpdk.org/results/dashboard/preferences/subscriptions/
^ permalink raw reply [flat|nested] 9+ messages in thread
* |SUCCESS| pw119182-119184 [PATCH] [v4, 3/3] ethdev: add structure for indirect AGE update
@ 2022-10-26 22:20 dpdklab
0 siblings, 0 replies; 9+ messages in thread
From: dpdklab @ 2022-10-26 22:20 UTC (permalink / raw)
To: Test Report; +Cc: dpdk-test-reports, David Marchand, Thomas Monjalon
[-- Attachment #1: Type: text/plain, Size: 877 bytes --]
Test-Label: iol-x86_64-unit-testing
Test-Status: SUCCESS
http://dpdk.org/patch/119184
_Testing PASS_
Submitter: Michael Baum <michaelba@nvidia.com>
Date: Wednesday, October 26 2022 21:49:43
DPDK git baseline: Repo:dpdk
Branch: master
CommitID:e6b42038e859407af3c8eb0d7d588570622f687a
119182-119184 --> testing pass
Test environment and result as below:
+---------------------+----------------+
| Environment | dpdk_unit_test |
+=====================+================+
| Windows Server 2019 | PASS |
+---------------------+----------------+
Windows Server 2019
Kernel: 10.0
Compiler: clang 14.0 and gcc 8.1.0 (MinGW)
To view detailed results, visit:
https://lab.dpdk.org/results/dashboard/patchsets/24210/
UNH-IOL DPDK Community Lab
To manage your email subscriptions, visit:
https://lab.dpdk.org/results/dashboard/preferences/subscriptions/
^ permalink raw reply [flat|nested] 9+ messages in thread
end of thread, other threads:[~2022-10-27 4:43 UTC | newest]
Thread overview: 9+ messages (download: mbox.gz / follow: Atom feed)
-- links below jump to the message on this page --
2022-10-26 23:18 |SUCCESS| pw119182-119184 [PATCH] [v4, 3/3] ethdev: add structure for indirect AGE update dpdklab
-- strict thread matches above, loose matches on Subject: below --
2022-10-26 23:25 dpdklab
2022-10-26 22:55 dpdklab
2022-10-26 22:48 dpdklab
2022-10-26 22:34 dpdklab
2022-10-26 22:25 dpdklab
2022-10-26 22:23 dpdklab
2022-10-26 22:22 dpdklab
2022-10-26 22:20 dpdklab
This is a public inbox, see mirroring instructions
for how to clone and mirror all data and code used for this inbox;
as well as URLs for NNTP newsgroup(s).