From mboxrd@z Thu Jan 1 00:00:00 1970 Return-Path: Received: from mails.dpdk.org (mails.dpdk.org [217.70.189.124]) by inbox.dpdk.org (Postfix) with ESMTP id 8050D41D3D for ; Wed, 1 Mar 2023 08:23:20 +0100 (CET) Received: from mails.dpdk.org (localhost [127.0.0.1]) by mails.dpdk.org (Postfix) with ESMTP id 7CEB54114A; Wed, 1 Mar 2023 08:23:20 +0100 (CET) Received: from mail-il1-f228.google.com (mail-il1-f228.google.com [209.85.166.228]) by mails.dpdk.org (Postfix) with ESMTP id 15E844114A for ; Wed, 1 Mar 2023 08:23:19 +0100 (CET) Received: by mail-il1-f228.google.com with SMTP id r4so7869236ila.2 for ; Tue, 28 Feb 2023 23:23:19 -0800 (PST) DKIM-Signature: v=1; a=rsa-sha256; c=relaxed/relaxed; d=iol.unh.edu; s=unh-iol; t=1677655398; h=date:message-id:cc:to:from:subject:from:to:cc:subject:date :message-id:reply-to; bh=JsUGpja55x096WhLu4XCnJICUidr3GuO/bK4Ph2jOhA=; b=alLJelljdihHqUU5iRW4ofPfzZpBITCgXeTGONBMbIURFWnG7Eov3CCrHKcB2bKqY+ p31Knum6rgOhxHdu77m+0UpRj2Rlt/zGpxZWcPOBAtc1M+5ttzUc6RDwRqbwLTgsDe2Y XtaLWh+sONSqInU/0jx08yM6dGypBnOLBP+6A= X-Google-DKIM-Signature: v=1; a=rsa-sha256; c=relaxed/relaxed; d=1e100.net; s=20210112; t=1677655398; h=date:message-id:cc:to:from:subject:x-gm-message-state:from:to:cc :subject:date:message-id:reply-to; bh=JsUGpja55x096WhLu4XCnJICUidr3GuO/bK4Ph2jOhA=; b=yjPDG1VKn5FcNneTrxoczQV6jF7fSJ7XndFdx9VmhotgbgjZ6xAPyehxL6MLMw2762 qFRS1mirrGqiL1qy/XdqjWcwI0TKoNFz4e4A1SWTm2H3z41IqcvD+ntAMfITbsmMDaXv e0ozchZtfX78nDA8ssp+K/H4XjYmVSfzHl0B70lAP0yeIOdkoi9o7jsAtK63fOp9ZeD2 vZqFlqm+fvPCO5Esl5z6yOcelPSdKxB7g9EIqBKl/3cxVW3r1FwpW5syiS+GW5UvNbi7 zc1jGCPaUPExFqffkYXzDzXTA0VBoJvUxqiMQpOZvRsPOgE3eVwlKz8dYQTj7DZsEbCP Ytqw== X-Gm-Message-State: AO0yUKU6T7zlp61ypwf8HWEDHuOajK1vl1OWGbH0MRNoa9YG5Wc9WupQ MsOvIrImiNE+ShRK2o2W8U3c9kYa/g7Bcct6+wTo4nXUlk/cIg== X-Google-Smtp-Source: AK7set/Uv1kknsyWquYffkKKnoyS0VJOen3EyANGircT136xorRnBoB9yxMt2PzYSZ6ByIGMBSh63a7Kycab X-Received: by 2002:a05:6e02:1a07:b0:317:b01:218 with SMTP id s7-20020a056e021a0700b003170b010218mr6026485ild.22.1677655398448; Tue, 28 Feb 2023 23:23:18 -0800 (PST) Received: from postal.iol.unh.edu (postal.iol.unh.edu. [132.177.123.84]) by smtp-relay.gmail.com with ESMTPS id b10-20020a92c56a000000b00315973c4a6bsm555156ilj.8.2023.02.28.23.23.18 (version=TLS1_2 cipher=ECDHE-ECDSA-AES128-GCM-SHA256 bits=128/128); Tue, 28 Feb 2023 23:23:18 -0800 (PST) X-Relaying-Domain: iol.unh.edu Received: from dpdk-ubuntu.dpdklab.iol.unh.edu (unknown [172.18.0.210]) by postal.iol.unh.edu (Postfix) with ESMTP id 2366F605246B; Wed, 1 Mar 2023 02:23:18 -0500 (EST) Received: from dpdk-ubuntu-2.dpdklab.iol.unh.edu (localhost [IPv6:::1]) by dpdk-ubuntu.dpdklab.iol.unh.edu (Postfix) with ESMTP id 1FB7E601B1; Wed, 1 Mar 2023 07:23:18 +0000 (UTC) Subject: |SUCCESS| [GIT MASTER] 31608e4db56893c896375288671b5ee38723a211 From: dpdklab@iol.unh.edu To: Test Report Cc: dpdklab@iol.unh.edu, Xueming Li , Christian Ehrhardt , Kevin Traynor , Luca Boccassi Content-Type: text/plain Message-Id: <20230301072318.1FB7E601B1@dpdk-ubuntu.dpdklab.iol.unh.edu> Date: Wed, 1 Mar 2023 07:23:18 +0000 (UTC) X-BeenThere: test-report@dpdk.org X-Mailman-Version: 2.1.29 Precedence: list List-Id: automatic DPDK test reports List-Unsubscribe: , List-Archive: List-Post: List-Help: List-Subscribe: , Errors-To: test-report-bounces@dpdk.org _Testing PASS_ Branch: tags/v21.11 31608e4db56893c896375288671b5ee38723a211 --> testing pass Test environment and result as below: +------------------+----------+ | Environment | abi_test | +==================+==========+ | CentOS Stream 8 | PASS | +------------------+----------+ | Ubuntu 22.04 | PASS | +------------------+----------+ | CentOS Stream 9 | PASS | +------------------+----------+ | openSUSE Leap 15 | PASS | +------------------+----------+ | RHEL 7 | PASS | +------------------+----------+ | Debian Bullseye | PASS | +------------------+----------+ | Debian Buster | PASS | +------------------+----------+ | RHEL8 | PASS | +------------------+----------+ | Ubuntu 20.04 | PASS | +------------------+----------+ CentOS Stream 8 Kernel: 4.18.0-240.10.1.el8_3.x86_64 Compiler: gcc 8.4.1 20200928 Ubuntu 22.04 Kernel: 4.18.0-240.10.1.el8_3.x86_64 Compiler: gcc 11.3.0 CentOS Stream 9 Kernel: 4.18.0-240.10.1.el8_3.x86_64 Compiler: gcc 11.3.1 20220421 openSUSE Leap 15 Kernel: 4.18.0-240.10.1.el8_3.x86_64 Compiler: gcc 7.5.0 RHEL 7 Kernel: 4.18.0-240.10.1.el8_3.x86_64 Compiler: gcc 4.8.5 20150623 (Red Hat 4.8.5-44) Debian Bullseye Kernel: 5.4.0-122-generic Compiler: gcc 10.2.1-6 Debian Buster Kernel: 5.4.0-122-generic Compiler: gcc 8.3.0-6 RHEL8 Kernel: 4.18.0-240.10.1.el8_3.x86_64 Compiler: gcc 8.3.1 20191121 (Red Hat 8.3.1-5) Ubuntu 20.04 Kernel: 4.18.0-240.10.1.el8_3.x86_64 Compiler: gcc 9.3.0-17ubuntu1~20.04 To view detailed results, visit: https://lab.dpdk.org/results/dashboard/tarballs/23557/ UNH-IOL DPDK Community Lab To manage your email subscriptions, visit: https://lab.dpdk.org/results/dashboard/preferences/subscriptions/