From mboxrd@z Thu Jan 1 00:00:00 1970 Return-Path: Received: from mails.dpdk.org (mails.dpdk.org [217.70.189.124]) by inbox.dpdk.org (Postfix) with ESMTP id 5386441DB2 for ; Thu, 2 Mar 2023 05:12:27 +0100 (CET) Received: from mails.dpdk.org (localhost [127.0.0.1]) by mails.dpdk.org (Postfix) with ESMTP id 4DBD740DFB; Thu, 2 Mar 2023 05:12:27 +0100 (CET) Received: from mail-pl1-f227.google.com (mail-pl1-f227.google.com [209.85.214.227]) by mails.dpdk.org (Postfix) with ESMTP id 275DE40DFB for ; Thu, 2 Mar 2023 05:12:26 +0100 (CET) Received: by mail-pl1-f227.google.com with SMTP id a2so5847993plm.4 for ; Wed, 01 Mar 2023 20:12:26 -0800 (PST) DKIM-Signature: v=1; a=rsa-sha256; c=relaxed/relaxed; d=iol.unh.edu; s=unh-iol; t=1677730345; h=date:message-id:cc:to:from:subject:from:to:cc:subject:date :message-id:reply-to; bh=scxMKGGFSS4PWK7odVWZLhLqq396ANIHf5jQALSuOJI=; b=AB+lI44doMOeUoADzQ8onS4wyiJrC77qCLFRcG9/ZWa5Qe/hBRnxvtWDeXGu5WVoPv mP1EY4evHviIYyfj50o+P9tLnMuAFQy2zODODNq6E/ROfbLalkSkEE+Q01avH/Wni0xT MVF2h7MAOsOw/0/MfLuRlZFqsfy5F4wAV01Ko= X-Google-DKIM-Signature: v=1; a=rsa-sha256; c=relaxed/relaxed; d=1e100.net; s=20210112; t=1677730345; h=date:message-id:cc:to:from:subject:x-gm-message-state:from:to:cc :subject:date:message-id:reply-to; bh=scxMKGGFSS4PWK7odVWZLhLqq396ANIHf5jQALSuOJI=; b=FdlgPSglSg6OOJ3c9Hug7miIhzOPx9FWnCMZgNwl2yGkL0ny4x1QrVoopvMtT4QIO4 RadiSO8c0KskXFk8bQ4Db/LQ0jXBWc044nGZOjCCEOJO9y5avfNFXq2ApHJp7NEoCeIc 9XH5SCQHdTRP1wNvGcH2EQybpwtr/UKAq5NISrX0f+LoDkuerjT5FiEB0AscWyrA5Ndz JfqxKFUrepmksxtb99Mvik+r2a+N4iWxA8NzsVXWHBHTrDbtHnId4fQWkrgeOfhL7ybj 0XSpIln+gi4Rws4+qRS4Pw0bS6AXMwRTXYqm0yGsJIayLhw+h3CCNZXdH0E15FaCo+ph Lecw== X-Gm-Message-State: AO0yUKWkw2u6Ls0dR/wdYrCtr+1Diz18aeVMf4B5kiPsD90bLeTNEGTr 8tRJYHPHswFD3EXQfZf4wH6aXOvhcCXqgQHy7ajFSobnsjdntQ== X-Google-Smtp-Source: AK7set+gV5twMhUsdxD31tN7iZcDVkIjXHEMBL/+Amvr8JRVXErYzSRAAfUiJ4ccQPjFoh+Wbu9DbOsuoWIR X-Received: by 2002:a17:902:b106:b0:199:2ee:6238 with SMTP id q6-20020a170902b10600b0019902ee6238mr8067502plr.16.1677730345399; Wed, 01 Mar 2023 20:12:25 -0800 (PST) Received: from postal.iol.unh.edu (postal.iol.unh.edu. [132.177.123.84]) by smtp-relay.gmail.com with ESMTPS id p9-20020a1709027ec900b0019cb41bea6dsm364332plb.138.2023.03.01.20.12.25 (version=TLS1_2 cipher=ECDHE-ECDSA-AES128-GCM-SHA256 bits=128/128); Wed, 01 Mar 2023 20:12:25 -0800 (PST) X-Relaying-Domain: iol.unh.edu Received: from dpdk-ubuntu.dpdklab.iol.unh.edu (unknown [IPv6:2606:4100:3880:1722::210]) by postal.iol.unh.edu (Postfix) with ESMTP id A6D75605246B; Wed, 1 Mar 2023 23:12:24 -0500 (EST) Received: from dpdk-ubuntu-2.dpdklab.iol.unh.edu (localhost [IPv6:::1]) by dpdk-ubuntu.dpdklab.iol.unh.edu (Postfix) with ESMTP id A2FF4601F7; Thu, 2 Mar 2023 04:12:24 +0000 (UTC) Subject: |SUCCESS| [GIT MASTER] 31608e4db56893c896375288671b5ee38723a211 From: dpdklab@iol.unh.edu To: Test Report Cc: dpdklab@iol.unh.edu, Xueming Li , Christian Ehrhardt , Kevin Traynor , Luca Boccassi Content-Type: text/plain Message-Id: <20230302041224.A2FF4601F7@dpdk-ubuntu.dpdklab.iol.unh.edu> Date: Thu, 2 Mar 2023 04:12:24 +0000 (UTC) X-BeenThere: test-report@dpdk.org X-Mailman-Version: 2.1.29 Precedence: list List-Id: automatic DPDK test reports List-Unsubscribe: , List-Archive: List-Post: List-Help: List-Subscribe: , Errors-To: test-report-bounces@dpdk.org _Testing PASS_ Branch: tags/v21.11 31608e4db56893c896375288671b5ee38723a211 --> testing pass Test environment and result as below: +------------------------------------+--------------------+----------------------+----------------+ | Environment | dpdk_meson_compile | dpdk_mingw64_compile | dpdk_unit_test | +====================================+====================+======================+================+ | FreeBSD 13 | PASS | SKIPPED | SKIPPED | +------------------------------------+--------------------+----------------------+----------------+ | Ubuntu 20.04 ARM GCC Cross Compile | PASS | SKIPPED | SKIPPED | +------------------------------------+--------------------+----------------------+----------------+ | Windows Server 2019 | PASS | PASS | PASS | +------------------------------------+--------------------+----------------------+----------------+ | Ubuntu 20.04 ARM SVE | PASS | SKIPPED | SKIPPED | +------------------------------------+--------------------+----------------------+----------------+ | CentOS Stream 8 | PASS | SKIPPED | PASS | +------------------------------------+--------------------+----------------------+----------------+ | Debian Bullseye | PASS | SKIPPED | PASS | +------------------------------------+--------------------+----------------------+----------------+ | CentOS Stream 9 | PASS | SKIPPED | PASS | +------------------------------------+--------------------+----------------------+----------------+ | Debian Buster | PASS | SKIPPED | SKIPPED | +------------------------------------+--------------------+----------------------+----------------+ | RHEL 7 | PASS | SKIPPED | SKIPPED | +------------------------------------+--------------------+----------------------+----------------+ | Ubuntu 22.04 | PASS | SKIPPED | PASS | +------------------------------------+--------------------+----------------------+----------------+ | openSUSE Leap 15 | PASS | SKIPPED | SKIPPED | +------------------------------------+--------------------+----------------------+----------------+ | RHEL8 | PASS | SKIPPED | SKIPPED | +------------------------------------+--------------------+----------------------+----------------+ | Ubuntu 20.04 | PASS | SKIPPED | SKIPPED | +------------------------------------+--------------------+----------------------+----------------+ FreeBSD 13 Kernel: 13.0 Compiler: clang 11.0.1 Ubuntu 20.04 ARM GCC Cross Compile Kernel: 5.4.0-72-generic Compiler: aarch64-linux-gnu-gcc (Ubuntu 9.3.0-17ubuntu1~20.04) 9.3.0 Windows Server 2019 Kernel: 10.0 Compiler: clang 14.0 and gcc 8.1.0 (MinGW) Ubuntu 20.04 ARM SVE Kernel: 5.4.0-80-generic Compiler: gcc 10.3.0 (Ubuntu 10.3.0-1ubuntu1~20.04) CentOS Stream 8 Kernel: 4.18.0-240.10.1.el8_3.x86_64 Compiler: gcc 8.4.1 20200928 Debian Bullseye Kernel: 5.4.0-122-generic Compiler: gcc 10.2.1-6 CentOS Stream 9 Kernel: 4.18.0-240.10.1.el8_3.x86_64 Compiler: gcc 11.3.1 20220421 Debian Buster Kernel: 5.4.0-122-generic Compiler: gcc 8.3.0-6 RHEL 7 Kernel: 4.18.0-240.10.1.el8_3.x86_64 Compiler: gcc 4.8.5 20150623 (Red Hat 4.8.5-44) Ubuntu 22.04 Kernel: Container Host Kernel Compiler: clang 14.0.5-1.fc36 openSUSE Leap 15 Kernel: 4.18.0-240.10.1.el8_3.x86_64 Compiler: gcc 7.5.0 RHEL8 Kernel: 4.18.0-240.10.1.el8_3.x86_64 Compiler: gcc 8.3.1 20191121 (Red Hat 8.3.1-5) Ubuntu 20.04 Kernel: 4.18.0-240.10.1.el8_3.x86_64 Compiler: gcc 9.3.0-17ubuntu1~20.04 To view detailed results, visit: https://lab.dpdk.org/results/dashboard/tarballs/23557/ UNH-IOL DPDK Community Lab To manage your email subscriptions, visit: https://lab.dpdk.org/results/dashboard/preferences/subscriptions/