From mboxrd@z Thu Jan 1 00:00:00 1970 Return-Path: Received: from mails.dpdk.org (mails.dpdk.org [217.70.189.124]) by inbox.dpdk.org (Postfix) with ESMTP id 789B141E30 for ; Thu, 9 Mar 2023 07:27:09 +0100 (CET) Received: from mails.dpdk.org (localhost [127.0.0.1]) by mails.dpdk.org (Postfix) with ESMTP id 715AC40ED7; Thu, 9 Mar 2023 07:27:09 +0100 (CET) Received: from mail-vs1-f100.google.com (mail-vs1-f100.google.com [209.85.217.100]) by mails.dpdk.org (Postfix) with ESMTP id 3416340ED7 for ; Thu, 9 Mar 2023 07:27:08 +0100 (CET) Received: by mail-vs1-f100.google.com with SMTP id f23so681632vsa.13 for ; Wed, 08 Mar 2023 22:27:08 -0800 (PST) DKIM-Signature: v=1; a=rsa-sha256; c=relaxed/relaxed; d=iol.unh.edu; s=unh-iol; t=1678343227; h=date:message-id:cc:to:from:subject:from:to:cc:subject:date :message-id:reply-to; bh=eplv+/dcz4IjQhVIn3w3LU0LU5my0dA8BhR1UBRoZSg=; b=R+F4NqOYDwo3PwlBktFuhW0PLiRbiVn64l3gEJQz9O40fu5wIvOPlCX4UFxo8vX6io w2BCeVjGGzKpHyZlp5GyNTXaSTNzSQcsWo0U7M12HUjyxB6N5tZsRCCja1mjXJEcInLx nKT/7KfZJSOM+otGtQRuj9kqz6AABdBSQrVmo= X-Google-DKIM-Signature: v=1; a=rsa-sha256; c=relaxed/relaxed; d=1e100.net; s=20210112; t=1678343227; h=date:message-id:cc:to:from:subject:x-gm-message-state:from:to:cc :subject:date:message-id:reply-to; bh=eplv+/dcz4IjQhVIn3w3LU0LU5my0dA8BhR1UBRoZSg=; b=r6dxGd4ZkfQ8G+TX5oRbUbLfWsPj2sqpWYHy14iCW59tzxuWCgeBy8OzeIcCoc5SMK wL1UhdcwWAG95dC0G9dlIjLgsDcUhcMokhkTr3Au7596jyv12Zhb9RrNtTDJU/k5f7Ml Yg3e2XP1lY01qEPPT+OqM5VdMzaKS/1di0uoSbIg1XqWZ6KNGeWxXbJ638VzUnGVVtAi ptGUA5Cx0NsH7YLxNuk82EwToxn850s5dHszh7WGUzaxFudc65rK+Tf0GEjDa+mDiOSU fjbCKLXFGC4u0qnG5+qJQxtKPyhH6MtzMiS+ijtFxcVqi4Ibd6/rgRsIKSLjrt1wlnqC YrXg== X-Gm-Message-State: AO0yUKUN70AHuHquDAgiVz9ei/+O4dKWbAZTzdMjKev5pl2V3HGcCIJy lXkTD4ko/yALpmsviI3Pu+0QfQukquZgDuSa0Glr3GjXxXi5VhFhq+fvvwoBBOHvbw== X-Google-Smtp-Source: AK7set9uU2H6M4hkP3EwYJuoCklAtdFdQ+rVMqUJP9LcxQ8cZA//1O58HwYJGXB7m4KPCRRxpwFzzOOO/AN0 X-Received: by 2002:a67:fa06:0:b0:412:45c6:86a2 with SMTP id i6-20020a67fa06000000b0041245c686a2mr11121356vsq.25.1678343227536; Wed, 08 Mar 2023 22:27:07 -0800 (PST) Received: from postal.iol.unh.edu (postal.iol.unh.edu. [2606:4100:3880:1234::84]) by smtp-relay.gmail.com with ESMTPS id r10-20020ab06f0a000000b0068cfab03e57sm1887794uah.9.2023.03.08.22.27.07 (version=TLS1_2 cipher=ECDHE-ECDSA-AES128-GCM-SHA256 bits=128/128); Wed, 08 Mar 2023 22:27:07 -0800 (PST) X-Relaying-Domain: iol.unh.edu Received: from dpdk-ubuntu.dpdklab.iol.unh.edu (unknown [172.18.0.210]) by postal.iol.unh.edu (Postfix) with ESMTP id 0AFEC605246B; Thu, 9 Mar 2023 01:27:07 -0500 (EST) Received: from dpdk-ubuntu-2.dpdklab.iol.unh.edu (localhost [IPv6:::1]) by dpdk-ubuntu.dpdklab.iol.unh.edu (Postfix) with ESMTP id 09FAD6011F; Thu, 9 Mar 2023 06:27:07 +0000 (UTC) Subject: |SUCCESS| [GIT MASTER] 9dae7a15aea76313c592c11db44e1386e85f86fe From: dpdklab@iol.unh.edu To: Test Report Cc: Xueming Li , Christian Ehrhardt , Kevin Traynor , Luca Boccassi Content-Type: text/plain Message-Id: <20230309062707.09FAD6011F@dpdk-ubuntu.dpdklab.iol.unh.edu> Date: Thu, 9 Mar 2023 06:27:07 +0000 (UTC) X-BeenThere: test-report@dpdk.org X-Mailman-Version: 2.1.29 Precedence: list List-Id: automatic DPDK test reports List-Unsubscribe: , List-Archive: List-Post: List-Help: List-Subscribe: , Errors-To: test-report-bounces@dpdk.org _Testing PASS_ Branch: tags/v22.11 9dae7a15aea76313c592c11db44e1386e85f86fe --> testing pass Test environment and result as below: +------------------------------------+--------------------+----------------------+----------------+ | Environment | dpdk_meson_compile | dpdk_mingw64_compile | dpdk_unit_test | +====================================+====================+======================+================+ | Ubuntu 20.04 ARM Clang Native | PASS | SKIPPED | PASS | +------------------------------------+--------------------+----------------------+----------------+ | Ubuntu 20.04 ARM GCC Native | PASS | SKIPPED | PASS | +------------------------------------+--------------------+----------------------+----------------+ | FreeBSD 13 | PASS | SKIPPED | SKIPPED | +------------------------------------+--------------------+----------------------+----------------+ | Windows Server 2019 | PASS | PASS | PASS | +------------------------------------+--------------------+----------------------+----------------+ | Ubuntu 20.04 ARM SVE | PASS | SKIPPED | SKIPPED | +------------------------------------+--------------------+----------------------+----------------+ | Debian Bullseye | PASS | SKIPPED | PASS | +------------------------------------+--------------------+----------------------+----------------+ | Ubuntu 22.04 | PASS | SKIPPED | PASS | +------------------------------------+--------------------+----------------------+----------------+ | RHEL8 | PASS | SKIPPED | PASS | +------------------------------------+--------------------+----------------------+----------------+ | openSUSE Leap 15 | PASS | SKIPPED | SKIPPED | +------------------------------------+--------------------+----------------------+----------------+ | Debian Buster | PASS | SKIPPED | SKIPPED | +------------------------------------+--------------------+----------------------+----------------+ | Ubuntu 20.04 | PASS | SKIPPED | PASS | +------------------------------------+--------------------+----------------------+----------------+ | RHEL 7 | PASS | SKIPPED | PASS | +------------------------------------+--------------------+----------------------+----------------+ | CentOS Stream 9 | PASS | SKIPPED | SKIPPED | +------------------------------------+--------------------+----------------------+----------------+ | Ubuntu 20.04 ARM GCC Cross Compile | PASS | SKIPPED | SKIPPED | +------------------------------------+--------------------+----------------------+----------------+ | CentOS Stream 8 | PASS | SKIPPED | SKIPPED | +------------------------------------+--------------------+----------------------+----------------+ Ubuntu 20.04 ARM Clang Native Kernel: 5.4.0-53-generic Compiler: clang 10.0.0-4ubuntu1 Ubuntu 20.04 ARM GCC Native Kernel: 5.4.0-53-generic Compiler: gcc 9.3 FreeBSD 13 Kernel: 13.0 Compiler: clang 11.0.1 Windows Server 2019 Kernel: 10.0 Compiler: clang 14.0 and gcc 8.1.0 (MinGW) Ubuntu 20.04 ARM SVE Kernel: 5.4.0-80-generic Compiler: gcc 10.3.0 (Ubuntu 10.3.0-1ubuntu1~20.04) Debian Bullseye Kernel: 5.4.0-122-generic Compiler: gcc 10.2.1-6 Ubuntu 22.04 Kernel: Container Host Kernel Compiler: gcc 11.3.1-2 RHEL8 Kernel: 4.18.0-240.10.1.el8_3.x86_64 Compiler: gcc 8.3.1 20191121 (Red Hat 8.3.1-5) openSUSE Leap 15 Kernel: 4.18.0-240.10.1.el8_3.x86_64 Compiler: gcc 7.5.0 Debian Buster Kernel: 5.4.0-122-generic Compiler: gcc 8.3.0-6 Ubuntu 20.04 Kernel: 4.18.0-240.10.1.el8_3.x86_64 Compiler: gcc 9.3.0-17ubuntu1~20.04 RHEL 7 Kernel: 4.18.0-240.10.1.el8_3.x86_64 Compiler: gcc 4.8.5 20150623 (Red Hat 4.8.5-44) CentOS Stream 9 Kernel: 4.18.0-240.10.1.el8_3.x86_64 Compiler: gcc 11.3.1 20220421 Ubuntu 20.04 ARM GCC Cross Compile Kernel: 5.4.0-72-generic Compiler: aarch64-linux-gnu-gcc (Ubuntu 9.3.0-17ubuntu1~20.04) 9.3.0 CentOS Stream 8 Kernel: 4.18.0-240.10.1.el8_3.x86_64 Compiler: gcc 8.4.1 20200928 To view detailed results, visit: https://lab.dpdk.org/results/dashboard/tarballs/23722/ UNH-IOL DPDK Community Lab To manage your email subscriptions, visit: https://lab.dpdk.org/results/dashboard/preferences/subscriptions/