From mboxrd@z Thu Jan 1 00:00:00 1970 Return-Path: Received: from mails.dpdk.org (mails.dpdk.org [217.70.189.124]) by inbox.dpdk.org (Postfix) with ESMTP id D1C1441E71 for ; Sat, 11 Mar 2023 10:11:59 +0100 (CET) Received: from mails.dpdk.org (localhost [127.0.0.1]) by mails.dpdk.org (Postfix) with ESMTP id CD3B640A89; Sat, 11 Mar 2023 10:11:59 +0100 (CET) Received: from mail-il1-f227.google.com (mail-il1-f227.google.com [209.85.166.227]) by mails.dpdk.org (Postfix) with ESMTP id 4132440A89 for ; Sat, 11 Mar 2023 10:11:58 +0100 (CET) Received: by mail-il1-f227.google.com with SMTP id l2so4388777ilg.7 for ; Sat, 11 Mar 2023 01:11:58 -0800 (PST) DKIM-Signature: v=1; a=rsa-sha256; c=relaxed/relaxed; d=iol.unh.edu; s=unh-iol; t=1678525917; h=date:message-id:cc:to:from:subject:from:to:cc:subject:date :message-id:reply-to; bh=RbleKgLz5XzvNqs4mLDXBjaQMdjrxrP/b/R02S9btvo=; b=hna4v3W3Fv2QJ/o8jdmJs/NfVMAKB4ADxiauoeN8ijkiZBXGlOMxHBZg6EpuFOx16F WOwQu0LLz5goS44iLmdGjIwl8RNGiyZFjOyDculjd4HoTgFxTLSlwFVUzL3zXeW9R/95 +f+QH8Q4sf35HJGui6FGcEEv8+LxI1arP6IJ8= X-Google-DKIM-Signature: v=1; a=rsa-sha256; c=relaxed/relaxed; d=1e100.net; s=20210112; t=1678525917; h=date:message-id:cc:to:from:subject:x-gm-message-state:from:to:cc :subject:date:message-id:reply-to; bh=RbleKgLz5XzvNqs4mLDXBjaQMdjrxrP/b/R02S9btvo=; b=w/XIQMS/3PEVnXXRbRD0pDyN9SvJH2nuTMt45PiSEl/XTuezsgfomFWLiq5VyTEOug 987e8BkCi2dLa1ZXIW7+X1r5s3i2F9kZSQcwzQpC2ob6bHut2fO++ELZ+1QIrErXKSly fkPtLXjt3tKb+Xw+e86xDIXHlwWeWtN1IyflXm2ylus2CiOFxojHSbdWS0QcqU6tK5AY BFdH7xDb16AM21bTKVsjwxQmcqMloIh5yqa7CVoTultqwycM4zVlZqIm5tc5OsacfNeO Xzgq7klfluuaQ7dsQVf7Up/4LFYkfAYeBFmcbzOBQmUl4NKCyNczKVHm7i4cftd4xYgu XchQ== X-Gm-Message-State: AO0yUKUT0DY1Y02wzMdBE6l8vAi2he1g8mvPkLLxKt8A6ZTB0PLRe9Mq 9e7OnP4KSyX/4BFASTmwgebxkFCVFM00R1YzqyG7djiyUVqneg== X-Google-Smtp-Source: AK7set9qg7toCkWIYqiWC2y39R6cLIRLMGrLVLMGO6E+S0pm5fgxCT9Ux423hguJoIEm06ylVGUU57SS3DLb X-Received: by 2002:a92:dc49:0:b0:322:f130:ab7c with SMTP id x9-20020a92dc49000000b00322f130ab7cmr1186005ilq.2.1678525917599; Sat, 11 Mar 2023 01:11:57 -0800 (PST) Received: from postal.iol.unh.edu (postal.iol.unh.edu. [132.177.123.84]) by smtp-relay.gmail.com with ESMTPS id p8-20020a056e02144800b00317970f6ccasm106475ilo.59.2023.03.11.01.11.57 (version=TLS1_2 cipher=ECDHE-ECDSA-AES128-GCM-SHA256 bits=128/128); Sat, 11 Mar 2023 01:11:57 -0800 (PST) X-Relaying-Domain: iol.unh.edu Received: from dpdk-ubuntu.dpdklab.iol.unh.edu (unknown [IPv6:2606:4100:3880:1722::210]) by postal.iol.unh.edu (Postfix) with ESMTP id 276AE605246B; Sat, 11 Mar 2023 04:11:57 -0500 (EST) Received: from dpdk-ubuntu-2.dpdklab.iol.unh.edu (localhost [IPv6:::1]) by dpdk-ubuntu.dpdklab.iol.unh.edu (Postfix) with ESMTP id 26B056011D; Sat, 11 Mar 2023 09:11:57 +0000 (UTC) Subject: |SUCCESS| [GIT MASTER] 9dae7a15aea76313c592c11db44e1386e85f86fe From: dpdklab@iol.unh.edu To: Test Report Cc: dpdk-test-reports@iol.unh.edu, Xueming Li , Christian Ehrhardt , Kevin Traynor , Luca Boccassi Content-Type: text/plain Message-Id: <20230311091157.26B056011D@dpdk-ubuntu.dpdklab.iol.unh.edu> Date: Sat, 11 Mar 2023 09:11:57 +0000 (UTC) X-BeenThere: test-report@dpdk.org X-Mailman-Version: 2.1.29 Precedence: list List-Id: automatic DPDK test reports List-Unsubscribe: , List-Archive: List-Post: List-Help: List-Subscribe: , Errors-To: test-report-bounces@dpdk.org _Testing PASS_ Branch: tags/v22.11 9dae7a15aea76313c592c11db44e1386e85f86fe --> testing pass Test environment and result as below: +------------------------------------+----------------+--------------------+----------------------+ | Environment | dpdk_unit_test | dpdk_meson_compile | dpdk_mingw64_compile | +====================================+================+====================+======================+ | Ubuntu 20.04 ARM GCC Native | PASS | PASS | SKIPPED | +------------------------------------+----------------+--------------------+----------------------+ | Ubuntu 20.04 ARM Clang Native | PASS | PASS | SKIPPED | +------------------------------------+----------------+--------------------+----------------------+ | Windows Server 2019 | PASS | PASS | PASS | +------------------------------------+----------------+--------------------+----------------------+ | Ubuntu 22.04 | PASS | PASS | SKIPPED | +------------------------------------+----------------+--------------------+----------------------+ | CentOS Stream 9 | PASS | PASS | SKIPPED | +------------------------------------+----------------+--------------------+----------------------+ | Debian Bullseye | PASS | PASS | SKIPPED | +------------------------------------+----------------+--------------------+----------------------+ | openSUSE Leap 15 | PASS | PASS | SKIPPED | +------------------------------------+----------------+--------------------+----------------------+ | Ubuntu 20.04 | PASS | PASS | SKIPPED | +------------------------------------+----------------+--------------------+----------------------+ | CentOS Stream 8 | PASS | PASS | SKIPPED | +------------------------------------+----------------+--------------------+----------------------+ | FreeBSD 13 | SKIPPED | PASS | SKIPPED | +------------------------------------+----------------+--------------------+----------------------+ | Ubuntu 20.04 ARM GCC Cross Compile | SKIPPED | PASS | SKIPPED | +------------------------------------+----------------+--------------------+----------------------+ | Ubuntu 20.04 ARM SVE | SKIPPED | PASS | SKIPPED | +------------------------------------+----------------+--------------------+----------------------+ | Debian Buster | SKIPPED | PASS | SKIPPED | +------------------------------------+----------------+--------------------+----------------------+ | RHEL8 | SKIPPED | PASS | SKIPPED | +------------------------------------+----------------+--------------------+----------------------+ | RHEL 7 | SKIPPED | PASS | SKIPPED | +------------------------------------+----------------+--------------------+----------------------+ Ubuntu 20.04 ARM GCC Native Kernel: 5.4.0-53-generic Compiler: gcc 9.3 Ubuntu 20.04 ARM Clang Native Kernel: 5.4.0-53-generic Compiler: clang 10.0.0-4ubuntu1 Windows Server 2019 Kernel: 10.0 Compiler: clang 14.0 and gcc 8.1.0 (MinGW) Ubuntu 22.04 Kernel: Container Host Kernel Compiler: clang 14.0.5-1.fc36 CentOS Stream 9 Kernel: 4.18.0-240.10.1.el8_3.x86_64 Compiler: gcc 11.3.1 20220421 Debian Bullseye Kernel: 5.4.0-122-generic Compiler: gcc 10.2.1-6 openSUSE Leap 15 Kernel: 4.18.0-240.10.1.el8_3.x86_64 Compiler: gcc 7.5.0 Ubuntu 20.04 Kernel: 4.18.0-240.10.1.el8_3.x86_64 Compiler: gcc 9.3.0-17ubuntu1~20.04 CentOS Stream 8 Kernel: 4.18.0-240.10.1.el8_3.x86_64 Compiler: gcc 8.4.1 20200928 FreeBSD 13 Kernel: 13.0 Compiler: clang 11.0.1 Ubuntu 20.04 ARM GCC Cross Compile Kernel: 5.4.0-72-generic Compiler: aarch64-linux-gnu-gcc (Ubuntu 9.3.0-17ubuntu1~20.04) 9.3.0 Ubuntu 20.04 ARM SVE Kernel: 5.4.0-80-generic Compiler: gcc 10.3.0 (Ubuntu 10.3.0-1ubuntu1~20.04) Debian Buster Kernel: 5.4.0-122-generic Compiler: gcc 8.3.0-6 RHEL8 Kernel: 4.18.0-240.10.1.el8_3.x86_64 Compiler: gcc 8.3.1 20191121 (Red Hat 8.3.1-5) RHEL 7 Kernel: 4.18.0-240.10.1.el8_3.x86_64 Compiler: gcc 4.8.5 20150623 (Red Hat 4.8.5-44) To view detailed results, visit: https://lab.dpdk.org/results/dashboard/tarballs/23749/ UNH-IOL DPDK Community Lab To manage your email subscriptions, visit: https://lab.dpdk.org/results/dashboard/preferences/subscriptions/