From mboxrd@z Thu Jan 1 00:00:00 1970 Return-Path: Received: from mails.dpdk.org (mails.dpdk.org [217.70.189.124]) by inbox.dpdk.org (Postfix) with ESMTP id 186EB41E96 for ; Wed, 15 Mar 2023 02:42:28 +0100 (CET) Received: from mails.dpdk.org (localhost [127.0.0.1]) by mails.dpdk.org (Postfix) with ESMTP id E6CFD400EF; Wed, 15 Mar 2023 02:42:27 +0100 (CET) Received: from mail-ot1-f98.google.com (mail-ot1-f98.google.com [209.85.210.98]) by mails.dpdk.org (Postfix) with ESMTP id 42311400EF for ; Wed, 15 Mar 2023 02:42:26 +0100 (CET) Received: by mail-ot1-f98.google.com with SMTP id v17-20020a9d6051000000b0069a413e9cf6so162021otj.3 for ; Tue, 14 Mar 2023 18:42:26 -0700 (PDT) DKIM-Signature: v=1; a=rsa-sha256; c=relaxed/relaxed; d=iol.unh.edu; s=unh-iol; t=1678844545; h=date:message-id:cc:to:from:subject:from:to:cc:subject:date :message-id:reply-to; bh=Pds4t81EFEFF0dRg4ZskwPbjAQhTdhNc5cS7ciorGaY=; b=EVTA8yYvthHmNsyuEy7Y6ZTx3Mgb3NxhX49dROn2OzU7/4Oml/bKDR1BhmCbUNX6XX LXE1zC3KorS3PmdeWKBe5yK1FC3mVLmrQEiOMRCxUGCtUow2jBLJU0k0osmprGY2FImM UYsIssSMqc/+ZnE2bBYVnbq9AogkCt5uEx8bM= X-Google-DKIM-Signature: v=1; a=rsa-sha256; c=relaxed/relaxed; d=1e100.net; s=20210112; t=1678844545; h=date:message-id:cc:to:from:subject:x-gm-message-state:from:to:cc :subject:date:message-id:reply-to; bh=Pds4t81EFEFF0dRg4ZskwPbjAQhTdhNc5cS7ciorGaY=; b=jYzDsKiap1n3cOtzoHa311lMA6FAkPzLn+FXw/adVpp1m5TZyivRIP2OFNll31rKjB DPS3GGMqIcu2n98rawlPntg9G6AXGGt/b5LKguZygkanvdtY9zEvKnxcPfCxLaZZQI4J TWXC3Uru6/icABVnAJFgSbe/RAZCt2D6bFikVltF1I1HNHlVZTyjd61LNBidZrlfWhel 4IO1UVfvr5yETsXqJX+ExHT6jRdez2ipvbl3B37bV0P5q2nVoMOQdUtZMl63tlZ7MzR8 x+j/yBRGLI26+g2PaDAuXxs7xIfIbnRKCnDFj4fqs0dx2TBprFCtRt30FJY3tmPHb6zu FTiw== X-Gm-Message-State: AO0yUKXsFJ0DwtCLhriuWgs6FAZP2KGdJbg8+51Nqlk9xZEWA+5nmfj3 WSKrtYyDp2EMXxAJU4iYAhKIkl/FAPWZhdKNcgzV3laXPVpPRw== X-Google-Smtp-Source: AK7set/xDAMGo7/mZLQLr4BZ7t/jBdzfNoVLiN2SA0TujwT555BhCYFGP/mWxm/UdZNSAQYVgtFvu9Scc0CT X-Received: by 2002:a05:6830:31bb:b0:68d:48a9:85ec with SMTP id q27-20020a05683031bb00b0068d48a985ecmr22205201ots.24.1678844545551; Tue, 14 Mar 2023 18:42:25 -0700 (PDT) Received: from postal.iol.unh.edu (postal.iol.unh.edu. [132.177.123.84]) by smtp-relay.gmail.com with ESMTPS id dp12-20020a0568300e8c00b00693c212cbb4sm319088otb.6.2023.03.14.18.42.25 (version=TLS1_2 cipher=ECDHE-ECDSA-AES128-GCM-SHA256 bits=128/128); Tue, 14 Mar 2023 18:42:25 -0700 (PDT) X-Relaying-Domain: iol.unh.edu Received: from dpdk-ubuntu.dpdklab.iol.unh.edu (unknown [IPv6:2606:4100:3880:1722::210]) by postal.iol.unh.edu (Postfix) with ESMTP id 00BF0605246B; Tue, 14 Mar 2023 21:42:24 -0400 (EDT) Received: from dpdk-ubuntu-2.dpdklab.iol.unh.edu (localhost [IPv6:::1]) by dpdk-ubuntu.dpdklab.iol.unh.edu (Postfix) with ESMTP id EC9E56011D; Wed, 15 Mar 2023 01:42:24 +0000 (UTC) Subject: |SUCCESS| [GIT MASTER] 9dae7a15aea76313c592c11db44e1386e85f86fe From: dpdklab@iol.unh.edu To: Test Report Cc: dpdk-test-reports@iol.unh.edu, Xueming Li , Christian Ehrhardt , Kevin Traynor , Luca Boccassi Content-Type: text/plain Message-Id: <20230315014224.EC9E56011D@dpdk-ubuntu.dpdklab.iol.unh.edu> Date: Wed, 15 Mar 2023 01:42:24 +0000 (UTC) X-BeenThere: test-report@dpdk.org X-Mailman-Version: 2.1.29 Precedence: list List-Id: automatic DPDK test reports List-Unsubscribe: , List-Archive: List-Post: List-Help: List-Subscribe: , Errors-To: test-report-bounces@dpdk.org _Testing PASS_ Branch: tags/v22.11 9dae7a15aea76313c592c11db44e1386e85f86fe --> testing pass Test environment and result as below: +------------------------------------+----------------+--------------------+----------------------+ | Environment | dpdk_unit_test | dpdk_meson_compile | dpdk_mingw64_compile | +====================================+================+====================+======================+ | Ubuntu 20.04 ARM Clang Native | PASS | PASS | SKIPPED | +------------------------------------+----------------+--------------------+----------------------+ | Ubuntu 20.04 ARM GCC Native | PASS | PASS | SKIPPED | +------------------------------------+----------------+--------------------+----------------------+ | Windows Server 2019 | PASS | PASS | PASS | +------------------------------------+----------------+--------------------+----------------------+ | CentOS Stream 9 | PASS | PASS | SKIPPED | +------------------------------------+----------------+--------------------+----------------------+ | RHEL8 | PASS | PASS | SKIPPED | +------------------------------------+----------------+--------------------+----------------------+ | Debian Buster | PASS | PASS | SKIPPED | +------------------------------------+----------------+--------------------+----------------------+ | openSUSE Leap 15 | PASS | PASS | SKIPPED | +------------------------------------+----------------+--------------------+----------------------+ | Ubuntu 22.04 | PASS | PASS | SKIPPED | +------------------------------------+----------------+--------------------+----------------------+ | FreeBSD 13 | SKIPPED | PASS | SKIPPED | +------------------------------------+----------------+--------------------+----------------------+ | CentOS Stream 8 | SKIPPED | PASS | SKIPPED | +------------------------------------+----------------+--------------------+----------------------+ | RHEL 7 | SKIPPED | PASS | SKIPPED | +------------------------------------+----------------+--------------------+----------------------+ | Ubuntu 20.04 | SKIPPED | PASS | SKIPPED | +------------------------------------+----------------+--------------------+----------------------+ | Debian Bullseye | SKIPPED | PASS | SKIPPED | +------------------------------------+----------------+--------------------+----------------------+ | Ubuntu 20.04 ARM GCC Cross Compile | SKIPPED | PASS | SKIPPED | +------------------------------------+----------------+--------------------+----------------------+ | Ubuntu 20.04 ARM SVE | SKIPPED | PASS | SKIPPED | +------------------------------------+----------------+--------------------+----------------------+ Ubuntu 20.04 ARM Clang Native Kernel: 5.4.0-53-generic Compiler: clang 10.0.0-4ubuntu1 Ubuntu 20.04 ARM GCC Native Kernel: 5.4.0-53-generic Compiler: gcc 9.3 Windows Server 2019 Kernel: 10.0 Compiler: clang 14.0 and gcc 8.1.0 (MinGW) CentOS Stream 9 Kernel: 4.18.0-240.10.1.el8_3.x86_64 Compiler: gcc 11.3.1 20220421 RHEL8 Kernel: 4.18.0-240.10.1.el8_3.x86_64 Compiler: gcc 8.3.1 20191121 (Red Hat 8.3.1-5) Debian Buster Kernel: 5.4.0-122-generic Compiler: gcc 8.3.0-6 openSUSE Leap 15 Kernel: 4.18.0-240.10.1.el8_3.x86_64 Compiler: gcc 7.5.0 Ubuntu 22.04 Kernel: 4.18.0-240.10.1.el8_3.x86_64 Compiler: gcc 11.3.0 FreeBSD 13 Kernel: 13.0 Compiler: clang 11.0.1 CentOS Stream 8 Kernel: 4.18.0-240.10.1.el8_3.x86_64 Compiler: gcc 8.4.1 20200928 RHEL 7 Kernel: 4.18.0-240.10.1.el8_3.x86_64 Compiler: gcc 4.8.5 20150623 (Red Hat 4.8.5-44) Ubuntu 20.04 Kernel: 4.18.0-240.10.1.el8_3.x86_64 Compiler: gcc 9.3.0-17ubuntu1~20.04 Debian Bullseye Kernel: 5.4.0-122-generic Compiler: gcc 10.2.1-6 Ubuntu 20.04 ARM GCC Cross Compile Kernel: 5.4.0-72-generic Compiler: aarch64-linux-gnu-gcc (Ubuntu 9.3.0-17ubuntu1~20.04) 9.3.0 Ubuntu 20.04 ARM SVE Kernel: 5.4.0-80-generic Compiler: gcc 10.3.0 (Ubuntu 10.3.0-1ubuntu1~20.04) To view detailed results, visit: https://lab.dpdk.org/results/dashboard/tarballs/23826/ UNH-IOL DPDK Community Lab To manage your email subscriptions, visit: https://lab.dpdk.org/results/dashboard/preferences/subscriptions/