From mboxrd@z Thu Jan 1 00:00:00 1970 Return-Path: Received: from mails.dpdk.org (mails.dpdk.org [217.70.189.124]) by inbox.dpdk.org (Postfix) with ESMTP id 2133A41E99 for ; Wed, 15 Mar 2023 06:36:11 +0100 (CET) Received: from mails.dpdk.org (localhost [127.0.0.1]) by mails.dpdk.org (Postfix) with ESMTP id 1D7C7400EF; Wed, 15 Mar 2023 06:36:11 +0100 (CET) Received: from mail-il1-f225.google.com (mail-il1-f225.google.com [209.85.166.225]) by mails.dpdk.org (Postfix) with ESMTP id 963C7400EF for ; Wed, 15 Mar 2023 06:36:10 +0100 (CET) Received: by mail-il1-f225.google.com with SMTP id 4so9820030ilz.6 for ; Tue, 14 Mar 2023 22:36:10 -0700 (PDT) DKIM-Signature: v=1; a=rsa-sha256; c=relaxed/relaxed; d=iol.unh.edu; s=unh-iol; t=1678858570; h=date:message-id:cc:to:from:subject:from:to:cc:subject:date :message-id:reply-to; bh=PEvyeuzwoIqsDl3aVbFYV/mdPtBPo6izDgWZlqt6DXw=; b=HOlix/7BQd/82RTDu73Lr8D3puTW+t4FFUcNJJE4ZCzAypx2UQ2mg/4udggRc9C44e 5nyz1edsDM1gXOhVWnNPFlPngy5/FtCTMDW/f0Vh4D7AGNDjmzj9wiJ+MB95k7xDWya1 BzrEKwLLO2MxWuxXpGqbVky6av4UUJHogc/80= X-Google-DKIM-Signature: v=1; a=rsa-sha256; c=relaxed/relaxed; d=1e100.net; s=20210112; t=1678858570; h=date:message-id:cc:to:from:subject:x-gm-message-state:from:to:cc :subject:date:message-id:reply-to; bh=PEvyeuzwoIqsDl3aVbFYV/mdPtBPo6izDgWZlqt6DXw=; b=5lOu03pDRvqj9oVO6jTEkJrxsKx3jQ4arKzWZEXTWGc6pMeREcPg8TLDeYwmOfgpJi pA+0tQNJAerDVHpCQdTTm3N4sYfwloI2HLqDfZBk46ds2Z4UEEMDHCXi513hRqVo1Y9h 8Zbijt2z5FZWnYWDB8+cgPY7NvVgB/FFUxJthdPf/ja7MLuu4ZrWIPRF/3lbgUuPHnYR U7DkoqrxcNddq1WhujG7/A+Ji+GE1ZpCp3tq69Af+CK1hc1A8ruaIWpzwFYCF8HILu/2 2ZnXfUkkokJn24fiP6p5kvK+1c5X2L/d2PHICa6UMar//FJJHZmE2ZyBCXYlGw9Eh78P IR7Q== X-Gm-Message-State: AO0yUKVpJhKIpRuApUIiRYebLGIZx4KQ6AGWyYcx40xGJLMUCQf46HgO /jfLDSFv0NAA760qvpoOL51IJTS/xvtl4SUcRAWstBBI1Bv1uw== X-Google-Smtp-Source: AK7set8Nm5rE4GX8ublCroXKXfOevAcGE/urxd1yOK/Gqc03WlSWDHybqYWf9g6SgJdMuVKHaVV8dWg7ACJR X-Received: by 2002:a92:b508:0:b0:319:2bf:54ad with SMTP id f8-20020a92b508000000b0031902bf54admr3353121ile.14.1678858570001; Tue, 14 Mar 2023 22:36:10 -0700 (PDT) Received: from postal.iol.unh.edu (postal.iol.unh.edu. [132.177.123.84]) by smtp-relay.gmail.com with ESMTPS id g6-20020a02c546000000b003c5198be7c2sm18470jaj.40.2023.03.14.22.36.09 (version=TLS1_2 cipher=ECDHE-ECDSA-AES128-GCM-SHA256 bits=128/128); Tue, 14 Mar 2023 22:36:09 -0700 (PDT) X-Relaying-Domain: iol.unh.edu Received: from dpdk-ubuntu.dpdklab.iol.unh.edu (unknown [172.18.0.210]) by postal.iol.unh.edu (Postfix) with ESMTP id A0013605246B; Wed, 15 Mar 2023 01:36:09 -0400 (EDT) Received: from dpdk-ubuntu-2.dpdklab.iol.unh.edu (localhost [IPv6:::1]) by dpdk-ubuntu.dpdklab.iol.unh.edu (Postfix) with ESMTP id 9ECE36011D; Wed, 15 Mar 2023 05:36:09 +0000 (UTC) Subject: |SUCCESS| [GIT MASTER] 9dae7a15aea76313c592c11db44e1386e85f86fe From: dpdklab@iol.unh.edu To: Test Report Cc: dpdklab@iol.unh.edu, Xueming Li , Christian Ehrhardt , Kevin Traynor , Luca Boccassi Content-Type: text/plain Message-Id: <20230315053609.9ECE36011D@dpdk-ubuntu.dpdklab.iol.unh.edu> Date: Wed, 15 Mar 2023 05:36:09 +0000 (UTC) X-BeenThere: test-report@dpdk.org X-Mailman-Version: 2.1.29 Precedence: list List-Id: automatic DPDK test reports List-Unsubscribe: , List-Archive: List-Post: List-Help: List-Subscribe: , Errors-To: test-report-bounces@dpdk.org _Testing PASS_ Branch: tags/v22.11 9dae7a15aea76313c592c11db44e1386e85f86fe --> testing pass Test environment and result as below: +-------------------------------+----------------+------------------------------+---------------------------+--------------+ | Environment | dpdk_unit_test | cryptodev_sw_snow3g_autotest | cryptodev_sw_zuc_autotest | lpm_autotest | +===============================+================+==============================+===========================+==============+ | Ubuntu 20.04 ARM GCC Native | PASS | SKIPPED | SKIPPED | SKIPPED | +-------------------------------+----------------+------------------------------+---------------------------+--------------+ | Ubuntu 20.04 ARM Clang Native | PASS | SKIPPED | SKIPPED | SKIPPED | +-------------------------------+----------------+------------------------------+---------------------------+--------------+ | Debian 11 | SKIPPED | PASS | PASS | SKIPPED | +-------------------------------+----------------+------------------------------+---------------------------+--------------+ | Ubuntu 20.04 ARM SVE | SKIPPED | SKIPPED | SKIPPED | PASS | +-------------------------------+----------------+------------------------------+---------------------------+--------------+ Ubuntu 20.04 ARM GCC Native Kernel: 5.4.0-53-generic Compiler: gcc 9.3 Ubuntu 20.04 ARM Clang Native Kernel: 5.4.0-53-generic Compiler: clang 10.0.0-4ubuntu1 Debian 11 Kernel: Container Host Kernel Compiler: gcc 10.2.1 Ubuntu 20.04 ARM SVE Kernel: 5.4.0-80-generic Compiler: gcc 10.3.0 (Ubuntu 10.3.0-1ubuntu1~20.04) To view detailed results, visit: https://lab.dpdk.org/results/dashboard/tarballs/23855/ UNH-IOL DPDK Community Lab To manage your email subscriptions, visit: https://lab.dpdk.org/results/dashboard/preferences/subscriptions/