* |SUCCESS| pw125134 [PATCH v1] eventdev/timer: use loop to check for timeout events
[not found] <d7f77765b09c5333df105c317344e983a2f1ad45.1678867113.git.sthotton@marvell.com>
@ 2023-03-15 7:50 ` qemudev
2023-03-15 7:54 ` qemudev
` (2 subsequent siblings)
3 siblings, 0 replies; 5+ messages in thread
From: qemudev @ 2023-03-15 7:50 UTC (permalink / raw)
To: test-report
Test-Label: loongarch-compilation
Test-Status: SUCCESS
http://dpdk.org/patch/125134
_Compilation OK_
Submitter: Shijith Thotton <sthotton@marvell.com>
Date: Wed, 15 Mar 2023 13:30:42 +0530
DPDK git baseline: Repo:dpdk-next-eventdev
Branch: for-main
CommitID: baf13c3135d0c5998fff7edc23fb89412dc89246
125134 --> meson & ninja build successfully
Test environment and result as below:
+---------------------+----------------+
| Environment | compilation |
+---------------------+----------------+
| Loongnix-Server 8.3 | PASS |
+---------------------+----------------+
Loongnix-Server 8.3
Kernel: 4.19.190+
Compiler: gcc 8.3
^ permalink raw reply [flat|nested] 5+ messages in thread
* |SUCCESS| pw125134 [PATCH v1] eventdev/timer: use loop to check for timeout events
[not found] <d7f77765b09c5333df105c317344e983a2f1ad45.1678867113.git.sthotton@marvell.com>
2023-03-15 7:50 ` |SUCCESS| pw125134 [PATCH v1] eventdev/timer: use loop to check for timeout events qemudev
@ 2023-03-15 7:54 ` qemudev
2023-03-15 8:02 ` |WARNING| " checkpatch
2023-03-15 10:19 ` |SUCCESS| " 0-day Robot
3 siblings, 0 replies; 5+ messages in thread
From: qemudev @ 2023-03-15 7:54 UTC (permalink / raw)
To: test-report
Test-Label: loongarch-unit-testing
Test-Status: SUCCESS
http://dpdk.org/patch/125134
_Unit Testing PASS_
Submitter: Shijith Thotton <sthotton@marvell.com>
Date: Wed, 15 Mar 2023 13:30:42 +0530
DPDK git baseline: Repo:dpdk-next-eventdev
Branch: for-main
CommitID: baf13c3135d0c5998fff7edc23fb89412dc89246
125134 --> testing pass
Test environment and result as below:
+---------------------+----------------+
| Environment | dpdk_unit_test |
+---------------------+----------------+
| Loongnix-Server 8.3 | PASS |
+---------------------+----------------+
Loongnix-Server 8.3
Kernel: 4.19.190+
Compiler: gcc 8.3
Test result details:
1/103 DPDK:fast-tests / acl_autotest OK 2.88s
2/103 DPDK:fast-tests / atomic_autotest OK 7.33s
3/103 DPDK:fast-tests / bitmap_autotest OK 0.07s
4/103 DPDK:fast-tests / bpf_autotest OK 0.07s
5/103 DPDK:fast-tests / bpf_convert_autotest OK 0.07s
6/103 DPDK:fast-tests / bitops_autotest OK 0.07s
7/103 DPDK:fast-tests / byteorder_autotest OK 0.07s
8/103 DPDK:fast-tests / cksum_autotest OK 0.07s
9/103 DPDK:fast-tests / cmdline_autotest OK 0.07s
10/103 DPDK:fast-tests / common_autotest OK 0.92s
11/103 DPDK:fast-tests / cpuflags_autotest OK 0.07s
12/103 DPDK:fast-tests / debug_autotest OK 1.47s
13/103 DPDK:fast-tests / devargs_autotest OK 0.07s
14/103 DPDK:fast-tests / eal_flags_c_opt_autotest OK 0.67s
15/103 DPDK:fast-tests / eal_flags_main_opt_autotest OK 0.22s
16/103 DPDK:fast-tests / eal_flags_n_opt_autotest OK 0.17s
17/103 DPDK:fast-tests / eal_flags_hpet_autotest OK 0.12s
18/103 DPDK:fast-tests / eal_flags_no_huge_autotest OK 0.22s
19/103 DPDK:fast-tests / eal_flags_a_opt_autotest OK 0.27s
20/103 DPDK:fast-tests / eal_flags_b_opt_autotest OK 0.22s
21/103 DPDK:fast-tests / eal_flags_vdev_opt_autotest OK 0.17s
22/103 DPDK:fast-tests / eal_flags_r_opt_autotest OK 0.17s
23/103 DPDK:fast-tests / eal_flags_mem_autotest OK 0.52s
24/103 DPDK:fast-tests / eal_flags_file_prefix_autotest OK 22.26s
25/103 DPDK:fast-tests / eal_flags_misc_autotest OK 0.77s
26/103 DPDK:fast-tests / eal_fs_autotest OK 0.07s
27/103 DPDK:fast-tests / errno_autotest OK 0.07s
28/103 DPDK:fast-tests / ethdev_link_status OK 0.07s
29/103 DPDK:fast-tests / event_ring_autotest OK 0.07s
30/103 DPDK:fast-tests / fib_autotest OK 0.87s
31/103 DPDK:fast-tests / fib6_autotest OK 0.87s
32/103 DPDK:fast-tests / func_reentrancy_autotest OK 2.28s
33/103 DPDK:fast-tests / hash_autotest OK 1.02s
34/103 DPDK:fast-tests / interrupt_autotest OK 1.37s
35/103 DPDK:fast-tests / ipfrag_autotest OK 0.07s
36/103 DPDK:fast-tests / lcores_autotest OK 0.92s
37/103 DPDK:fast-tests / logs_autotest OK 0.07s
38/103 DPDK:fast-tests / lpm_autotest OK 5.90s
39/103 DPDK:fast-tests / lpm6_autotest OK 8.87s
40/103 DPDK:fast-tests / malloc_autotest OK 61.75s
41/103 DPDK:fast-tests / mbuf_autotest OK 6.93s
42/103 DPDK:fast-tests / mcslock_autotest OK 4.07s
43/103 DPDK:fast-tests / memcpy_autotest OK 6.63s
44/103 DPDK:fast-tests / memory_autotest OK 0.12s
45/103 DPDK:fast-tests / mempool_autotest OK 0.47s
46/103 DPDK:fast-tests / memzone_autotest OK 0.17s
47/103 DPDK:fast-tests / meter_autotest OK 0.07s
48/103 DPDK:fast-tests / multiprocess_autotest OK 0.17s
49/103 DPDK:fast-tests / per_lcore_autotest OK 0.17s
50/103 DPDK:fast-tests / pflock_autotest OK 0.87s
51/103 DPDK:fast-tests / prefetch_autotest OK 0.07s
52/103 DPDK:fast-tests / rcu_qsbr_autotest OK 0.57s
53/103 DPDK:fast-tests / pie_autotest OK 0.07s
54/103 DPDK:fast-tests / rib_autotest OK 10.30s
55/103 DPDK:fast-tests / rib6_autotest OK 10.30s
56/103 DPDK:fast-tests / ring_autotest OK 0.12s
57/103 DPDK:fast-tests / rwlock_test1_autotest OK 0.82s
58/103 DPDK:fast-tests / rwlock_rda_autotest OK 5.07s
59/103 DPDK:fast-tests / rwlock_rds_wrm_autotest OK 5.07s
60/103 DPDK:fast-tests / rwlock_rde_wro_autotest OK 5.07s
61/103 DPDK:fast-tests / sched_autotest OK 0.07s
62/103 DPDK:fast-tests / security_autotest OK 0.07s
63/103 DPDK:fast-tests / seqlock_autotest OK 2.07s
64/103 DPDK:fast-tests / spinlock_autotest OK 0.17s
65/103 DPDK:fast-tests / stack_autotest OK 0.87s
66/103 DPDK:fast-tests / stack_lf_autotest SKIP 0.07s exit status 77
67/103 DPDK:fast-tests / string_autotest OK 0.07s
68/103 DPDK:fast-tests / tailq_autotest OK 0.07s
69/103 DPDK:fast-tests / ticketlock_autotest OK 0.22s
70/103 DPDK:fast-tests / timer_autotest OK 3.87s
71/103 DPDK:fast-tests / user_delay_us OK 0.07s
72/103 DPDK:fast-tests / version_autotest OK 0.07s
73/103 DPDK:fast-tests / crc_autotest OK 0.07s
74/103 DPDK:fast-tests / distributor_autotest OK 1.22s
75/103 DPDK:fast-tests / eventdev_common_autotest OK 0.07s
76/103 DPDK:fast-tests / fbarray_autotest OK 0.07s
77/103 DPDK:fast-tests / hash_readwrite_func_autotest OK 6.38s
78/103 DPDK:fast-tests / ipsec_autotest SKIP 0.07s exit status 77
79/103 DPDK:fast-tests / kni_autotest SKIP 0.07s exit status 77
80/103 DPDK:fast-tests / kvargs_autotest OK 0.07s
81/103 DPDK:fast-tests / member_autotest OK 1.22s
82/103 DPDK:fast-tests / power_cpufreq_autotest SKIP 0.07s exit status 77
83/103 DPDK:fast-tests / power_autotest OK 0.07s
84/103 DPDK:fast-tests / power_kvm_vm_autotest SKIP 0.07s exit status 77
85/103 DPDK:fast-tests / power_intel_uncore_autotest SKIP 0.07s exit status 77
86/103 DPDK:fast-tests / reorder_autotest OK 0.12s
87/103 DPDK:fast-tests / service_autotest OK 3.02s
88/103 DPDK:fast-tests / thash_autotest OK 0.07s
89/103 DPDK:fast-tests / threads_autotest OK 0.22s
90/103 DPDK:fast-tests / trace_autotest OK 0.07s
91/103 DPDK:fast-tests / trace_autotest_with_traces OK 0.12s
92/103 DPDK:fast-tests / metrics_autotest OK 0.07s
93/103 DPDK:fast-tests / telemetry_json_autotest OK 0.07s
94/103 DPDK:fast-tests / telemetry_data_autotest OK 0.07s
95/103 DPDK:fast-tests / table_autotest OK 10.25s
96/103 DPDK:fast-tests / ring_pmd_autotest OK 0.07s
97/103 DPDK:fast-tests / event_eth_tx_adapter_autotest OK 1.47s
98/103 DPDK:fast-tests / bitratestats_autotest OK 0.07s
99/103 DPDK:fast-tests / latencystats_autotest OK 0.07s
100/103 DPDK:fast-tests / pdump_autotest OK 5.17s
101/103 DPDK:fast-tests / vdev_autotest OK 0.07s
102/103 DPDK:fast-tests / compressdev_autotest SKIP 0.07s exit status 77
103/103 DPDK:fast-tests / telemetry_all OK 14.69s
Ok: 96
Expected Fail: 0
Fail: 0
Unexpected Pass: 0
Skipped: 7
Timeout: 0
^ permalink raw reply [flat|nested] 5+ messages in thread
* |WARNING| pw125134 [PATCH v1] eventdev/timer: use loop to check for timeout events
[not found] <d7f77765b09c5333df105c317344e983a2f1ad45.1678867113.git.sthotton@marvell.com>
2023-03-15 7:50 ` |SUCCESS| pw125134 [PATCH v1] eventdev/timer: use loop to check for timeout events qemudev
2023-03-15 7:54 ` qemudev
@ 2023-03-15 8:02 ` checkpatch
2023-03-15 10:19 ` |SUCCESS| " 0-day Robot
3 siblings, 0 replies; 5+ messages in thread
From: checkpatch @ 2023-03-15 8:02 UTC (permalink / raw)
To: test-report; +Cc: Shijith Thotton
Test-Label: checkpatch
Test-Status: WARNING
http://dpdk.org/patch/125134
_coding style issues_
WARNING:TYPO_SPELLING: 'tim' may be misspelled - perhaps 'time'?
#141: FILE: app/test/test_event_timer_adapter.c:483:
+ ev_tim->timeout_ticks = CALC_TICKS(max_ticks + 20);
WARNING:TYPO_SPELLING: 'tim' may be misspelled - perhaps 'time'?
#152: FILE: app/test/test_event_timer_adapter.c:493:
+ ev_tim->timeout_ticks = CALC_TICKS(ticks);
WARNING:TYPO_SPELLING: 'tim' may be misspelled - perhaps 'time'?
#173: FILE: app/test/test_event_timer_adapter.c:510:
+ ev_tim->timeout_ticks = CALC_TICKS(max_ticks - 10);
total: 0 errors, 3 warnings, 377 lines checked
^ permalink raw reply [flat|nested] 5+ messages in thread
* |SUCCESS| pw125134 [PATCH v1] eventdev/timer: use loop to check for timeout events
[not found] <d7f77765b09c5333df105c317344e983a2f1ad45.1678867113.git.sthotton@marvell.com>
` (2 preceding siblings ...)
2023-03-15 8:02 ` |WARNING| " checkpatch
@ 2023-03-15 10:19 ` 0-day Robot
3 siblings, 0 replies; 5+ messages in thread
From: 0-day Robot @ 2023-03-15 10:19 UTC (permalink / raw)
To: test-report; +Cc: robot
From: robot@bytheb.org
Test-Label: github-robot: build
Test-Status: SUCCESS
http://patchwork.dpdk.org/patch/125134/
_github build: passed_
Build URL: https://github.com/ovsrobot/dpdk/actions/runs/4424179966
^ permalink raw reply [flat|nested] 5+ messages in thread
* |WARNING| pw125134 [PATCH] [v1] eventdev/timer: use loop to check for timeout events
@ 2023-03-16 23:31 dpdklab
0 siblings, 0 replies; 5+ messages in thread
From: dpdklab @ 2023-03-16 23:31 UTC (permalink / raw)
To: Test Report; +Cc: dpdklab, David Marchand, Thomas Monjalon, Shijith Thotton
Test-Label: iol-testing
Test-Status: WARNING
http://dpdk.org/patch/125134
_Testing issues_
Submitter: Shijith Thotton <sthotton@marvell.com>
Date: Wednesday, March 15 2023 08:00:42
DPDK git baseline: Repo:dpdk
Branch: master
CommitID:baf13c3135d0c5998fff7edc23fb89412dc89246
125134 --> testing fail
Test environment and result as below:
+--------------+----------------------+
| Environment | dpdk_fips_validation |
+==============+======================+
| Ubuntu 20.04 | WARN |
+--------------+----------------------+
==== 20 line log output for Ubuntu 20.04 (dpdk_fips_validation): ====
[3213/3226] Linking target app/dpdk-test-bbdev.
[3214/3226] Linking target app/dpdk-pdump.
[3215/3226] Linking target app/dpdk-test-flow-perf.
[3216/3226] Linking target app/dpdk-test-crypto-perf.
[3217/3226] Linking target app/dpdk-test-pipeline.
[3218/3226] Linking target app/dpdk-test-eventdev.
[3219/3226] Linking target app/dpdk-test-regex.
[3220/3226] Linking target app/dpdk-test-sad.
[3221/3226] Compiling C object 'app/test/3062f5d@@dpdk-test@exe/test_ring_perf.c.o'.
[3222/3226] Linking target app/dpdk-testpmd.
[3223/3226] Linking target examples/dpdk-fips_validation.
[3224/3226] Linking target app/dpdk-test-security-perf.
[3225/3226] Compiling C object 'app/test/3062f5d@@dpdk-test@exe/test_ring.c.o'.
[3226/3226] Linking target app/test/dpdk-test.
Processing file ../out/acvp-aes-cbc-vectors.json... Done
Processing file ../out/cmac-aes-vectors.json... Done
Processing file ../out/acvp-aes-gmac-vectors.json... Done
Processing file ../out/hmac-sha-1-vectors.json... Done
Processing file ../out/acvp-tdes-cbc-vectors.json... Done
Processing file ../out/acvp-aes-ctr-vectors.json... Done
==== End log output ====
Ubuntu 20.04
Kernel: 4.18.0-240.10.1.el8_3.x86_64
Compiler: gcc 9.3.0-17ubuntu1~20.04
To view detailed results, visit:
https://lab.dpdk.org/results/dashboard/patchsets/25740/
UNH-IOL DPDK Community Lab
To manage your email subscriptions, visit:
https://lab.dpdk.org/results/dashboard/preferences/subscriptions/
^ permalink raw reply [flat|nested] 5+ messages in thread
end of thread, other threads:[~2023-03-16 23:31 UTC | newest]
Thread overview: 5+ messages (download: mbox.gz / follow: Atom feed)
-- links below jump to the message on this page --
[not found] <d7f77765b09c5333df105c317344e983a2f1ad45.1678867113.git.sthotton@marvell.com>
2023-03-15 7:50 ` |SUCCESS| pw125134 [PATCH v1] eventdev/timer: use loop to check for timeout events qemudev
2023-03-15 7:54 ` qemudev
2023-03-15 8:02 ` |WARNING| " checkpatch
2023-03-15 10:19 ` |SUCCESS| " 0-day Robot
2023-03-16 23:31 |WARNING| pw125134 [PATCH] [v1] " dpdklab
This is a public inbox, see mirroring instructions
for how to clone and mirror all data and code used for this inbox;
as well as URLs for NNTP newsgroup(s).