From mboxrd@z Thu Jan 1 00:00:00 1970 Return-Path: Received: from mails.dpdk.org (mails.dpdk.org [217.70.189.124]) by inbox.dpdk.org (Postfix) with ESMTP id CDEE741EB5 for ; Thu, 16 Mar 2023 22:25:37 +0100 (CET) Received: from mails.dpdk.org (localhost [127.0.0.1]) by mails.dpdk.org (Postfix) with ESMTP id C8DF040DF6; Thu, 16 Mar 2023 22:25:37 +0100 (CET) Received: from mail-oa1-f100.google.com (mail-oa1-f100.google.com [209.85.160.100]) by mails.dpdk.org (Postfix) with ESMTP id 40ACB40DF6 for ; Thu, 16 Mar 2023 22:25:30 +0100 (CET) Received: by mail-oa1-f100.google.com with SMTP id 586e51a60fabf-17ab3a48158so3700909fac.1 for ; Thu, 16 Mar 2023 14:25:30 -0700 (PDT) DKIM-Signature: v=1; a=rsa-sha256; c=relaxed/relaxed; d=iol.unh.edu; s=unh-iol; t=1679001929; h=date:message-id:cc:to:from:subject:from:to:cc:subject:date :message-id:reply-to; bh=bT+OwNocHEpxqv0TyInmqDT1NXdozTUH+OSEOCINFMA=; b=f6cOhitXd1NuHtoiNytQYjDVxMl77R3692udgMHPylIMiCU+pLhImyTUXvF2V4pa3Q 1KvmSKO8Gi9p6dJDrLZaJFsmu0/9jEyXE27abTaLwnyR7cEC7AbB4DjCkD8qZlspM7FJ MFF0dXMvNKmJJLyX419yRQsk2vVdAEqCeFIv8= X-Google-DKIM-Signature: v=1; a=rsa-sha256; c=relaxed/relaxed; d=1e100.net; s=20210112; t=1679001929; h=date:message-id:cc:to:from:subject:x-gm-message-state:from:to:cc :subject:date:message-id:reply-to; bh=bT+OwNocHEpxqv0TyInmqDT1NXdozTUH+OSEOCINFMA=; b=LaByl2tKP9I+CvXIDhoCBK3T89LR15YQfwEy9MSpR4VYwBOahH3JB8qDmA4fDsmfJE FcqRFfsP09jkxx9KJ1miORK2cHUyilFZDC8CLO8vesP5pNNlfLJsGQsxFpjDD57DFAnj Gp0E3bDkmRCsXrLJXQmLhO9sRMqyZ0o5ORaCi0qtqrBdiNtLYTmrcMpOCs3kGg85pLxY ZiLSsJI+j5IzrMMFKY06jBXZkJFXzD4HkuW4b0Bp5aMaEOJNKf1TfPrb3mHDSGYt0wVJ habAkfAUhsQG1M1NKCfqUQuDEOKbPtt55kprnolajBxy/hjn2AlngbDwgEvF2xPRcC6a u0nw== X-Gm-Message-State: AO0yUKX3P6fcXChGIbJ9egnIcVB1G/3s0wZb8BdVylKC5A9I3puzHDhX 9nfIAu30hRn0a+4+f+Jqqp9TsetQHmmUCxB/diekn+nt/3SKYwaWtR6xOUSc0P+c+A== X-Google-Smtp-Source: AK7set9mZgDEL1/6Cy7dk91t9yPRraghoF0dvF2qBpCxOrq243tNvm3yEeHoLbVSobVKxk6nMm9zlBodiJ0j X-Received: by 2002:a05:6870:73c6:b0:177:a4d0:e389 with SMTP id a6-20020a05687073c600b00177a4d0e389mr11575046oan.28.1679001929626; Thu, 16 Mar 2023 14:25:29 -0700 (PDT) Received: from postal.iol.unh.edu (postal.iol.unh.edu. [2606:4100:3880:1234::84]) by smtp-relay.gmail.com with ESMTPS id vi21-20020a0568710d9500b00175cc21bab2sm41485oab.34.2023.03.16.14.25.29 (version=TLS1_2 cipher=ECDHE-ECDSA-AES128-GCM-SHA256 bits=128/128); Thu, 16 Mar 2023 14:25:29 -0700 (PDT) X-Relaying-Domain: iol.unh.edu Received: from dpdk-ubuntu.dpdklab.iol.unh.edu (unknown [172.18.0.210]) by postal.iol.unh.edu (Postfix) with ESMTP id E1390605246B; Thu, 16 Mar 2023 17:25:28 -0400 (EDT) Received: from dpdk-ubuntu-2.dpdklab.iol.unh.edu (localhost [IPv6:::1]) by dpdk-ubuntu.dpdklab.iol.unh.edu (Postfix) with ESMTP id DFDC76011D; Thu, 16 Mar 2023 21:25:28 +0000 (UTC) Subject: |SUCCESS| [GIT MASTER] 9dae7a15aea76313c592c11db44e1386e85f86fe From: dpdklab@iol.unh.edu To: Test Report Cc: dpdk-test-reports@iol.unh.edu, Xueming Li , Christian Ehrhardt , Kevin Traynor , Luca Boccassi Content-Type: text/plain Message-Id: <20230316212528.DFDC76011D@dpdk-ubuntu.dpdklab.iol.unh.edu> Date: Thu, 16 Mar 2023 21:25:28 +0000 (UTC) X-BeenThere: test-report@dpdk.org X-Mailman-Version: 2.1.29 Precedence: list List-Id: automatic DPDK test reports List-Unsubscribe: , List-Archive: List-Post: List-Help: List-Subscribe: , Errors-To: test-report-bounces@dpdk.org _Testing PASS_ Branch: tags/v22.11 9dae7a15aea76313c592c11db44e1386e85f86fe --> testing pass Test environment and result as below: +------------------------------------+----------------+--------------------+----------------------+ | Environment | dpdk_unit_test | dpdk_meson_compile | dpdk_mingw64_compile | +====================================+================+====================+======================+ | Ubuntu 20.04 ARM GCC Native | PASS | PASS | SKIPPED | +------------------------------------+----------------+--------------------+----------------------+ | Ubuntu 20.04 ARM Clang Native | PASS | PASS | SKIPPED | +------------------------------------+----------------+--------------------+----------------------+ | Windows Server 2019 | PASS | PASS | PASS | +------------------------------------+----------------+--------------------+----------------------+ | RHEL 7 | PASS | PASS | SKIPPED | +------------------------------------+----------------+--------------------+----------------------+ | Ubuntu 22.04 | PASS | PASS | SKIPPED | +------------------------------------+----------------+--------------------+----------------------+ | FreeBSD 13 | SKIPPED | PASS | SKIPPED | +------------------------------------+----------------+--------------------+----------------------+ | Ubuntu 20.04 ARM GCC Cross Compile | SKIPPED | PASS | SKIPPED | +------------------------------------+----------------+--------------------+----------------------+ | Debian Buster | SKIPPED | PASS | SKIPPED | +------------------------------------+----------------+--------------------+----------------------+ | CentOS Stream 9 | SKIPPED | PASS | SKIPPED | +------------------------------------+----------------+--------------------+----------------------+ | Debian Bullseye | SKIPPED | PASS | SKIPPED | +------------------------------------+----------------+--------------------+----------------------+ | Ubuntu 20.04 ARM SVE | SKIPPED | PASS | SKIPPED | +------------------------------------+----------------+--------------------+----------------------+ | CentOS Stream 8 | SKIPPED | PASS | SKIPPED | +------------------------------------+----------------+--------------------+----------------------+ | openSUSE Leap 15 | SKIPPED | PASS | SKIPPED | +------------------------------------+----------------+--------------------+----------------------+ | RHEL8 | SKIPPED | PASS | SKIPPED | +------------------------------------+----------------+--------------------+----------------------+ | Ubuntu 20.04 | SKIPPED | PASS | SKIPPED | +------------------------------------+----------------+--------------------+----------------------+ Ubuntu 20.04 ARM GCC Native Kernel: 5.4.0-53-generic Compiler: gcc 9.3 Ubuntu 20.04 ARM Clang Native Kernel: 5.4.0-53-generic Compiler: clang 10.0.0-4ubuntu1 Windows Server 2019 Kernel: 10.0 Compiler: clang 14.0 and gcc 8.1.0 (MinGW) RHEL 7 Kernel: 4.18.0-240.10.1.el8_3.x86_64 Compiler: gcc 4.8.5 20150623 (Red Hat 4.8.5-44) Ubuntu 22.04 Kernel: Container Host Kernel Compiler: gcc 12.2.1-2 FreeBSD 13 Kernel: 13.0 Compiler: clang 11.0.1 Ubuntu 20.04 ARM GCC Cross Compile Kernel: 5.4.0-72-generic Compiler: aarch64-linux-gnu-gcc (Ubuntu 9.3.0-17ubuntu1~20.04) 9.3.0 Debian Buster Kernel: 5.4.0-122-generic Compiler: gcc 8.3.0-6 CentOS Stream 9 Kernel: 4.18.0-240.10.1.el8_3.x86_64 Compiler: gcc 11.3.1 20220421 Debian Bullseye Kernel: 5.4.0-122-generic Compiler: gcc 10.2.1-6 Ubuntu 20.04 ARM SVE Kernel: 5.4.0-80-generic Compiler: gcc 10.3.0 (Ubuntu 10.3.0-1ubuntu1~20.04) CentOS Stream 8 Kernel: 4.18.0-240.10.1.el8_3.x86_64 Compiler: gcc 8.4.1 20200928 openSUSE Leap 15 Kernel: 4.18.0-240.10.1.el8_3.x86_64 Compiler: gcc 7.5.0 RHEL8 Kernel: 4.18.0-240.10.1.el8_3.x86_64 Compiler: gcc 8.3.1 20191121 (Red Hat 8.3.1-5) Ubuntu 20.04 Kernel: 4.18.0-240.10.1.el8_3.x86_64 Compiler: gcc 9.3.0-17ubuntu1~20.04 To view detailed results, visit: https://lab.dpdk.org/results/dashboard/tarballs/23855/ UNH-IOL DPDK Community Lab To manage your email subscriptions, visit: https://lab.dpdk.org/results/dashboard/preferences/subscriptions/