Test-Label: loongarch-compilation Test-Status: SUCCESS http://dpdk.org/patch/125248 _Compilation OK_ Submitter: Long Li <longli@linuxonhyperv.com> Date: Fri, 17 Mar 2023 16:32:43 -0700 DPDK git baseline: Repo:dpdk-next-net Branch: main CommitID: 8880c07e04820eba0692cadb8764d1bbd09751a5 125247-125248 --> meson & ninja build successfully Test environment and result as below: +---------------------+----------------+ | Environment | compilation | +---------------------+----------------+ | Loongnix-Server 8.3 | PASS | +---------------------+----------------+ Loongnix-Server 8.3 Kernel: 4.19.190+ Compiler: gcc 8.3
Test-Label: loongarch-unit-testing Test-Status: SUCCESS http://dpdk.org/patch/125248 _Unit Testing PASS_ Submitter: Long Li <longli@linuxonhyperv.com> Date: Fri, 17 Mar 2023 16:32:43 -0700 DPDK git baseline: Repo:dpdk-next-net Branch: main CommitID: 8880c07e04820eba0692cadb8764d1bbd09751a5 125247-125248 --> testing pass Test environment and result as below: +---------------------+----------------+ | Environment | dpdk_unit_test | +---------------------+----------------+ | Loongnix-Server 8.3 | PASS | +---------------------+----------------+ Loongnix-Server 8.3 Kernel: 4.19.190+ Compiler: gcc 8.3 Test result details: 1/104 DPDK:fast-tests / acl_autotest OK 2.82s 2/104 DPDK:fast-tests / atomic_autotest OK 7.23s 3/104 DPDK:fast-tests / bitmap_autotest OK 0.07s 4/104 DPDK:fast-tests / bpf_autotest OK 0.07s 5/104 DPDK:fast-tests / bpf_convert_autotest OK 0.07s 6/104 DPDK:fast-tests / bitops_autotest OK 0.07s 7/104 DPDK:fast-tests / byteorder_autotest OK 0.07s 8/104 DPDK:fast-tests / cksum_autotest OK 0.07s 9/104 DPDK:fast-tests / cmdline_autotest OK 0.07s 10/104 DPDK:fast-tests / common_autotest OK 0.92s 11/104 DPDK:fast-tests / cpuflags_autotest OK 0.07s 12/104 DPDK:fast-tests / debug_autotest OK 1.42s 13/104 DPDK:fast-tests / devargs_autotest OK 0.07s 14/104 DPDK:fast-tests / eal_flags_c_opt_autotest OK 0.67s 15/104 DPDK:fast-tests / eal_flags_main_opt_autotest OK 0.22s 16/104 DPDK:fast-tests / eal_flags_n_opt_autotest OK 0.17s 17/104 DPDK:fast-tests / eal_flags_hpet_autotest OK 0.12s 18/104 DPDK:fast-tests / eal_flags_no_huge_autotest OK 0.22s 19/104 DPDK:fast-tests / eal_flags_a_opt_autotest OK 0.27s 20/104 DPDK:fast-tests / eal_flags_b_opt_autotest OK 0.22s 21/104 DPDK:fast-tests / eal_flags_vdev_opt_autotest OK 0.17s 22/104 DPDK:fast-tests / eal_flags_r_opt_autotest OK 0.17s 23/104 DPDK:fast-tests / eal_flags_mem_autotest OK 0.52s 24/104 DPDK:fast-tests / eal_flags_file_prefix_autotest OK 22.26s 25/104 DPDK:fast-tests / eal_flags_misc_autotest OK 0.77s 26/104 DPDK:fast-tests / eal_fs_autotest OK 0.07s 27/104 DPDK:fast-tests / errno_autotest OK 0.07s 28/104 DPDK:fast-tests / ethdev_link_status OK 0.07s 29/104 DPDK:fast-tests / event_ring_autotest OK 0.07s 30/104 DPDK:fast-tests / fib_autotest OK 0.87s 31/104 DPDK:fast-tests / fib6_autotest OK 0.87s 32/104 DPDK:fast-tests / func_reentrancy_autotest OK 2.18s 33/104 DPDK:fast-tests / hash_autotest OK 1.02s 34/104 DPDK:fast-tests / interrupt_autotest OK 1.37s 35/104 DPDK:fast-tests / ipfrag_autotest OK 0.07s 36/104 DPDK:fast-tests / lcores_autotest OK 1.02s 37/104 DPDK:fast-tests / logs_autotest OK 0.07s 38/104 DPDK:fast-tests / lpm_autotest OK 5.95s 39/104 DPDK:fast-tests / lpm6_autotest OK 8.80s 40/104 DPDK:fast-tests / malloc_autotest OK 62.71s 41/104 DPDK:fast-tests / mbuf_autotest OK 7.28s 42/104 DPDK:fast-tests / mcslock_autotest OK 2.82s 43/104 DPDK:fast-tests / memcpy_autotest OK 6.93s 44/104 DPDK:fast-tests / memory_autotest OK 0.12s 45/104 DPDK:fast-tests / mempool_autotest OK 0.42s 46/104 DPDK:fast-tests / memzone_autotest OK 0.17s 47/104 DPDK:fast-tests / meter_autotest OK 0.07s 48/104 DPDK:fast-tests / multiprocess_autotest OK 0.17s 49/104 DPDK:fast-tests / per_lcore_autotest OK 0.17s 50/104 DPDK:fast-tests / pflock_autotest OK 0.87s 51/104 DPDK:fast-tests / prefetch_autotest OK 0.07s 52/104 DPDK:fast-tests / rcu_qsbr_autotest OK 0.57s 53/104 DPDK:fast-tests / pie_autotest OK 0.07s 54/104 DPDK:fast-tests / rib_autotest OK 10.29s 55/104 DPDK:fast-tests / rib6_autotest OK 10.29s 56/104 DPDK:fast-tests / ring_autotest OK 0.12s 57/104 DPDK:fast-tests / rwlock_test1_autotest OK 0.82s 58/104 DPDK:fast-tests / rwlock_rda_autotest OK 5.07s 59/104 DPDK:fast-tests / rwlock_rds_wrm_autotest OK 5.07s 60/104 DPDK:fast-tests / rwlock_rde_wro_autotest OK 5.07s 61/104 DPDK:fast-tests / sched_autotest OK 0.07s 62/104 DPDK:fast-tests / security_autotest OK 0.07s 63/104 DPDK:fast-tests / seqlock_autotest OK 2.07s 64/104 DPDK:fast-tests / spinlock_autotest OK 0.17s 65/104 DPDK:fast-tests / stack_autotest OK 0.87s 66/104 DPDK:fast-tests / stack_lf_autotest SKIP 0.07s exit status 77 67/104 DPDK:fast-tests / string_autotest OK 0.07s 68/104 DPDK:fast-tests / tailq_autotest OK 0.07s 69/104 DPDK:fast-tests / ticketlock_autotest OK 0.22s 70/104 DPDK:fast-tests / timer_autotest OK 3.87s 71/104 DPDK:fast-tests / user_delay_us OK 0.07s 72/104 DPDK:fast-tests / version_autotest OK 0.07s 73/104 DPDK:fast-tests / crc_autotest OK 0.07s 74/104 DPDK:fast-tests / distributor_autotest OK 1.22s 75/104 DPDK:fast-tests / eventdev_common_autotest OK 0.07s 76/104 DPDK:fast-tests / fbarray_autotest OK 0.07s 77/104 DPDK:fast-tests / hash_readwrite_func_autotest OK 6.43s 78/104 DPDK:fast-tests / ipsec_autotest SKIP 0.07s exit status 77 79/104 DPDK:fast-tests / kni_autotest SKIP 0.07s exit status 77 80/104 DPDK:fast-tests / kvargs_autotest OK 0.07s 81/104 DPDK:fast-tests / member_autotest OK 1.22s 82/104 DPDK:fast-tests / power_cpufreq_autotest SKIP 0.07s exit status 77 83/104 DPDK:fast-tests / power_autotest OK 0.07s 84/104 DPDK:fast-tests / power_kvm_vm_autotest SKIP 0.07s exit status 77 85/104 DPDK:fast-tests / power_intel_uncore_autotest SKIP 0.07s exit status 77 86/104 DPDK:fast-tests / reorder_autotest OK 0.12s 87/104 DPDK:fast-tests / service_autotest OK 2.77s 88/104 DPDK:fast-tests / thash_autotest OK 0.07s 89/104 DPDK:fast-tests / threads_autotest OK 0.22s 90/104 DPDK:fast-tests / trace_autotest OK 0.07s 91/104 DPDK:fast-tests / trace_autotest_with_traces OK 0.12s 92/104 DPDK:fast-tests / metrics_autotest OK 0.07s 93/104 DPDK:fast-tests / telemetry_json_autotest OK 0.07s 94/104 DPDK:fast-tests / telemetry_data_autotest OK 0.07s 95/104 DPDK:fast-tests / table_autotest OK 10.15s 96/104 DPDK:fast-tests / ring_pmd_autotest OK 0.07s 97/104 DPDK:fast-tests / event_eth_tx_adapter_autotest OK 1.47s 98/104 DPDK:fast-tests / bitratestats_autotest OK 0.07s 99/104 DPDK:fast-tests / latencystats_autotest OK 0.07s 100/104 DPDK:fast-tests / pdump_autotest OK 5.17s 101/104 DPDK:fast-tests / vdev_autotest OK 0.07s 102/104 DPDK:fast-tests / rawdev_autotest OK 0.07s 103/104 DPDK:fast-tests / compressdev_autotest SKIP 0.07s exit status 77 104/104 DPDK:fast-tests / telemetry_all OK 14.74s Ok: 97 Expected Fail: 0 Fail: 0 Unexpected Pass: 0 Skipped: 7 Timeout: 0
Test-Label: iol-broadcom-Functional Test-Status: SUCCESS http://dpdk.org/patch/125248 _Functional Testing PASS_ Submitter: Long Li <longli@linuxonhyperv.com> Date: Friday, March 17 2023 23:32:44 DPDK git baseline: Repo:dpdk Branch: master CommitID:ce5440e0350df101443aa4d0e96bea0a06ef9364 125247-125248 --> functional testing pass Test environment and result as below: Ubuntu 20.04 ARM Kernel: 4.15.0-132-generic Compiler: gcc 7.5 NIC: Arm Broadcom Inc. brcm_57414 25000 Mbps Target: x86_64-native-linuxapp-gcc Fail/Total: 0/1 To view detailed results, visit: https://lab.dpdk.org/results/dashboard/patchsets/25787/ UNH-IOL DPDK Community Lab To manage your email subscriptions, visit: https://lab.dpdk.org/results/dashboard/preferences/subscriptions/
Test-Label: iol-broadcom-Performance Test-Status: SUCCESS http://dpdk.org/patch/125248 _Performance Testing PASS_ Submitter: Long Li <longli@linuxonhyperv.com> Date: Friday, March 17 2023 23:32:44 DPDK git baseline: Repo:dpdk Branch: master CommitID:ce5440e0350df101443aa4d0e96bea0a06ef9364 125247-125248 --> performance testing pass Test environment and result as below: Ubuntu 20.04 ARM Kernel: 4.15.0-132-generic Compiler: gcc 7.5 NIC: Arm Broadcom Inc. brcm_57414 25000 Mbps Target: x86_64-native-linuxapp-gcc Fail/Total: 0/2 Detail performance results: +------------+---------+----------+-------------+------------------------------+ | frame_size | txd/rxd | num_cpus | num_threads | throughput difference from | | | | | | expected | +============+=========+==========+=============+==============================+ | 64 | 512 | 1 | 1 | -2.8% | +------------+---------+----------+-------------+------------------------------+ | 64 | 2048 | 1 | 1 | -0.5% | +------------+---------+----------+-------------+------------------------------+ To view detailed results, visit: https://lab.dpdk.org/results/dashboard/patchsets/25787/ UNH-IOL DPDK Community Lab To manage your email subscriptions, visit: https://lab.dpdk.org/results/dashboard/preferences/subscriptions/
Test-Label: iol-broadcom-Performance Test-Status: SUCCESS http://dpdk.org/patch/125248 _Performance Testing PASS_ Submitter: Long Li <longli@linuxonhyperv.com> Date: Friday, March 17 2023 23:32:44 DPDK git baseline: Repo:dpdk Branch: master CommitID:ce5440e0350df101443aa4d0e96bea0a06ef9364 125247-125248 --> performance testing pass Test environment and result as below: Ubuntu 20.04 ARM Kernel: 4.15.0-132-generic Compiler: gcc 7.5 NIC: Arm Broadcom Inc. brcm_57414 25000 Mbps Target: x86_64-native-linuxapp-gcc Fail/Total: 0/2 Detail performance results: +------------+---------+----------+-------------+------------------------------+ | frame_size | txd/rxd | num_cpus | num_threads | throughput difference from | | | | | | expected | +============+=========+==========+=============+==============================+ | 64 | 512 | 1 | 1 | -2.8% | +------------+---------+----------+-------------+------------------------------+ | 64 | 2048 | 1 | 1 | -0.5% | +------------+---------+----------+-------------+------------------------------+ Ubuntu 22.04 Kernel: 5.15.0-39-generic Compiler: gcc gcc (Ubuntu 11.2.0-19ubuntu1) 11.2.0 NIC: Broadcom Inc. and subsidiaries BCM57414 NetXtreme-E 10Gb/25Gb RDMA Ethernet Controller 16d7 25 Mbps Target: x86_64-native-linuxapp-gcc Fail/Total: 0/3 Detail performance results: +------------+---------+----------+-------------+------------------------------+ | frame_size | txd/rxd | num_cpus | num_threads | throughput difference from | | | | | | expected | +============+=========+==========+=============+==============================+ | 64 | 128 | 1 | 1 | -0.0% | +------------+---------+----------+-------------+------------------------------+ | 64 | 512 | 1 | 1 | -0.0% | +------------+---------+----------+-------------+------------------------------+ | 64 | 2048 | 1 | 1 | 0.1% | +------------+---------+----------+-------------+------------------------------+ To view detailed results, visit: https://lab.dpdk.org/results/dashboard/patchsets/25787/ UNH-IOL DPDK Community Lab To manage your email subscriptions, visit: https://lab.dpdk.org/results/dashboard/preferences/subscriptions/
Test-Label: iol-intel-Functional Test-Status: SUCCESS http://dpdk.org/patch/125248 _Functional Testing PASS_ Submitter: Long Li <longli@linuxonhyperv.com> Date: Friday, March 17 2023 23:32:44 DPDK git baseline: Repo:dpdk Branch: master CommitID:ce5440e0350df101443aa4d0e96bea0a06ef9364 125247-125248 --> functional testing pass Test environment and result as below: Ubuntu 20.04 Kernel: 4.15.0-generic Compiler: gcc 7.4 NIC: Intel Corporation Ethernet Converged Network Adapter 82599ES 10000 Mbps Target: x86_64-native-linuxapp-gcc Fail/Total: 0/2 Ubuntu 20.04 ARM Kernel: 4.15.0-132-generic Compiler: gcc 7.5 NIC: Arm Intel Corporation Ethernet Converged Network Adapter XL710-QDA2 40000 Mbps Target: x86_64-native-linuxapp-gcc Fail/Total: 0/2 To view detailed results, visit: https://lab.dpdk.org/results/dashboard/patchsets/25787/ UNH-IOL DPDK Community Lab To manage your email subscriptions, visit: https://lab.dpdk.org/results/dashboard/preferences/subscriptions/
Test-Label: iol-broadcom-Functional Test-Status: SUCCESS http://dpdk.org/patch/125248 _Functional Testing PASS_ Submitter: Long Li <longli@linuxonhyperv.com> Date: Friday, March 17 2023 23:32:44 DPDK git baseline: Repo:dpdk Branch: master CommitID:ce5440e0350df101443aa4d0e96bea0a06ef9364 125247-125248 --> functional testing pass Test environment and result as below: Ubuntu 20.04 ARM Kernel: 4.15.0-132-generic Compiler: gcc 7.5 NIC: Arm Broadcom Inc. brcm_57414 25000 Mbps Target: x86_64-native-linuxapp-gcc Fail/Total: 0/1 To view detailed results, visit: https://lab.dpdk.org/results/dashboard/patchsets/25787/ UNH-IOL DPDK Community Lab To manage your email subscriptions, visit: https://lab.dpdk.org/results/dashboard/preferences/subscriptions/
Test-Label: iol-intel-Performance Test-Status: SUCCESS http://dpdk.org/patch/125248 _Performance Testing PASS_ Submitter: Long Li <longli@linuxonhyperv.com> Date: Friday, March 17 2023 23:32:44 DPDK git baseline: Repo:dpdk Branch: master CommitID:ce5440e0350df101443aa4d0e96bea0a06ef9364 125247-125248 --> performance testing pass Test environment and result as below: Ubuntu 20.04 Kernel: 4.15.0-generic Compiler: gcc 7.4 NIC: Intel Corporation Ethernet Converged Network Adapter XL710-QDA2 40000 Mbps Target: x86_64-native-linuxapp-gcc Fail/Total: 0/4 Detail performance results: +----------+-------------+---------+------------+------------------------------+ | num_cpus | num_threads | txd/rxd | frame_size | throughput difference from | | | | | | expected | +==========+=============+=========+============+==============================+ | 1 | 2 | 512 | 64 | 0.2% | +----------+-------------+---------+------------+------------------------------+ | 1 | 2 | 2048 | 64 | 2.0% | +----------+-------------+---------+------------+------------------------------+ | 1 | 1 | 512 | 64 | 3.1% | +----------+-------------+---------+------------+------------------------------+ | 1 | 1 | 2048 | 64 | 0.8% | +----------+-------------+---------+------------+------------------------------+ To view detailed results, visit: https://lab.dpdk.org/results/dashboard/patchsets/25787/ UNH-IOL DPDK Community Lab To manage your email subscriptions, visit: https://lab.dpdk.org/results/dashboard/preferences/subscriptions/
Test-Label: iol-broadcom-Functional Test-Status: SUCCESS http://dpdk.org/patch/125248 _Functional Testing PASS_ Submitter: Long Li <longli@linuxonhyperv.com> Date: Friday, March 17 2023 23:32:44 DPDK git baseline: Repo:dpdk Branch: master CommitID:ce5440e0350df101443aa4d0e96bea0a06ef9364 125247-125248 --> functional testing pass Test environment and result as below: Ubuntu 20.04 ARM Kernel: 4.15.0-132-generic Compiler: gcc 7.5 NIC: Arm Broadcom Inc. brcm_57414 25000 Mbps Target: x86_64-native-linuxapp-gcc Fail/Total: 0/1 Ubuntu 22.04 Kernel: 5.15.0-58-generic x86_64 Compiler: gcc gcc (Ubuntu 11.2.0-19ubuntu1) 11.2.0 NIC: Broadcom Inc. and subsidiaries BCM957508-P2100G Dual-Port 100 Gb/s QSFP56 100 Mbps Target: x86_64-native-linuxapp-gcc Fail/Total: 0/2 To view detailed results, visit: https://lab.dpdk.org/results/dashboard/patchsets/25787/ UNH-IOL DPDK Community Lab To manage your email subscriptions, visit: https://lab.dpdk.org/results/dashboard/preferences/subscriptions/
Test-Label: iol-broadcom-Performance Test-Status: SUCCESS http://dpdk.org/patch/125248 _Performance Testing PASS_ Submitter: Long Li <longli@linuxonhyperv.com> Date: Friday, March 17 2023 23:32:44 DPDK git baseline: Repo:dpdk Branch: master CommitID:ce5440e0350df101443aa4d0e96bea0a06ef9364 125247-125248 --> performance testing pass Test environment and result as below: Ubuntu 20.04 ARM Kernel: 4.15.0-132-generic Compiler: gcc 7.5 NIC: Arm Broadcom Inc. brcm_57414 25000 Mbps Target: x86_64-native-linuxapp-gcc Fail/Total: 0/2 Detail performance results: +------------+---------+----------+-------------+------------------------------+ | frame_size | txd/rxd | num_cpus | num_threads | throughput difference from | | | | | | expected | +============+=========+==========+=============+==============================+ | 64 | 512 | 1 | 1 | -3.4% | +------------+---------+----------+-------------+------------------------------+ | 64 | 2048 | 1 | 1 | 2.8% | +------------+---------+----------+-------------+------------------------------+ To view detailed results, visit: https://lab.dpdk.org/results/dashboard/patchsets/25787/ UNH-IOL DPDK Community Lab To manage your email subscriptions, visit: https://lab.dpdk.org/results/dashboard/preferences/subscriptions/
Test-Label: iol-mellanox-Performance Test-Status: SUCCESS http://dpdk.org/patch/125248 _Performance Testing PASS_ Submitter: Long Li <longli@linuxonhyperv.com> Date: Friday, March 17 2023 23:32:44 DPDK git baseline: Repo:dpdk Branch: master CommitID:ce5440e0350df101443aa4d0e96bea0a06ef9364 125247-125248 --> performance testing pass Test environment and result as below: Ubuntu 20.04 Kernel: 4.15.0-generic Compiler: gcc 7.4 NIC: Mellanox ConnectX-5 100000 Mbps Target: x86_64-native-linuxapp-gcc Fail/Total: 0/6 Detail performance results: +------------+---------+----------+-------------+------------------------------+ | frame_size | txd/rxd | num_cpus | num_threads | throughput difference from | | | | | | expected | +============+=========+==========+=============+==============================+ | 64 | 256 | 1 | 1 | -0.3% | +------------+---------+----------+-------------+------------------------------+ | 128 | 256 | 1 | 1 | 0.0% | +------------+---------+----------+-------------+------------------------------+ | 1024 | 256 | 1 | 1 | -0.2% | +------------+---------+----------+-------------+------------------------------+ | 256 | 256 | 1 | 1 | 0.0% | +------------+---------+----------+-------------+------------------------------+ | 1518 | 256 | 1 | 1 | -0.0% | +------------+---------+----------+-------------+------------------------------+ | 512 | 256 | 1 | 1 | 0.1% | +------------+---------+----------+-------------+------------------------------+ To view detailed results, visit: https://lab.dpdk.org/results/dashboard/patchsets/25787/ UNH-IOL DPDK Community Lab To manage your email subscriptions, visit: https://lab.dpdk.org/results/dashboard/preferences/subscriptions/
Test-Label: iol-intel-Functional Test-Status: SUCCESS http://dpdk.org/patch/125248 _Functional Testing PASS_ Submitter: Long Li <longli@linuxonhyperv.com> Date: Friday, March 17 2023 23:32:44 DPDK git baseline: Repo:dpdk Branch: master CommitID:ce5440e0350df101443aa4d0e96bea0a06ef9364 125247-125248 --> functional testing pass Test environment and result as below: Ubuntu 20.04 Kernel: 4.15.0-generic Compiler: gcc 7.4 NIC: Intel Corporation Ethernet Converged Network Adapter 82599ES 10000 Mbps Target: x86_64-native-linuxapp-gcc Fail/Total: 0/2 To view detailed results, visit: https://lab.dpdk.org/results/dashboard/patchsets/25787/ UNH-IOL DPDK Community Lab To manage your email subscriptions, visit: https://lab.dpdk.org/results/dashboard/preferences/subscriptions/
Test-Label: iol-broadcom-Functional Test-Status: SUCCESS http://dpdk.org/patch/125248 _Functional Testing PASS_ Submitter: Long Li <longli@linuxonhyperv.com> Date: Friday, March 17 2023 23:32:44 DPDK git baseline: Repo:dpdk Branch: master CommitID:ce5440e0350df101443aa4d0e96bea0a06ef9364 125247-125248 --> functional testing pass Test environment and result as below: Ubuntu 20.04 ARM Kernel: 4.15.0-132-generic Compiler: gcc 7.5 NIC: Arm Broadcom Inc. brcm_57414 25000 Mbps Target: x86_64-native-linuxapp-gcc Fail/Total: 0/1 Ubuntu 22.04 Kernel: 5.15.0-58-generic x86_64 Compiler: gcc gcc (Ubuntu 11.2.0-19ubuntu1) 11.2.0 NIC: Broadcom Inc. and subsidiaries BCM957508-P2100G Dual-Port 100 Gb/s QSFP56 100 Mbps Target: x86_64-native-linuxapp-gcc Fail/Total: 0/2 To view detailed results, visit: https://lab.dpdk.org/results/dashboard/patchsets/25787/ UNH-IOL DPDK Community Lab To manage your email subscriptions, visit: https://lab.dpdk.org/results/dashboard/preferences/subscriptions/
Test-Label: iol-intel-Functional Test-Status: SUCCESS http://dpdk.org/patch/125248 _Functional Testing PASS_ Submitter: Long Li <longli@linuxonhyperv.com> Date: Friday, March 17 2023 23:32:44 DPDK git baseline: Repo:dpdk Branch: master CommitID:ce5440e0350df101443aa4d0e96bea0a06ef9364 125247-125248 --> functional testing pass Test environment and result as below: Ubuntu 20.04 Kernel: 4.15.0-generic Compiler: gcc 7.4 NIC: Intel Corporation Ethernet Converged Network Adapter 82599ES 10000 Mbps Target: x86_64-native-linuxapp-gcc Fail/Total: 0/2 Ubuntu 20.04 ARM Kernel: 4.15.0-132-generic Compiler: gcc 7.5 NIC: Arm Intel Corporation Ethernet Converged Network Adapter XL710-QDA2 40000 Mbps Target: x86_64-native-linuxapp-gcc Fail/Total: 0/2 To view detailed results, visit: https://lab.dpdk.org/results/dashboard/patchsets/25787/ UNH-IOL DPDK Community Lab To manage your email subscriptions, visit: https://lab.dpdk.org/results/dashboard/preferences/subscriptions/
Test-Label: iol-intel-Functional Test-Status: SUCCESS http://dpdk.org/patch/125248 _Functional Testing PASS_ Submitter: Long Li <longli@linuxonhyperv.com> Date: Friday, March 17 2023 23:32:44 DPDK git baseline: Repo:dpdk Branch: master CommitID:ce5440e0350df101443aa4d0e96bea0a06ef9364 125247-125248 --> functional testing pass Test environment and result as below: Ubuntu 20.04 Kernel: 4.15.0-generic Compiler: gcc 7.4 NIC: Intel Corporation Ethernet Converged Network Adapter 82599ES 10000 Mbps Target: x86_64-native-linuxapp-gcc Fail/Total: 0/2 Ubuntu 20.04 Kernel: 4.15.0-generic Compiler: gcc 7.4 NIC: Intel Corporation Ethernet Converged Network Adapter XL710-QDA2 40000 Mbps Target: x86_64-native-linuxapp-gcc Fail/Total: 0/2 Ubuntu 20.04 ARM Kernel: 4.15.0-132-generic Compiler: gcc 7.5 NIC: Arm Intel Corporation Ethernet Converged Network Adapter XL710-QDA2 40000 Mbps Target: x86_64-native-linuxapp-gcc Fail/Total: 0/2 To view detailed results, visit: https://lab.dpdk.org/results/dashboard/patchsets/25787/ UNH-IOL DPDK Community Lab To manage your email subscriptions, visit: https://lab.dpdk.org/results/dashboard/preferences/subscriptions/
Test-Label: iol-aarch64-compile-testing Test-Status: SUCCESS http://dpdk.org/patch/125248 _Testing PASS_ Submitter: Long Li <longli@linuxonhyperv.com> Date: Friday, March 17 2023 23:32:44 DPDK git baseline: Repo:dpdk Branch: master CommitID:ce5440e0350df101443aa4d0e96bea0a06ef9364 125247-125248 --> testing pass Test environment and result as below: +----------------------------------------+--------------------+ | Environment | dpdk_meson_compile | +========================================+====================+ | Ubuntu 20.04 ARM Clang Native | PASS | +----------------------------------------+--------------------+ | Ubuntu 20.04 ARM GCC Native | PASS | +----------------------------------------+--------------------+ | Ubuntu 20.04 ARM GCC Cross Compile | PASS | +----------------------------------------+--------------------+ | Ubuntu 20.04 aarch32 GCC Cross Compile | PASS | +----------------------------------------+--------------------+ | Ubuntu 20.04 ARM Clang Cross Compile | PASS | +----------------------------------------+--------------------+ | Ubuntu 20.04 ARM SVE | PASS | +----------------------------------------+--------------------+ Ubuntu 20.04 ARM Clang Native Kernel: 5.4.0-53-generic Compiler: clang 10.0.0-4ubuntu1 Ubuntu 20.04 ARM GCC Native Kernel: 5.4.0-53-generic Compiler: gcc 9.3 Ubuntu 20.04 ARM GCC Cross Compile Kernel: 5.4.0-72-generic Compiler: aarch64-linux-gnu-gcc (Ubuntu 9.3.0-17ubuntu1~20.04) 9.3.0 Ubuntu 20.04 aarch32 GCC Cross Compile Kernel: 5.4.0-72-generic Compiler: gcc 9.3.0 Ubuntu 20.04 ARM Clang Cross Compile Kernel: 5.4.0-72-generic Compiler: clang version 10.0.0-4ubuntu1 Ubuntu 20.04 ARM SVE Kernel: 5.4.0-80-generic Compiler: gcc 10.3.0 (Ubuntu 10.3.0-1ubuntu1~20.04) To view detailed results, visit: https://lab.dpdk.org/results/dashboard/patchsets/25787/ UNH-IOL DPDK Community Lab To manage your email subscriptions, visit: https://lab.dpdk.org/results/dashboard/preferences/subscriptions/
Test-Label: iol-broadcom-Performance Test-Status: SUCCESS http://dpdk.org/patch/125248 _Performance Testing PASS_ Submitter: Long Li <longli@linuxonhyperv.com> Date: Friday, March 17 2023 23:32:44 DPDK git baseline: Repo:dpdk Branch: master CommitID:ce5440e0350df101443aa4d0e96bea0a06ef9364 125247-125248 --> performance testing pass Test environment and result as below: Ubuntu 20.04 ARM Kernel: 4.15.0-132-generic Compiler: gcc 7.5 NIC: Arm Broadcom Inc. brcm_57414 25000 Mbps Target: x86_64-native-linuxapp-gcc Fail/Total: 0/2 Detail performance results: +------------+---------+----------+-------------+------------------------------+ | frame_size | txd/rxd | num_cpus | num_threads | throughput difference from | | | | | | expected | +============+=========+==========+=============+==============================+ | 64 | 512 | 1 | 1 | -3.4% | +------------+---------+----------+-------------+------------------------------+ | 64 | 2048 | 1 | 1 | 2.8% | +------------+---------+----------+-------------+------------------------------+ Ubuntu 22.04 Kernel: 5.15.0-39-generic Compiler: gcc gcc (Ubuntu 11.2.0-19ubuntu1) 11.2.0 NIC: Broadcom Inc. and subsidiaries BCM57414 NetXtreme-E 10Gb/25Gb RDMA Ethernet Controller 16d7 25 Mbps Target: x86_64-native-linuxapp-gcc Fail/Total: 0/3 Detail performance results: +------------+---------+----------+-------------+------------------------------+ | frame_size | txd/rxd | num_cpus | num_threads | throughput difference from | | | | | | expected | +============+=========+==========+=============+==============================+ | 64 | 128 | 1 | 1 | -0.1% | +------------+---------+----------+-------------+------------------------------+ | 64 | 512 | 1 | 1 | 0.0% | +------------+---------+----------+-------------+------------------------------+ | 64 | 2048 | 1 | 1 | 0.2% | +------------+---------+----------+-------------+------------------------------+ To view detailed results, visit: https://lab.dpdk.org/results/dashboard/patchsets/25787/ UNH-IOL DPDK Community Lab To manage your email subscriptions, visit: https://lab.dpdk.org/results/dashboard/preferences/subscriptions/
Test-Label: iol-x86_64-compile-testing Test-Status: SUCCESS http://dpdk.org/patch/125248 _Testing PASS_ Submitter: Long Li <longli@linuxonhyperv.com> Date: Friday, March 17 2023 23:32:44 DPDK git baseline: Repo:dpdk Branch: master CommitID:ce5440e0350df101443aa4d0e96bea0a06ef9364 125247-125248 --> testing pass Test environment and result as below: +------------------+--------------------+ | Environment | dpdk_meson_compile | +==================+====================+ | FreeBSD 13 | PASS | +------------------+--------------------+ | Debian Bullseye | PASS | +------------------+--------------------+ | Ubuntu 22.04 | PASS | +------------------+--------------------+ | CentOS Stream 9 | PASS | +------------------+--------------------+ | Ubuntu 20.04 | PASS | +------------------+--------------------+ | Debian Buster | PASS | +------------------+--------------------+ | RHEL 7 | PASS | +------------------+--------------------+ | RHEL8 | PASS | +------------------+--------------------+ | openSUSE Leap 15 | PASS | +------------------+--------------------+ | CentOS Stream 8 | PASS | +------------------+--------------------+ FreeBSD 13 Kernel: 13.0 Compiler: clang 11.0.1 Debian Bullseye Kernel: 5.4.0-122-generic Compiler: gcc 10.2.1-6 Ubuntu 22.04 Kernel: Container Host Kernel Compiler: gcc 11.3.1-2 CentOS Stream 9 Kernel: 4.18.0-240.10.1.el8_3.x86_64 Compiler: gcc 11.3.1 20220421 Ubuntu 20.04 Kernel: 4.18.0-240.10.1.el8_3.x86_64 Compiler: gcc 9.3.0-17ubuntu1~20.04 Debian Buster Kernel: 5.4.0-122-generic Compiler: gcc 8.3.0-6 RHEL 7 Kernel: 4.18.0-240.10.1.el8_3.x86_64 Compiler: gcc 4.8.5 20150623 (Red Hat 4.8.5-44) RHEL8 Kernel: 4.18.0-240.10.1.el8_3.x86_64 Compiler: gcc 8.3.1 20191121 (Red Hat 8.3.1-5) openSUSE Leap 15 Kernel: 4.18.0-240.10.1.el8_3.x86_64 Compiler: gcc 7.5.0 CentOS Stream 8 Kernel: 4.18.0-240.10.1.el8_3.x86_64 Compiler: gcc 8.4.1 20200928 To view detailed results, visit: https://lab.dpdk.org/results/dashboard/patchsets/25787/ UNH-IOL DPDK Community Lab To manage your email subscriptions, visit: https://lab.dpdk.org/results/dashboard/preferences/subscriptions/
Test-Label: iol-intel-Performance Test-Status: SUCCESS http://dpdk.org/patch/125248 _Performance Testing PASS_ Submitter: Long Li <longli@linuxonhyperv.com> Date: Friday, March 17 2023 23:32:44 DPDK git baseline: Repo:dpdk Branch: master CommitID:ce5440e0350df101443aa4d0e96bea0a06ef9364 125247-125248 --> performance testing pass Test environment and result as below: Ubuntu 20.04 Kernel: 4.15.0-generic Compiler: gcc 7.4 NIC: Intel Corporation Ethernet Converged Network Adapter 82599ES 10000 Mbps Target: x86_64-native-linuxapp-gcc Fail/Total: 0/6 Detail performance results: +----------+-------------+---------+------------+------------------------------+ | num_cpus | num_threads | txd/rxd | frame_size | throughput difference from | | | | | | expected | +==========+=============+=========+============+==============================+ | 1 | 2 | 128 | 64 | 0.2% | +----------+-------------+---------+------------+------------------------------+ | 1 | 2 | 512 | 64 | -0.1% | +----------+-------------+---------+------------+------------------------------+ | 1 | 2 | 2048 | 64 | 0.1% | +----------+-------------+---------+------------+------------------------------+ | 1 | 1 | 128 | 64 | -0.2% | +----------+-------------+---------+------------+------------------------------+ | 1 | 1 | 512 | 64 | -0.2% | +----------+-------------+---------+------------+------------------------------+ | 1 | 1 | 2048 | 64 | 0.3% | +----------+-------------+---------+------------+------------------------------+ To view detailed results, visit: https://lab.dpdk.org/results/dashboard/patchsets/25787/ UNH-IOL DPDK Community Lab To manage your email subscriptions, visit: https://lab.dpdk.org/results/dashboard/preferences/subscriptions/
Test-Label: iol-intel-Performance Test-Status: SUCCESS http://dpdk.org/patch/125248 _Performance Testing PASS_ Submitter: Long Li <longli@linuxonhyperv.com> Date: Friday, March 17 2023 23:32:44 DPDK git baseline: Repo:dpdk Branch: master CommitID:ce5440e0350df101443aa4d0e96bea0a06ef9364 125247-125248 --> performance testing pass Test environment and result as below: Ubuntu 20.04 Kernel: 4.15.0-generic Compiler: gcc 7.4 NIC: Intel Corporation Ethernet Converged Network Adapter 82599ES 10000 Mbps Target: x86_64-native-linuxapp-gcc Fail/Total: 0/6 Detail performance results: +----------+-------------+---------+------------+------------------------------+ | num_cpus | num_threads | txd/rxd | frame_size | throughput difference from | | | | | | expected | +==========+=============+=========+============+==============================+ | 1 | 2 | 128 | 64 | 0.2% | +----------+-------------+---------+------------+------------------------------+ | 1 | 2 | 512 | 64 | -0.1% | +----------+-------------+---------+------------+------------------------------+ | 1 | 2 | 2048 | 64 | 0.1% | +----------+-------------+---------+------------+------------------------------+ | 1 | 1 | 128 | 64 | -0.2% | +----------+-------------+---------+------------+------------------------------+ | 1 | 1 | 512 | 64 | -0.2% | +----------+-------------+---------+------------+------------------------------+ | 1 | 1 | 2048 | 64 | 0.3% | +----------+-------------+---------+------------+------------------------------+ Ubuntu 20.04 Kernel: 4.15.0-generic Compiler: gcc 7.4 NIC: Intel Corporation Ethernet Converged Network Adapter XL710-QDA2 40000 Mbps Target: x86_64-native-linuxapp-gcc Fail/Total: 0/4 Detail performance results: +----------+-------------+---------+------------+------------------------------+ | num_cpus | num_threads | txd/rxd | frame_size | throughput difference from | | | | | | expected | +==========+=============+=========+============+==============================+ | 1 | 2 | 512 | 64 | 0.0% | +----------+-------------+---------+------------+------------------------------+ | 1 | 2 | 2048 | 64 | 3.5% | +----------+-------------+---------+------------+------------------------------+ | 1 | 1 | 512 | 64 | -2.6% | +----------+-------------+---------+------------+------------------------------+ | 1 | 1 | 2048 | 64 | 0.2% | +----------+-------------+---------+------------+------------------------------+ To view detailed results, visit: https://lab.dpdk.org/results/dashboard/patchsets/25787/ UNH-IOL DPDK Community Lab To manage your email subscriptions, visit: https://lab.dpdk.org/results/dashboard/preferences/subscriptions/
Test-Label: iol-intel-Functional Test-Status: SUCCESS http://dpdk.org/patch/125248 _Functional Testing PASS_ Submitter: Long Li <longli@linuxonhyperv.com> Date: Friday, March 17 2023 23:32:44 DPDK git baseline: Repo:dpdk Branch: master CommitID:ce5440e0350df101443aa4d0e96bea0a06ef9364 125247-125248 --> functional testing pass Test environment and result as below: Ubuntu 20.04 Kernel: 4.15.0-generic Compiler: gcc 7.4 NIC: Intel Corporation Ethernet Converged Network Adapter 82599ES 10000 Mbps Target: x86_64-native-linuxapp-gcc Fail/Total: 0/2 Ubuntu 20.04 Kernel: 4.15.0-generic Compiler: gcc 7.4 NIC: Intel Corporation Ethernet Converged Network Adapter XL710-QDA2 40000 Mbps Target: x86_64-native-linuxapp-gcc Fail/Total: 0/2 Ubuntu 20.04 ARM Kernel: 4.15.0-132-generic Compiler: gcc 7.5 NIC: Arm Intel Corporation Ethernet Converged Network Adapter XL710-QDA2 40000 Mbps Target: x86_64-native-linuxapp-gcc Fail/Total: 0/2 To view detailed results, visit: https://lab.dpdk.org/results/dashboard/patchsets/25787/ UNH-IOL DPDK Community Lab To manage your email subscriptions, visit: https://lab.dpdk.org/results/dashboard/preferences/subscriptions/
Test-Label: iol-aarch64-compile-testing Test-Status: SUCCESS http://dpdk.org/patch/125248 _Testing PASS_ Submitter: Long Li <longli@linuxonhyperv.com> Date: Friday, March 17 2023 23:32:44 DPDK git baseline: Repo:dpdk Branch: master CommitID:ce5440e0350df101443aa4d0e96bea0a06ef9364 125247-125248 --> testing pass Test environment and result as below: +----------------------------------------+--------------------+ | Environment | dpdk_meson_compile | +========================================+====================+ | Ubuntu 20.04 ARM GCC Native | PASS | +----------------------------------------+--------------------+ | Ubuntu 20.04 ARM Clang Native | PASS | +----------------------------------------+--------------------+ | Ubuntu 20.04 ARM Clang Cross Compile | PASS | +----------------------------------------+--------------------+ | Ubuntu 20.04 aarch32 GCC Cross Compile | PASS | +----------------------------------------+--------------------+ | Ubuntu 20.04 ARM GCC Cross Compile | PASS | +----------------------------------------+--------------------+ | Ubuntu 20.04 ARM SVE | PASS | +----------------------------------------+--------------------+ Ubuntu 20.04 ARM GCC Native Kernel: 5.4.0-53-generic Compiler: gcc 9.3 Ubuntu 20.04 ARM Clang Native Kernel: 5.4.0-53-generic Compiler: clang 10.0.0-4ubuntu1 Ubuntu 20.04 ARM Clang Cross Compile Kernel: 5.4.0-72-generic Compiler: clang version 10.0.0-4ubuntu1 Ubuntu 20.04 aarch32 GCC Cross Compile Kernel: 5.4.0-72-generic Compiler: gcc 9.3.0 Ubuntu 20.04 ARM GCC Cross Compile Kernel: 5.4.0-72-generic Compiler: aarch64-linux-gnu-gcc (Ubuntu 9.3.0-17ubuntu1~20.04) 9.3.0 Ubuntu 20.04 ARM SVE Kernel: 5.4.0-80-generic Compiler: gcc 10.3.0 (Ubuntu 10.3.0-1ubuntu1~20.04) To view detailed results, visit: https://lab.dpdk.org/results/dashboard/patchsets/25787/ UNH-IOL DPDK Community Lab To manage your email subscriptions, visit: https://lab.dpdk.org/results/dashboard/preferences/subscriptions/
Test-Label: iol-x86_64-compile-testing Test-Status: SUCCESS http://dpdk.org/patch/125248 _Testing PASS_ Submitter: Long Li <longli@linuxonhyperv.com> Date: Friday, March 17 2023 23:32:44 DPDK git baseline: Repo:dpdk Branch: master CommitID:ce5440e0350df101443aa4d0e96bea0a06ef9364 125247-125248 --> testing pass Test environment and result as below: +------------------+--------------------+ | Environment | dpdk_meson_compile | +==================+====================+ | FreeBSD 13 | PASS | +------------------+--------------------+ | CentOS Stream 8 | PASS | +------------------+--------------------+ | CentOS Stream 9 | PASS | +------------------+--------------------+ | Debian Bullseye | PASS | +------------------+--------------------+ | Ubuntu 22.04 | PASS | +------------------+--------------------+ | Debian Buster | PASS | +------------------+--------------------+ | openSUSE Leap 15 | PASS | +------------------+--------------------+ | RHEL 7 | PASS | +------------------+--------------------+ | Ubuntu 20.04 | PASS | +------------------+--------------------+ | RHEL8 | PASS | +------------------+--------------------+ FreeBSD 13 Kernel: 13.0 Compiler: clang 11.0.1 CentOS Stream 8 Kernel: 4.18.0-240.10.1.el8_3.x86_64 Compiler: gcc 8.4.1 20200928 CentOS Stream 9 Kernel: 4.18.0-240.10.1.el8_3.x86_64 Compiler: gcc 11.3.1 20220421 Debian Bullseye Kernel: 5.4.0-122-generic Compiler: gcc 10.2.1-6 Ubuntu 22.04 Kernel: Container Host Kernel Compiler: gcc 11.3.1-2 Debian Buster Kernel: 5.4.0-122-generic Compiler: gcc 8.3.0-6 openSUSE Leap 15 Kernel: 4.18.0-240.10.1.el8_3.x86_64 Compiler: gcc 7.5.0 RHEL 7 Kernel: 4.18.0-240.10.1.el8_3.x86_64 Compiler: gcc 4.8.5 20150623 (Red Hat 4.8.5-44) Ubuntu 20.04 Kernel: 4.18.0-240.10.1.el8_3.x86_64 Compiler: gcc 9.3.0-17ubuntu1~20.04 RHEL8 Kernel: 4.18.0-240.10.1.el8_3.x86_64 Compiler: gcc 8.3.1 20191121 (Red Hat 8.3.1-5) To view detailed results, visit: https://lab.dpdk.org/results/dashboard/patchsets/25787/ UNH-IOL DPDK Community Lab To manage your email subscriptions, visit: https://lab.dpdk.org/results/dashboard/preferences/subscriptions/
Test-Label: iol-aarch64-unit-testing Test-Status: SUCCESS http://dpdk.org/patch/125248 _Testing PASS_ Submitter: Long Li <longli@linuxonhyperv.com> Date: Friday, March 17 2023 23:32:44 DPDK git baseline: Repo:dpdk Branch: master CommitID:ce5440e0350df101443aa4d0e96bea0a06ef9364 125247-125248 --> testing pass Test environment and result as below: +-------------------------------+----------------+--------------+---------------------------+------------------------------+ | Environment | dpdk_unit_test | lpm_autotest | cryptodev_sw_zuc_autotest | cryptodev_sw_snow3g_autotest | +===============================+================+==============+===========================+==============================+ | Ubuntu 20.04 ARM Clang Native | PASS | SKIPPED | SKIPPED | SKIPPED | +-------------------------------+----------------+--------------+---------------------------+------------------------------+ | Ubuntu 20.04 ARM GCC Native | PASS | SKIPPED | SKIPPED | SKIPPED | +-------------------------------+----------------+--------------+---------------------------+------------------------------+ | Ubuntu 20.04 ARM SVE | SKIPPED | PASS | SKIPPED | SKIPPED | +-------------------------------+----------------+--------------+---------------------------+------------------------------+ | Debian 11 | SKIPPED | SKIPPED | PASS | PASS | +-------------------------------+----------------+--------------+---------------------------+------------------------------+ Ubuntu 20.04 ARM Clang Native Kernel: 5.4.0-53-generic Compiler: clang 10.0.0-4ubuntu1 Ubuntu 20.04 ARM GCC Native Kernel: 5.4.0-53-generic Compiler: gcc 9.3 Ubuntu 20.04 ARM SVE Kernel: 5.4.0-80-generic Compiler: gcc 10.3.0 (Ubuntu 10.3.0-1ubuntu1~20.04) Debian 11 Kernel: Container Host Kernel Compiler: gcc 10.2.1 To view detailed results, visit: https://lab.dpdk.org/results/dashboard/patchsets/25787/ UNH-IOL DPDK Community Lab To manage your email subscriptions, visit: https://lab.dpdk.org/results/dashboard/preferences/subscriptions/
Test-Label: iol-aarch64-unit-testing Test-Status: SUCCESS http://dpdk.org/patch/125248 _Testing PASS_ Submitter: Long Li <longli@linuxonhyperv.com> Date: Friday, March 17 2023 23:32:44 DPDK git baseline: Repo:dpdk Branch: master CommitID:ce5440e0350df101443aa4d0e96bea0a06ef9364 125247-125248 --> testing pass Test environment and result as below: +-------------------------------+----------------+------------------------------+---------------------------+--------------+ | Environment | dpdk_unit_test | cryptodev_sw_snow3g_autotest | cryptodev_sw_zuc_autotest | lpm_autotest | +===============================+================+==============================+===========================+==============+ | Ubuntu 20.04 ARM Clang Native | PASS | SKIPPED | SKIPPED | SKIPPED | +-------------------------------+----------------+------------------------------+---------------------------+--------------+ | Ubuntu 20.04 ARM GCC Native | PASS | SKIPPED | SKIPPED | SKIPPED | +-------------------------------+----------------+------------------------------+---------------------------+--------------+ | Debian 11 | SKIPPED | PASS | PASS | SKIPPED | +-------------------------------+----------------+------------------------------+---------------------------+--------------+ | Ubuntu 20.04 ARM SVE | SKIPPED | SKIPPED | SKIPPED | PASS | +-------------------------------+----------------+------------------------------+---------------------------+--------------+ Ubuntu 20.04 ARM Clang Native Kernel: 5.4.0-53-generic Compiler: clang 10.0.0-4ubuntu1 Ubuntu 20.04 ARM GCC Native Kernel: 5.4.0-53-generic Compiler: gcc 9.3 Debian 11 Kernel: Container Host Kernel Compiler: gcc 10.2.1 Ubuntu 20.04 ARM SVE Kernel: 5.4.0-80-generic Compiler: gcc 10.3.0 (Ubuntu 10.3.0-1ubuntu1~20.04) To view detailed results, visit: https://lab.dpdk.org/results/dashboard/patchsets/25787/ UNH-IOL DPDK Community Lab To manage your email subscriptions, visit: https://lab.dpdk.org/results/dashboard/preferences/subscriptions/
Test-Label: iol-intel-Performance Test-Status: SUCCESS http://dpdk.org/patch/125248 _Performance Testing PASS_ Submitter: Long Li <longli@linuxonhyperv.com> Date: Friday, March 17 2023 23:32:44 DPDK git baseline: Repo:dpdk Branch: master CommitID:ce5440e0350df101443aa4d0e96bea0a06ef9364 125247-125248 --> performance testing pass Test environment and result as below: Ubuntu 20.04 Kernel: 4.15.0-generic Compiler: gcc 7.4 NIC: Intel Corporation Ethernet Converged Network Adapter XL710-QDA2 40000 Mbps Target: x86_64-native-linuxapp-gcc Fail/Total: 0/4 Detail performance results: +----------+-------------+---------+------------+------------------------------+ | num_cpus | num_threads | txd/rxd | frame_size | throughput difference from | | | | | | expected | +==========+=============+=========+============+==============================+ | 1 | 2 | 512 | 64 | 0.2% | +----------+-------------+---------+------------+------------------------------+ | 1 | 2 | 2048 | 64 | 2.0% | +----------+-------------+---------+------------+------------------------------+ | 1 | 1 | 512 | 64 | 3.1% | +----------+-------------+---------+------------+------------------------------+ | 1 | 1 | 2048 | 64 | 0.8% | +----------+-------------+---------+------------+------------------------------+ Arm Ampere Altra - Ubuntu 20.04.4 Kernel: 5.4.0-137-generic aarch64 Compiler: gcc 9.4 NIC: Intel Corporation Ethernet Converged Network Adapter XL710-QDA2 40000 Mbps Target: x86_64-native-linuxapp-gcc Fail/Total: 0/2 Detail performance results: +------------+---------+----------+-------------+------------------------------+ | frame_size | txd/rxd | num_cpus | num_threads | throughput difference from | | | | | | expected | +============+=========+==========+=============+==============================+ | 64 | 512 | 1 | 1 | -0.2% | +------------+---------+----------+-------------+------------------------------+ | 64 | 2048 | 1 | 1 | 0.7% | +------------+---------+----------+-------------+------------------------------+ To view detailed results, visit: https://lab.dpdk.org/results/dashboard/patchsets/25787/ UNH-IOL DPDK Community Lab To manage your email subscriptions, visit: https://lab.dpdk.org/results/dashboard/preferences/subscriptions/
Test-Label: iol-broadcom-Functional Test-Status: SUCCESS http://dpdk.org/patch/125248 _Functional Testing PASS_ Submitter: Long Li <longli@linuxonhyperv.com> Date: Friday, March 17 2023 23:32:44 DPDK git baseline: Repo:dpdk Branch: master CommitID:ce5440e0350df101443aa4d0e96bea0a06ef9364 125247-125248 --> functional testing pass Test environment and result as below: Ubuntu 20.04 ARM Kernel: 4.15.0-132-generic Compiler: gcc 7.5 NIC: Arm Broadcom Inc. brcm_57414 25000 Mbps Target: x86_64-native-linuxapp-gcc Fail/Total: 0/1 Ubuntu 22.04 Kernel: 5.15.0-58-generic x86_64 Compiler: gcc gcc (Ubuntu 11.2.0-19ubuntu1) 11.2.0 NIC: Broadcom Inc. and subsidiaries BCM957508-P2100G Dual-Port 100 Gb/s QSFP56 100 Mbps Target: x86_64-native-linuxapp-gcc Fail/Total: 0/2 Arm Ampere Altra - Ubuntu 20.04.4 Kernel: 5.4.0-137-generic aarch64 Compiler: gcc 9.4 NIC: Broadcom Inc. and subsidiaries BCM957508-P2100G Dual-Port 100 Gb/s QSFP56 100 Mbps Target: x86_64-native-linuxapp-gcc Fail/Total: 0/1 To view detailed results, visit: https://lab.dpdk.org/results/dashboard/patchsets/25787/ UNH-IOL DPDK Community Lab To manage your email subscriptions, visit: https://lab.dpdk.org/results/dashboard/preferences/subscriptions/
Test-Label: iol-intel-Functional Test-Status: SUCCESS http://dpdk.org/patch/125248 _Functional Testing PASS_ Submitter: Long Li <longli@linuxonhyperv.com> Date: Friday, March 17 2023 23:32:44 DPDK git baseline: Repo:dpdk Branch: master CommitID:ce5440e0350df101443aa4d0e96bea0a06ef9364 125247-125248 --> functional testing pass Test environment and result as below: Ubuntu 20.04 Kernel: 4.15.0-generic Compiler: gcc 7.4 NIC: Intel Corporation Ethernet Converged Network Adapter 82599ES 10000 Mbps Target: x86_64-native-linuxapp-gcc Fail/Total: 0/2 Ubuntu 20.04 Kernel: 4.15.0-generic Compiler: gcc 7.4 NIC: Intel Corporation Ethernet Converged Network Adapter XL710-QDA2 40000 Mbps Target: x86_64-native-linuxapp-gcc Fail/Total: 0/2 Arm Ampere Altra - Ubuntu 20.04.4 Kernel: 5.4.0-137-generic aarch64 Compiler: gcc 9.4 NIC: Intel Corporation Ethernet Converged Network Adapter XL710-QDA2 40000 Mbps Target: x86_64-native-linuxapp-gcc Fail/Total: 0/1 Ubuntu 20.04 ARM Kernel: 4.15.0-132-generic Compiler: gcc 7.5 NIC: Arm Intel Corporation Ethernet Converged Network Adapter XL710-QDA2 40000 Mbps Target: x86_64-native-linuxapp-gcc Fail/Total: 0/2 To view detailed results, visit: https://lab.dpdk.org/results/dashboard/patchsets/25787/ UNH-IOL DPDK Community Lab To manage your email subscriptions, visit: https://lab.dpdk.org/results/dashboard/preferences/subscriptions/
Test-Label: iol-intel-Performance Test-Status: SUCCESS http://dpdk.org/patch/125248 _Performance Testing PASS_ Submitter: Long Li <longli@linuxonhyperv.com> Date: Friday, March 17 2023 23:32:44 DPDK git baseline: Repo:dpdk Branch: master CommitID:ce5440e0350df101443aa4d0e96bea0a06ef9364 125247-125248 --> performance testing pass Test environment and result as below: Ubuntu 20.04 Kernel: 4.15.0-generic Compiler: gcc 7.4 NIC: Intel Corporation Ethernet Converged Network Adapter 82599ES 10000 Mbps Target: x86_64-native-linuxapp-gcc Fail/Total: 0/6 Detail performance results: +----------+-------------+---------+------------+------------------------------+ | num_cpus | num_threads | txd/rxd | frame_size | throughput difference from | | | | | | expected | +==========+=============+=========+============+==============================+ | 1 | 2 | 128 | 64 | 0.2% | +----------+-------------+---------+------------+------------------------------+ | 1 | 2 | 512 | 64 | -0.1% | +----------+-------------+---------+------------+------------------------------+ | 1 | 2 | 2048 | 64 | 0.1% | +----------+-------------+---------+------------+------------------------------+ | 1 | 1 | 128 | 64 | -0.2% | +----------+-------------+---------+------------+------------------------------+ | 1 | 1 | 512 | 64 | -0.2% | +----------+-------------+---------+------------+------------------------------+ | 1 | 1 | 2048 | 64 | 0.3% | +----------+-------------+---------+------------+------------------------------+ Ubuntu 20.04 Kernel: 4.15.0-generic Compiler: gcc 7.4 NIC: Intel Corporation Ethernet Converged Network Adapter XL710-QDA2 40000 Mbps Target: x86_64-native-linuxapp-gcc Fail/Total: 0/4 Detail performance results: +----------+-------------+---------+------------+------------------------------+ | num_cpus | num_threads | txd/rxd | frame_size | throughput difference from | | | | | | expected | +==========+=============+=========+============+==============================+ | 1 | 2 | 512 | 64 | 0.0% | +----------+-------------+---------+------------+------------------------------+ | 1 | 2 | 2048 | 64 | 3.5% | +----------+-------------+---------+------------+------------------------------+ | 1 | 1 | 512 | 64 | -2.6% | +----------+-------------+---------+------------+------------------------------+ | 1 | 1 | 2048 | 64 | 0.2% | +----------+-------------+---------+------------+------------------------------+ Arm Ampere Altra - Ubuntu 20.04.4 Kernel: 5.4.0-137-generic aarch64 Compiler: gcc 9.4 NIC: Intel Corporation Ethernet Converged Network Adapter XL710-QDA2 40000 Mbps Target: x86_64-native-linuxapp-gcc Fail/Total: 0/2 Detail performance results: +------------+---------+----------+-------------+------------------------------+ | frame_size | txd/rxd | num_cpus | num_threads | throughput difference from | | | | | | expected | +============+=========+==========+=============+==============================+ | 64 | 512 | 1 | 1 | 1.9% | +------------+---------+----------+-------------+------------------------------+ | 64 | 2048 | 1 | 1 | 1.5% | +------------+---------+----------+-------------+------------------------------+ To view detailed results, visit: https://lab.dpdk.org/results/dashboard/patchsets/25787/ UNH-IOL DPDK Community Lab To manage your email subscriptions, visit: https://lab.dpdk.org/results/dashboard/preferences/subscriptions/
Test-Label: iol-broadcom-Functional Test-Status: SUCCESS http://dpdk.org/patch/125248 _Functional Testing PASS_ Submitter: Long Li <longli@linuxonhyperv.com> Date: Friday, March 17 2023 23:32:44 DPDK git baseline: Repo:dpdk Branch: master CommitID:ce5440e0350df101443aa4d0e96bea0a06ef9364 125247-125248 --> functional testing pass Test environment and result as below: Ubuntu 20.04 ARM Kernel: 4.15.0-132-generic Compiler: gcc 7.5 NIC: Arm Broadcom Inc. brcm_57414 25000 Mbps Target: x86_64-native-linuxapp-gcc Fail/Total: 0/1 Ubuntu 22.04 Kernel: 5.15.0-58-generic x86_64 Compiler: gcc gcc (Ubuntu 11.2.0-19ubuntu1) 11.2.0 NIC: Broadcom Inc. and subsidiaries BCM957508-P2100G Dual-Port 100 Gb/s QSFP56 100 Mbps Target: x86_64-native-linuxapp-gcc Fail/Total: 0/2 Arm Ampere Altra - Ubuntu 20.04.4 Kernel: 5.4.0-137-generic aarch64 Compiler: gcc 9.4 NIC: Broadcom Inc. and subsidiaries BCM957508-P2100G Dual-Port 100 Gb/s QSFP56 100 Mbps Target: x86_64-native-linuxapp-gcc Fail/Total: 0/1 To view detailed results, visit: https://lab.dpdk.org/results/dashboard/patchsets/25787/ UNH-IOL DPDK Community Lab To manage your email subscriptions, visit: https://lab.dpdk.org/results/dashboard/preferences/subscriptions/
Test-Label: iol-intel-Functional Test-Status: SUCCESS http://dpdk.org/patch/125248 _Functional Testing PASS_ Submitter: Long Li <longli@linuxonhyperv.com> Date: Friday, March 17 2023 23:32:44 DPDK git baseline: Repo:dpdk Branch: master CommitID:ce5440e0350df101443aa4d0e96bea0a06ef9364 125247-125248 --> functional testing pass Test environment and result as below: Ubuntu 20.04 Kernel: 4.15.0-generic Compiler: gcc 7.4 NIC: Intel Corporation Ethernet Converged Network Adapter 82599ES 10000 Mbps Target: x86_64-native-linuxapp-gcc Fail/Total: 0/2 Ubuntu 20.04 Kernel: 4.15.0-generic Compiler: gcc 7.4 NIC: Intel Corporation Ethernet Converged Network Adapter XL710-QDA2 40000 Mbps Target: x86_64-native-linuxapp-gcc Fail/Total: 0/2 Arm Ampere Altra - Ubuntu 20.04.4 Kernel: 5.4.0-137-generic aarch64 Compiler: gcc 9.4 NIC: Intel Corporation Ethernet Converged Network Adapter XL710-QDA2 40000 Mbps Target: x86_64-native-linuxapp-gcc Fail/Total: 0/1 Ubuntu 20.04 ARM Kernel: 4.15.0-132-generic Compiler: gcc 7.5 NIC: Arm Intel Corporation Ethernet Converged Network Adapter XL710-QDA2 40000 Mbps Target: x86_64-native-linuxapp-gcc Fail/Total: 0/2 To view detailed results, visit: https://lab.dpdk.org/results/dashboard/patchsets/25787/ UNH-IOL DPDK Community Lab To manage your email subscriptions, visit: https://lab.dpdk.org/results/dashboard/preferences/subscriptions/
Test-Label: iol-abi-testing Test-Status: SUCCESS http://dpdk.org/patch/125248 _Testing PASS_ Submitter: Long Li <longli@linuxonhyperv.com> Date: Friday, March 17 2023 23:32:44 DPDK git baseline: Repo:dpdk Branch: master CommitID:ce5440e0350df101443aa4d0e96bea0a06ef9364 125247-125248 --> testing pass Test environment and result as below: +------------------+----------+ | Environment | abi_test | +==================+==========+ | CentOS Stream 9 | PASS | +------------------+----------+ | Ubuntu 22.04 | PASS | +------------------+----------+ | RHEL 7 | PASS | +------------------+----------+ | openSUSE Leap 15 | PASS | +------------------+----------+ | Debian Buster | PASS | +------------------+----------+ | Debian Bullseye | PASS | +------------------+----------+ | CentOS Stream 8 | PASS | +------------------+----------+ | Ubuntu 20.04 | PASS | +------------------+----------+ | RHEL8 | PASS | +------------------+----------+ CentOS Stream 9 Kernel: 4.18.0-240.10.1.el8_3.x86_64 Compiler: gcc 11.3.1 20220421 Ubuntu 22.04 Kernel: Container Host Kernel Compiler: gcc 12.2.1-2 RHEL 7 Kernel: 4.18.0-240.10.1.el8_3.x86_64 Compiler: gcc 4.8.5 20150623 (Red Hat 4.8.5-44) openSUSE Leap 15 Kernel: 4.18.0-240.10.1.el8_3.x86_64 Compiler: gcc 7.5.0 Debian Buster Kernel: 5.4.0-122-generic Compiler: gcc 8.3.0-6 Debian Bullseye Kernel: 5.4.0-122-generic Compiler: gcc 10.2.1-6 CentOS Stream 8 Kernel: 4.18.0-240.10.1.el8_3.x86_64 Compiler: gcc 8.4.1 20200928 Ubuntu 20.04 Kernel: 4.18.0-240.10.1.el8_3.x86_64 Compiler: gcc 9.3.0-17ubuntu1~20.04 RHEL8 Kernel: 4.18.0-240.10.1.el8_3.x86_64 Compiler: gcc 8.3.1 20191121 (Red Hat 8.3.1-5) To view detailed results, visit: https://lab.dpdk.org/results/dashboard/patchsets/25787/ UNH-IOL DPDK Community Lab To manage your email subscriptions, visit: https://lab.dpdk.org/results/dashboard/preferences/subscriptions/
Test-Label: iol-abi-testing Test-Status: SUCCESS http://dpdk.org/patch/125248 _Testing PASS_ Submitter: Long Li <longli@linuxonhyperv.com> Date: Friday, March 17 2023 23:32:44 DPDK git baseline: Repo:dpdk Branch: master CommitID:ce5440e0350df101443aa4d0e96bea0a06ef9364 125247-125248 --> testing pass Test environment and result as below: +------------------+----------+ | Environment | abi_test | +==================+==========+ | Ubuntu 22.04 | PASS | +------------------+----------+ | RHEL 7 | PASS | +------------------+----------+ | RHEL8 | PASS | +------------------+----------+ | Ubuntu 20.04 | PASS | +------------------+----------+ | CentOS Stream 9 | PASS | +------------------+----------+ | openSUSE Leap 15 | PASS | +------------------+----------+ | CentOS Stream 8 | PASS | +------------------+----------+ | Debian Buster | PASS | +------------------+----------+ | Debian Bullseye | PASS | +------------------+----------+ Ubuntu 22.04 Kernel: Container Host Kernel Compiler: gcc 12.2.1-2 RHEL 7 Kernel: 4.18.0-240.10.1.el8_3.x86_64 Compiler: gcc 4.8.5 20150623 (Red Hat 4.8.5-44) RHEL8 Kernel: 4.18.0-240.10.1.el8_3.x86_64 Compiler: gcc 8.3.1 20191121 (Red Hat 8.3.1-5) Ubuntu 20.04 Kernel: 4.18.0-240.10.1.el8_3.x86_64 Compiler: gcc 9.3.0-17ubuntu1~20.04 CentOS Stream 9 Kernel: 4.18.0-240.10.1.el8_3.x86_64 Compiler: gcc 11.3.1 20220421 openSUSE Leap 15 Kernel: 4.18.0-240.10.1.el8_3.x86_64 Compiler: gcc 7.5.0 CentOS Stream 8 Kernel: 4.18.0-240.10.1.el8_3.x86_64 Compiler: gcc 8.4.1 20200928 Debian Buster Kernel: 5.4.0-122-generic Compiler: gcc 8.3.0-6 Debian Bullseye Kernel: 5.4.0-122-generic Compiler: gcc 10.2.1-6 To view detailed results, visit: https://lab.dpdk.org/results/dashboard/patchsets/25787/ UNH-IOL DPDK Community Lab To manage your email subscriptions, visit: https://lab.dpdk.org/results/dashboard/preferences/subscriptions/
Test-Label: iol-mellanox-Performance Test-Status: SUCCESS http://dpdk.org/patch/125248 _Performance Testing PASS_ Submitter: Long Li <longli@linuxonhyperv.com> Date: Friday, March 17 2023 23:32:44 DPDK git baseline: Repo:dpdk Branch: master CommitID:ce5440e0350df101443aa4d0e96bea0a06ef9364 125247-125248 --> performance testing pass Test environment and result as below: Ubuntu 20.04 Kernel: 4.15.0-generic Compiler: gcc 7.4 NIC: Mellanox ConnectX-5 100000 Mbps Target: x86_64-native-linuxapp-gcc Fail/Total: 0/6 Detail performance results: +------------+---------+----------+-------------+------------------------------+ | frame_size | txd/rxd | num_cpus | num_threads | throughput difference from | | | | | | expected | +============+=========+==========+=============+==============================+ | 64 | 256 | 1 | 1 | -0.3% | +------------+---------+----------+-------------+------------------------------+ | 128 | 256 | 1 | 1 | 0.2% | +------------+---------+----------+-------------+------------------------------+ | 1024 | 256 | 1 | 1 | -0.0% | +------------+---------+----------+-------------+------------------------------+ | 256 | 256 | 1 | 1 | 0.1% | +------------+---------+----------+-------------+------------------------------+ | 1518 | 256 | 1 | 1 | 0.2% | +------------+---------+----------+-------------+------------------------------+ | 512 | 256 | 1 | 1 | 0.2% | +------------+---------+----------+-------------+------------------------------+ To view detailed results, visit: https://lab.dpdk.org/results/dashboard/patchsets/25787/ UNH-IOL DPDK Community Lab To manage your email subscriptions, visit: https://lab.dpdk.org/results/dashboard/preferences/subscriptions/
Test-Label: iol-broadcom-Performance Test-Status: SUCCESS http://dpdk.org/patch/125248 _Performance Testing PASS_ Submitter: Long Li <longli@linuxonhyperv.com> Date: Friday, March 17 2023 23:32:44 DPDK git baseline: Repo:dpdk Branch: master CommitID:ce5440e0350df101443aa4d0e96bea0a06ef9364 125247-125248 --> performance testing pass Test environment and result as below: Ubuntu 20.04 ARM Kernel: 4.15.0-132-generic Compiler: gcc 7.5 NIC: Arm Broadcom Inc. brcm_57414 25000 Mbps Target: x86_64-native-linuxapp-gcc Fail/Total: 0/2 Detail performance results: +------------+---------+----------+-------------+------------------------------+ | frame_size | txd/rxd | num_cpus | num_threads | throughput difference from | | | | | | expected | +============+=========+==========+=============+==============================+ | 64 | 512 | 1 | 1 | -2.8% | +------------+---------+----------+-------------+------------------------------+ | 64 | 2048 | 1 | 1 | 1.7% | +------------+---------+----------+-------------+------------------------------+ Ubuntu 22.04 Kernel: 5.15.0-39-generic Compiler: gcc gcc (Ubuntu 11.2.0-19ubuntu1) 11.2.0 NIC: Broadcom Inc. and subsidiaries BCM57414 NetXtreme-E 10Gb/25Gb RDMA Ethernet Controller 16d7 25 Mbps Target: x86_64-native-linuxapp-gcc Fail/Total: 0/3 Detail performance results: +------------+---------+----------+-------------+------------------------------+ | frame_size | txd/rxd | num_cpus | num_threads | throughput difference from | | | | | | expected | +============+=========+==========+=============+==============================+ | 64 | 128 | 1 | 1 | -0.1% | +------------+---------+----------+-------------+------------------------------+ | 64 | 512 | 1 | 1 | 0.0% | +------------+---------+----------+-------------+------------------------------+ | 64 | 2048 | 1 | 1 | 0.2% | +------------+---------+----------+-------------+------------------------------+ To view detailed results, visit: https://lab.dpdk.org/results/dashboard/patchsets/25787/ UNH-IOL DPDK Community Lab To manage your email subscriptions, visit: https://lab.dpdk.org/results/dashboard/preferences/subscriptions/
Test-Label: iol-broadcom-Performance Test-Status: SUCCESS http://dpdk.org/patch/125248 _Performance Testing PASS_ Submitter: Long Li <longli@linuxonhyperv.com> Date: Friday, March 17 2023 23:32:44 DPDK git baseline: Repo:dpdk Branch: master CommitID:ce5440e0350df101443aa4d0e96bea0a06ef9364 125247-125248 --> performance testing pass Test environment and result as below: Ubuntu 20.04 ARM Kernel: 4.15.0-132-generic Compiler: gcc 7.5 NIC: Arm Broadcom Inc. brcm_57414 25000 Mbps Target: x86_64-native-linuxapp-gcc Fail/Total: 0/2 Detail performance results: +------------+---------+----------+-------------+------------------------------+ | frame_size | txd/rxd | num_cpus | num_threads | throughput difference from | | | | | | expected | +============+=========+==========+=============+==============================+ | 64 | 512 | 1 | 1 | -4.2% | +------------+---------+----------+-------------+------------------------------+ | 64 | 2048 | 1 | 1 | 0.5% | +------------+---------+----------+-------------+------------------------------+ Ubuntu 22.04 Kernel: 5.15.0-39-generic Compiler: gcc gcc (Ubuntu 11.2.0-19ubuntu1) 11.2.0 NIC: Broadcom Inc. and subsidiaries BCM57414 NetXtreme-E 10Gb/25Gb RDMA Ethernet Controller 16d7 25 Mbps Target: x86_64-native-linuxapp-gcc Fail/Total: 0/3 Detail performance results: +------------+---------+----------+-------------+------------------------------+ | frame_size | txd/rxd | num_cpus | num_threads | throughput difference from | | | | | | expected | +============+=========+==========+=============+==============================+ | 64 | 128 | 1 | 1 | -0.0% | +------------+---------+----------+-------------+------------------------------+ | 64 | 512 | 1 | 1 | -0.0% | +------------+---------+----------+-------------+------------------------------+ | 64 | 2048 | 1 | 1 | 0.1% | +------------+---------+----------+-------------+------------------------------+ To view detailed results, visit: https://lab.dpdk.org/results/dashboard/patchsets/25787/ UNH-IOL DPDK Community Lab To manage your email subscriptions, visit: https://lab.dpdk.org/results/dashboard/preferences/subscriptions/
Test-Label: iol-testing Test-Status: SUCCESS http://dpdk.org/patch/125248 _Testing PASS_ Submitter: Long Li <longli@linuxonhyperv.com> Date: Friday, March 17 2023 23:32:44 DPDK git baseline: Repo:dpdk Branch: master CommitID:ce5440e0350df101443aa4d0e96bea0a06ef9364 125247-125248 --> testing pass Test environment and result as below: +--------------+----------------------+ | Environment | dpdk_fips_validation | +==============+======================+ | Ubuntu 20.04 | PASS | +--------------+----------------------+ Ubuntu 20.04 Kernel: 4.18.0-240.10.1.el8_3.x86_64 Compiler: gcc 9.3.0-17ubuntu1~20.04 To view detailed results, visit: https://lab.dpdk.org/results/dashboard/patchsets/25787/ UNH-IOL DPDK Community Lab To manage your email subscriptions, visit: https://lab.dpdk.org/results/dashboard/preferences/subscriptions/
Test-Label: iol-x86_64-unit-testing Test-Status: SUCCESS http://dpdk.org/patch/125248 _Testing PASS_ Submitter: Long Li <longli@linuxonhyperv.com> Date: Friday, March 17 2023 23:32:44 DPDK git baseline: Repo:dpdk Branch: master CommitID:ce5440e0350df101443aa4d0e96bea0a06ef9364 125247-125248 --> testing pass Test environment and result as below: +---------------------+----------------+ | Environment | dpdk_unit_test | +=====================+================+ | Windows Server 2019 | PASS | +---------------------+----------------+ Windows Server 2019 Kernel: 10.0 Compiler: clang 14.0 and gcc 8.1.0 (MinGW) To view detailed results, visit: https://lab.dpdk.org/results/dashboard/patchsets/25787/ UNH-IOL DPDK Community Lab To manage your email subscriptions, visit: https://lab.dpdk.org/results/dashboard/preferences/subscriptions/
Test-Label: iol-testing Test-Status: SUCCESS http://dpdk.org/patch/125248 _Testing PASS_ Submitter: Long Li <longli@linuxonhyperv.com> Date: Friday, March 17 2023 23:32:44 DPDK git baseline: Repo:dpdk Branch: master CommitID:ce5440e0350df101443aa4d0e96bea0a06ef9364 125247-125248 --> testing pass Test environment and result as below: +--------------+----------------------+ | Environment | dpdk_fips_validation | +==============+======================+ | Ubuntu 20.04 | PASS | +--------------+----------------------+ Ubuntu 20.04 Kernel: 4.18.0-240.10.1.el8_3.x86_64 Compiler: gcc 9.3.0-17ubuntu1~20.04 To view detailed results, visit: https://lab.dpdk.org/results/dashboard/patchsets/25787/ UNH-IOL DPDK Community Lab To manage your email subscriptions, visit: https://lab.dpdk.org/results/dashboard/preferences/subscriptions/
Test-Label: iol-x86_64-unit-testing Test-Status: SUCCESS http://dpdk.org/patch/125248 _Testing PASS_ Submitter: Long Li <longli@linuxonhyperv.com> Date: Friday, March 17 2023 23:32:44 DPDK git baseline: Repo:dpdk Branch: master CommitID:ce5440e0350df101443aa4d0e96bea0a06ef9364 125247-125248 --> testing pass Test environment and result as below: +---------------------+----------------+ | Environment | dpdk_unit_test | +=====================+================+ | Windows Server 2019 | PASS | +---------------------+----------------+ Windows Server 2019 Kernel: 10.0 Compiler: clang 14.0 and gcc 8.1.0 (MinGW) To view detailed results, visit: https://lab.dpdk.org/results/dashboard/patchsets/25787/ UNH-IOL DPDK Community Lab To manage your email subscriptions, visit: https://lab.dpdk.org/results/dashboard/preferences/subscriptions/
Test-Label: iol-unit-testing Test-Status: SUCCESS http://dpdk.org/patch/125248 _Testing PASS_ Submitter: Long Li <longli@linuxonhyperv.com> Date: Friday, March 17 2023 23:32:44 DPDK git baseline: Repo:dpdk Branch: master CommitID:ce5440e0350df101443aa4d0e96bea0a06ef9364 125247-125248 --> testing pass Test environment and result as below: +------------------+----------------+ | Environment | dpdk_unit_test | +==================+================+ | CentOS Stream 8 | PASS | +------------------+----------------+ | Ubuntu 20.04 | PASS | +------------------+----------------+ | Ubuntu 22.04 | PASS | +------------------+----------------+ | RHEL8 | PASS | +------------------+----------------+ | openSUSE Leap 15 | PASS | +------------------+----------------+ | RHEL 7 | PASS | +------------------+----------------+ | Debian Bullseye | PASS | +------------------+----------------+ | CentOS Stream 9 | PASS | +------------------+----------------+ | Debian Buster | PASS | +------------------+----------------+ CentOS Stream 8 Kernel: 4.18.0-240.10.1.el8_3.x86_64 Compiler: gcc 8.4.1 20200928 Ubuntu 20.04 Kernel: 4.18.0-240.10.1.el8_3.x86_64 Compiler: gcc 9.3.0-17ubuntu1~20.04 Ubuntu 22.04 Kernel: Container Host Kernel Compiler: clang 14.0.5-1.fc36 RHEL8 Kernel: 4.18.0-240.10.1.el8_3.x86_64 Compiler: gcc 8.3.1 20191121 (Red Hat 8.3.1-5) openSUSE Leap 15 Kernel: 4.18.0-240.10.1.el8_3.x86_64 Compiler: gcc 7.5.0 RHEL 7 Kernel: 4.18.0-240.10.1.el8_3.x86_64 Compiler: gcc 4.8.5 20150623 (Red Hat 4.8.5-44) Debian Bullseye Kernel: 5.4.0-122-generic Compiler: gcc 10.2.1-6 CentOS Stream 9 Kernel: 4.18.0-240.10.1.el8_3.x86_64 Compiler: gcc 11.3.1 20220421 Debian Buster Kernel: 5.4.0-122-generic Compiler: gcc 8.3.0-6 To view detailed results, visit: https://lab.dpdk.org/results/dashboard/patchsets/25787/ UNH-IOL DPDK Community Lab To manage your email subscriptions, visit: https://lab.dpdk.org/results/dashboard/preferences/subscriptions/
Test-Label: iol-unit-testing Test-Status: SUCCESS http://dpdk.org/patch/125248 _Testing PASS_ Submitter: Long Li <longli@linuxonhyperv.com> Date: Friday, March 17 2023 23:32:44 DPDK git baseline: Repo:dpdk Branch: master CommitID:ce5440e0350df101443aa4d0e96bea0a06ef9364 125247-125248 --> testing pass Test environment and result as below: +------------------+----------------+ | Environment | dpdk_unit_test | +==================+================+ | Ubuntu 22.04 | PASS | +------------------+----------------+ | CentOS Stream 9 | PASS | +------------------+----------------+ | CentOS Stream 8 | PASS | +------------------+----------------+ | Debian Bullseye | PASS | +------------------+----------------+ | RHEL 7 | PASS | +------------------+----------------+ | Debian Buster | PASS | +------------------+----------------+ | RHEL8 | PASS | +------------------+----------------+ | openSUSE Leap 15 | PASS | +------------------+----------------+ | Ubuntu 20.04 | PASS | +------------------+----------------+ Ubuntu 22.04 Kernel: 4.18.0-240.10.1.el8_3.x86_64 Compiler: gcc 11.3.0 CentOS Stream 9 Kernel: 4.18.0-240.10.1.el8_3.x86_64 Compiler: gcc 11.3.1 20220421 CentOS Stream 8 Kernel: 4.18.0-240.10.1.el8_3.x86_64 Compiler: gcc 8.4.1 20200928 Debian Bullseye Kernel: 5.4.0-122-generic Compiler: gcc 10.2.1-6 RHEL 7 Kernel: 4.18.0-240.10.1.el8_3.x86_64 Compiler: gcc 4.8.5 20150623 (Red Hat 4.8.5-44) Debian Buster Kernel: 5.4.0-122-generic Compiler: gcc 8.3.0-6 RHEL8 Kernel: 4.18.0-240.10.1.el8_3.x86_64 Compiler: gcc 8.3.1 20191121 (Red Hat 8.3.1-5) openSUSE Leap 15 Kernel: 4.18.0-240.10.1.el8_3.x86_64 Compiler: gcc 7.5.0 Ubuntu 20.04 Kernel: 4.18.0-240.10.1.el8_3.x86_64 Compiler: gcc 9.3.0-17ubuntu1~20.04 To view detailed results, visit: https://lab.dpdk.org/results/dashboard/patchsets/25787/ UNH-IOL DPDK Community Lab To manage your email subscriptions, visit: https://lab.dpdk.org/results/dashboard/preferences/subscriptions/